{"text_format":"1","workbook":"xlsx","n_sheets":15,"sheets":["Revisions","Inputs","Subcompact PC","Subcompact Perf. PC","Compact PC","Compact Perf. PC","Midsize PC","Midsize Perf. PC","Large PC","Large Perf. PC","Small LT","Minivan LT","Midsize LT","Large LT","Map"],"not_rendered":{"charts":0,"images":2,"macros":1,"external_links":1,"defined_names":12,"comments":12,"pivot_tables":0},"unopened":[],"bounds":{"document_bytes":16777216,"sheet_cells":100000,"rows_first":2000,"rows_last":500,"rows_between":2000,"halvings":0,"cell_chars":16384,"cell_head_chars":4096},"cells_cut":0,"cells_raw":0,"read":"whole","date_system":"1900"}

{"sheet":"Revisions","index":0,"n_rows":27,"n_cols":3,"rows_kept":27,"cut":false,"hidden":false,"merged":[]}
[]
[]
[]
[]
[]
[]
[]
[]
[]
["Date","User","Note"]
["2009-12-11","Lixin Zhao","Change MS1 effectiveness to 3.5%"]
[null,null,"Add diesel I4 cost for small truck."]
[null,null,"Add diesel I4 effectiveness of 20.2% to 24.9% for small truck"]
[null,null,"Copy diesel I4 incremental cost and effectiveness calculation from Midsize LT"]
["2009-12-14","Jim Tamm","Update formular with negative cost for TRBDS, NAUTO and DCTAM."]
["2009-12-14","Lixin Zhao","Update SGDI, TRBDS, NAUTO and DCTAM cost from FEV"]
["2010-07-29","Lixin Zhao","Use absolute value for BISG and Micro Hybrid"]
[null,null,"Set FCV to 0 because it is not going to be used by the model for this rulemaking."]
["2011-04-20","Lixin Zhao","New format and populate to all 12 sub classes"]
["2011-05-02","Lixin Zhao","Update effectiveness for Midsize LT for TRBDS1, TBRBDS2, CEGR1 and CEGR2"]
[null,null,"Update effectiveness for Large LT for EPS, IACC1, IACC2, MHEV. Use 50% for EPS"]
["2011-05-03","R.Harrington","TRBDS1_SD effectiveness includes correction for DEAC not being availabe on 4 cylinder engines"]
["2011-05-09","Lixin Zhao","Update HEV2, PHEV20, PHEV40 and EV effectiveness."]
["2011-05-10","Lixin Zhao","Make sure Subcompact PC, Compact PC and Small LT use dry DCT; All others except Midsize LT, Minivan LT, and Large LT use wet DCT"]
["2011-05-12","Lixin Zhao","change input year to 2021 to calculate the correct cost synergy"]
["2012-03-22","LZ / JW","updated to include mild hybrid effectivenes and costs"]
["2012-04-12","JW","updated mild hybrid to add EPS effectiveness"]

{"sheet":"Inputs","index":1,"n_rows":18,"n_cols":6,"rows_kept":18,"cut":false,"hidden":false,"merged":[]}
[]
[null,"Model Year Basis",2021,null,null,2009]
[null,null,null,null,null,2010]
[null,null,null,null,null,2011]
[null,null,null,null,null,2012]
[null,null,null,null,null,2013]
[null,null,null,null,null,2014]
[null,null,null,null,null,2015]
[null,null,null,null,null,2016]
[null,null,null,null,null,2017]
[null,null,null,null,null,2018]
[null,null,null,null,null,2019]
[null,null,null,null,null,2020]
[null,null,null,null,null,2021]
[null,null,null,null,null,2022]
[null,null,null,null,null,2023]
[null,null,null,null,null,2024]
[null,null,null,null,null,2025]

{"sheet":"Subcompact PC","index":2,"n_rows":225,"n_cols":173,"rows_kept":225,"cut":false,"hidden":false,"merged":[[5,62,5,66],[5,76,5,80],[5,90,5,94],[6,31,7,31],[6,32,7,32],[6,60,7,60],[6,74,7,74],[6,88,7,88],[0,0,0,172],[1,0,2,0],[3,31,4,31],[3,32,4,32],[3,60,4,60],[3,74,4,74],[3,88,4,88],[23,153,23,157],[24,25,25,25],[24,88,25,88],[24,151,25,151],[13,88,14,88],[15,90,15,94],[16,88,17,88],[21,25,22,25],[21,88,22,88],[21,151,22,151],[29,25,30,25],[29,67,30,67],[29,109,30,109],[29,151,30,151],[31,27,31,31],[31,69,31,73],[31,111,31,115],[23,27,23,31],[23,90,23,94],[39,153,39,157],[40,25,41,25],[40,67,41,67],[40,109,41,109],[40,151,41,151],[31,153,31,157],[32,25,33,25],[32,67,33,67],[32,109,33,109],[32,151,33,151],[37,25,38,25],[37,67,38,67],[37,109,38,109],[37,151,38,151],[45,25,46,25],[45,67,46,67],[45,109,46,109],[45,151,46,151],[47,27,47,31],[47,69,47,73],[47,111,47,115],[39,27,39,31],[39,69,39,73],[39,111,39,115],[47,153,47,157],[48,25,49,25],[48,67,49,67],[48,109,49,109],[48,151,49,151],[53,11,54,11],[53,25,54,25],[53,39,54,39],[53,53,54,53],[53,67,54,67],[53,165,54,165],[55,13,55,17],[55,27,55,31],[55,41,55,45],[55,55,55,59],[55,69,55,73],[55,83,55,87],[55,97,55,101],[55,111,55,115],[55,125,55,129],[53,81,54,81],[53,95,54,95],[53,109,54,109],[53,123,54,123],[53,137,54,137],[53,151,54,151],[55,139,55,143],[55,153,55,157],[55,167,55,171],[56,11,57,11],[56,25,57,25],[56,39,57,39],[56,53,57,53],[56,67,57,67],[56,81,57,81],[56,95,57,95],[56,109,57,109],[56,123,57,123],[56,137,57,137],[56,151,57,151],[56,165,57,165],[61,11,62,11],[61,25,62,25],[61,39,62,39],[61,53,62,53],[61,67,62,67],[61,165,62,165],[63,13,63,17],[63,27,63,31],[63,41,63,45],[63,55,63,59],[63,69,63,73],[63,83,63,87],[63,97,63,101],[63,111,63,115],[63,125,63,129],[61,81,62,81],[61,95,62,95],[61,109,62,109],[61,123,62,123],[61,137,62,137],[61,151,62,151],[63,139,63,143],[63,153,63,157],[63,167,63,171],[64,11,65,11],[64,25,65,25],[64,39,65,39],[64,53,65,53],[64,67,65,67],[64,81,65,81],[64,95,65,95],[64,109,65,109],[64,123,65,123],[64,137,65,137],[64,151,65,151],[64,165,65,165],[69,11,70,11],[69,25,70,25],[69,39,70,39],[69,53,70,53],[69,67,70,67],[69,165,70,165],[71,13,71,17],[71,27,71,31],[71,41,71,45],[71,55,71,59],[71,69,71,73],[71,83,71,87],[71,97,71,101],[71,111,71,115],[71,125,71,129],[69,81,70,81],[69,95,70,95],[69,109,70,109],[69,123,70,123],[69,137,70,137],[69,151,70,151],[71,139,71,143],[71,153,71,157],[77,88,78,88],[77,95,78,95],[77,102,78,102],[77,109,78,109],[71,167,71,171],[72,11,73,11],[72,25,73,25],[72,39,73,39],[72,53,73,53],[72,67,73,67],[72,81,73,81],[72,95,73,95],[72,109,73,109],[72,123,73,123],[72,137,73,137],[72,151,73,151],[72,165,73,165],[77,67,78,67],[77,74,78,74],[79,167,79,171],[80,4,81,4],[80,11,81,11],[80,18,81,18],[80,25,81,25],[80,32,81,32],[80,39,81,39],[77,165,78,165],[80,46,81,46],[80,53,81,53],[80,60,81,60],[80,67,81,67],[80,74,81,74],[80,81,81,81],[80,130,81,130],[80,137,81,137],[80,144,81,144],[77,4,78,4],[77,11,78,11],[77,18,78,18],[77,25,78,25],[77,32,78,32],[80,151,81,151],[80,158,81,158],[77,172,78,172],[79,13,79,17],[79,27,79,31],[79,41,79,45],[79,55,79,59],[79,69,79,73],[79,83,79,87],[79,97,79,101],[79,111,79,115],[77,123,78,123],[77,130,78,130],[77,137,78,137],[77,144,78,144],[77,151,78,151],[77,158,78,158],[77,81,78,81],[79,125,79,129],[79,139,79,143],[79,153,79,157],[77,116,78,116],[77,39,78,39],[77,46,78,46],[77,53,78,53],[77,60,78,60],[80,165,81,165],[80,88,81,88],[80,95,81,95],[80,102,81,102],[80,109,81,109],[80,116,81,116],[80,123,81,123],[85,46,86,46],[85,53,86,53],[85,60,86,60],[85,67,86,67],[85,74,86,74],[85,81,86,81],[85,151,86,151],[85,158,86,158],[85,165,86,165],[85,4,86,4],[85,11,86,11],[85,18,86,18],[85,25,86,25],[85,32,86,32],[85,39,86,39],[85,130,86,130],[85,137,86,137],[85,144,86,144],[85,88,86,88],[85,95,86,95],[85,102,86,102],[85,109,86,109],[85,116,86,116],[85,123,86,123],[87,48,87,52],[87,55,87,59],[87,62,87,66],[87,69,87,73],[87,76,87,80],[87,83,87,87],[87,6,87,10],[87,13,87,17],[87,20,87,24],[87,27,87,31],[87,34,87,38],[87,41,87,45],[87,132,87,136],[87,139,87,143],[87,146,87,150],[87,153,87,157],[87,160,87,164],[87,167,87,171],[87,90,87,94],[87,97,87,101],[87,104,87,108],[87,111,87,115],[87,118,87,122],[87,125,87,129],[88,144,89,144],[88,151,89,151],[88,158,89,158],[88,165,89,165],[88,88,89,88],[88,95,89,95],[88,102,89,102],[88,109,89,109],[88,116,89,116],[88,123,89,123],[97,0,97,38],[100,4,100,11],[100,21,100,23],[100,33,100,38],[102,4,103,4],[102,18,103,18],[102,32,103,32],[88,130,89,130],[88,137,89,137],[88,46,89,46],[88,53,89,53],[88,60,89,60],[88,67,89,67],[88,74,89,74],[88,81,89,81],[88,4,89,4],[88,11,89,11],[88,18,89,18],[88,25,89,25],[88,32,89,32],[88,39,89,39],[110,4,111,4],[110,32,111,32],[112,6,112,10],[112,14,114,16],[112,34,112,38],[113,4,114,4],[113,32,114,32],[104,6,104,10],[104,20,104,24],[104,34,104,38],[105,4,106,4],[105,18,106,18],[105,32,106,32],[110,18,111,18],[112,20,112,24],[113,18,114,18],[126,4,127,4],[126,32,127,32],[128,6,128,10],[128,13,128,17],[128,20,128,24],[128,34,128,38],[118,4,119,4],[118,32,119,32],[120,6,120,10],[120,13,120,17],[120,21,122,23],[120,34,120,38],[121,4,122,4],[121,32,122,32],[136,34,136,38],[137,4,138,4],[137,32,138,32],[142,32,143,32],[144,9,149,10],[144,20,144,24],[144,34,144,38],[145,32,146,32],[129,4,130,4],[129,32,130,32],[134,4,135,4],[134,32,135,32],[136,6,136,10],[136,20,136,24],[185,113,185,116],[185,148,185,151],[188,4,189,4],[188,18,189,18],[188,32,189,32],[188,46,189,46],[150,36,152,37],[152,20,152,24],[160,20,160,24],[168,20,168,24],[176,13,176,17],[176,27,176,31],[190,6,190,10],[190,20,190,24],[190,34,190,38],[190,48,190,52],[190,81,190,85],[191,4,192,4],[191,18,192,18],[191,32,192,32],[191,46,192,46],[191,80,192,80],[198,48,198,52],[199,4,200,4],[199,18,200,18],[199,32,200,32],[199,46,200,46],[200,95,201,95],[196,4,197,4],[196,18,197,18],[196,32,197,32],[196,46,197,46],[198,6,198,10],[198,20,198,24],[198,34,198,38],[200,151,201,151],[204,4,205,4],[204,18,205,18],[204,32,205,32],[206,6,206,10],[206,20,206,24],[200,102,201,102],[200,109,201,109],[200,116,201,116],[200,130,201,130],[200,137,201,137],[200,144,201,144],[215,4,216,4],[220,4,221,4],[222,6,222,10],[223,4,224,4],[207,4,208,4],[207,18,208,18],[207,32,208,32],[209,32,210,32],[212,4,213,4],[214,6,214,10]]}
["Full Engine Technology Decision Tree"]
[]
[null,"START"]
["Gas Engine Type","I4",null,null,null,null,null,null,null,null,null,null,null,null,null,null,null,null,null,null,null,null,null,null,null,null,null,null,null,null,null,null,null,null,null,null,null,null,null,null,null,null,null,null,null,null,null,null,null,null,null,null,null,null,null,null,null,null,null,null,"2012-2016","INC","%",5.0000000000000001E-3,"$",{"$f":"INDEX('[1]Subcompact PC'!$H$379:$X$467,MATCH(BP6,'[1]Subcompact PC'!$C$379:$C$467,0),MATCH(Inputs!$C$2,'[1]Subcompact PC'!$H$378:$X$378,0))","v":3.8637835440209107},10,null,null,null,null,null,null,null,"2012-2016","INC","%",0.02,"$",{"$f":"INDEX('[1]Subcompact PC'!$H$379:$X$467,MATCH(CD6,'[1]Subcompact PC'!$C$379:$C$467,0),MATCH(Inputs!$C$2,'[1]Subcompact PC'!$H$378:$X$378,0))*$B$13","v":58.092224089511433},10,null,null,null,null,null,null,null,"2012-2016","INC","%",{"$f":"1-((1-CN5)/(1-BZ5))","v":0},"$",0,"L"]
["Displacement [L]",2.2000000000000002,null,null,null,null,null,null,null,null,null,null,null,null,null,null,null,null,null,null,null,null,null,null,null,null,null,null,null,null,null,null,null,null,null,null,null,null,null,null,null,null,null,null,null,null,null,null,null,null,null,null,null,null,null,null,null,null,null,null,null,"ABS","%",{"$f":"BL4","v":5.0000000000000001E-3},"$",{"$f":"BN4","v":3.8637835440209107},"L",null,null,null,null,null,null,null,null,"ABS","%",{"$f":"1-((1-BL5)*(1-BZ4))","v":2.4900000000000033E-2},"$",{"$f":"BN5+CB4","v":61.956007633532344},"L",null,null,null,null,null,null,null,null,"ABS","%",{"$f":"BZ5","v":2.4900000000000033E-2},"$",{"$f":"CB5","v":61.956007633532344},0]
["Turbocharger","None",null,null,null,null,null,null,null,null,null,null,null,null,null,null,null,null,null,null,null,null,null,null,null,null,null,null,null,null,null,null,null,null,null,null,null,null,null,null,null,null,null,null,null,null,null,null,null,null,null,null,null,null,null,null,null,null,null,null,null,null,"Low-Friction Lubricants 1\n(LUB1) - No Learning Applied",null,null,null,null,"LUB1",null,null,null,null,null,null,null,null,"Engine Friction Reduction 1\n(EFR1) - No Learning Applied",null,null,null,null,"EFR1",null,null,null,null,null,null,null,null,"Low-Friction Lub & Engine Friction\nRedux 2 (LUB2_EFR2) - \nNo Learning Applied",null,null,null,null,"LUB2_EFR2"]
["EGR system","External",null,null,null,null,null,null,null,null,null,null,null,null,null,null,null,null,null,null,null,null,null,null,null,null,null,null,null,null,null,null,null,null,null,null,null,null,null,null,null,null,null,null,null,null,null,null,null,null,null,null,null,null,null,null,null,null,null,null,"2017+","INC","%",{"$f":"BL4","v":5.0000000000000001E-3},"$",{"$f":"BN4","v":3.8637835440209107},10,null,null,null,null,null,null,null,"2017+","INC","%",0.02,"$",{"$f":"CB4","v":58.092224089511433},10,null,null,null,null,null,null,null,"2017+","INC","%",{"$f":"1-((1-CN8)/(1-BZ8))","v":1.0357912009024695E-2},"$",{"$f":"INDEX('[1]Subcompact PC'!$H$379:$X$467,MATCH(CR6,'[1]Subcompact PC'!$C$379:$C$467,0),MATCH(Inputs!$C$2,'[1]Subcompact PC'!$H$378:$X$378,0))*$B$13","v":62.840731829291514},"L"]
["Valvetrain","SOHC/ DOHC/ OHV",null,null,null,null,null,null,null,null,null,null,null,null,null,null,null,null,null,null,null,null,null,null,null,null,null,null,null,null,null,null,null,null,null,null,null,null,null,null,null,null,null,null,null,null,null,null,null,null,null,null,null,null,null,null,null,null,null,null,null,"ABS","%",{"$f":"BL7","v":5.0000000000000001E-3},"$",{"$f":"BN7","v":3.8637835440209107},"L",null,null,null,null,null,null,null,null,"ABS","%",{"$f":"1-((1-BL8)*(1-BZ7))","v":2.4900000000000033E-2},"$",{"$f":"BN8+CB7","v":61.956007633532344},"L",null,null,null,null,null,null,null,null,"ABS","%",3.5000000000000003E-2,"$",{"$f":"CB8+CP7","v":124.79673946282387},33.86]
["After Treatment","3way cat"]
[]
[null,null,null,null,null,null,null,null,null,null,null,null,null,null,null,null,null,null,null,null,null,null,null,null,null,null,null,null,null,null,"SOHC",null,null,null,null,null,null,null,null,null,null,null,null,null,null,null,null,null,null,null,null,null,null,null,null,null,null,null,null,null,null,null,null,null,null,null,null,null,null,null,null,null,null,null,null,null,null,null,null,null,null,null,null,null,null,null,null,null,null,null,null,null,null,"DOHC",null,null,null,null,null,null,null,null,null,null,null,null,null,null,null,null,null,null,null,null,null,null,null,null,null,null,null,null,null,null,null,null,null,null,null,null,null,null,null,null,null,null,null,null,null,null,null,null,null,null,null,null,null,null,null,null,null,null,null,"OHV"]
[]
["Cylinders",{"$f":"IF(B4=\"I4\",4,IF(B4=\"V6\",6,8))","v":4}]
["Cylinder Banks",{"$f":"IF(B4=\"I4\",1,2)","v":1},null,null,null,null,null,null,null,null,null,null,null,null,null,null,null,null,null,null,null,null,null,null,null,null,null,null,null,null,null,null,null,null,null,null,null,null,null,null,null,null,null,null,null,null,null,null,null,null,null,null,null,null,null,null,null,null,null,null,null,null,null,null,null,null,null,null,null,null,null,null,null,null,null,null,null,null,null,null,null,null,null,null,null,null,null,null,"2012-2016","INC","%",{"$f":"CN17","v":2.1761658031088094E-2},"$",{"$f":"INDEX('[1]Subcompact PC'!$H$379:$X$467,MATCH(CR16,'[1]Subcompact PC'!$C$379:$C$467,0),MATCH(Inputs!$C$2,'[1]Subcompact PC'!$H$378:$X$378,0))*$B$14","v":41.549625537527582},10]
[null,null,null,null,null,null,null,null,null,null,null,null,null,null,null,null,null,null,null,null,null,null,null,null,null,null,null,null,null,null,null,null,null,null,null,null,null,null,null,null,null,null,null,null,null,null,null,null,null,null,null,null,null,null,null,null,null,null,null,null,null,null,null,null,null,null,null,null,null,null,null,null,null,null,null,null,null,null,null,null,null,null,null,null,null,null,null,null,null,"ABS","%",{"$f":"1-((1-CN5)*(1-CN14))","v":4.6119792746113997E-2},"$",{"$f":"CP5+CP14","v":103.50563317105993},"L"]
[null,null,null,null,null,null,null,null,null,null,null,null,null,null,null,null,null,null,null,null,null,null,null,null,null,null,null,null,null,null,null,null,null,null,null,null,null,null,null,null,null,null,null,null,null,null,null,null,null,null,null,null,null,null,null,null,null,null,null,null,null,null,null,null,null,null,null,null,null,null,null,null,null,null,null,null,null,null,null,null,null,null,null,null,null,null,null,null,null,null,"Intake Cam Phasing\n(ICP) - TBL",null,null,null,null,"ICP"]
[null,null,null,null,null,null,null,null,null,null,null,null,null,null,null,null,null,null,null,null,null,null,null,null,null,null,null,null,null,null,null,null,null,null,null,null,null,null,null,null,null,null,null,null,null,null,null,null,null,null,null,null,null,null,null,null,null,null,null,null,null,null,null,null,null,null,null,null,null,null,null,null,null,null,null,null,null,null,null,null,null,null,null,null,null,null,null,null,"2017+","INC","%",{"$f":"1-((1-CN18)/(1-CN8))","v":2.1761658031088094E-2},"$",{"$f":"CP14","v":41.549625537527582},10]
[null,null,null,null,null,null,null,null,null,null,null,null,null,null,null,null,null,null,null,null,null,null,null,null,null,null,null,null,null,null,null,null,null,null,null,null,null,null,null,null,null,null,null,null,null,null,null,null,null,null,null,null,null,null,null,null,null,null,null,null,null,null,null,null,null,null,null,null,null,null,null,null,null,null,null,null,null,null,null,null,null,null,null,null,null,null,null,null,null,"ABS","%",5.6000000000000001E-2,"$",{"$f":"CP8+CP17","v":166.34636500035145},"L"]
[]
[]
[]
["Notes: ","(1) All costs shown in $2009",null,null,null,null,null,null,null,null,null,null,null,null,null,null,null,null,null,null,null,null,null,null,null,"2012-2016","INC","%",{"$f":"AC25","v":4.1450777202072464E-2},"$",{"$f":"INDEX('[1]Subcompact PC'!$H$379:$X$467,MATCH(AG24,'[1]Subcompact PC'!$C$379:$C$467,0),MATCH(Inputs!$C$2,'[1]Subcompact PC'!$H$378:$X$378,0))*$B$14","v":41.549625537527582},10,null,null,null,null,null,null,null,null,null,null,null,null,null,null,null,null,null,null,null,null,null,null,null,null,null,null,null,null,null,null,null,null,null,null,null,null,null,null,null,null,null,null,null,null,null,null,null,null,null,null,null,null,null,null,null,null,"2012-2016","INC","%",{"$f":"CN25","v":2.0127118644067687E-2},"$",{"$f":"INDEX('[1]Subcompact PC'!$H$379:$X$467,MATCH(CR24,'[1]Subcompact PC'!$C$379:$C$467,0),MATCH(Inputs!$C$2,'[1]Subcompact PC'!$H$378:$X$378,0))*$B$14","v":38.527853942281702},10]
[null,null,null,null,null,null,null,null,null,null,null,null,null,null,null,null,null,null,null,null,null,null,null,null,null,null,"ABS","%",{"$f":"1-((1-CN5)*(1-AC22))","v":6.5318652849740921E-2},"$",{"$f":"CP5+AE22","v":103.50563317105993},"L",null,null,null,null,null,null,null,null,null,null,null,null,null,null,null,null,null,null,null,null,null,null,null,null,null,null,null,null,null,null,null,null,null,null,null,null,null,null,null,null,null,null,null,null,null,null,null,null,null,null,null,null,null,null,null,null,null,"ABS","%",{"$f":"1-((1-CN15)*(1-CN22))","v":6.531865284974081E-2},"$",{"$f":"CP15+CP22","v":142.03348711334164},"L"]
[null,null,null,null,null,null,null,null,null,null,null,null,null,null,null,null,null,null,null,null,null,null,null,null,null,null,null,"Coupled Cam Phasing\n(CCPS) - TBL",null,null,null,null,"CCPS",null,null,null,null,null,null,null,null,null,null,null,null,null,null,null,null,null,null,null,null,null,null,null,null,null,null,null,null,null,null,null,null,null,null,null,null,null,null,null,null,null,null,null,null,null,null,null,null,null,null,null,null,null,null,null,null,null,"Dual Cam Phasing\n(DCP) - TBL",null,null,null,null,"DCP"]
[null,null,null,null,null,null,null,null,null,null,null,null,null,null,null,null,null,null,null,null,null,null,null,null,null,"2017+","INC","%",{"$f":"1-((1-AC26)/(1-CN8))","v":4.1450777202072464E-2},"$",{"$f":"AE22","v":41.549625537527582},10,null,null,null,null,null,null,null,null,null,null,null,null,null,null,null,null,null,null,null,null,null,null,null,null,null,null,null,null,null,null,null,null,null,null,null,null,null,null,null,null,null,null,null,null,null,null,null,null,null,null,null,null,null,null,null,null,"2017+","INC","%",{"$f":"1-((1-CN26)/(1-CN18))","v":2.0127118644067687E-2},"$",{"$f":"CP22","v":38.527853942281702},10]
["L",null,null,null,null,null,null,null,null,null,null,null,null,null,null,null,null,null,null,null,null,null,null,null,null,null,"ABS","%",7.4999999999999997E-2,"$",{"$f":"CP8+AE25","v":166.34636500035145},"L",null,null,null,null,null,null,null,null,null,null,null,null,null,null,null,null,null,null,null,null,null,null,null,null,null,null,null,null,null,null,null,null,null,null,null,null,null,null,null,null,null,null,null,null,null,null,null,null,null,null,null,null,null,null,null,null,null,"ABS","%",7.4999999999999997E-2,"$",{"$f":"CP18+CP25","v":204.87421894263315},"L"]
["M"]
["H"]
["VH"]
[null,null,null,null,null,null,null,null,null,null,null,null,null,null,null,null,null,null,null,null,null,null,null,null,null,"2012-2016","INC","%",{"$f":"AC33","v":2.8108108108108154E-2},"$",{"$f":"INDEX('[1]Subcompact PC'!$H$379:$X$467,MATCH(AG32,'[1]Subcompact PC'!$C$379:$C$467,0),MATCH(Inputs!$C$2,'[1]Subcompact PC'!$H$378:$X$378,0))*$B$13","v":141.95784088900945},10,null,null,null,null,null,null,null,null,null,null,null,null,null,null,null,null,null,null,null,null,null,null,null,null,null,null,null,null,null,null,null,null,null,null,null,"2012-2016","INC","%",{"$f":"BS33","v":2.8108108108108154E-2},"$",{"$f":"INDEX('[1]Subcompact PC'!$H$379:$X$467,MATCH(BW32,'[1]Subcompact PC'!$C$379:$C$467,0),MATCH(Inputs!$C$2,'[1]Subcompact PC'!$H$378:$X$378,0))*$B$13","v":141.95784088900945},10,null,null,null,null,null,null,null,null,null,null,null,null,null,null,null,null,null,null,null,null,null,null,null,null,null,null,null,null,null,null,null,null,null,null,null,"2012-2016","INC","%",{"$f":"DI33","v":3.5675675675675755E-2},"$",{"$f":"INDEX('[1]Subcompact PC'!$H$379:$X$467,MATCH(DM32,'[1]Subcompact PC'!$C$379:$C$467,0),MATCH(Inputs!$C$2,'[1]Subcompact PC'!$H$378:$X$378,0))*$B$13","v":228.52533855632367},10,null,null,null,null,null,null,null,null,null,null,null,null,null,null,null,null,null,null,null,null,null,null,null,null,null,null,null,null,null,null,null,null,null,null,null,"2012-2016","INC","%",{"$f":"1-((1-EY31)/(1-CN5))","v":4.6251666495744082E-2},"$",{"$f":"INDEX('[1]Subcompact PC'!$H$379:$X$467,MATCH(FC32,'[1]Subcompact PC'!$C$379:$C$467,0),MATCH(Inputs!$C$2,'[1]Subcompact PC'!$H$378:$X$378,0))","v":180.85022482302156},10]
[null,null,null,null,null,null,null,null,null,null,null,null,null,null,null,null,null,null,null,null,null,null,null,null,null,null,"ABS","%",{"$f":"1-((1-AC23)*(1-AC30))","v":9.1590777202072537E-2},"$",{"$f":"AE23+AE30","v":245.46347406006936},"L",null,null,null,null,null,null,null,null,null,null,null,null,null,null,null,null,null,null,null,null,null,null,null,null,null,null,null,null,null,null,null,null,null,null,null,null,"ABS","%",{"$f":"1-((1-CN23)*(1-BS30))","v":9.1590777202072426E-2},"$",{"$f":"CP23+BU30","v":283.99132800235111},"L",null,null,null,null,null,null,null,null,null,null,null,null,null,null,null,null,null,null,null,null,null,null,null,null,null,null,null,null,null,null,null,null,null,null,null,null,"ABS","%",{"$f":"1-((1-CN23)*(1-DI30))","v":9.8664041450777118E-2},"$",{"$f":"CP23+DK30","v":370.55882566966534},"L",null,null,null,null,null,null,null,null,null,null,null,null,null,null,null,null,null,null,null,null,null,null,null,null,null,null,null,null,null,null,null,null,null,null,null,null,"ABS","%",7.0000000000000007E-2,"$",{"$f":"CP5+FA30","v":242.80623245655391},"L"]
[null,null,null,null,null,null,null,null,null,null,null,null,null,null,null,null,null,null,null,null,null,null,null,null,null,null,null,"Discrete VVL\n(DVVLS) - TBL",null,null,null,null,"DVVLS",null,null,null,null,null,null,null,null,null,null,null,null,null,null,null,null,null,null,null,null,null,null,null,null,null,null,null,null,null,null,null,null,null,null,null,null,"Discrete VVL\n(DVVLD) - TBL",null,null,null,null,"DVVLD",null,null,null,null,null,null,null,null,null,null,null,null,null,null,null,null,null,null,null,null,null,null,null,null,null,null,null,null,null,null,null,null,null,null,null,null,"Continuous VVL\n(CVVL) - TBL",null,null,null,null,"CVVL",null,null,null,null,null,null,null,null,null,null,null,null,null,null,null,null,null,null,null,null,null,null,null,null,null,null,null,null,null,null,null,null,null,null,null,null,"Cylinder Deactivation\n(DEACO) - TBL",null,null,null,null,"DEACO"]
[null,null,null,null,null,null,null,null,null,null,null,null,null,null,null,null,null,null,null,null,null,null,null,null,null,"2017+","INC","%",{"$f":"1-((1-AC34)/(1-AC26))","v":2.8108108108108154E-2},"$",{"$f":"AE30","v":141.95784088900945},10,null,null,null,null,null,null,null,null,null,null,null,null,null,null,null,null,null,null,null,null,null,null,null,null,null,null,null,null,null,null,null,null,null,null,null,"2017+","INC","%",{"$f":"1-((1-BS34)/(1-CN26))","v":2.8108108108108154E-2},"$",{"$f":"BU30","v":141.95784088900945},10,null,null,null,null,null,null,null,null,null,null,null,null,null,null,null,null,null,null,null,null,null,null,null,null,null,null,null,null,null,null,null,null,null,null,null,"2017+","INC","%",{"$f":"1-((1-DI34)/(1-CN26))","v":3.5675675675675755E-2},"$",{"$f":"DK30","v":228.52533855632367},10,null,null,null,null,null,null,null,null,null,null,null,null,null,null,null,null,null,null,null,null,null,null,null,null,null,null,null,null,null,null,null,null,null,null,null,"2017+","INC","%",{"$f":"1-((1-EY34)/(1-CN8))","v":4.663212435233155E-2},"$",{"$f":"FA30","v":180.85022482302156},10]
[null,"START",null,null,null,null,null,null,null,null,null,null,null,null,null,null,null,null,null,null,null,null,null,null,null,null,"ABS","%",0.10100000000000001,"$",{"$f":"AE26+AE33","v":308.3042058893609},"L",null,null,null,null,null,null,null,null,null,null,null,null,null,null,null,null,null,null,null,null,null,null,null,null,null,null,null,null,null,null,null,null,null,null,null,null,"ABS","%",0.10100000000000001,"$",{"$f":"CP26+BU33","v":346.8320598316426},"L",null,null,null,null,null,null,null,null,null,null,null,null,null,null,null,null,null,null,null,null,null,null,null,null,null,null,null,null,null,null,null,null,null,null,null,null,"ABS","%",0.108,"$",{"$f":"CP26+DK33","v":433.39955749895682},"L",null,null,null,null,null,null,null,null,null,null,null,null,null,null,null,null,null,null,null,null,null,null,null,null,null,null,null,null,null,null,null,null,null,null,null,null,"ABS","%",0.08,"$",{"$f":"CP8+FA33","v":305.64696428584546},"L"]
["Gas Engine Type","I4"]
["Displacement [L]",2.2000000000000002]
["Turbocharger","None"]
["EGR system","External",null,null,null,null,null,null,null,null,null,null,null,null,null,null,null,null,null,null,null,null,null,null,null,"2012-2016","INC","%",{"$f":"AC41","v":4.4493882091212189E-3},"$",{"$f":"INDEX('[1]Subcompact PC'!$H$379:$X$467,MATCH(AG40,'[1]Subcompact PC'!$C$379:$C$467,0),MATCH(Inputs!$C$2,'[1]Subcompact PC'!$H$378:$X$378,0))","v":28.176910737789065},10,null,null,null,null,null,null,null,null,null,null,null,null,null,null,null,null,null,null,null,null,null,null,null,null,null,null,null,null,null,null,null,null,null,null,null,"2012-2016","INC","%",{"$f":"BS41","v":4.4493882091212189E-3},"$",{"$f":"INDEX('[1]Subcompact PC'!$H$379:$X$467,MATCH(BW40,'[1]Subcompact PC'!$C$379:$C$467,0),MATCH(Inputs!$C$2,'[1]Subcompact PC'!$H$378:$X$378,0))","v":28.176910737789065},10,null,null,null,null,null,null,null,null,null,null,null,null,null,null,null,null,null,null,null,null,null,null,null,null,null,null,null,null,null,null,null,null,null,null,null,"2012-2016","INC","%",{"$f":"DI41","v":0},"$",0,10,null,null,null,null,null,null,null,null,null,null,null,null,null,null,null,null,null,null,null,null,null,null,null,null,null,null,null,null,null,null,null,null,null,null,null,"2012-2016","INC","%",{"$f":"1-((1-EY39)/(1-EY31))","v":2.1505376344085891E-2},"$",{"$f":"INDEX('[1]Subcompact PC'!$H$379:$X$467,MATCH(FC40,'[1]Subcompact PC'!$C$379:$C$467,0),MATCH(Inputs!$C$2,'[1]Subcompact PC'!$H$378:$X$378,0))*$B$14","v":45.204617214323278},10]
["Valvetrain","SOHC/ DOHC/ OHV",null,null,null,null,null,null,null,null,null,null,null,null,null,null,null,null,null,null,null,null,null,null,null,null,"ABS","%",{"$f":"1-((1-AC31)*(1-AC38))","v":9.5632642487046615E-2},"$",{"$f":"AE31+AE38","v":273.64038479785842},"L",null,null,null,null,null,null,null,null,null,null,null,null,null,null,null,null,null,null,null,null,null,null,null,null,null,null,null,null,null,null,null,null,null,null,null,null,"ABS","%",{"$f":"1-((1-BS31)*(1-BS38))","v":9.5632642487046504E-2},"$",{"$f":"BU31+BU38","v":312.16823874014017},"L",null,null,null,null,null,null,null,null,null,null,null,null,null,null,null,null,null,null,null,null,null,null,null,null,null,null,null,null,null,null,null,null,null,null,null,null,"ABS","%",{"$f":"1-((1-DI31)*(1-DI38))","v":9.8664041450777118E-2},"$",{"$f":"DK31+DK38","v":370.55882566966534},"L",null,null,null,null,null,null,null,null,null,null,null,null,null,null,null,null,null,null,null,null,null,null,null,null,null,null,null,null,null,null,null,null,null,null,null,null,"ABS","%",0.09,"$",{"$f":"FA31+FA38","v":288.01084967087718},"L"]
[null,null,null,null,null,null,null,null,null,null,null,null,null,null,null,null,null,null,null,null,null,null,null,null,null,null,null,"Cylinder Deactivation\n(DEACS) - TBL",null,null,null,null,"DEACS",null,null,null,null,null,null,null,null,null,null,null,null,null,null,null,null,null,null,null,null,null,null,null,null,null,null,null,null,null,null,null,null,null,null,null,null,"Cylinder Deactivation\n(DEACD) - TBL",null,null,null,null,"DEACD",null,null,null,null,null,null,null,null,null,null,null,null,null,null,null,null,null,null,null,null,null,null,null,null,null,null,null,null,null,null,null,null,null,null,null,null,"Cylinder Deactivation\n(DEACD) - TBL",null,null,null,null,null,null,null,null,null,null,null,null,null,null,null,null,null,null,null,null,null,null,null,null,null,null,null,null,null,null,null,null,null,null,null,null,null,null,null,null,null,"Coupled Cam Phasing and DVVL\n(VVA) - TBL",null,null,null,null,"VVA"]
[null,null,null,null,null,null,null,null,null,null,null,null,null,null,null,null,null,null,null,null,null,null,null,null,null,"2017+","INC","%",{"$f":"1-((1-AC42)/(1-AC34))","v":4.4493882091212189E-3},"$",{"$f":"AE38","v":28.176910737789065},10,null,null,null,null,null,null,null,null,null,null,null,null,null,null,null,null,null,null,null,null,null,null,null,null,null,null,null,null,null,null,null,null,null,null,null,"2017+","INC","%",{"$f":"1-((1-BS42)/(1-BS34))","v":4.4493882091212189E-3},"$",{"$f":"BU38","v":28.176910737789065},10,null,null,null,null,null,null,null,null,null,null,null,null,null,null,null,null,null,null,null,null,null,null,null,null,null,null,null,null,null,null,null,null,null,null,null,"2017+","INC","%",{"$f":"1-((1-DI42)/(1-DI34))","v":0},"$",{"$f":"DK38","v":0},10,null,null,null,null,null,null,null,null,null,null,null,null,null,null,null,null,null,null,null,null,null,null,null,null,null,null,null,null,null,null,null,null,null,null,null,"2017+","INC","%",{"$f":"1-((1-EY42)/(1-EY34))","v":2.7173913043478271E-2},"$",{"$f":"FA38","v":45.204617214323278},10]
[null,null,null,null,null,null,null,null,null,null,null,null,null,null,null,null,null,null,null,null,null,null,null,null,null,null,"ABS","%",0.105,"$",{"$f":"AE34+AE41","v":336.48111662714996},"L",null,null,null,null,null,null,null,null,null,null,null,null,null,null,null,null,null,null,null,null,null,null,null,null,null,null,null,null,null,null,null,null,null,null,null,null,"ABS","%",0.105,"$",{"$f":"BU34+BU41","v":375.00897056943165},"L",null,null,null,null,null,null,null,null,null,null,null,null,null,null,null,null,null,null,null,null,null,null,null,null,null,null,null,null,null,null,null,null,null,null,null,null,"ABS","%",{"$f":"DI34","v":0.108},"$",{"$f":"DK34+DK41","v":433.39955749895682},"L",null,null,null,null,null,null,null,null,null,null,null,null,null,null,null,null,null,null,null,null,null,null,null,null,null,null,null,null,null,null,null,null,null,null,null,null,"ABS","%",0.105,"$",{"$f":"FA34+FA41","v":350.85158150016872},"L"]
[]
[]
[]
[null,null,null,null,null,null,null,null,null,null,null,null,null,null,null,null,null,null,null,null,null,null,null,null,null,"2012-2016","INC","%",{"$f":"AC49","v":1.5642458100558643E-2},"$",{"$f":"INDEX('[1]Subcompact PC'!$H$379:$X$467,MATCH(AG48,'[1]Subcompact PC'!$C$379:$C$467,0),MATCH(Inputs!$C$2,'[1]Subcompact PC'!$H$378:$X$378,0))*$B$13","v":232.9452905107814},10,null,null,null,null,null,null,null,null,null,null,null,null,null,null,null,null,null,null,null,null,null,null,null,null,null,null,null,null,null,null,null,null,null,null,null,"2012-2016","INC","%",{"$f":"BS49","v":1.5642458100558643E-2},"$",{"$f":"INDEX('[1]Subcompact PC'!$H$379:$X$467,MATCH(BW48,'[1]Subcompact PC'!$C$379:$C$467,0),MATCH(Inputs!$C$2,'[1]Subcompact PC'!$H$378:$X$378,0))*$B$13","v":232.9452905107814},10,null,null,null,null,null,null,null,null,null,null,null,null,null,null,null,null,null,null,null,null,null,null,null,null,null,null,null,null,null,null,null,null,null,null,null,"2012-2016","INC","%",{"$f":"DI49","v":1.4573991031390121E-2},"$",{"$f":"INDEX('[1]Subcompact PC'!$H$379:$X$467,MATCH(DM48,'[1]Subcompact PC'!$C$379:$C$467,0),MATCH(Inputs!$C$2,'[1]Subcompact PC'!$H$378:$X$378,0))*$B$13","v":232.9452905107814},10,null,null,null,null,null,null,null,null,null,null,null,null,null,null,null,null,null,null,null,null,null,null,null,null,null,null,null,null,null,null,null,null,null,null,null,"2012-2016","INC","%",{"$f":"1-((1-EY47)/(1-EY39))","v":1.5384615384615441E-2},"$",{"$f":"INDEX('[1]Subcompact PC'!$H$379:$X$467,MATCH(FC48,'[1]Subcompact PC'!$C$379:$C$467,0),MATCH(Inputs!$C$2,'[1]Subcompact PC'!$H$378:$X$378,0))*$B$13","v":232.9452905107814},10]
[null,null,null,null,null,null,null,null,null,null,null,null,null,null,null,null,null,null,null,null,null,null,null,null,null,null,"ABS","%",{"$f":"1-((1-AC39)*(1-AC46))","v":0.10977917098445589},"$",{"$f":"AE39+AE46","v":506.58567530863979},"L",null,null,null,null,null,null,null,null,null,null,null,null,null,null,null,null,null,null,null,null,null,null,null,null,null,null,null,null,null,null,null,null,null,null,null,null,"ABS","%",{"$f":"1-((1-BS39)*(1-BS46))","v":0.10977917098445578},"$",{"$f":"BU39+BU46","v":545.1135292509216},"L",null,null,null,null,null,null,null,null,null,null,null,null,null,null,null,null,null,null,null,null,null,null,null,null,null,null,null,null,null,null,null,null,null,null,null,null,"ABS","%",{"$f":"1-((1-DI39)*(1-DI46))","v":0.11180010362694293},"$",{"$f":"DK39+DK46","v":603.50411618044677},"L",null,null,null,null,null,null,null,null,null,null,null,null,null,null,null,null,null,null,null,null,null,null,null,null,null,null,null,null,null,null,null,null,null,null,null,null,"ABS","%",0.104,"$",{"$f":"FA39+FA46","v":520.95614018165861},"L"]
[null,null,null,null,null,null,null,null,null,null,null,null,null,null,null,null,null,null,null,null,null,null,null,null,null,null,null,"Stoichiometric GDI\n(SGDI) - TBL",null,null,null,null,"SGDI",null,null,null,null,null,null,null,null,null,null,null,null,null,null,null,null,null,null,null,null,null,null,null,null,null,null,null,null,null,null,null,null,null,null,null,null,"Stoichiometric GDI\n(SGDI) - TBL",null,null,null,null,"SGDI",null,null,null,null,null,null,null,null,null,null,null,null,null,null,null,null,null,null,null,null,null,null,null,null,null,null,null,null,null,null,null,null,null,null,null,null,"Stoichiometric GDI\n(SGDI) - TBL",null,null,null,null,"SGDI",null,null,null,null,null,null,null,null,null,null,null,null,null,null,null,null,null,null,null,null,null,null,null,null,null,null,null,null,null,null,null,null,null,null,null,null,"Stoichiometric GDI\n(SGDIO) - TBL",null,null,null,null,"SGDIO"]
[null,null,null,null,null,null,null,null,null,null,null,null,null,null,null,null,null,null,null,null,null,null,null,null,null,"2017+","INC","%",{"$f":"1-((1-AC50)/(1-AC42))","v":1.5642458100558643E-2},"$",{"$f":"AE46","v":232.9452905107814},10,null,null,null,null,null,null,null,null,null,null,null,null,null,null,null,null,null,null,null,null,null,null,null,null,null,null,null,null,null,null,null,null,null,null,null,"2017+","INC","%",{"$f":"1-((1-BS50)/(1-BS42))","v":1.5642458100558643E-2},"$",{"$f":"BU46","v":232.9452905107814},10,null,null,null,null,null,null,null,null,null,null,null,null,null,null,null,null,null,null,null,null,null,null,null,null,null,null,null,null,null,null,null,null,null,null,null,"2017+","INC","%",{"$f":"1-((1-DI50)/(1-DI42))","v":1.4573991031390121E-2},"$",{"$f":"DK46","v":232.9452905107814},10,null,null,null,null,null,null,null,null,null,null,null,null,null,null,null,null,null,null,null,null,null,null,null,null,null,null,null,null,null,null,null,null,null,null,null,"2017+","INC","%",{"$f":"1-((1-EY50)/(1-EY42))","v":1.5642458100558643E-2},"$",{"$f":"FA46","v":232.9452905107814},10]
[null,null,null,null,null,null,null,null,null,null,null,null,null,null,null,null,null,null,null,null,null,null,null,"From SOHC Path",null,null,"ABS","%",0.11899999999999999,"$",{"$f":"AE42+AE49","v":569.42640713793139},"L",null,null,null,null,null,null,null,null,null,null,null,null,null,null,null,null,null,null,null,null,null,null,null,null,null,null,null,null,null,null,null,null,null,"From DOHC w/ DVVLD Path",null,null,"ABS","%",0.11899999999999999,"$",{"$f":"BU42+BU49","v":607.95426108021309},"L",null,null,null,null,null,null,null,null,null,null,null,null,null,null,null,null,null,null,null,null,null,null,null,null,null,null,null,null,null,null,null,null,null,"From DOHC w/ CVVL Path",null,null,"ABS","%",0.121,"$",{"$f":"DK42+DK49","v":666.34484800973826},"L",null,null,null,null,null,null,null,null,null,null,null,null,null,null,null,null,null,null,null,null,null,null,null,null,null,null,null,null,null,null,null,null,null,"From OHV w/ CDOHC Path",null,null,"ABS","%",0.11899999999999999,"$",{"$f":"FA42+FA49","v":583.7968720109501},"L"]
[]
[]
[null,null,null,null,null,null,null,null,null,null,null,null,null,null,null,null,null,null,null,null,null,null,null,null,null,null,null,null,null,null,null,null,null,null,null,null,null,null,null,null,null,null,null,null,null,null,null,null,null,null,null,null,null,null,null,null,{"$f":"BE54-$O$54","v":0},null,{"$f":"BG54-$Q$54","v":-10.350943204492637},null,null,null,null,null,null,null,null,null,null,null,{"$f":"BS54-$AC$54","v":0},null,{"$f":"BU54-$AE$54","v":-137.49257962890812},null,null,null,null,null,null,null,null,null,null,null,{"$f":"CG54-$AQ$54","v":0},null,{"$f":"CI54-$AS$54","v":-151.06222004175237},null,null,null,null,null,null,null,null,null,null,null,{"$f":"CU54-$O$54","v":-7.1733205179984605E-3},null,{"$f":"CW54-$Q$54","v":-10.350943204492637},null,null,null,null,null,null,null,null,null,null,null,{"$f":"DI54-$AC$54","v":-2.1229366256929616E-3},null,{"$f":"DK54-$AE$54","v":-137.49257962890812},null,null,null,null,null,null,null,null,null,null,null,{"$f":"DW54-$AQ$54","v":-2.1229366256929616E-3},null,{"$f":"DY54-$AS$54","v":-151.06222004175237},null,null,null,null,null,null,null,null,null,null,null,{"$f":"EK54-$O$54","v":4.7880517756197949E-2},null,{"$f":"EM54-$Q$54","v":-420.06358424991754},null,null,null,null,null,null,null,null,null,null,null,{"$f":"EY54-$AC$54","v":0},null,{"$f":"FA54-$AE$54","v":562.75413569090051},null,null,null,null,null,null,null,null,null,null,null,{"$f":"FM54-$AQ$54","v":0},null,{"$f":"FO54-$AS$54","v":523.98042111588995}]
[null,null,null,null,null,null,null,null,null,null,null,"2012-2016","INC","%",{"$f":"O57","v":7.2019736900250986E-2},"$",{"$f":"INDEX('[1]Subcompact PC'!$H$379:$X$467,MATCH(M56,'[1]Subcompact PC'!$C$379:$C$467,0),MATCH(Inputs!$C$2,'[1]Subcompact PC'!$H$378:$X$378,0))\n+INDEX('[1]Subcompact PC'!$H$379:$X$467,MATCH(S56,'[1]Subcompact PC'!$C$379:$C$467,0),MATCH(Inputs!$C$2,'[1]Subcompact PC'!$H$378:$X$378,0))","v":420.06358424991754},10,null,null,null,null,null,null,null,"2012-2016","INC","%",{"$f":"AC57","v":6.6969353007945487E-2},"$",{"$f":"INDEX('[1]Subcompact PC'!$H$379:$X$467,MATCH(AA56,'[1]Subcompact PC'!$C$379:$C$467,0),MATCH(Inputs!$C$2,'[1]Subcompact PC'!$H$378:$X$378,0))\n+INDEX('[1]Subcompact PC'!$H$379:$X$467,MATCH(AG56,'[1]Subcompact PC'!$C$379:$C$467,0),MATCH(Inputs!$C$2,'[1]Subcompact PC'!$H$378:$X$378,0))","v":-29.267884297748708},10,null,null,null,null,null,null,null,"2012-2016","INC","%",{"$f":"AQ57","v":6.6969353007945487E-2},"$",{"$f":"INDEX('[1]Subcompact PC'!$H$379:$X$467,MATCH(AO56,'[1]Subcompact PC'!$C$379:$C$467,0),MATCH(Inputs!$C$2,'[1]Subcompact PC'!$H$378:$X$378,0))\n+INDEX('[1]Subcompact PC'!$H$379:$X$467,MATCH(AU56,'[1]Subcompact PC'!$C$379:$C$467,0),MATCH(Inputs!$C$2,'[1]Subcompact PC'!$H$378:$X$378,0))","v":523.48084050429873},10,null,null,null,null,null,null,null,"2012-2016","INC","%",{"$f":"BE57","v":7.2019736900250986E-2},"$",{"$f":"INDEX('[1]Subcompact PC'!$H$530:$X$541,MATCH(BC56,'[1]Subcompact PC'!$C$530:$C$541,0),MATCH(Inputs!$C$2,'[1]Subcompact PC'!$H$529:$X$529,0))\n+INDEX('[1]Subcompact PC'!$H$530:$X$541,MATCH(BI56,'[1]Subcompact PC'!$C$530:$C$541,0),MATCH(Inputs!$C$2,'[1]Subcompact PC'!$H$529:$X$529,0))","v":409.7126410454249},10,null,null,null,null,null,null,null,"2012-2016","INC","%",{"$f":"BS57","v":6.6969353007945487E-2},"$",{"$f":"INDEX('[1]Subcompact PC'!$H$530:$X$541,MATCH(BQ56,'[1]Subcompact PC'!$C$530:$C$541,0),MATCH(Inputs!$C$2,'[1]Subcompact PC'!$H$529:$X$529,0))\n+INDEX('[1]Subcompact PC'!$H$530:$X$541,MATCH(BW56,'[1]Subcompact PC'!$C$530:$C$541,0),MATCH(Inputs!$C$2,'[1]Subcompact PC'!$H$529:$X$529,0))","v":-166.76046392665683},10,null,null,null,null,null,null,null,"2012-2016","INC","%",{"$f":"CG57","v":6.6969353007945487E-2},"$",{"$f":"INDEX('[1]Subcompact PC'!$H$530:$X$541,MATCH(CE56,'[1]Subcompact PC'!$C$530:$C$541,0),MATCH(Inputs!$C$2,'[1]Subcompact PC'!$H$529:$X$529,0))\n+INDEX('[1]Subcompact PC'!$H$530:$X$541,MATCH(CK56,'[1]Subcompact PC'!$C$530:$C$541,0),MATCH(Inputs!$C$2,'[1]Subcompact PC'!$H$529:$X$529,0))","v":372.41862046254636},10,null,null,null,null,null,null,null,"2012-2016","INC","%",{"$f":"CU57","v":6.4846416382252525E-2},"$",{"$f":"INDEX('[1]Subcompact PC'!$H$530:$X$541,MATCH(CS56,'[1]Subcompact PC'!$C$530:$C$541,0),MATCH(Inputs!$C$2,'[1]Subcompact PC'!$H$529:$X$529,0))\n+INDEX('[1]Subcompact PC'!$H$530:$X$541,MATCH(CY56,'[1]Subcompact PC'!$C$530:$C$541,0),MATCH(Inputs!$C$2,'[1]Subcompact PC'!$H$529:$X$529,0))","v":409.7126410454249},10,null,null,null,null,null,null,null,"2012-2016","INC","%",{"$f":"DI57","v":6.4846416382252525E-2},"$",{"$f":"INDEX('[1]Subcompact PC'!$H$530:$X$541,MATCH(DG56,'[1]Subcompact PC'!$C$530:$C$541,0),MATCH(Inputs!$C$2,'[1]Subcompact PC'!$H$529:$X$529,0))\n+INDEX('[1]Subcompact PC'!$H$530:$X$541,MATCH(DM56,'[1]Subcompact PC'!$C$530:$C$541,0),MATCH(Inputs!$C$2,'[1]Subcompact PC'!$H$529:$X$529,0))","v":-166.76046392665683},10,null,null,null,null,null,null,null,"2012-2016","INC","%",{"$f":"DW57","v":6.4846416382252525E-2},"$",{"$f":"INDEX('[1]Subcompact PC'!$H$530:$X$541,MATCH(DU56,'[1]Subcompact PC'!$C$530:$C$541,0),MATCH(Inputs!$C$2,'[1]Subcompact PC'!$H$529:$X$529,0))\n+INDEX('[1]Subcompact PC'!$H$530:$X$541,MATCH(EA56,'[1]Subcompact PC'!$C$530:$C$541,0),MATCH(Inputs!$C$2,'[1]Subcompact PC'!$H$529:$X$529,0))","v":372.41862046254636},10,null,null,null,null,null,null,null,"2012-2016","INC","%",{"$f":"EK57","v":0.11990025465644893},"$",{"$f":"INDEX('[1]Subcompact PC'!$H$530:$X$541,MATCH(EI56,'[1]Subcompact PC'!$C$530:$C$541,0),MATCH(Inputs!$C$2,'[1]Subcompact PC'!$H$529:$X$529,0))\n+INDEX('[1]Subcompact PC'!$H$530:$X$541,MATCH(EO56,'[1]Subcompact PC'!$C$530:$C$541,0),MATCH(Inputs!$C$2,'[1]Subcompact PC'!$H$529:$X$529,0))","v":0},10,null,null,null,null,null,null,null,"2012-2016","INC","%",{"$f":"EY57","v":6.6969353007945487E-2},"$",{"$f":"INDEX('[1]Subcompact PC'!$H$530:$X$541,MATCH(EW56,'[1]Subcompact PC'!$C$530:$C$541,0),MATCH(Inputs!$C$2,'[1]Subcompact PC'!$H$529:$X$529,0))\n+INDEX('[1]Subcompact PC'!$H$530:$X$541,MATCH(FC56,'[1]Subcompact PC'!$C$530:$C$541,0),MATCH(Inputs!$C$2,'[1]Subcompact PC'!$H$529:$X$529,0))","v":533.48625139315186},10,null,null,null,null,null,null,null,"2012-2016","INC","%",{"$f":"FM57","v":6.6969353007945487E-2},"$",{"$f":"INDEX('[1]Subcompact PC'!$H$530:$X$541,MATCH(FK56,'[1]Subcompact PC'!$C$530:$C$541,0),MATCH(Inputs!$C$2,'[1]Subcompact PC'!$H$529:$X$529,0))\n+INDEX('[1]Subcompact PC'!$H$530:$X$541,MATCH(FQ56,'[1]Subcompact PC'!$C$530:$C$541,0),MATCH(Inputs!$C$2,'[1]Subcompact PC'!$H$529:$X$529,0))","v":1047.4612616201887},10]
[null,null,null,null,null,null,null,null,null,null,null,null,"ABS","%",{"$f":"1-((1-AC47+AC38)*(1-O54))","v":0.16976369643234546},"$",{"$f":"AE47+Q54","v":926.64925955855733},"L",null,null,null,null,null,null,null,null,"ABS","%",{"$f":"1-((1-AC47)*(1-AC54))","v":0.1693966839378237},"$",{"$f":"AE47+AE54","v":477.31779101089109},"L",null,null,null,null,null,null,null,null,"ABS","%",{"$f":"1-((1-AC47)*(1-AQ54))","v":0.1693966839378237},"$",{"$f":"AE47+AS54","v":1030.0665158129386},"L",null,null,null,null,null,null,null,null,"ABS","%",{"$f":"1-((1-BS47)*(1-BE54))","v":0.1738926408732786},"$",{"$f":"BU47+BG54","v":954.8261702963465},"L",null,null,null,null,null,null,null,null,"ABS","%",{"$f":"1-((1-BS47)*(1-BS54))","v":0.16939668393782359},"$",{"$f":"BU47+BU54","v":378.35306532426478},"L",null,null,null,null,null,null,null,null,"ABS","%",{"$f":"1-((1-BS47)*(1-CG54))","v":0.16939668393782359},"$",{"$f":"BU47+CI54","v":917.53214971346802},"L",null,null,null,null,null,null,null,null,"ABS","%",{"$f":"1-((1-DI47)*(1-CU54))","v":0.1693966839378237},"$",{"$f":"DK47+CW54","v":1013.2167572258717},"L",null,null,null,null,null,null,null,null,"ABS","%",{"$f":"1-((1-DI47)*(1-DI54))","v":0.1693966839378237},"$",{"$f":"DK47+DK54","v":436.74365225378995},"L",null,null,null,null,null,null,null,null,"ABS","%",{"$f":"1-((1-DI47)*(1-DW54))","v":0.1693966839378237},"$",{"$f":"DK47+DY54","v":975.92273664299319},"L",null,null,null,null,null,null,null,null,"ABS","%",{"$f":"1-((1-EY47)*(1-EK54))","v":0.21143062817217828},"$",{"$f":"FA47+EM54","v":520.95614018165861},"L",null,null,null,null,null,null,null,null,"ABS","%",{"$f":"1-((1-EY47)*(1-EY54))","v":0.16400454029511913},"$",{"$f":"FA47+FA54","v":1054.4423915748105},"L",null,null,null,null,null,null,null,null,"ABS","%",{"$f":"1-((1-EY47)*(1-FM54))","v":0.16400454029511913},"$",{"$f":"FA47+FO54","v":1568.4174018018473},"L"]
[null,"INTERMEDIATE",null,null,null,null,null,null,null,null,null,null,"TRBDS1_SD_TB","Turbocharging and Downsizing 1 (TRBDS1_SD) - TBL",null,null,null,null,"TRBDS1_SD_DS",null,null,null,null,null,null,null,"TRBDS1_MD_TB","Turbocharging and Downsizing 1 (TRBDS1_MD) - TBL",null,null,null,null,"TRBDS1_MD_DS",null,null,null,null,null,null,null,"TRBDS1_LD_TB","Turbocharging and Downsizing 1\n(TRBDS1_LD) - TBL",null,null,null,null,"TRBDS1_LD_DS",null,null,null,null,null,null,null,"TRBDS1_SD_TB_D",{"$f":"$N$56","v":"Turbocharging and Downsizing 1 (TRBDS1_SD) - TBL"},null,null,null,null,"TRBDS1_SD_DS_D",null,null,null,null,null,null,null,"TRBDS1_MD_TB_D","Turbocharging and Downsizing 1 (TRBDS1_MD) - TBL",null,null,null,null,"TRBDS1_MD_DS_D",null,null,null,null,null,null,null,"TRBDS1_LD_TB_D",{"$f":"$AP$56","v":"Turbocharging and Downsizing 1\n(TRBDS1_LD) - TBL"},null,null,null,null,"TRBDS1_LD_DS_D",null,null,null,null,null,null,null,"TRBDS1_SD_TB_D",{"$f":"$N$56","v":"Turbocharging and Downsizing 1 (TRBDS1_SD) - TBL"},null,null,null,null,"TRBDS1_SD_DS_D",null,null,null,null,null,null,null,"TRBDS1_MD_TB_D",{"$f":"$AB$56","v":"Turbocharging and Downsizing 1 (TRBDS1_MD) - TBL"},null,null,null,null,"TRBDS1_MD_DS_D",null,null,null,null,null,null,null,"TRBDS1_LD_TB_D",{"$f":"$AP$56","v":"Turbocharging and Downsizing 1\n(TRBDS1_LD) - TBL"},null,null,null,null,"TRBDS1_LD_DS_D",null,null,null,null,null,null,null,"TRBDS1_SD_TB_O",{"$f":"$N$56","v":"Turbocharging and Downsizing 1 (TRBDS1_SD) - TBL"},null,null,null,null,"TRBDS1_SD_DS_O",null,null,null,null,null,null,null,"TRBDS1_MD_TB_O",{"$f":"$AB$56","v":"Turbocharging and Downsizing 1 (TRBDS1_MD) - TBL"},null,null,null,null,"TRBDS1_MD_DS_O",null,null,null,null,null,null,null,"TRBDS1_LD_TB_O",{"$f":"$AP$56","v":"Turbocharging and Downsizing 1\n(TRBDS1_LD) - TBL"},null,null,null,null,"TRBDS1_LD_DS_O"]
["Gas Engine Type","I4",null,null,null,null,null,null,null,null,null,"2017+","INC","%",{"$f":"1-((1-O58-AC41)/(1-AC50))","v":7.2019736900250986E-2},"$",{"$f":"Q54","v":420.06358424991754},10,null,null,null,null,null,null,null,"2017+","INC","%",{"$f":"1-((1-AC58)/(1-AC50))","v":6.6969353007945487E-2},"$",{"$f":"AE54","v":-29.267884297748708},10,null,null,null,null,null,null,null,"2017+","INC","%",{"$f":"1-((1-AQ58)/(1-AC50))","v":6.6969353007945487E-2},"$",{"$f":"AS54","v":523.48084050429873},10,null,null,null,null,null,null,null,"2017+","INC","%",{"$f":"1-((1-BE58-BS41)/(1-BS50))","v":7.2019736900250986E-2},"$",{"$f":"BG54","v":409.7126410454249},10,null,null,null,null,null,null,null,"2017+","INC","%",{"$f":"1-((1-BS58)/(1-BS50))","v":6.6969353007945487E-2},"$",{"$f":"BU54","v":-166.76046392665683},10,null,null,null,null,null,null,null,"2017+","INC","%",{"$f":"1-((1-CG58)/(1-BS50))","v":6.6969353007945487E-2},"$",{"$f":"CI54","v":372.41862046254636},10,null,null,null,null,null,null,null,"2017+","INC","%",{"$f":"1-((1-CU58-DI41)/(1-DI50))","v":6.4846416382252525E-2},"$",{"$f":"CW54","v":409.7126410454249},10,null,null,null,null,null,null,null,"2017+","INC","%",{"$f":"1-((1-DI58)/(1-DI50))","v":6.4846416382252525E-2},"$",{"$f":"DK54","v":-166.76046392665683},10,null,null,null,null,null,null,null,"2017+","INC","%",{"$f":"1-((1-DW58)/(1-DI50))","v":6.4846416382252525E-2},"$",{"$f":"DY54","v":372.41862046254636},10,null,null,null,null,null,null,null,"2017+","INC","%",{"$f":"1-((1-EK58-EY33)/(1-EY50))","v":0.11990025465644893},"$",{"$f":"EM54","v":0},10,null,null,null,null,null,null,null,"2017+","INC","%",{"$f":"1-((1-EY58)/(1-EY50))","v":6.6969353007945487E-2},"$",{"$f":"FA54","v":533.48625139315186},10,null,null,null,null,null,null,null,"2017+","INC","%",{"$f":"1-((1-FM58)/(1-EY50))","v":6.6969353007945487E-2},"$",{"$f":"FO54","v":1047.4612616201887},10]
["Displacement [L]","1.5 to 2.0",null,null,null,null,null,null,null,null,null,null,"ABS","%",0.17799999999999999,"$",{"$f":"AE50+Q57","v":989.48999138784893},"L",null,null,null,null,null,null,null,null,"ABS","%",{"$f":"$O58","v":0.17799999999999999},"$",{"$f":"AE50+AE57","v":540.15852284018274},"L",null,null,null,null,null,null,null,null,"ABS","%",{"$f":"$O58","v":0.17799999999999999},"$",{"$f":"AE50+AS57","v":1092.9072476422302},"L",null,null,null,null,null,null,null,null,"ABS","%",{"$f":"$O58","v":0.17799999999999999},"$",{"$f":"BU50+BG57","v":1017.666902125638},"L",null,null,null,null,null,null,null,null,"ABS","%",{"$f":"$O58","v":0.17799999999999999},"$",{"$f":"BU50+BU57","v":441.19379715355626},"L",null,null,null,null,null,null,null,null,"ABS","%",{"$f":"$AQ58","v":0.17799999999999999},"$",{"$f":"BU50+CI57","v":980.37288154275939},"L",null,null,null,null,null,null,null,null,"ABS","%",{"$f":"$O58","v":0.17799999999999999},"$",{"$f":"DK50+CW57","v":1076.0574890551632},"L",null,null,null,null,null,null,null,null,"ABS","%",{"$f":"$AC58","v":0.17799999999999999},"$",{"$f":"DK50+DK57","v":499.58438408308143},"L",null,null,null,null,null,null,null,null,"ABS","%",{"$f":"$AQ58","v":0.17799999999999999},"$",{"$f":"DK50+DY57","v":1038.7634684722846},"L",null,null,null,null,null,null,null,null,"ABS","%",{"$f":"$O58","v":0.17799999999999999},"$",{"$f":"FA50+EM57","v":583.7968720109501},"L",null,null,null,null,null,null,null,null,"ABS","%",{"$f":"$AC58","v":0.17799999999999999},"$",{"$f":"FA50+FA57","v":1117.2831234041018},"L",null,null,null,null,null,null,null,null,"ABS","%",{"$f":"$AQ58","v":0.17799999999999999},"$",{"$f":"FA50+FO57","v":1631.2581336311387},"L"]
["Turbocharger","FGT",null,null,null,null,null,null,null,null,null,null,null,null,null,null,null,null,null,null,null,null,null,null,null,null,null,null,null,null,null,null,null,null,null,null,null,null,null,null,null,null,null,null,null,null,null,null,null,null,null,null,null,null,null,null,{"$f":"BE57-$O$57","v":0},null,{"$f":"BG57-$Q$57","v":-10.350943204492637},null,null,null,null,null,null,null,null,null,null,null,{"$f":"BS57-$AC$57","v":0},null,{"$f":"BU57-$AE$57","v":-137.49257962890812},null,null,null,null,null,null,null,null,null,null,null,{"$f":"CG57-$AQ$57","v":0},null,{"$f":"CI57-$AS$57","v":-151.06222004175237},null,null,null,null,null,null,null,null,null,null,null,{"$f":"CU57-$O$57","v":-7.1733205179984605E-3},null,{"$f":"CW57-$Q$57","v":-10.350943204492637},null,null,null,null,null,null,null,null,null,null,null,{"$f":"DI57-$AC$57","v":-2.1229366256929616E-3},null,{"$f":"DK57-$AE$57","v":-137.49257962890812},null,null,null,null,null,null,null,null,null,null,null,{"$f":"DW57-$AQ$57","v":-2.1229366256929616E-3},null,{"$f":"DY57-$AS$57","v":-151.06222004175237},null,null,null,null,null,null,null,null,null,null,null,{"$f":"EK57-$O$57","v":4.7880517756197949E-2},null,{"$f":"EM57-$Q$57","v":-420.06358424991754},null,null,null,null,null,null,null,null,null,null,null,{"$f":"EY57-$AC$57","v":0},null,{"$f":"FA57-$AE$57","v":562.75413569090051},null,null,null,null,null,null,null,null,null,null,null,{"$f":"FM57-$AQ$57","v":0},null,{"$f":"FO57-$AS$57","v":523.98042111588995}]
["EGR system","External"]
["Valvetrain","DOHC"]
["After Treatment","3way cat",null,null,null,null,null,null,null,null,null,"2012-2016","INC","%",{"$f":"1-((1-O63)/(1-O55))","v":0},"$",0,0,null,null,null,null,null,null,null,"2012-2016","INC","%",{"$f":"1-((1-AC63)/(1-AC55))","v":0},"$",0,0,null,null,null,null,null,null,null,"2012-2016","INC","%",{"$f":"1-((1-AQ63)/(1-AQ55))","v":0},"$",0,0,null,null,null,null,null,null,null,"2012-2016","INC","%",{"$f":"1-((1-BE63)/(1-BE55))","v":0},"$",{"$f":"$Q$62","v":0},{"$f":"$R$62","v":0},null,null,null,null,null,null,null,"2012-2016","INC","%",{"$f":"1-((1-BS63)/(1-BS55))","v":0},"$",{"$f":"$AE$62","v":0},{"$f":"$AF$62","v":0},null,null,null,null,null,null,null,"2012-2016","INC","%",{"$f":"1-((1-CG63)/(1-CG55))","v":0},"$",{"$f":"$AS$62","v":0},{"$f":"$AT$62","v":0},null,null,null,null,null,null,null,"2012-2016","INC","%",{"$f":"1-((1-CU63)/(1-CU55))","v":0},"$",{"$f":"$Q$62","v":0},{"$f":"$R$62","v":0},null,null,null,null,null,null,null,"2012-2016","INC","%",{"$f":"1-((1-DI63)/(1-DI55))","v":0},"$",{"$f":"$AE$62","v":0},{"$f":"$AF$62","v":0},null,null,null,null,null,null,null,"2012-2016","INC","%",{"$f":"1-((1-DW63)/(1-DW55))","v":0},"$",{"$f":"$AS$62","v":0},{"$f":"$AT$62","v":0},null,null,null,null,null,null,null,"2012-2016","INC","%",{"$f":"$O$62","v":0},"$",{"$f":"$Q$62","v":0},{"$f":"$R$62","v":0},null,null,null,null,null,null,null,"2012-2016","INC","%",{"$f":"1-((1-EY63)/(1-EY55))","v":0},"$",{"$f":"$AE$62","v":0},{"$f":"$AF$62","v":0},null,null,null,null,null,null,null,"2012-2016","INC","%",{"$f":"1-((1-FM63)/(1-FM55))","v":0},"$",{"$f":"$AS$62","v":0},{"$f":"$AT$62","v":0}]
[null,null,null,null,null,null,null,null,null,null,null,null,"ABS","%",{"$f":"O55","v":0.16976369643234546},"$",{"$f":"Q55+Q62","v":926.64925955855733},"L",null,null,null,null,null,null,null,null,"ABS","%",{"$f":"AC55","v":0.1693966839378237},"$",{"$f":"AE55+AE62","v":477.31779101089109},"L",null,null,null,null,null,null,null,null,"ABS","%",{"$f":"AQ55","v":0.1693966839378237},"$",{"$f":"AS55+AS62","v":1030.0665158129386},"L",null,null,null,null,null,null,null,null,"ABS","%",{"$f":"BE55","v":0.1738926408732786},"$",{"$f":"BG55+BG62","v":954.8261702963465},"L",null,null,null,null,null,null,null,null,"ABS","%",{"$f":"BS55","v":0.16939668393782359},"$",{"$f":"BU55+BU62","v":378.35306532426478},"L",null,null,null,null,null,null,null,null,"ABS","%",{"$f":"CG55","v":0.16939668393782359},"$",{"$f":"CI55+CI62","v":917.53214971346802},"L",null,null,null,null,null,null,null,null,"ABS","%",{"$f":"CU55","v":0.1693966839378237},"$",{"$f":"CW55+CW62","v":1013.2167572258717},"L",null,null,null,null,null,null,null,null,"ABS","%",{"$f":"DI55","v":0.1693966839378237},"$",{"$f":"DK55+DK62","v":436.74365225378995},"L",null,null,null,null,null,null,null,null,"ABS","%",{"$f":"DW55","v":0.1693966839378237},"$",{"$f":"DY55+DY62","v":975.92273664299319},"L",null,null,null,null,null,null,null,null,"ABS","%",{"$f":"1-((1-EK55)*(1-EK62))","v":0.21143062817217828},"$",{"$f":"EM55+EM62","v":520.95614018165861},"L",null,null,null,null,null,null,null,null,"ABS","%",{"$f":"EY55","v":0.16400454029511913},"$",{"$f":"FA55+FA62","v":1054.4423915748105},"L",null,null,null,null,null,null,null,null,"ABS","%",{"$f":"FM55","v":0.16400454029511913},"$",{"$f":"FO55+FO62","v":1568.4174018018473},"L"]
[null,null,null,null,null,null,null,null,null,null,null,null,"TRBDS2_SD_TB","Turbocharging and Downsizing 2\n(TRBDS2_SD) - TBL",null,null,null,null,"TRBDS2_SD_DS",null,null,null,null,null,null,null,"TRBDS2_MD_TB","Turbocharging and Downsizing 2\n(TRBDS2_MD) - TBL",null,null,null,null,"TRBDS2_MD_DS",null,null,null,null,null,null,null,"TRBDS2_LD_TB","Turbocharging and Downsizing 2\n(TRBDS2_LD) - TBL",null,null,null,null,"TRBDS2_LD_DS",null,null,null,null,null,null,null,"TRBDS2_SD_TB",{"$f":"$N$64","v":"Turbocharging and Downsizing 2\n(TRBDS2_SD) - TBL"},null,null,null,null,"TRBDS2_SD_DS",null,null,null,null,null,null,null,"TRBDS2_MD_TB",{"$f":"$AB$64","v":"Turbocharging and Downsizing 2\n(TRBDS2_MD) - TBL"},null,null,null,null,"TRBDS2_MD_DS",null,null,null,null,null,null,null,"TRBDS2_LD_TB",{"$f":"$AP$64","v":"Turbocharging and Downsizing 2\n(TRBDS2_LD) - TBL"},null,null,null,null,"TRBDS2_LD_DS",null,null,null,null,null,null,null,"TRBDS2_SD_TB",{"$f":"$N$64","v":"Turbocharging and Downsizing 2\n(TRBDS2_SD) - TBL"},null,null,null,null,"TRBDS2_SD_DS",null,null,null,null,null,null,null,"TRBDS2_MD_TB",{"$f":"$AB$64","v":"Turbocharging and Downsizing 2\n(TRBDS2_MD) - TBL"},null,null,null,null,"TRBDS2_MD_DS",null,null,null,null,null,null,null,"TRBDS2_LD_TB","Cooled EGR 1\n(CEGR1_LD) - TBL",null,null,null,null,"TRBDS2_LD_DS",null,null,null,null,null,null,null,"TRBDS2_SD_TB",{"$f":"$N$64","v":"Turbocharging and Downsizing 2\n(TRBDS2_SD) - TBL"},null,null,null,null,"TRBDS2_SD_DS",null,null,null,null,null,null,null,"TRBDS2_MD_TB",{"$f":"$AB$64","v":"Turbocharging and Downsizing 2\n(TRBDS2_MD) - TBL"},null,null,null,null,"TRBDS2_MD_DS",null,null,null,null,null,null,null,"TRBDS2_LD_TB","Cooled EGR 1\n(CEGR1_LD) - TBL",null,null,null,null,"TRBDS2_LD_DS"]
[null,"INTERMEDIATE",null,null,null,null,null,null,null,null,null,"2017+","INC","%",{"$f":"1-((1-O66)/(1-O58))","v":2.9197080291970878E-2},"$",{"$f":"INDEX('[1]Large PC'!$H$379:$X$467,MATCH(M64,'[1]Large PC'!$C$379:$C$467,0),MATCH(Inputs!$C$2,'[1]Large PC'!$H$378:$X$378,0))\n+INDEX('[1]Large PC'!$H$379:$X$467,MATCH(S64,'[1]Large PC'!$C$379:$C$467,0),MATCH(Inputs!$C$2,'[1]Large PC'!$H$378:$X$378,0))","v":19.914246875441577},10,null,null,null,null,null,null,null,"2017+","INC","%",{"$f":"1-((1-AC66)/(1-AC58))","v":2.9197080291970878E-2},"$",{"$f":"INDEX('[1]Subcompact PC'!$H$379:$X$467,MATCH(AA64,'[1]Subcompact PC'!$C$379:$C$467,0),MATCH(Inputs!$C$2,'[1]Subcompact PC'!$H$378:$X$378,0))\n+INDEX('[1]Subcompact PC'!$H$379:$X$467,MATCH(AG64,'[1]Subcompact PC'!$C$379:$C$467,0),MATCH(Inputs!$C$2,'[1]Subcompact PC'!$H$378:$X$378,0))","v":247.5936884943545},10,null,null,null,null,null,null,null,"2017+","INC","%",{"$f":"1-((1-AQ66)/(1-AQ58))","v":2.9197080291970878E-2},"$",{"$f":"INDEX('[1]Subcompact PC'!$H$379:$X$467,MATCH(AO64,'[1]Subcompact PC'!$C$379:$C$467,0),MATCH(Inputs!$C$2,'[1]Subcompact PC'!$H$378:$X$378,0))\n+INDEX('[1]Subcompact PC'!$H$379:$X$467,MATCH(AU64,'[1]Subcompact PC'!$C$379:$C$467,0),MATCH(Inputs!$C$2,'[1]Subcompact PC'!$H$378:$X$378,0))","v":417.35470758578072},10,null,null,null,null,null,null,null,"2017+","INC","%",{"$f":"1-((1-BE66)/(1-BE58))","v":2.9197080291970878E-2},"$",{"$f":"$Q65","v":19.914246875441577},{"$f":"$R$65","v":10},null,null,null,null,null,null,null,"2017+","INC","%",{"$f":"1-((1-BS66)/(1-BS58))","v":2.9197080291970878E-2},"$",{"$f":"$AE$65","v":247.5936884943545},{"$f":"$AF$65","v":10},null,null,null,null,null,null,null,"2017+","INC","%",{"$f":"1-((1-CG66)/(1-CG58))","v":2.9197080291970878E-2},"$",{"$f":"$AS$65","v":417.35470758578072},{"$f":"$AT$65","v":10},null,null,null,null,null,null,null,"2017+","INC","%",{"$f":"1-((1-CU66)/(1-CU58))","v":2.9197080291970878E-2},"$",{"$f":"$Q65","v":19.914246875441577},{"$f":"$R$65","v":10},null,null,null,null,null,null,null,"2017+","INC","%",{"$f":"1-((1-DI66)/(1-DI58))","v":2.9197080291970878E-2},"$",{"$f":"$AE$65","v":247.5936884943545},{"$f":"$AF$65","v":10},null,null,null,null,null,null,null,"2017+","INC","%",{"$f":"1-((1-DW66)/(1-DW58))","v":2.9197080291970878E-2},"$",{"$f":"$AS$65","v":417.35470758578072},{"$f":"$AT$65","v":10},null,null,null,null,null,null,null,"2017+","INC","%",{"$f":"1-((1-EK66)/(1-EK58))","v":2.9197080291970878E-2},"$",{"$f":"$Q65","v":19.914246875441577},{"$f":"$R$65","v":10},null,null,null,null,null,null,null,"2017+","INC","%",{"$f":"1-((1-EY66)/(1-EY58))","v":2.9197080291970878E-2},"$",{"$f":"$AE$65","v":247.5936884943545},{"$f":"$AF$65","v":10},null,null,null,null,null,null,null,"2017+","INC","%",{"$f":"1-((1-FM66)/(1-FM58))","v":2.9197080291970878E-2},"$",{"$f":"$AS$65","v":417.35470758578072},{"$f":"$AT$65","v":10}]
["Gas Engine Type","I4",null,null,null,null,null,null,null,null,null,null,"ABS","%",0.20200000000000001,"$",{"$f":"Q58+Q65","v":1009.4042382632905},"L",null,null,null,null,null,null,null,null,"ABS","%",{"$f":"$O66","v":0.20200000000000001},"$",{"$f":"AE58+AE65","v":787.75221133453726},"L",null,null,null,null,null,null,null,null,"ABS","%",{"$f":"$O66","v":0.20200000000000001},"$",{"$f":"AS58+AS65","v":1510.2619552280109},"L",null,null,null,null,null,null,null,null,"ABS","%",{"$f":"$O66","v":0.20200000000000001},"$",{"$f":"BG58+BG65","v":1037.5811490010797},"L",null,null,null,null,null,null,null,null,"ABS","%",{"$f":"$O66","v":0.20200000000000001},"$",{"$f":"BU58+BU65","v":688.78748564791078},"L",null,null,null,null,null,null,null,null,"ABS","%",{"$f":"$AQ66","v":0.20200000000000001},"$",{"$f":"CI58+CI65","v":1397.7275891285401},"L",null,null,null,null,null,null,null,null,"ABS","%",{"$f":"$O66","v":0.20200000000000001},"$",{"$f":"CW58+CW65","v":1095.9717359306048},"L",null,null,null,null,null,null,null,null,"ABS","%",{"$f":"$AC66","v":0.20200000000000001},"$",{"$f":"DK58+DK65","v":747.17807257743596},"L",null,null,null,null,null,null,null,null,"ABS","%",{"$f":"$AQ66","v":0.20200000000000001},"$",{"$f":"DY58+DY65","v":1456.1181760580653},"L",null,null,null,null,null,null,null,null,"ABS","%",{"$f":"$O66","v":0.20200000000000001},"$",{"$f":"EM58+EM65","v":603.71111888639166},"L",null,null,null,null,null,null,null,null,"ABS","%",{"$f":"$AC66","v":0.20200000000000001},"$",{"$f":"FA58+FA65","v":1364.8768118984563},"L",null,null,null,null,null,null,null,null,"ABS","%",{"$f":"$AQ66","v":0.20200000000000001},"$",{"$f":"FO58+FO65","v":2048.6128412169192},"L"]
["Displacement [L]",1]
["Turbocharger","FGT"]
["EGR system","External"]
["Valvetrain","DOHC",null,null,null,null,null,null,null,null,null,"2012-2016","INC","%",{"$f":"1-((1-O71)/(1-O63))","v":0},"$",0,0,null,null,null,null,null,null,null,"2012-2016","INC","%",{"$f":"1-((1-AC71)/(1-AC63))","v":0},"$",0,0,null,null,null,null,null,null,null,"2012-2016","INC","%",{"$f":"1-((1-AQ71)/(1-AQ63))","v":0},"$",0,0,null,null,null,null,null,null,null,"2012-2016","INC","%",{"$f":"1-((1-BE71)/(1-BE63))","v":0},"$",{"$f":"$Q$70","v":0},{"$f":"$R$70","v":0},null,null,null,null,null,null,null,"2012-2016","INC","%",{"$f":"1-((1-BS71)/(1-BS63))","v":0},"$",{"$f":"$AE$70","v":0},{"$f":"$AF$70","v":0},null,null,null,null,null,null,null,"2012-2016","INC","%",{"$f":"1-((1-CG71)/(1-CG63))","v":0},"$",{"$f":"$AS$70","v":0},{"$f":"$AT$70","v":0},null,null,null,null,null,null,null,"2012-2016","INC","%",{"$f":"1-((1-CU71)/(1-CU63))","v":0},"$",{"$f":"$Q$70","v":0},{"$f":"$R$70","v":0},null,null,null,null,null,null,null,"2012-2016","INC","%",{"$f":"1-((1-DI71)/(1-DI63))","v":0},"$",{"$f":"$AE$70","v":0},{"$f":"$AF$70","v":0},null,null,null,null,null,null,null,"2012-2016","INC","%",{"$f":"1-((1-DW71)/(1-DW63))","v":0},"$",{"$f":"$AS$70","v":0},{"$f":"$AT$70","v":0},null,null,null,null,null,null,null,"2012-2016","INC","%",{"$f":"1-((1-EK71)/(1-EK63))","v":0},"$",{"$f":"$Q$70","v":0},{"$f":"$R$70","v":0},null,null,null,null,null,null,null,"2012-2016","INC","%",{"$f":"1-((1-EY71)/(1-EY63))","v":0},"$",{"$f":"$AE$70","v":0},{"$f":"$AF$70","v":0},null,null,null,null,null,null,null,"2012-2016","INC","%",{"$f":"1-((1-FM71)/(1-FM63))","v":0},"$",{"$f":"$AS$70","v":0},{"$f":"$AT$70","v":0}]
["After Treatment","3way cat",null,null,null,null,null,null,null,null,null,null,"ABS","%",{"$f":"O63","v":0.16976369643234546},"$",{"$f":"Q63+Q70","v":926.64925955855733},"L",null,null,null,null,null,null,null,null,"ABS","%",{"$f":"AC63","v":0.1693966839378237},"$",{"$f":"AE63+AE70","v":477.31779101089109},"L",null,null,null,null,null,null,null,null,"ABS","%",{"$f":"AQ63","v":0.1693966839378237},"$",{"$f":"AS63+AS70","v":1030.0665158129386},"L",null,null,null,null,null,null,null,null,"ABS","%",{"$f":"BE63","v":0.1738926408732786},"$",{"$f":"BG63+BG70","v":954.8261702963465},"L",null,null,null,null,null,null,null,null,"ABS","%",{"$f":"BS63","v":0.16939668393782359},"$",{"$f":"BU63+BU70","v":378.35306532426478},"L",null,null,null,null,null,null,null,null,"ABS","%",{"$f":"CG63","v":0.16939668393782359},"$",{"$f":"CI63+CI70","v":917.53214971346802},"L",null,null,null,null,null,null,null,null,"ABS","%",{"$f":"CU63","v":0.1693966839378237},"$",{"$f":"CW63+CW70","v":1013.2167572258717},"L",null,null,null,null,null,null,null,null,"ABS","%",{"$f":"DI63","v":0.1693966839378237},"$",{"$f":"DK63+DK70","v":436.74365225378995},"L",null,null,null,null,null,null,null,null,"ABS","%",{"$f":"DW63","v":0.1693966839378237},"$",{"$f":"DY63+DY70","v":975.92273664299319},"L",null,null,null,null,null,null,null,null,"ABS","%",{"$f":"EK63","v":0.21143062817217828},"$",{"$f":"EM63+EM70","v":520.95614018165861},"L",null,null,null,null,null,null,null,null,"ABS","%",{"$f":"EY63","v":0.16400454029511913},"$",{"$f":"FA63+FA70","v":1054.4423915748105},"L",null,null,null,null,null,null,null,null,"ABS","%",{"$f":"FM63","v":0.16400454029511913},"$",{"$f":"FO63+FO70","v":1568.4174018018473},"L"]
[null,null,null,null,null,null,null,null,null,null,null,null,"CEGR1_SD_TB","Cooled EGR 1 \n(CEGR1_SD) - TBL",null,null,null,null,"CEGR1_SD_DS",null,null,null,null,null,null,null,"CEGR1_MD_TB","Cooled EGR 1 \n(CEGR1_MD) - TBL",null,null,null,null,"CEGR1_MD_DS",null,null,null,null,null,null,null,"CEGR1_LD_TB","Cooled EGR 1 \n(CEGR1_LD) - TBL",null,null,null,null,"CEGR1_LD_DS",null,null,null,null,null,null,null,"CEGR1_SD_TB",{"$f":"$N$72","v":"Cooled EGR 1 \n(CEGR1_SD) - TBL"},null,null,null,null,"CEGR1_SD_DS",null,null,null,null,null,null,null,"CEGR1_MD_TB",{"$f":"$AB$72","v":"Cooled EGR 1 \n(CEGR1_MD) - TBL"},null,null,null,null,"CEGR1_MD_DS",null,null,null,null,null,null,null,"CEGR1_LD_TB",{"$f":"$AP$72","v":"Cooled EGR 1 \n(CEGR1_LD) - TBL"},null,null,null,null,"CEGR1_LD_DS",null,null,null,null,null,null,null,"CEGR1_SD_TB",{"$f":"$N$72","v":"Cooled EGR 1 \n(CEGR1_SD) - TBL"},null,null,null,null,"CEGR1_SD_DS",null,null,null,null,null,null,null,"CEGR1_MD_TB",{"$f":"$AB$72","v":"Cooled EGR 1 \n(CEGR1_MD) - TBL"},null,null,null,null,"CEGR1_MD_DS",null,null,null,null,null,null,null,"CEGR1_LD_TB",{"$f":"$AP$72","v":"Cooled EGR 1 \n(CEGR1_LD) - TBL"},null,null,null,null,"CEGR1_LD_DS",null,null,null,null,null,null,null,"CEGR1_SD_TB",{"$f":"$N$72","v":"Cooled EGR 1 \n(CEGR1_SD) - TBL"},null,null,null,null,"CEGR1_SD_DS",null,null,null,null,null,null,null,"CEGR1_MD_TB",{"$f":"$AB$72","v":"Cooled EGR 1 \n(CEGR1_MD) - TBL"},null,null,null,null,"CEGR1_MD_DS",null,null,null,null,null,null,null,"CEGR1_LD_TB",{"$f":"$AP$72","v":"Cooled EGR 1 \n(CEGR1_LD) - TBL"},null,null,null,null,"CEGR1_LD_DS"]
[null,null,null,null,null,null,null,null,null,null,null,"2017+","INC","%",{"$f":"1-((1-O74)/(1-O66))","v":3.6340852130325896E-2},"$",{"$f":"INDEX('[1]Large Perf. PC'!$H$379:$X$467,MATCH(M72,'[1]Large Perf. PC'!$C$379:$C$467,0),MATCH(Inputs!$C$2,'[1]Large Perf. PC'!$H$378:$X$378,0))\n+INDEX('[1]Large Perf. PC'!$H$379:$X$467,MATCH(S72,'[1]Large Perf. PC'!$C$379:$C$467,0),MATCH(Inputs!$C$2,'[1]Large Perf. PC'!$H$378:$X$378,0))","v":285.15466932220613},10,null,null,null,null,null,null,null,"2017+","INC","%",{"$f":"1-((1-AC74)/(1-AC66))","v":3.6340852130325896E-2},"$",{"$f":"INDEX('[1]Subcompact PC'!$H$379:$X$467,MATCH(AA72,'[1]Subcompact PC'!$C$379:$C$467,0),MATCH(Inputs!$C$2,'[1]Subcompact PC'!$H$378:$X$378,0))\n+INDEX('[1]Subcompact PC'!$H$379:$X$467,MATCH(AG72,'[1]Subcompact PC'!$C$379:$C$467,0),MATCH(Inputs!$C$2,'[1]Subcompact PC'!$H$378:$X$378,0))","v":285.15466932220613},10,null,null,null,null,null,null,null,"2017+","INC","%",{"$f":"1-((1-AQ74)/(1-AQ66))","v":3.6340852130325896E-2},"$",{"$f":"INDEX('[1]Subcompact PC'!$H$379:$X$467,MATCH(AO72,'[1]Subcompact PC'!$C$379:$C$467,0),MATCH(Inputs!$C$2,'[1]Subcompact PC'!$H$378:$X$378,0))\n+INDEX('[1]Subcompact PC'!$H$379:$X$467,MATCH(AU72,'[1]Subcompact PC'!$C$379:$C$467,0),MATCH(Inputs!$C$2,'[1]Subcompact PC'!$H$378:$X$378,0))","v":285.15466932220613},10,null,null,null,null,null,null,null,"2017+","INC","%",{"$f":"$O$73","v":3.6340852130325896E-2},"$",{"$f":"$Q$73","v":285.15466932220613},{"$f":"$R$73","v":10},null,null,null,null,null,null,null,"2017+","INC","%",{"$f":"$AC$73","v":3.6340852130325896E-2},"$",{"$f":"$AE$73","v":285.15466932220613},{"$f":"$AF$73","v":10},null,null,null,null,null,null,null,"2017+","INC","%",{"$f":"$AQ$73","v":3.6340852130325896E-2},"$",{"$f":"$AS$73","v":285.15466932220613},{"$f":"$AT$73","v":10},null,null,null,null,null,null,null,"2017+","INC","%",{"$f":"$O$73","v":3.6340852130325896E-2},"$",{"$f":"$Q$73","v":285.15466932220613},{"$f":"$R$73","v":10},null,null,null,null,null,null,null,"2017+","INC","%",{"$f":"$AC$73","v":3.6340852130325896E-2},"$",{"$f":"$AE$73","v":285.15466932220613},{"$f":"$AF$73","v":10},null,null,null,null,null,null,null,"2017+","INC","%",{"$f":"$AQ$73","v":3.6340852130325896E-2},"$",{"$f":"$AS$73","v":285.15466932220613},{"$f":"$AT$73","v":10},null,null,null,null,null,null,null,"2017+","INC","%",{"$f":"$O$73","v":3.6340852130325896E-2},"$",{"$f":"$Q$73","v":285.15466932220613},{"$f":"$R$73","v":10},null,null,null,null,null,null,null,"2017+","INC","%",{"$f":"$AC$73","v":3.6340852130325896E-2},"$",{"$f":"$AE$73","v":285.15466932220613},{"$f":"$AF$73","v":10},null,null,null,null,null,null,null,"2017+","INC","%",{"$f":"$AQ$73","v":3.6340852130325896E-2},"$",{"$f":"$AS$73","v":285.15466932220613},{"$f":"$AT$73","v":10}]
[null,null,null,null,null,null,null,null,null,null,null,null,"ABS","%",0.23100000000000001,"$",{"$f":"Q66+Q73","v":1294.5589075854966},"L",null,null,null,null,null,null,null,null,"ABS","%",{"$f":"O74","v":0.23100000000000001},"$",{"$f":"AE66+AE73","v":1072.9068806567434},"L",null,null,null,null,null,null,null,null,"ABS","%",{"$f":"O74","v":0.23100000000000001},"$",{"$f":"AS66+AS73","v":1795.416624550217},"L",null,null,null,null,null,null,null,null,"ABS","%",{"$f":"1-((1-BE66)*(1-BE73))","v":0.23099999999999998},"$",{"$f":"BG66+BG73","v":1322.7358183232859},"L",null,null,null,null,null,null,null,null,"ABS","%",{"$f":"$O74","v":0.23100000000000001},"$",{"$f":"BU66+BU73","v":973.94215497011692},"L",null,null,null,null,null,null,null,null,"ABS","%",{"$f":"$AQ74","v":0.23100000000000001},"$",{"$f":"CI66+CI73","v":1682.8822584507461},"L",null,null,null,null,null,null,null,null,"ABS","%",{"$f":"$O74","v":0.23100000000000001},"$",{"$f":"CW66+CW73","v":1381.1264052528109},"L",null,null,null,null,null,null,null,null,"ABS","%",{"$f":"$AC74","v":0.23100000000000001},"$",{"$f":"DK66+DK73","v":1032.3327418996421},"L",null,null,null,null,null,null,null,null,"ABS","%",{"$f":"$AQ74","v":0.23100000000000001},"$",{"$f":"DY66+DY73","v":1741.2728453802715},"L",null,null,null,null,null,null,null,null,"ABS","%",{"$f":"$O74","v":0.23100000000000001},"$",{"$f":"EM66+EM73","v":888.86578820859779},"L",null,null,null,null,null,null,null,null,"ABS","%",{"$f":"$AC74","v":0.23100000000000001},"$",{"$f":"FA66+FA73","v":1650.0314812206625},"L",null,null,null,null,null,null,null,null,"ABS","%",{"$f":"$AQ74","v":0.23100000000000001},"$",{"$f":"FO66+FO73","v":2333.7675105391254},"L"]
[]
[]
[]
[null,null,null,null,null,null,null,null,null,null,null,"2012-2016","INC","%",{"$f":"1-((1-O79)/(1-O71))","v":0},"$",0,0,null,null,null,null,null,null,null,"2012-2016","INC","%",{"$f":"1-((1-AC79)/(1-AC71))","v":0},"$",0,0,null,null,null,null,null,null,null,"2012-2016","INC","%",{"$f":"1-((1-AQ79)/(1-AQ71))","v":0},"$",0,0,null,null,null,null,null,null,null,"2012-2016","INC","%",{"$f":"1-((1-BE79)/(1-BE71))","v":0},"$",{"$f":"$Q$78","v":0},{"$f":"$R$78","v":0},null,null,null,null,null,null,null,"2012-2016","INC","%",{"$f":"1-((1-BS79)/(1-BS71))","v":0},"$",{"$f":"$AE$78","v":0},{"$f":"$AF$78","v":0},null,null,null,null,null,null,null,"2012-2016","INC","%",{"$f":"1-((1-CG79)/(1-CG71))","v":0},"$",{"$f":"$AS$78","v":0},{"$f":"$AT$78","v":0},null,null,null,null,null,null,null,"2012-2016","INC","%",{"$f":"1-((1-CU79)/(1-CU71))","v":0},"$",{"$f":"$Q$78","v":0},{"$f":"$R$78","v":0},null,null,null,null,null,null,null,"2012-2016","INC","%",{"$f":"1-((1-DI79)/(1-DI71))","v":0},"$",{"$f":"$AE$78","v":0},{"$f":"$AF$78","v":0},null,null,null,null,null,null,null,"2012-2016","INC","%",{"$f":"1-((1-DW79)/(1-DW71))","v":0},"$",{"$f":"$AS$78","v":0},{"$f":"$AT$78","v":0},null,null,null,null,null,null,null,"2012-2016","INC","%",{"$f":"1-((1-EK79)/(1-EK71))","v":0},"$",{"$f":"$Q$78","v":0},{"$f":"$R$78","v":0},null,null,null,null,null,null,null,"2012-2016","INC","%",{"$f":"1-((1-EY79)/(1-EY71))","v":0},"$",{"$f":"$AE$78","v":0},{"$f":"$AF$78","v":0},null,null,null,null,null,null,null,"2012-2016","INC","%",{"$f":"1-((1-FM79)/(1-FM71))","v":0},"$",{"$f":"$AS$78","v":0},{"$f":"$AT$78","v":0}]
[null,null,null,null,null,null,null,null,null,null,null,null,"ABS","%",{"$f":"O71","v":0.16976369643234546},"$",{"$f":"Q71+Q78","v":926.64925955855733},"L",null,null,null,null,null,null,null,null,"ABS","%",{"$f":"AC71","v":0.1693966839378237},"$",{"$f":"AE71+AE78","v":477.31779101089109},"L",null,null,null,null,null,null,null,null,"ABS","%",{"$f":"AQ71","v":0.1693966839378237},"$",{"$f":"AS71+AS78","v":1030.0665158129386},"L",null,null,null,null,null,null,null,null,"ABS","%",{"$f":"BE71","v":0.1738926408732786},"$",{"$f":"BG71+BG78","v":954.8261702963465},"L",null,null,null,null,null,null,null,null,"ABS","%",{"$f":"BS71","v":0.16939668393782359},"$",{"$f":"BU71+BU78","v":378.35306532426478},"L",null,null,null,null,null,null,null,null,"ABS","%",{"$f":"CG71","v":0.16939668393782359},"$",{"$f":"CI71+CI78","v":917.53214971346802},"L",null,null,null,null,null,null,null,null,"ABS","%",{"$f":"CU71","v":0.1693966839378237},"$",{"$f":"CW71+CW78","v":1013.2167572258717},"L",null,null,null,null,null,null,null,null,"ABS","%",{"$f":"DI71","v":0.1693966839378237},"$",{"$f":"DK71+DK78","v":436.74365225378995},"L",null,null,null,null,null,null,null,null,"ABS","%",{"$f":"DW71","v":0.1693966839378237},"$",{"$f":"DY71+DY78","v":975.92273664299319},"L",null,null,null,null,null,null,null,null,"ABS","%",{"$f":"EK71","v":0.21143062817217828},"$",{"$f":"EM71+EM78","v":520.95614018165861},"L",null,null,null,null,null,null,null,null,"ABS","%",{"$f":"EY71","v":0.16400454029511913},"$",{"$f":"FA71+FA78","v":1054.4423915748105},"L",null,null,null,null,null,null,null,null,"ABS","%",{"$f":"FM71","v":0.16400454029511913},"$",{"$f":"FO71+FO78","v":1568.4174018018473},"L"]
[null,null,null,null,null,null,null,null,null,null,null,null,"CEGR2_SD_TB","Cooled EGR 2\n(CEGR2_SD) - TBL",null,null,null,null,"CEGR2_SD_DS",null,null,null,null,null,null,null,"CEGR2_MD_TB","Cooled EGR 2\n(CEGR2_MD) - TBL",null,null,null,null,"CEGR2_MD_DS",null,null,null,null,null,null,null,"CEGR2_LD_TB","Cooled EGR 2\n(CEGR2_LD) - TBL",null,null,null,null,"CEGR2_LD_DS",null,null,null,null,null,null,null,"CEGR2_SD_TB",{"$f":"$N$80","v":"Cooled EGR 2\n(CEGR2_SD) - TBL"},null,null,null,null,"CEGR2_SD_DS",null,null,null,null,null,null,null,"CEGR2_MD_TB",{"$f":"$AB$80","v":"Cooled EGR 2\n(CEGR2_MD) - TBL"},null,null,null,null,"CEGR2_MD_DS",null,null,null,null,null,null,null,"CEGR2_LD_TB",{"$f":"$AP$80","v":"Cooled EGR 2\n(CEGR2_LD) - TBL"},null,null,null,null,"CEGR2_LD_DS",null,null,null,null,null,null,null,"CEGR2_SD_TB",{"$f":"$N$80","v":"Cooled EGR 2\n(CEGR2_SD) - TBL"},null,null,null,null,"CEGR2_SD_DS",null,null,null,null,null,null,null,"CEGR2_MD_TB",{"$f":"$AB$80","v":"Cooled EGR 2\n(CEGR2_MD) - TBL"},null,null,null,null,"CEGR2_MD_DS",null,null,null,null,null,null,null,"CEGR2_LD_TB",{"$f":"$AP$80","v":"Cooled EGR 2\n(CEGR2_LD) - TBL"},null,null,null,null,"CEGR2_LD_DS",null,null,null,null,null,null,null,"CEGR2_SD_TB",{"$f":"$N$80","v":"Cooled EGR 2\n(CEGR2_SD) - TBL"},null,null,null,null,"CEGR2_SD_DS",null,null,null,null,null,null,null,"CEGR2_MD_TB",{"$f":"$AB$80","v":"Cooled EGR 2\n(CEGR2_MD) - TBL"},null,null,null,null,"CEGR2_MD_DS",null,null,null,null,null,null,null,"CEGR2_LD_TB",{"$f":"$AP$80","v":"Cooled EGR 2\n(CEGR2_LD) - TBL"},null,null,null,null,"CEGR2_LD_DS"]
[null,"STOP",null,null,null,null,null,null,null,null,null,"2017+","INC","%",{"$f":"1-((1-O82)/(1-O74))","v":1.040312093628093E-2},"$",{"$f":"INDEX('[1]Subcompact PC'!$H$379:$X$467,MATCH(M80,'[1]Subcompact PC'!$C$379:$C$467,0),MATCH(Inputs!$C$2,'[1]Subcompact PC'!$H$378:$X$378,0))\n+INDEX('[1]Subcompact PC'!$H$379:$X$467,MATCH(S80,'[1]Subcompact PC'!$C$379:$C$467,0),MATCH(Inputs!$C$2,'[1]Subcompact PC'!$H$378:$X$378,0))","v":495.18737698870899},10,null,null,null,null,null,null,null,"2017+","INC","%",{"$f":"1-((1-AC82)/(1-AC74))","v":1.040312093628093E-2},"$",{"$f":"INDEX('[1]Subcompact PC'!$H$379:$X$467,MATCH(AA80,'[1]Subcompact PC'!$C$379:$C$467,0),MATCH(Inputs!$C$2,'[1]Subcompact PC'!$H$378:$X$378,0))\n+INDEX('[1]Subcompact PC'!$H$379:$X$467,MATCH(AG80,'[1]Subcompact PC'!$C$379:$C$467,0),MATCH(Inputs!$C$2,'[1]Subcompact PC'!$H$378:$X$378,0))","v":495.18737698870899},10,null,null,null,null,null,null,null,"2017+","INC","%",{"$f":"1-((1-AQ82)/(1-AQ74))","v":1.040312093628093E-2},"$",{"$f":"INDEX('[1]Subcompact PC'!$H$379:$X$467,MATCH(AO80,'[1]Subcompact PC'!$C$379:$C$467,0),MATCH(Inputs!$C$2,'[1]Subcompact PC'!$H$378:$X$378,0))\n+INDEX('[1]Subcompact PC'!$H$379:$X$467,MATCH(AU80,'[1]Subcompact PC'!$C$379:$C$467,0),MATCH(Inputs!$C$2,'[1]Subcompact PC'!$H$378:$X$378,0))","v":-296.67298355204559},10,null,null,null,null,null,null,null,"2017+","INC","%",{"$f":"$O$81","v":1.040312093628093E-2},"$",{"$f":"$Q$81","v":495.18737698870899},{"$f":"$R$81","v":10},null,null,null,null,null,null,null,"2017+","INC","%",{"$f":"$AC$81","v":1.040312093628093E-2},"$",{"$f":"$AE$81","v":495.18737698870899},{"$f":"$AF$81","v":10},null,null,null,null,null,null,null,"2017+","INC","%",{"$f":"$AQ$81","v":1.040312093628093E-2},"$",{"$f":"$AS$81","v":-296.67298355204559},{"$f":"$AT$81","v":10},null,null,null,null,null,null,null,"2017+","INC","%",{"$f":"$O$81","v":1.040312093628093E-2},"$",{"$f":"$Q$81","v":495.18737698870899},{"$f":"$R$81","v":10},null,null,null,null,null,null,null,"2017+","INC","%",{"$f":"$AC$81","v":1.040312093628093E-2},"$",{"$f":"$AE$81","v":495.18737698870899},{"$f":"$AF$81","v":10},null,null,null,null,null,null,null,"2017+","INC","%",{"$f":"$AQ$81","v":1.040312093628093E-2},"$",{"$f":"$AS$81","v":-296.67298355204559},{"$f":"$AT$81","v":10},null,null,null,null,null,null,null,"2017+","INC","%",{"$f":"$O$81","v":1.040312093628093E-2},"$",{"$f":"$Q$81","v":495.18737698870899},{"$f":"$R$81","v":10},null,null,null,null,null,null,null,"2017+","INC","%",{"$f":"$AC$81","v":1.040312093628093E-2},"$",{"$f":"$AE$81","v":495.18737698870899},{"$f":"$AF$81","v":10},null,null,null,null,null,null,null,"2017+","INC","%",{"$f":"$AQ$81","v":1.040312093628093E-2},"$",{"$f":"$AS$81","v":-296.67298355204559},{"$f":"$AT$81","v":10}]
["Diesel Engine Type","I4",null,null,null,null,null,null,null,null,null,null,"ABS","%",0.23899999999999999,"$",{"$f":"Q74+Q81","v":1789.7462845742057},"L",null,null,null,null,null,null,null,null,"ABS","%",{"$f":"O82","v":0.23899999999999999},"$",{"$f":"AE74+AE81","v":1568.0942576454524},"L",null,null,null,null,null,null,null,null,"ABS","%",{"$f":"O82","v":0.23899999999999999},"$",{"$f":"AS74+AS81","v":1498.7436409981715},"L",null,null,null,null,null,null,null,null,"ABS","%",{"$f":"1-((1-BE74)*(1-BE81))","v":0.23899999999999999},"$",{"$f":"BG74+BG81","v":1817.923195311995},"L",null,null,null,null,null,null,null,null,"ABS","%",{"$f":"$O82","v":0.23899999999999999},"$",{"$f":"BU74+BU81","v":1469.129531958826},"L",null,null,null,null,null,null,null,null,"ABS","%",{"$f":"$AQ82","v":0.23899999999999999},"$",{"$f":"CI74+CI81","v":1386.2092748987006},"L",null,null,null,null,null,null,null,null,"ABS","%",{"$f":"$O82","v":0.23899999999999999},"$",{"$f":"CW74+CW81","v":1876.3137822415199},"L",null,null,null,null,null,null,null,null,"ABS","%",{"$f":"$AC82","v":0.23899999999999999},"$",{"$f":"DK74+DK81","v":1527.5201188883511},"L",null,null,null,null,null,null,null,null,"ABS","%",{"$f":"$AQ82","v":0.23899999999999999},"$",{"$f":"DY74+DY81","v":1444.599861828226},"L",null,null,null,null,null,null,null,null,"ABS","%",{"$f":"$O82","v":0.23899999999999999},"$",{"$f":"EM74+EM81","v":1384.0531651973067},"L",null,null,null,null,null,null,null,null,"ABS","%",{"$f":"$AC82","v":0.23899999999999999},"$",{"$f":"FA74+FA81","v":2145.2188582093713},"L",null,null,null,null,null,null,null,null,"ABS","%",{"$f":"$AQ82","v":0.23899999999999999},"$",{"$f":"FO74+FO81","v":2037.0945269870799},"L"]
["Displacement [L]","1.5 to 2.0"]
["Turbocharger","VNT"]
["EGR system","cooler+vlv+bypass vlv"]
["FIE","HPCR 1800bar solenoid",null,null,"2012-2016","INC","%",{"$f":"1-((1-H87)/(1-O79))","v":0},"$",0,"L","2012-2016","INC","%",0,"$",0,0,"2012-2016","INC","%",{"$f":"1-((1-V87)/(1-AC79))","v":0},"$",0,"L","2012-2016","INC","%",0,"$",0,0,"2012-2016","INC","%",{"$f":"1-((1-AJ87)/(1-AQ79))","v":0},"$",0,"L","2012-2016","INC","%",0,"$",0,0,"2012-2016","INC","%",{"$f":"1-((1-AX87)/(1-BE79))","v":-4.9980724603371218E-3},"$",0,"L","2012-2016","INC","%",0,"$",0,0,"2012-2016","INC","%",{"$f":"1-((1-BL87)/(1-BS79))","v":0},"$",0,"L","2012-2016","INC","%",0,"$",0,0,"2012-2016","INC","%",{"$f":"1-((1-BZ87)/(1-CG79))","v":0},"$",0,"L","2012-2016","INC","%",0,"$",0,0,"2012-2016","INC","%",{"$f":"1-((1-CN87)/(1-CU79))","v":4.418625442789148E-4},"$",0,"L","2012-2016","INC","%",0,"$",0,0,"2012-2016","INC","%",{"$f":"1-((1-DB87)/(1-DI79))","v":0},"$",0,"L","2012-2016","INC","%",0,"$",0,0,"2012-2016","INC","%",{"$f":"1-((1-DP87)/(1-DW79))","v":0},"$",0,"L","2012-2016","INC","%",0,"$",0,0,"2012-2016","INC","%",{"$f":"1-((1-ED87)/(1-EK79))","v":-5.2838638207889366E-2},"$",0,"L","2012-2016","INC","%",0,"$",0,0,"2012-2016","INC","%",{"$f":"1-((1-ER87)/(1-EY79))","v":6.4499676165802322E-3},"$",0,"L","2012-2016","INC","%",0,"$",0,0,"2012-2016","INC","%",{"$f":"1-((1-FF87)/(1-FM79))","v":6.4499676165802322E-3},"$",0,"L","2012-2016","INC","%",0,"$",0,0]
["Valvetrain","4-valve DOHC",null,null,null,"ABS","%",{"$f":"O79","v":0.16976369643234546},"$",{"$f":"J86+Q79","v":926.64925955855733},150,null,"ABS","%",{"$f":"1-((1-O79)*(1-O86))","v":0.16976369643234546},"$",{"$f":"Q79+Q86","v":926.64925955855733},"L",null,"ABS","%",{"$f":"AC79","v":0.1693966839378237},"$",{"$f":"X86+AE79","v":477.31779101089109},200,null,"ABS","%",{"$f":"1-((1-AC79)*(1-AC86))","v":0.1693966839378237},"$",{"$f":"AE79+AE86","v":477.31779101089109},"L",null,"ABS","%",{"$f":"AQ79","v":0.1693966839378237},"$",{"$f":"AL86+AS79","v":1030.0665158129386},500,null,"ABS","%",{"$f":"1-((1-AQ79)*(1-AQ86))","v":0.1693966839378237},"$",{"$f":"AS79+AS86","v":1030.0665158129386},"L",null,"ABS","%",{"$f":"$H$87","v":0.16976369643234546},"$",{"$f":"AZ86+BG79","v":954.8261702963465},{"$f":"$K$87","v":150},null,"ABS","%",{"$f":"1-((1-BE79)*(1-BE86))","v":0.1738926408732786},"$",{"$f":"BG79+BG86","v":954.8261702963465},"L",null,"ABS","%",{"$f":"$V$87","v":0.1693966839378237},"$",{"$f":"BN86+BU79","v":378.35306532426478},{"$f":"$Y$87","v":200},null,"ABS","%",{"$f":"1-((1-BS79)*(1-BS86))","v":0.16939668393782359},"$",{"$f":"BU79+BU86","v":378.35306532426478},"L",null,"ABS","%",{"$f":"$AJ$87","v":0.1693966839378237},"$",{"$f":"CB86+CI79","v":917.53214971346802},{"$f":"$AM$87","v":500},null,"ABS","%",{"$f":"1-((1-CG79)*(1-CG86))","v":0.16939668393782359},"$",{"$f":"CI79+CI86","v":917.53214971346802},"L",null,"ABS","%",{"$f":"$H$87","v":0.16976369643234546},"$",{"$f":"CP86+CW79","v":1013.2167572258717},{"$f":"$K$87","v":150},null,"ABS","%",{"$f":"1-((1-CU79)*(1-CU86))","v":0.1693966839378237},"$",{"$f":"CW79+CW86","v":1013.2167572258717},"L",null,"ABS","%",{"$f":"$V$87","v":0.1693966839378237},"$",{"$f":"DD86+DK79","v":436.74365225378995},{"$f":"$Y$87","v":200},null,"ABS","%",{"$f":"1-((1-DI79)*(1-DI86))","v":0.1693966839378237},"$",{"$f":"DK79+DK86","v":436.74365225378995},"L",null,"ABS","%",{"$f":"$AJ$87","v":0.1693966839378237},"$",{"$f":"DR86+DY79","v":975.92273664299319},{"$f":"$AM$87","v":500},null,"ABS","%",{"$f":"1-((1-DW79)*(1-DW86))","v":0.1693966839378237},"$",{"$f":"DY79+DY86","v":975.92273664299319},"L",null,"ABS","%",{"$f":"$H$87","v":0.16976369643234546},"$",{"$f":"EF86+EM79","v":520.95614018165861},{"$f":"$K$87","v":150},null,"ABS","%",{"$f":"1-((1-EK79)*(1-EK86))","v":0.21143062817217828},"$",{"$f":"EM79+EM86","v":520.95614018165861},"L",null,"ABS","%",{"$f":"$V$87","v":0.1693966839378237},"$",{"$f":"ET86+FA79","v":1054.4423915748105},{"$f":"$Y$87","v":200},null,"ABS","%",{"$f":"1-((1-EY79)*(1-EY86))","v":0.16400454029511913},"$",{"$f":"FA79+FA86","v":1054.4423915748105},"L",null,"ABS","%",{"$f":"$AJ$87","v":0.1693966839378237},"$",{"$f":"FH86+FO79","v":1568.4174018018473},{"$f":"$AM$87","v":500},null,"ABS","%",{"$f":"1-((1-FM79)*(1-FM86))","v":0.16400454029511913},"$",{"$f":"FO79+FO86","v":1568.4174018018473},"L"]
["Valvetrain option","N/A",null,null,null,null,"Advanced Diesel\n(ADSL_SD) - TBL",null,null,null,null,"ADSL_SD",null,"To Strong Hybrids",null,null,null,null,null,null,"Advanced Diesel\n(ADSL_MD) - TBL",null,null,null,null,"ADSL_MD",null,"To Strong Hybrids",null,null,null,null,null,null,"Advanced Diesel\n(ADSL_LD) - TBL",null,null,null,null,"ADSL_LD",null,"To Strong Hybrids",null,null,null,null,null,null,"Advanced Diesel\n(ADSL_SD) - TBL",null,null,null,null,"ADSL_SD",null,"To Strong Hybrids",null,null,null,null,null,null,"Advanced Diesel\n(ADSL_MD) - TBL",null,null,null,null,"ADSL_SD",null,"To Strong Hybrids",null,null,null,null,null,null,"Advanced Diesel\n(ADSL_LD) - TBL",null,null,null,null,"ADSL_SD",null,"To Strong Hybrids",null,null,null,null,null,null,"Advanced Diesel\n(ADSL_SD) - TBL",null,null,null,null,"ADSL_SD",null,"To Strong Hybrids",null,null,null,null,null,null,"Advanced Diesel\n(ADSL_MD) - TBL",null,null,null,null,"ADSL_SD",null,"To Strong Hybrids",null,null,null,null,null,null,"Advanced Diesel\n(ADSL_LD) - TBL",null,null,null,null,"ADSL_SD",null,"To Strong Hybrids",null,null,null,null,null,null,"Advanced Diesel\n(ADSL_SD) - TBL",null,null,null,null,"ADSL_SD",null,"To Strong Hybrids",null,null,null,null,null,null,"Advanced Diesel\n(ADSL_MD) - TBL",null,null,null,null,"ADSL_SD",null,"To Strong Hybrids",null,null,null,null,null,null,"Advanced Diesel\n(ADSL_LD) - TBL",null,null,null,null,"ADSL_SD",null,"To Strong Hybrids"]
["After Treatment","DOC+LNT+DPF",null,null,"2017+","INC","%",{"$f":"1-((1-H90)/(1-O82))","v":5.5321944809461288E-2},"$",{"$f":"INDEX('[1]Subcompact PC'!$H$379:$X$467,MATCH(L88,'[1]Subcompact PC'!$C$379:$C$467,0),MATCH(Inputs!$C$2,'[1]Subcompact PC'!$H$378:$X$378,0))","v":911.04083256975923},"L","2017+","INC","%",0,"$",{"$f":"Q86","v":0},0,"2017+","INC","%",{"$f":"1-((1-V90)/(1-AC82))","v":5.5321944809461288E-2},"$",{"$f":"INDEX('[1]Subcompact PC'!$H$379:$X$467,MATCH(Z88,'[1]Subcompact PC'!$C$379:$C$467,0),MATCH(Inputs!$C$2,'[1]Subcompact PC'!$H$378:$X$378,0))","v":927.85441038425756},"L","2017+","INC","%",0,"$",{"$f":"AE86","v":0},0,"2017+","INC","%",{"$f":"1-((1-AJ90)/(1-AQ82))","v":5.5321944809461288E-2},"$",{"$f":"INDEX('[1]Subcompact PC'!$H$379:$X$467,MATCH(AN88,'[1]Subcompact PC'!$C$379:$C$467,0),MATCH(Inputs!$C$2,'[1]Subcompact PC'!$H$378:$X$378,0))","v":1811.581549062259},"L","2017+","INC","%",0,"$",{"$f":"AS86","v":0},0,"2017+","INC","%",{"$f":"1-((1-AX90)/(1-BE82))","v":5.5321944809461288E-2},"$",{"$f":"$J$89","v":911.04083256975923},"L","2017+","INC","%",0,"$",{"$f":"BG86","v":0},0,"2017+","INC","%",{"$f":"1-((1-BL90)/(1-BS82))","v":5.5321944809461288E-2},"$",{"$f":"$X$89","v":927.85441038425756},"L","2017+","INC","%",0,"$",{"$f":"BU86","v":0},0,"2017+","INC","%",{"$f":"1-((1-BZ90)/(1-CG82))","v":5.5321944809461288E-2},"$",{"$f":"$AL$89","v":1811.581549062259},"L","2017+","INC","%",0,"$",{"$f":"CI86","v":0},0,"2017+","INC","%",{"$f":"1-((1-CN90)/(1-CU82))","v":5.5321944809461288E-2},"$",{"$f":"$J$89","v":911.04083256975923},"L","2017+","INC","%",0,"$",{"$f":"CW86","v":0},0,"2017+","INC","%",{"$f":"1-((1-DB90)/(1-DI82))","v":5.5321944809461288E-2},"$",{"$f":"$X$89","v":927.85441038425756},"L","2017+","INC","%",0,"$",{"$f":"DK86","v":0},0,"2017+","INC","%",{"$f":"1-((1-DP90)/(1-DW82))","v":5.5321944809461288E-2},"$",{"$f":"$AL$89","v":1811.581549062259},"L","2017+","INC","%",0,"$",{"$f":"DY86","v":0},0,"2017+","INC","%",{"$f":"1-((1-ED90)/(1-EK82))","v":5.5321944809461288E-2},"$",{"$f":"$J$89","v":911.04083256975923},"L","2017+","INC","%",0,"$",{"$f":"EM86","v":0},0,"2017+","INC","%",{"$f":"1-((1-ER90)/(1-EY82))","v":5.5321944809461288E-2},"$",{"$f":"$X$89","v":927.85441038425756},"L","2017+","INC","%",0,"$",{"$f":"FA86","v":0},0,"2017+","INC","%",{"$f":"1-((1-FF90)/(1-FM82))","v":5.5321944809461288E-2},"$",{"$f":"$AL$89","v":1811.581549062259},"L","2017+","INC","%",0,"$",{"$f":"FO86","v":0},0]
[null,null,null,null,null,"ABS","%",0.28110000000000002,"$",{"$f":"Q82+J89","v":2700.7871171439647},150,null,"ABS","%",{"$f":"1-((1-O82)*(1-O89))","v":0.23899999999999999},"$",{"$f":"Q82+Q89","v":1789.7462845742057},"L",null,"ABS","%",{"$f":"H90","v":0.28110000000000002},"$",{"$f":"AE82+X89","v":2495.94866802971},200,null,"ABS","%",{"$f":"1-((1-AC82)*(1-AC89))","v":0.23899999999999999},"$",{"$f":"AE82+AE89","v":1568.0942576454524},"L",null,"ABS","%",{"$f":"H90","v":0.28110000000000002},"$",{"$f":"AS82+AL89","v":3310.3251900604305},500,null,"ABS","%",{"$f":"1-((1-AQ82)*(1-AQ89))","v":0.23899999999999999},"$",{"$f":"AS82+AS89","v":1498.7436409981715},"L",null,"ABS","%",{"$f":"$H$90","v":0.28110000000000002},"$",{"$f":"$J$90","v":2700.7871171439647},{"$f":"$K$90","v":150},null,"ABS","%",{"$f":"1-((1-BE82)*(1-BE89))","v":0.23899999999999999},"$",{"$f":"BG82+BG89","v":1817.923195311995},"L",null,"ABS","%",{"$f":"$V$90","v":0.28110000000000002},"$",{"$f":"$X$90","v":2495.94866802971},{"$f":"$Y$90","v":200},null,"ABS","%",{"$f":"1-((1-BS82)*(1-BS89))","v":0.23899999999999999},"$",{"$f":"BU82+BU89","v":1469.129531958826},"L",null,"ABS","%",{"$f":"$AJ$90","v":0.28110000000000002},"$",{"$f":"$AL$90","v":3310.3251900604305},{"$f":"$AM$90","v":500},null,"ABS","%",{"$f":"1-((1-CG82)*(1-CG89))","v":0.23899999999999999},"$",{"$f":"CI82+CI89","v":1386.2092748987006},"L",null,"ABS","%",{"$f":"$H$90","v":0.28110000000000002},"$",{"$f":"$J$90","v":2700.7871171439647},{"$f":"$K$90","v":150},null,"ABS","%",{"$f":"1-((1-CU82)*(1-CU89))","v":0.23899999999999999},"$",{"$f":"CW82+CW89","v":1876.3137822415199},"L",null,"ABS","%",{"$f":"$V$90","v":0.28110000000000002},"$",{"$f":"$X$90","v":2495.94866802971},{"$f":"$Y$90","v":200},null,"ABS","%",{"$f":"1-((1-DI82)*(1-DI89))","v":0.23899999999999999},"$",{"$f":"DK82+DK89","v":1527.5201188883511},"L",null,"ABS","%",{"$f":"$AJ$90","v":0.28110000000000002},"$",{"$f":"$AL$90","v":3310.3251900604305},{"$f":"$AM$90","v":500},null,"ABS","%",{"$f":"1-((1-DW82)*(1-DW89))","v":0.23899999999999999},"$",{"$f":"DY82+DY89","v":1444.599861828226},"L",null,"ABS","%",{"$f":"$H$90","v":0.28110000000000002},"$",{"$f":"$J$90","v":2700.7871171439647},{"$f":"$K$90","v":150},null,"ABS","%",{"$f":"1-((1-EK82)*(1-EK89))","v":0.23899999999999999},"$",{"$f":"EM82+EM89","v":1384.0531651973067},"L",null,"ABS","%",{"$f":"$V$90","v":0.28110000000000002},"$",{"$f":"$X$90","v":2495.94866802971},{"$f":"$Y$90","v":200},null,"ABS","%",{"$f":"1-((1-EY82)*(1-EY89))","v":0.23899999999999999},"$",{"$f":"FA82+FA89","v":2145.2188582093713},"L",null,"ABS","%",{"$f":"$AJ$90","v":0.28110000000000002},"$",{"$f":"$AL$90","v":3310.3251900604305},{"$f":"$AM$90","v":500},null,"ABS","%",{"$f":"1-((1-FM82)*(1-FM89))","v":0.23899999999999999},"$",{"$f":"FO82+FO89","v":2037.0945269870799},"L"]
[]
[]
[]
[]
[]
[]
[]
["Expanded Trans/Hybrid Technology Decision Tree"]
[]
[]
[null,null,null,null,"Electrification",null,null,null,null,null,null,null,null,null,null,null,null,null,null,null,null,"Manual Trans",null,null,null,null,null,null,null,null,null,null,null,"Auto Trans"]
[]
[null,"START",null,null,"2012-2016","INC","%",1.4999999999999999E-2,"$",{"$f":"INDEX('[1]Subcompact PC'!$H$379:$X$467,MATCH(L105,'[1]Subcompact PC'!$C$379:$C$467,0),MATCH(Inputs!$C$2,'[1]Subcompact PC'!$H$378:$X$378,0))","v":98.103282519162363},95.93,null,null,null,"START",null,null,null,"2012-2016","INC","%",2.0199999999999999E-2,"$",{"$f":"INDEX('[1]Subcompact PC'!$H$379:$X$467,MATCH(Z105,'[1]Subcompact PC'!$C$379:$C$467,0),MATCH(Inputs!$C$2,'[1]Subcompact PC'!$H$378:$X$378,0))","v":250.31750824336308},225.33,null,null,null,"START",null,null,null,"2012-2016","INC","%",2.3E-2,"$",{"$f":"INDEX('[1]Subcompact PC'!$H$379:$X$467,MATCH(AN105,'[1]Subcompact PC'!$C$379:$C$467,0),MATCH(Inputs!$C$2,'[1]Subcompact PC'!$H$378:$X$378,0))","v":55.807948333210945},54.17]
["Curb Weight (lbs)",2795,null,null,null,"ABS","%",{"$f":"H103","v":1.4999999999999999E-2},"$",{"$f":"J103","v":98.103282519162363},"L",null,null,null,"5-spd",null,null,null,null,"ABS","%",{"$f":"V103","v":2.0199999999999999E-2},"$",{"$f":"X103","v":250.31750824336308},"L",null,null,null,"4/5-spd",null,null,null,null,"ABS","%",{"$f":"AJ103","v":2.3E-2},"$",{"$f":"AL103","v":55.807948333210945},"L"]
["Engine Displacement [L]",1.9,null,null,null,null,"Electric Power\nSteering (EPS) - TBL",null,null,null,null,"EPS",null,null,"Manual",null,null,null,null,null,"6 Speed Man/Imp.\nInternals (6MAN) - TBL",null,null,null,null,"6MAN",null,null,"Auto",null,null,null,null,null,"Imp. Auto Trans Cnrt./\nExternals (IATC) - TBL",null,null,null,null,"IATC"]
["Engine Power (HP)",134,null,null,"2017+","INC","%",{"$f":"H103","v":1.4999999999999999E-2},"$",{"$f":"J103","v":98.103282519162363},{"$f":"K103","v":95.93},null,null,null,null,null,null,null,"2017+","INC","%",2.0199999999999999E-2,"$",{"$f":"X103","v":250.31750824336308},225.33,null,null,null,null,null,null,null,"2017+","INC","%",2.3E-2,"$",{"$f":"AL103","v":55.807948333210945},54.17]
["Engine Torque (ft-lbf)",133,null,null,null,"ABS","%",{"$f":"H106","v":1.4999999999999999E-2},"$",{"$f":"J106","v":98.103282519162363},"L",null,null,null,null,null,null,null,null,"ABS","%",{"$f":"V106","v":2.0199999999999999E-2},"$",{"$f":"X106","v":250.31750824336308},"L",null,null,null,null,null,null,null,null,"ABS","%",{"$f":"AJ106","v":2.3E-2},"$",{"$f":"AL106","v":55.807948333210945},"L"]
["Footprint (ft2)",41.5]
[]
[]
[null,null,null,null,"2012-2016","INC","%",{"$f":"1-((1-H112)/(1-H104))","v":1.2182741116751328E-2},"$",{"$f":"INDEX('[1]Subcompact PC'!$H$379:$X$467,MATCH(L113,'[1]Subcompact PC'!$C$379:$C$467,0),MATCH(Inputs!$C$2,'[1]Subcompact PC'!$H$378:$X$378,0))","v":79.784981333734891},115.2,null,null,null,null,null,null,null,"2012-2016","INC","%",0,"$",0,100.55,null,null,null,null,null,null,null,"2012-2016","INC","%",{"$f":"1-((1-AJ112)/(1-AJ104))","v":1.8890497623293312E-2},"$",{"$f":"INDEX('[1]Subcompact PC'!$H$379:$X$467,MATCH(AN113,'[1]Subcompact PC'!$C$379:$C$467,0),MATCH(Inputs!$C$2,'[1]Subcompact PC'!$H$378:$X$378,0))","v":-37.91558007744085},100.55]
[null,null,null,null,null,"ABS","%",2.7E-2,"$",{"$f":"J104+J111","v":177.88826385289724},"L",null,null,null,null,null,null,null,null,"ABS","%",{"$f":"V104","v":2.0199999999999999E-2},"$",{"$f":"X111+X104","v":250.31750824336308},"L",null,null,null,null,null,null,null,null,"ABS","%",{"$f":"1-((1-5.2%)/(1-1.1%))","v":4.1456016177957578E-2},"$",{"$f":"AL111+AL104","v":17.892368255770094},"L"]
[null,null,null,null,null,null,"Improved Accessories 1\n(IACC1) - TBL",null,null,null,null,"IACC1",null,null,"From Engine Path\n2012-2016 ",null,null,null,null,null,"High Eff. Gearbox \n(Manual) -  (HETRANSM) - TBL",null,null,null,null,"HETRANS",null,null,null,null,null,null,null,null,"6-spd Auto Trans w/Imp\nInternals (NAUTO) - TBL",null,null,null,null,"NAUTO"]
[null,null,null,null,"2017+","INC","%",{"$f":"1-((1-H115)/(1-H107))","v":1.2182741116751328E-2},"$",{"$f":"J111","v":79.784981333734891},{"$f":"K111","v":115.2},null,null,null,null,null,null,null,"2017+","INC","%",{"$f":"1-((1-V115)/(1-V107))","v":3.4398572854509091E-2},"$",{"$f":"INDEX('[1]Subcompact PC'!$H$379:$X$467,MATCH(Z113,'[1]Subcompact PC'!$C$379:$C$467,0),MATCH(Inputs!$C$2,'[1]Subcompact PC'!$H$378:$X$378,0))","v":227.42624881754446},10,null,null,null,null,null,null,null,"2017+","INC","%",{"$f":"1-((1-AJ115)/(1-AJ107))","v":1.8890497623293312E-2},"$",{"$f":"AL111","v":-37.91558007744085},10]
[null,null,null,null,null,"ABS","%",{"$f":"H112","v":2.7E-2},"$",{"$f":"J107+J114","v":177.88826385289724},"L",null,null,null,null,null,null,null,null,"ABS","%",{"$f":"1-((1-6.45%)/(1-1.12%))","v":5.390372168284796E-2},"$",{"$f":"X107+X114","v":477.74375706090757},"L",null,null,null,null,null,null,null,null,"ABS","%",{"$f":"AJ112","v":4.1456016177957578E-2},"$",{"$f":"AL107+AL114","v":17.892368255770094},"L"]
[]
[]
[]
[null,null,null,null,"2012-2016","INC","%",{"$f":"1-((1-H120)/(1-H112))","v":0},"$",0,0,"2012-2016","INC","%",{"$f":"1-((1-O120)/(((1-$O$87)*(1-$H$136)*(1-AJ144))))","v":7.8191606787684886E-2},"$",{"$f":"INDEX('[1]Subcompact PC'!$H$379:$X$467,MATCH(M121,'[1]Subcompact PC'!$C$379:$C$467,0),MATCH(Inputs!$C$2,'[1]Subcompact PC'!$H$378:$X$378,0))\n+INDEX('[1]Subcompact PC'!$H$379:$X$467,MATCH(S121,'[1]Subcompact PC'!$C$379:$C$467,0),MATCH(Inputs!$C$2,'[1]Subcompact PC'!$H$378:$X$378,0))","v":1530.1516793900498},"L",null,null,null,null,null,null,null,null,null,null,null,null,null,null,"2012-2016","INC","%",{"$f":"1-((1-AJ120)/(1-AJ112))","v":4.0084388185653963E-2},"$",{"$f":"INDEX('[1]Subcompact PC'!$H$379:$X$467,MATCH(AN121,'[1]Subcompact PC'!$C$379:$C$467,0),MATCH(Inputs!$C$2,'[1]Subcompact PC'!$H$378:$X$378,0))","v":-115.46286109701285},-10.47]
[null,null,null,null,null,"ABS","%",{"$f":"H112","v":2.7E-2},"$",{"$f":"J112+J119","v":177.88826385289724},"L",null,"ABS","%",0.40300000000000002,"$",{"$f":"J136+Q119+Q87+AL144","v":3928.7680402089331},33.86,null,null,null,null,null,null,null,null,null,null,null,null,null,null,null,"ABS","%",{"$f":"1-((1-9%)/(1-1.1%))","v":7.9878665318503517E-2},"$",{"$f":"AL119+AL112","v":-97.570492841242753},"L"]
[null,null,null,null,null,null,"Improved Accessories 2\n(IACC2) - TBL",null,null,null,null,"IACC2","SHEV1_B","Strong Hybrid (Powersplit or 2-Mode) (SHEV1) - VBL",null,null,null,null,"SHEV1_NB",null,null,"From Engine Path\n2017+ ",null,null,null,null,null,null,null,null,null,null,null,null,"6-spd Dual Clutch Trans\n(DCT) - TBL",null,null,null,null,"DCT"]
[null,null,null,null,"2017+","INC","%",{"$f":"1-((1-H123)/(1-H115))","v":1.8499486125385434E-2},"$",{"$f":"INDEX('[1]Subcompact PC'!$H$379:$X$467,MATCH(L121,'[1]Subcompact PC'!$C$379:$C$467,0),MATCH(Inputs!$C$2,'[1]Subcompact PC'!$H$378:$X$378,0))","v":50.780571415814975},0,"2017+","INC","%",0,"$",0,"L",null,null,null,null,null,null,null,null,null,null,null,null,null,null,"2017+","INC","%",{"$f":"1-((1-AJ123)/(1-AJ115))","v":4.0084388185653963E-2},"$",{"$f":"AL119","v":-115.46286109701285},{"$f":"AM119","v":-10.47}]
[null,null,null,null,null,"ABS","%",4.4999999999999998E-2,"$",{"$f":"J115+J122","v":228.6688352687122},"L",null,"ABS","%",0,"$",{"$f":"Q116+Q122","v":0},0,null,null,null,null,null,null,null,null,null,null,null,null,null,null,null,"ABS","%",{"$f":"AJ120","v":7.9878665318503517E-2},"$",{"$f":"AL115+AL122","v":-97.570492841242753},"L"]
[]
[]
[]
[null,null,null,null,"2012-2016","INC","%",{"$f":"H130","v":1.6753926701570609E-2},"$",{"$f":"INDEX('[1]Subcompact PC'!$H$379:$X$467,MATCH(L129,'[1]Subcompact PC'!$C$379:$C$467,0),MATCH(Inputs!$C$2,'[1]Subcompact PC'!$H$378:$X$378,0))","v":273.82112054570302},259.67,"2012-2016","INC","%","n/a","$","n/a","L","2012-2016","INC","%",{"$f":"1-((1-V128)/(((1-$O$87)*(1-$H$136)*(1-AJ144))))","v":-0.54406766032213594},"$",0,"L",null,null,null,null,null,null,null,"2012-2016","INC","%",{"$f":"AJ130","v":3.8461538461538547E-2},"$",{"$f":"INDEX('[1]Subcompact PC'!$H$379:$X$467,MATCH(AN129,'[1]Subcompact PC'!$C$379:$C$467,0),MATCH(Inputs!$C$2,'[1]Subcompact PC'!$H$378:$X$378,0))","v":223.31892374342101},0]
[null,null,null,null,null,"ABS","%",{"$f":"H127+H120","v":4.3753926701570606E-2},"$",{"$f":"J120+J127","v":451.70938439860026},"L",null,"ABS","%","n/a","$","n/a",0,null,"ABS","%",0,"$",0,0,null,null,null,null,null,null,null,null,"ABS","%",{"$f":"AJ131","v":0.11526794742163804},"$",{"$f":"AL120+AL127","v":125.74843090217826},"M"]
[null,null,null,null,null,null,"12V Micro Hybrid - Stop-Start\n(MHEV) - TBL",null,null,null,null,"MHEV",null,"SHEV1 --> SHEV2",null,null,null,null,null,"SHEV2_B","Strong Hybrid (P2 Parallel or 2-Mode) (SHEV2) - VBL",null,null,null,null,"SHEV2_NB",null,null,null,null,null,null,null,null,"8-spd Trans (Auto or DCT)\n(8SPD) - TBL",null,null,null,null,"8SPD"]
[null,null,null,null,"2017+","INC","%",{"$f":"1-((1-H131)/(1-H123))","v":1.6753926701570609E-2},"$",{"$f":"J127","v":273.82112054570302},{"$f":"K127","v":259.67},"2017+","INC","%",{"$f":"1-((1-V131)/(1-O120))","v":0.10050251256281417},"$",{"$f":"Q131-Q120","v":1132.2573088121649},"L","2017+","INC","%",{"$f":"1-((1-V131)/(((1-$O$90)*(1-$H$139)*(1-AJ147))))","v":3.008023984753494E-2},"$",{"$f":"INDEX('[1]Subcompact PC'!$H$379:$X$467,MATCH(T129,'[1]Subcompact PC'!$C$379:$C$467,0),MATCH(Inputs!$C$2,'[1]Subcompact PC'!$H$378:$X$378,0))\n+INDEX('[1]Subcompact PC'!$H$379:$X$467,MATCH(Z129,'[1]Subcompact PC'!$C$379:$C$467,0),MATCH(Inputs!$C$2,'[1]Subcompact PC'!$H$378:$X$378,0))","v":1519.5927583985704},"L",null,null,null,null,null,null,null,"2017+","INC","%",{"$f":"1-((1-AJ131)/(1-AJ123))","v":3.8461538461538547E-2},"$",{"$f":"AL127","v":223.31892374342101},10]
[null,null,null,null,null,"ABS","%",6.0999999999999999E-2,"$",{"$f":"J123+J130","v":502.48995581441523},"L",null,"ABS","%",{"$f":"V131","v":0.46300000000000002},"$",{"$f":"X130+J139+Q90+AL147","v":5061.025349021098},0,null,"ABS","%",0.46300000000000002,"$",{"$f":"X130+J139+Q90+AL147","v":5061.025349021098},33.86,null,null,null,null,null,null,null,null,"ABS","%",{"$f":"1-((1-12.5%)/(1-1.1%))","v":0.11526794742163804},"$",{"$f":"AL123+AL130","v":125.74843090217826},"L"]
[]
[]
[]
[null,null,null,null,"2012-2016","INC","%",{"$f":"H138","v":7.4547390841320671E-2},"$",{"$f":"INDEX('[1]Large Perf. PC'!$H$379:$X$467,MATCH(F137,'[1]Large Perf. PC'!$C$379:$C$467,0),MATCH(Inputs!$C$2,'[1]Large Perf. PC'!$H$378:$X$378,0))\n+INDEX('[1]Large Perf. PC'!$H$379:$X$467,MATCH(L137,'[1]Large Perf. PC'!$C$379:$C$467,0),MATCH(Inputs!$C$2,'[1]Large Perf. PC'!$H$378:$X$378,0))","v":894.50928595954747},"L",null,null,null,null,null,null,null,"2012-2016","INC","%",{"$f":"1-((1-V136)/(1-V128))","v":0.35},"$",0,"L",null,null,null,null,null,null,null,"2012-2016","INC","%",{"$f":"1-((1-AJ136)/(1-AJ128))","v":0},"$",0,10]
[null,null,null,null,null,"ABS","%",{"$f":"H135+H128","v":0.11830131754289128},"$",{"$f":"J128+J135","v":1346.2186703581478},33.86,null,null,null,null,null,null,null,null,"ABS","%",0.35,"$",{"$f":"X135+X128","v":0},33.86,null,null,null,null,null,null,null,null,"ABS","%",{"$f":"AJ128","v":0.11526794742163804},"$",{"$f":"AL128+AL135","v":125.74843090217826},"L"]
[null,null,null,null,null,"ISG_B","Integrated Starter Generator\n(ISG) - VBL",null,null,null,null,"ISG_NB",null,null,null,null,null,null,null,"PHEV2_B","Plug-in Hybrid - 30 Mile Range  (PHEV1) - VBL",null,null,null,null,"PHEV2_NB",null,null,null,null,null,null,null,null,"High Eff. Gearbox\n(Auto or DCT) -  (HETRANS) - TBL",null,null,null,null,"HETRANS"]
[null,null,null,null,"2017+","INC","%",{"$f":"1-((1-H139)/(1-H131))","v":7.4547390841320671E-2},"$",{"$f":"J135","v":894.50928595954747},"L",null,null,null,null,null,null,null,"2017+","INC","%",0.40649999999999997,"$",{"$f":"INDEX('[1]Subcompact PC'!$H$379:$X$467,MATCH(T137,'[1]Subcompact PC'!$C$379:$C$467,0),MATCH(Inputs!$C$2,'[1]Subcompact PC'!$H$378:$X$378,0))\n+INDEX('[1]Subcompact PC'!$H$379:$X$467,MATCH(Z138,'[1]Subcompact PC'!$C$379:$C$467,0),MATCH(Inputs!$C$2,'[1]Subcompact PC'!$H$378:$X$378,0))\n+INDEX('[1]Subcompact PC'!$H$379:$X$467,MATCH(Z139,'[1]Subcompact PC'!$C$379:$C$467,0),MATCH(Inputs!$C$2,'[1]Subcompact PC'!$H$378:$X$378,0))\n+INDEX('[1]Subcompact PC'!$H$379:$X$467,MATCH(Z137,'[1]Subcompact PC'!$C$379:$C$467,0),MATCH(Inputs!$C$2,'[1]Subcompact PC'!$H$378:$X$378,0))","v":8231.3664634384349},"L","PHEV2_C",null,null,null,null,null,null,"2017+","INC","%",{"$f":"1-((1-AJ139)/(1-AJ131))","v":2.1714285714285686E-2},"$",{"$f":"INDEX('[1]Subcompact PC'!$H$379:$X$467,MATCH(AN137,'[1]Subcompact PC'!$C$379:$C$467,0),MATCH(Inputs!$C$2,'[1]Subcompact PC'!$H$378:$X$378,0))","v":227.42624881754446},10]
[null,null,null,null,null,"ABS","%",{"$f":"11.6%+H106","v":0.13100000000000001},"$",{"$f":"J131+J138","v":1396.9992417739627},33.86,null,null,null,null,null,null,null,null,"ABS","%",{"$f":"1-((1-V131)*(1-V138))","v":0.68129050000000002},"$",{"$f":"X138+X131","v":13292.391812459533},33.86,"CHRG_L",null,null,null,null,null,null,null,"ABS","%",{"$f":"1-((1-14.4%)/(1-1.1%))","v":0.13447927199191101},"$",{"$f":"AL131+AL138","v":353.17467971972269},"L"]
[]
[]
[]
[null,null,null,null,null,null,null,null,null,null,null,null,null,null,null,null,null,null,"2012-2016","INC","%",{"$f":"1-((1-V144)/(1-V136))","v":0},"$",0,"L",null,null,null,null,null,null,null,"2012-2016","INC","%",{"$f":"1-((1-AJ144)/(1-AJ136))","v":0},"$",0,10]
[null,null,null,null,null,null,null,null,null,null,null,null,null,null,null,null,null,null,null,"ABS","%",0.35,"$",{"$f":"X143+X136","v":0},33.86,null,null,null,null,null,null,null,null,"ABS","%",{"$f":"AJ136","v":0.11526794742163804},"$",{"$f":"AL136+AL143","v":125.74843090217826},"L"]
[null,null,null,null,null,null,null,null,null,"To Strong\nHybrid",null,null,null,null,null,null,null,null,null,"PHEV2_B","Plug-in Hybrid - VBL",null,null,null,null,"PHEV2_NB",null,null,null,null,null,null,null,null,"Shift Optimizer\n (SHFTOPT) - TBL",null,null,null,null,"SHFTOPT"]
[null,null,null,null,null,null,null,null,null,null,null,null,null,null,null,null,null,null,"2017+","INC","%",0,"$",0,"L","PHEV2_C",null,null,null,null,null,null,"2017+","INC","%",{"$f":"1-((1-AJ147)/(1-AJ139))","v":3.2710280373831724E-2},"$",{"$f":"INDEX('[1]Subcompact PC'!$H$379:$X$467,MATCH(AN145,'[1]Subcompact PC'!$C$379:$C$467,0),MATCH(Inputs!$C$2,'[1]Subcompact PC'!$H$378:$X$378,0))","v":1.5123845546366708},10]
[null,null,null,null,null,null,null,null,null,null,null,null,null,null,null,null,null,null,null,"ABS","%",{"$f":"1-((1-V139)*(1-V146))","v":0.68129050000000002},"$",{"$f":"X146+X139","v":13292.391812459533},33.86,null,null,null,null,null,null,null,null,"ABS","%",{"$f":"1-((1-17.2%)/(1-1.1%))","v":0.16279069767441856},"$",{"$f":"AL139+AL146","v":354.68706427435939},"L"]
[]
[]
[]
[null,null,null,null,null,null,null,null,null,null,null,null,null,null,null,null,null,null,"2012-2016","INC","%",{"$f":"1-((1-V152)/(1-V144))","v":0},"$",0,"L",null,null,null,null,null,null,null,null,null,null,null,"To Strong\n     Hybrid"]
[null,null,null,null,null,null,null,null,null,null,null,null,null,null,null,null,null,null,null,"ABS","%",0.35,"$",{"$f":"X151+X144","v":0},33.86]
[null,null,null,null,null,null,null,null,null,null,null,null,null,null,null,null,null,null,null,"EV1_B","Electric Vehicle - Early Adopter \n75 Mile Range - (EV1) - VBL",null,null,null,null,"EV1_NB"]
[null,null,null,null,null,null,null,null,null,null,null,null,null,null,null,null,null,null,"2017+","INC","%",0.68540000000000001,"$",{"$f":"INDEX('[1]Subcompact PC'!$H$379:$X$467,MATCH(T153,'[1]Subcompact PC'!$C$379:$C$467,0),MATCH(Inputs!$C$2,'[1]Subcompact PC'!$H$378:$X$378,0))\n+INDEX('[1]Subcompact PC'!$H$379:$X$467,MATCH(Z154,'[1]Subcompact PC'!$C$379:$C$467,0),MATCH(Inputs!$C$2,'[1]Subcompact PC'!$H$378:$X$378,0))\n+INDEX('[1]Subcompact PC'!$H$379:$X$467,MATCH(Z153,'[1]Subcompact PC'!$C$379:$C$467,0),MATCH(Inputs!$C$2,'[1]Subcompact PC'!$H$378:$X$378,0))","v":1606.6020143723727},"L","EV_C"]
[null,null,null,null,null,null,null,null,null,null,null,null,null,null,null,null,null,null,null,"ABS","%",{"$f":"1-((1-V147)*(1-V154))","v":0.89973399129999998},"$",{"$f":"X154+X147","v":14898.993826831906},33.86]
[]
[]
[]
[null,null,null,null,null,null,null,null,null,null,null,null,null,null,null,null,null,null,"2012-2016","INC","%",{"$f":"1-((1-V160)/(1-V152))","v":0},"$",0,"L"]
[null,null,null,null,null,null,null,null,null,null,null,null,null,null,null,null,null,null,null,"ABS","%",0.35,"$",{"$f":"X159+X152","v":0},33.86]
[null,null,null,null,null,null,null,null,null,null,null,null,null,null,null,null,null,null,null,"EV2_B","Electric Vehicle - Early Adopter \n100 Mile Range - (EV2) - VBL",null,null,null,null,"EV2_NB"]
[null,null,null,null,null,null,null,null,null,null,null,null,null,null,null,null,null,null,"2017+","INC","%",0,"$",0,"L"]
[null,null,null,null,null,null,null,null,null,null,null,null,null,null,null,null,null,null,null,"ABS","%",{"$f":"1-((1-V155)*(1-V162))","v":0.89973399129999998},"$",{"$f":"X162+X155","v":14898.993826831906},33.86]
[]
[]
[null,null,null,null,null,null,null,null,null,null,null,null,1]
[null,null,null,null,null,null,null,null,null,null,null,null,null,null,null,null,null,null,"2012-2016","INC","%",{"$f":"1-((1-V168)/(1-V160))","v":0},"$",0,"L"]
[null,null,null,null,null,null,null,null,null,null,null,null,null,null,null,null,null,null,null,"ABS","%",0.35,"$",{"$f":"X167+X160","v":0},33.86]
[null,null,null,null,null,null,null,null,null,null,null,null,null,null,null,null,null,null,null,"EV3_B","Electric Vehicle - Early Adopter \n150 Mile Range - (EV3) - VBL",null,null,null,null,"EV3_NB"]
[null,null,null,null,null,null,null,null,null,null,null,null,null,null,null,null,null,null,"2017+","INC","%",0,"$",0,"L"]
[null,null,null,null,null,null,null,null,null,null,null,null,null,null,null,null,null,null,null,"ABS","%",{"$f":"1-((1-V163)*(1-V170))","v":0.89973399129999998},"$",{"$f":"X170+X163","v":14898.993826831906},33.86]
[]
[]
[]
[null,null,null,null,null,null,null,null,null,null,null,"2012-2016","INC","%",{"$f":"1-((1-O176)/(1-V168))","v":0},"$",0,"L",null,null,null,null,null,null,null,"2012-2016","INC","%",{"$f":"1-((1-AC176)/(1-V168))","v":0},"$",0,"L"]
[null,null,null,null,null,null,null,null,null,null,null,null,"ABS","%",0.35,"$",{"$f":"Q175+X168","v":0},33.86,null,null,null,null,null,null,null,null,"ABS","%",0.35,"$",{"$f":"AE175+X168","v":0},33.86]
[null,null,null,null,null,null,null,null,null,null,null,null,"EV4_B","Electric Vehicle - Mass Market \n150 Mile Range - (EV4) - VBL",null,null,null,null,"EV4_NB",null,null,null,null,null,null,null,"FCV_B","Fuel Cell Vehicle\n(FCV) - VBL",null,null,null,null,"FCV_NB"]
[null,null,null,null,null,null,null,null,null,null,null,"2017+","INC","%",0,"$",{"$f":"INDEX('[1]Subcompact PC'!$H$379:$X$467,MATCH(M177,'[1]Subcompact PC'!$C$379:$C$467,0),MATCH(Inputs!$C$2,'[1]Subcompact PC'!$H$378:$X$378,0))\n+INDEX('[1]Subcompact PC'!$H$379:$X$467,MATCH(S177,'[1]Subcompact PC'!$C$379:$C$467,0),MATCH(Inputs!$C$2,'[1]Subcompact PC'!$H$378:$X$378,0))","v":6309.7122202832888},"L",null,null,null,null,null,null,null,"2017+","INC","%",0,"$",{"$f":"INDEX('[1]Subcompact PC'!$H$379:$X$467,MATCH(AA177,'[1]Subcompact PC'!$C$379:$C$467,0),MATCH(Inputs!$C$2,'[1]Subcompact PC'!$H$378:$X$378,0))\n+INDEX('[1]Subcompact PC'!$H$379:$X$467,MATCH(AG177,'[1]Subcompact PC'!$C$379:$C$467,0),MATCH(Inputs!$C$2,'[1]Subcompact PC'!$H$378:$X$378,0))","v":{"$error":"#N/A"}},"L"]
[null,null,null,null,null,null,null,null,null,null,null,null,"ABS","%",{"$f":"1-((1-V171)*(1-O178))","v":0.89973399129999998},"$",{"$f":"Q178+X171","v":21208.706047115193},33.86,null,null,null,null,null,null,null,null,"ABS","%",{"$f":"1-((1-V171)*(1-AC178))","v":0.89973399129999998},"$",{"$f":"AE178+X171","v":{"$error":"#N/A"}},33.86]
[]
[]
[]
[]
[]
["Vehicle Technology Decision Tree"]
[]
[]
[]
[null,null,"ABS - WR",{"$f":"'[1]Subcompact PC'!$M$82","v":0},"2012-2016","INC","%",{"$f":"IF(D189<5%, D189*(3.5/10), D189*(5.1/10))","v":0},"$",{"$f":"INDEX('[1]Subcompact PC'!$H$379:$X$467,MATCH(L191,'[1]Subcompact PC'!$C$379:$C$467,0),MATCH(Inputs!$C$2,'[1]Subcompact PC'!$H$378:$X$378,0))","v":0},1.33,null,null,null,null,null,null,null,"2012-2016","INC","%",1.9E-2,"$",{"$f":"INDEX('[1]Subcompact PC'!$H$379:$X$467,MATCH(Z191,'[1]Subcompact PC'!$C$379:$C$467,0),MATCH(Inputs!$C$2,'[1]Subcompact PC'!$H$378:$X$378,0))","v":6.4396392400348512},5.15,null,null,null,null,null,null,null,"2012-2016","INC","%",8.0000000000000002E-3,"$",{"$f":"INDEX('[1]Subcompact PC'!$H$379:$X$467,MATCH(AN191,'[1]Subcompact PC'!$C$379:$C$467,0),MATCH(Inputs!$C$2,'[1]Subcompact PC'!$H$378:$X$378,0))","v":70.836031640383368},5.15,null,null,null,null,null,null,null,"2012-2016","INC","%",2.3E-2,"$",{"$f":"INDEX('[1]Subcompact PC'!$H$379:$X$467,MATCH(BB191,'[1]Subcompact PC'!$C$379:$C$467,0),MATCH(Inputs!$C$2,'[1]Subcompact PC'!$H$378:$X$378,0))","v":43.857938067390236},5.15]
[null,null,null,null,null,"ABS","%",{"$f":"H189","v":0},"$",{"$f":"J189","v":0},"L",null,null,null,null,null,null,null,null,"ABS","%",{"$f":"V189","v":1.9E-2},"$",{"$f":"X189","v":6.4396392400348512},"L",null,null,null,null,null,null,null,null,"ABS","%",{"$f":"AJ189","v":8.0000000000000002E-3},"$",{"$f":"AL189","v":70.836031640383368},"L",null,null,null,null,null,null,null,null,"ABS","%",{"$f":"AX189","v":2.3E-2},"$",{"$f":"AZ189","v":43.857938067390236},"L"]
[null,null,null,null,null,null,"Mass Reduction\n(MR1) - ($/pound) - TBL",null,null,null,null,"MR1",null,null,null,null,null,null,null,null,"Low Roll Resistance Tires 1\n (ROLL1) - No Learning Applied",null,null,null,null,"ROLL1",null,null,null,null,null,null,null,null,"Low Drag Brakes (LDB)\nNo Learning Applied",null,null,null,null,"LDB",null,null,null,null,null,null,null,null,"Aerodynamic Drag Reduction 1\n (AERO1) - No Learming Applied",null,null,null,null,"AERO1"]
[null,null,null,null,"2017+","INC","%",{"$f":"H189","v":0},"$",{"$f":"J189","v":0},1.33,null,null,null,null,null,null,null,"2017+","INC","%",{"$f":"V189","v":1.9E-2},"$",{"$f":"X189","v":6.4396392400348512},5.15,null,null,null,null,null,null,null,"2017+","INC","%",{"$f":"AJ189","v":8.0000000000000002E-3},"$",{"$f":"AL189","v":70.836031640383368},5.15,null,null,null,null,null,null,null,"2017+","INC","%",{"$f":"AX189","v":2.3E-2},"$",{"$f":"AZ189","v":43.857938067390236},5.15]
[null,null,null,null,null,"ABS","%",{"$f":"H192","v":0},"$",{"$f":"J192","v":0},"L",null,null,null,null,null,null,null,null,"ABS","%",{"$f":"V192","v":1.9E-2},"$",{"$f":"X192","v":6.4396392400348512},"L",null,null,null,null,null,null,null,null,"ABS","%",{"$f":"AJ192","v":8.0000000000000002E-3},"$",{"$f":"AL192","v":70.836031640383368},"L",null,null,null,null,null,null,null,null,"ABS","%",{"$f":"AX192","v":2.3E-2},"$",{"$f":"AZ192","v":43.857938067390236},"L"]
[]
[]
[]
[null,null,"INC - WR",{"$f":"'[1]Subcompact PC'!$M$83","v":0},"2012-2016","INC","%",{"$f":"1-((1-H198)/(1-H190))","v":0},"$",{"$f":"INDEX('[1]Subcompact PC'!$H$379:$X$467,MATCH(L199,'[1]Subcompact PC'!$C$379:$C$467,0),MATCH(Inputs!$C$2,'[1]Subcompact PC'!$H$378:$X$378,0))","v":0},1.33,null,null,null,null,null,null,null,"2012-2016","INC","%",{"$f":"1-((1-V198)/(1-V190))","v":2.0387359836901098E-2},"$",{"$f":"0","v":0},5.15,null,null,null,null,null,null,null,"2012-2016","INC","%",1.4E-2,"$",{"$f":"INDEX('[1]Subcompact PC'!$H$379:$X$467,MATCH(AN199,'[1]Subcompact PC'!$C$379:$C$467,0),MATCH(Inputs!$C$2,'[1]Subcompact PC'!$H$378:$X$378,0))","v":87.568251496242709},5.15,null,null,null,null,null,null,null,"2012-2016","INC","%",{"$f":"1-((1-AX198)/(1-AX190))","v":2.4564994882292801E-2},"$",{"$f":"INDEX('[1]Subcompact PC'!$H$379:$X$467,MATCH(BB199,'[1]Subcompact PC'!$C$379:$C$467,0),MATCH(Inputs!$C$2,'[1]Subcompact PC'!$H$378:$X$378,0))","v":154.95277498661324},5.15]
[null,null,"ABS - WR",{"$f":"D197+D189","v":0},null,"ABS","%",{"$f":"IF(D198<5%,D198 D198*(3.5/10), D198*(5.1/10))","v":0},"$",{"$f":"J197","v":0},"L",null,null,null,null,null,null,null,null,"ABS","%",3.9E-2,"$",{"$f":"X190+X197","v":6.4396392400348512},"L",null,null,null,null,null,null,null,null,"ABS","%",{"$f":"1-(1-AJ190)*(1-AJ197)","v":2.1888000000000019E-2},"$",{"$f":"AL190+AL197","v":158.40428313662608},"L",null,null,null,null,null,null,null,null,"ABS","%",4.7E-2,"$",{"$f":"AZ190+AZ197","v":198.81071305400349},"L"]
[null,null,null,null,null,null,"Mass Reduction\n(MR2) - ($/pound) - TBL",null,null,null,null,"MR2",null,null,null,null,null,null,null,null,"Low Roll Resistance Tires 2\n (ROLL2) - No Learning Applied",null,null,null,null,"ROLL2",null,null,null,null,null,null,null,null,"Secondary Axle Discon. (SAXU/SAXL)\nTBL",null,null,null,null,"SAX",null,null,null,null,null,null,null,null,"Aerodynamic Drag Reduction 2\n (AERO2) - No Learming Applied",null,null,null,null,"AERO2"]
[null,null,null,null,"2017+","INC","%",{"$f":"1-((1-H201)/(1-H193))","v":0},"$",{"$f":"J197","v":0},1.33,null,null,null,null,null,null,null,"2017+","INC","%",{"$f":"1-((1-V201)/(1-V193))","v":2.0387359836901098E-2},"$",{"$f":"INDEX('[1]Subcompact PC'!$H$379:$X$467,MATCH(Z199,'[1]Subcompact PC'!$C$379:$C$467,0),MATCH(Inputs!$C$2,'[1]Subcompact PC'!$H$378:$X$378,0))","v":50.173232527734726},5.15,null,null,null,null,null,null,null,"2017+","INC","%",{"$f":"AJ197","v":1.4E-2},"$",{"$f":"AL197","v":87.568251496242709},5.15,null,null,null,null,null,null,null,"2017+","INC","%",{"$f":"1-((1-AX201)/(1-AX193))","v":2.4564994882292801E-2},"$",{"$f":"AZ197","v":154.95277498661324},5.15]
[null,null,null,null,null,"ABS","%",{"$f":"IF(D198<5%, D198*(3.5/10), D198*(5.1/10))","v":0},"$",{"$f":"J200","v":0},"L",null,null,null,null,null,null,null,null,"ABS","%",{"$f":"V198","v":3.9E-2},"$",{"$f":"X193+X200","v":56.612871767769576},"L",null,null,null,null,null,null,null,null,"ABS","%",{"$f":"1-(1-AJ193)*(1-AJ200)","v":2.1888000000000019E-2},"$",{"$f":"AL193+AL200","v":158.40428313662608},"L",null,null,null,null,null,null,null,null,"ABS","%",{"$f":"AX198","v":4.7E-2},"$",{"$f":"AZ193+AZ200","v":198.81071305400349},"L"]
[]
[]
[]
[null,null,"INC - WR",{"$f":"'[1]Subcompact PC'!$M$84","v":0},"2012-2016","INC","%",{"$f":"1-((1-H206)/(1-H198))","v":0},"$",{"$f":"INDEX('[1]Subcompact PC'!$H$379:$X$467,MATCH(L207,'[1]Subcompact PC'!$C$379:$C$467,0),MATCH(Inputs!$C$2,'[1]Subcompact PC'!$H$378:$X$378,0))","v":0},1.33,null,null,null,null,null,null,null,"2012-2016","INC","%",0,"$",0,0]
[null,null,"ABS - WR",{"$f":"D205+D198","v":0},null,"ABS","%",{"$f":"IF(D206<5%, D206*(3.5/10), D206*(5.1/10))","v":0},"$",{"$f":"J205","v":0},"L",null,null,null,null,null,null,null,null,"ABS","%",{"$f":"1-((1-V198)*(1-V205))","v":3.9000000000000035E-2},"$",{"$f":"X198+X205","v":6.4396392400348512},"L"]
[null,null,null,null,null,null,"Mass Reduction\n(MR3) - ($/pound) - TBL",null,null,null,null,"MR3",null,null,null,null,null,null,null,null,"Low Roll Resistance Tires 3\n (ROLL3) - No Learning Applied"]
[null,null,null,null,"2017+","INC","%",{"$f":"1-((1-H209)/(1-H201))","v":0},"$",{"$f":"J205","v":0},1.33,null,null,null,null,null,null,null,"2017+","INC","%",0,"$",{"$f":"X205","v":0},0]
[null,null,null,null,null,"ABS","%",{"$f":"IF(D206<5%, D206*(3.5/10), D206*(5.1/10))","v":0},"$",{"$f":"J208","v":0},"L",null,null,null,null,null,null,null,null,"ABS","%",{"$f":"1-((1-V201)*(1-V208))","v":3.9000000000000035E-2},"$",{"$f":"X201+X208","v":56.612871767769576},"L"]
[]
[]
[]
[null,null,"INC - WR",{"$f":"'[1]Subcompact PC'!$M$85","v":0},"2012-2016","INC","%",{"$f":"1-((1-H214)/(1-H206))","v":0},"$",{"$f":"INDEX('[1]Subcompact PC'!$H$379:$X$467,MATCH(L215,'[1]Subcompact PC'!$C$379:$C$467,0),MATCH(Inputs!$C$2,'[1]Subcompact PC'!$H$378:$X$378,0))","v":0},1.33]
[null,null,"ABS - WR",{"$f":"D213+D206","v":0},null,"ABS","%",{"$f":"IF(D214<5%, D214*(3.5/10), D214*(5.1/10))","v":0},"$",{"$f":"J213","v":0},"L"]
[null,null,null,null,null,null,"Mass Reduction\n(MR4) - ($/pound) - TBL",null,null,null,null,"MR4"]
[null,null,null,null,"2017+","INC","%",{"$f":"1-((1-H217)/(1-H209))","v":0},"$",{"$f":"J213","v":0},1.33]
[null,null,null,null,null,"ABS","%",{"$f":"IF(D214<5%, D214*(3.5/10), D214*(5.1/10))","v":0},"$",{"$f":"J216","v":0},"L"]
[]
[]
[]
[null,null,"INC - WR",{"$f":"'[1]Subcompact PC'!$M$86","v":0},"2012-2016","INC","%",{"$f":"1-((1-H222)/(1-H214))","v":0},"$",{"$f":"INDEX('[1]Subcompact PC'!$H$379:$X$467,MATCH(L223,'[1]Subcompact PC'!$C$379:$C$467,0),MATCH(Inputs!$C$2,'[1]Subcompact PC'!$H$378:$X$378,0))","v":0},1.33]
[null,null,"ABS - WR",{"$f":"D221+D214","v":0},null,"ABS","%",{"$f":"IF(D222<5%, D222*(3.5/10), D222*(5.1/10))","v":0},"$",{"$f":"J221","v":0},"L"]
[null,null,null,null,null,null,"Mass Reduction\n(MR5) - ($/pound) - TBL",null,null,null,null,"MR5"]
[null,null,null,null,"2017+","INC","%",{"$f":"1-((1-H225)/(1-H217))","v":0},"$",{"$f":"J221","v":0},1.33]
[null,null,null,null,null,"ABS","%",{"$f":"IF(D222<5%, D222*(3.5/10), D222*(5.1/10))","v":0},"$",{"$f":"J224","v":0},"L"]

{"sheet":"Subcompact Perf. PC","index":3,"n_rows":225,"n_cols":173,"rows_kept":225,"cut":false,"hidden":false,"merged":[[5,62,5,66],[5,76,5,80],[5,90,5,94],[6,31,7,31],[6,32,7,32],[6,60,7,60],[6,74,7,74],[6,88,7,88],[0,0,0,172],[1,0,2,0],[3,31,4,31],[3,32,4,32],[3,60,4,60],[3,74,4,74],[3,88,4,88],[23,153,23,157],[24,25,25,25],[24,88,25,88],[24,151,25,151],[13,88,14,88],[15,90,15,94],[16,88,17,88],[21,25,22,25],[21,88,22,88],[21,151,22,151],[29,25,30,25],[29,67,30,67],[29,109,30,109],[29,151,30,151],[31,27,31,31],[31,69,31,73],[31,111,31,115],[23,27,23,31],[23,90,23,94],[39,153,39,157],[40,25,41,25],[40,67,41,67],[40,109,41,109],[40,151,41,151],[31,153,31,157],[32,25,33,25],[32,67,33,67],[32,109,33,109],[32,151,33,151],[37,25,38,25],[37,67,38,67],[37,109,38,109],[37,151,38,151],[45,25,46,25],[45,67,46,67],[45,109,46,109],[45,151,46,151],[47,27,47,31],[47,69,47,73],[47,111,47,115],[39,27,39,31],[39,69,39,73],[39,111,39,115],[47,153,47,157],[48,25,49,25],[48,67,49,67],[48,109,49,109],[48,151,49,151],[53,11,54,11],[53,25,54,25],[53,39,54,39],[53,53,54,53],[53,67,54,67],[53,165,54,165],[55,13,55,17],[55,27,55,31],[55,41,55,45],[55,55,55,59],[55,69,55,73],[55,83,55,87],[55,97,55,101],[55,111,55,115],[55,125,55,129],[53,81,54,81],[53,95,54,95],[53,109,54,109],[53,123,54,123],[53,137,54,137],[53,151,54,151],[55,139,55,143],[55,153,55,157],[55,167,55,171],[56,11,57,11],[56,25,57,25],[56,39,57,39],[56,53,57,53],[56,67,57,67],[56,81,57,81],[56,95,57,95],[56,109,57,109],[56,123,57,123],[56,137,57,137],[56,151,57,151],[56,165,57,165],[61,11,62,11],[61,25,62,25],[61,39,62,39],[61,53,62,53],[61,67,62,67],[61,165,62,165],[63,13,63,17],[63,27,63,31],[63,41,63,45],[63,55,63,59],[63,69,63,73],[63,83,63,87],[63,97,63,101],[63,111,63,115],[63,125,63,129],[61,81,62,81],[61,95,62,95],[61,109,62,109],[61,123,62,123],[61,137,62,137],[61,151,62,151],[63,139,63,143],[63,153,63,157],[63,167,63,171],[64,11,65,11],[64,25,65,25],[64,39,65,39],[64,53,65,53],[64,67,65,67],[64,81,65,81],[64,95,65,95],[64,109,65,109],[64,123,65,123],[64,137,65,137],[64,151,65,151],[64,165,65,165],[69,11,70,11],[69,25,70,25],[69,39,70,39],[69,53,70,53],[69,67,70,67],[69,165,70,165],[71,13,71,17],[71,27,71,31],[71,41,71,45],[71,55,71,59],[71,69,71,73],[71,83,71,87],[71,97,71,101],[71,111,71,115],[71,125,71,129],[69,81,70,81],[69,95,70,95],[69,109,70,109],[69,123,70,123],[69,137,70,137],[69,151,70,151],[71,139,71,143],[71,153,71,157],[77,88,78,88],[77,95,78,95],[77,102,78,102],[77,109,78,109],[71,167,71,171],[72,11,73,11],[72,25,73,25],[72,39,73,39],[72,53,73,53],[72,67,73,67],[72,81,73,81],[72,95,73,95],[72,109,73,109],[72,123,73,123],[72,137,73,137],[72,151,73,151],[72,165,73,165],[77,67,78,67],[77,74,78,74],[79,167,79,171],[80,4,81,4],[80,11,81,11],[80,18,81,18],[80,25,81,25],[80,32,81,32],[80,39,81,39],[77,165,78,165],[80,46,81,46],[80,53,81,53],[80,60,81,60],[80,67,81,67],[80,74,81,74],[80,81,81,81],[80,130,81,130],[80,137,81,137],[80,144,81,144],[77,4,78,4],[77,11,78,11],[77,18,78,18],[77,25,78,25],[77,32,78,32],[80,151,81,151],[80,158,81,158],[77,172,78,172],[79,13,79,17],[79,27,79,31],[79,41,79,45],[79,55,79,59],[79,69,79,73],[79,83,79,87],[79,97,79,101],[79,111,79,115],[77,123,78,123],[77,130,78,130],[77,137,78,137],[77,144,78,144],[77,151,78,151],[77,158,78,158],[77,81,78,81],[79,125,79,129],[79,139,79,143],[79,153,79,157],[77,116,78,116],[77,39,78,39],[77,46,78,46],[77,53,78,53],[77,60,78,60],[80,165,81,165],[80,88,81,88],[80,95,81,95],[80,102,81,102],[80,109,81,109],[80,116,81,116],[80,123,81,123],[85,46,86,46],[85,53,86,53],[85,60,86,60],[85,67,86,67],[85,74,86,74],[85,81,86,81],[85,151,86,151],[85,158,86,158],[85,165,86,165],[85,4,86,4],[85,11,86,11],[85,18,86,18],[85,25,86,25],[85,32,86,32],[85,39,86,39],[85,130,86,130],[85,137,86,137],[85,144,86,144],[85,88,86,88],[85,95,86,95],[85,102,86,102],[85,109,86,109],[85,116,86,116],[85,123,86,123],[87,48,87,52],[87,55,87,59],[87,62,87,66],[87,69,87,73],[87,76,87,80],[87,83,87,87],[87,6,87,10],[87,13,87,17],[87,20,87,24],[87,27,87,31],[87,34,87,38],[87,41,87,45],[87,132,87,136],[87,139,87,143],[87,146,87,150],[87,153,87,157],[87,160,87,164],[87,167,87,171],[87,90,87,94],[87,97,87,101],[87,104,87,108],[87,111,87,115],[87,118,87,122],[87,125,87,129],[88,144,89,144],[88,151,89,151],[88,158,89,158],[88,165,89,165],[88,88,89,88],[88,95,89,95],[88,102,89,102],[88,109,89,109],[88,116,89,116],[88,123,89,123],[97,0,97,38],[100,4,100,11],[100,21,100,23],[100,33,100,38],[102,4,103,4],[102,18,103,18],[102,32,103,32],[88,130,89,130],[88,137,89,137],[88,46,89,46],[88,53,89,53],[88,60,89,60],[88,67,89,67],[88,74,89,74],[88,81,89,81],[88,4,89,4],[88,11,89,11],[88,18,89,18],[88,25,89,25],[88,32,89,32],[88,39,89,39],[110,4,111,4],[110,32,111,32],[112,6,112,10],[112,14,114,16],[112,34,112,38],[113,4,114,4],[113,32,114,32],[104,6,104,10],[104,20,104,24],[104,34,104,38],[105,4,106,4],[105,18,106,18],[105,32,106,32],[110,18,111,18],[112,20,112,24],[113,18,114,18],[126,4,127,4],[126,32,127,32],[128,6,128,10],[128,13,128,17],[128,20,128,24],[128,34,128,38],[118,4,119,4],[118,32,119,32],[120,6,120,10],[120,13,120,17],[120,21,122,23],[120,34,120,38],[121,4,122,4],[121,32,122,32],[136,34,136,38],[137,4,138,4],[137,32,138,32],[142,32,143,32],[144,9,149,10],[144,20,144,24],[144,34,144,38],[145,32,146,32],[129,4,130,4],[129,32,130,32],[134,4,135,4],[134,32,135,32],[136,6,136,10],[136,20,136,24],[185,113,185,116],[185,148,185,151],[188,4,189,4],[188,18,189,18],[188,32,189,32],[188,46,189,46],[150,36,152,37],[152,20,152,24],[160,20,160,24],[168,20,168,24],[176,13,176,17],[176,27,176,31],[190,6,190,10],[190,20,190,24],[190,34,190,38],[190,48,190,52],[190,81,190,85],[191,4,192,4],[191,18,192,18],[191,32,192,32],[191,46,192,46],[191,80,192,80],[198,48,198,52],[199,4,200,4],[199,18,200,18],[199,32,200,32],[199,46,200,46],[200,95,201,95],[196,4,197,4],[196,18,197,18],[196,32,197,32],[196,46,197,46],[198,6,198,10],[198,20,198,24],[198,34,198,38],[200,151,201,151],[204,4,205,4],[204,18,205,18],[204,32,205,32],[206,6,206,10],[206,20,206,24],[200,102,201,102],[200,109,201,109],[200,116,201,116],[200,130,201,130],[200,137,201,137],[200,144,201,144],[215,4,216,4],[220,4,221,4],[222,6,222,10],[223,4,224,4],[207,4,208,4],[207,18,208,18],[207,32,208,32],[209,32,210,32],[212,4,213,4],[214,6,214,10]]}
["Full Engine Technology Decision Tree"]
[]
[null,"START"]
["Gas Engine Type","I4",null,null,null,null,null,null,null,null,null,null,null,null,null,null,null,null,null,null,null,null,null,null,null,null,null,null,null,null,null,null,null,null,null,null,null,null,null,null,null,null,null,null,null,null,null,null,null,null,null,null,null,null,null,null,null,null,null,null,"2012-2016","INC","%",5.0000000000000001E-3,"$",{"$f":"INDEX('[1]Subcompact Perf. PC'!$H$379:$X$467,MATCH(BP6,'[1]Subcompact Perf. PC'!$C$379:$C$467,0),MATCH(Inputs!$C$2,'[1]Subcompact Perf. PC'!$H$378:$X$378,0))","v":3.8637835440209107},10,null,null,null,null,null,null,null,"2012-2016","INC","%",0.02,"$",{"$f":"INDEX('[1]Subcompact Perf. PC'!$H$379:$X$467,MATCH(CD6,'[1]Subcompact Perf. PC'!$C$379:$C$467,0),MATCH(Inputs!$C$2,'[1]Subcompact Perf. PC'!$H$378:$X$378,0))*$B$13","v":58.092224089511433},10,null,null,null,null,null,null,null,"2012-2016","INC","%",{"$f":"1-((1-CN5)/(1-BZ5))","v":0},"$",0,"L"]
["Displacement [L]",2.2000000000000002,null,null,null,null,null,null,null,null,null,null,null,null,null,null,null,null,null,null,null,null,null,null,null,null,null,null,null,null,null,null,null,null,null,null,null,null,null,null,null,null,null,null,null,null,null,null,null,null,null,null,null,null,null,null,null,null,null,null,null,"ABS","%",{"$f":"BL4","v":5.0000000000000001E-3},"$",{"$f":"BN4","v":3.8637835440209107},"L",null,null,null,null,null,null,null,null,"ABS","%",{"$f":"1-((1-BL5)*(1-BZ4))","v":2.4900000000000033E-2},"$",{"$f":"BN5+CB4","v":61.956007633532344},"L",null,null,null,null,null,null,null,null,"ABS","%",{"$f":"BZ5","v":2.4900000000000033E-2},"$",{"$f":"CB5","v":61.956007633532344},0]
["Turbocharger","None",null,null,null,null,null,null,null,null,null,null,null,null,null,null,null,null,null,null,null,null,null,null,null,null,null,null,null,null,null,null,null,null,null,null,null,null,null,null,null,null,null,null,null,null,null,null,null,null,null,null,null,null,null,null,null,null,null,null,null,null,"Low-Friction Lubricants 1\n(LUB1) - No Learning Applied",null,null,null,null,"LUB1",null,null,null,null,null,null,null,null,"Engine Friction Reduction 1\n(EFR1) - No Learning Applied",null,null,null,null,"EFR1",null,null,null,null,null,null,null,null,"Low-Friction Lub & Engine Friction\nRedux 2 (LUB2_EFR2) - \nNo Learning Applied",null,null,null,null,"LUB2_EFR2"]
["EGR system","External",null,null,null,null,null,null,null,null,null,null,null,null,null,null,null,null,null,null,null,null,null,null,null,null,null,null,null,null,null,null,null,null,null,null,null,null,null,null,null,null,null,null,null,null,null,null,null,null,null,null,null,null,null,null,null,null,null,null,"2017+","INC","%",{"$f":"BL4","v":5.0000000000000001E-3},"$",{"$f":"BN4","v":3.8637835440209107},10,null,null,null,null,null,null,null,"2017+","INC","%",0.02,"$",{"$f":"CB4","v":58.092224089511433},10,null,null,null,null,null,null,null,"2017+","INC","%",{"$f":"1-((1-CN8)/(1-BZ8))","v":1.0357912009024695E-2},"$",{"$f":"INDEX('[1]Subcompact Perf. PC'!$H$379:$X$467,MATCH(CR6,'[1]Subcompact Perf. PC'!$C$379:$C$467,0),MATCH(Inputs!$C$2,'[1]Subcompact Perf. PC'!$H$378:$X$378,0))*$B$13","v":62.840731829291514},"L"]
["Valvetrain","SOHC/ DOHC/ OHV",null,null,null,null,null,null,null,null,null,null,null,null,null,null,null,null,null,null,null,null,null,null,null,null,null,null,null,null,null,null,null,null,null,null,null,null,null,null,null,null,null,null,null,null,null,null,null,null,null,null,null,null,null,null,null,null,null,null,null,"ABS","%",{"$f":"BL7","v":5.0000000000000001E-3},"$",{"$f":"BN7","v":3.8637835440209107},"L",null,null,null,null,null,null,null,null,"ABS","%",{"$f":"1-((1-BL8)*(1-BZ7))","v":2.4900000000000033E-2},"$",{"$f":"BN8+CB7","v":61.956007633532344},"L",null,null,null,null,null,null,null,null,"ABS","%",3.5000000000000003E-2,"$",{"$f":"CB8+CP7","v":124.79673946282387},33.86]
["After Treatment","3way cat"]
[]
[null,null,null,null,null,null,null,null,null,null,null,null,null,null,null,null,null,null,null,null,null,null,null,null,null,null,null,null,null,null,"SOHC",null,null,null,null,null,null,null,null,null,null,null,null,null,null,null,null,null,null,null,null,null,null,null,null,null,null,null,null,null,null,null,null,null,null,null,null,null,null,null,null,null,null,null,null,null,null,null,null,null,null,null,null,null,null,null,null,null,null,null,null,null,null,"DOHC",null,null,null,null,null,null,null,null,null,null,null,null,null,null,null,null,null,null,null,null,null,null,null,null,null,null,null,null,null,null,null,null,null,null,null,null,null,null,null,null,null,null,null,null,null,null,null,null,null,null,null,null,null,null,null,null,null,null,null,"OHV"]
[]
["Cylinders",{"$f":"IF(B4=\"I4\",4,IF(B4=\"V6\",6,8))","v":4}]
["Cylinder Banks",{"$f":"IF(B4=\"I4\",1,2)","v":1},null,null,null,null,null,null,null,null,null,null,null,null,null,null,null,null,null,null,null,null,null,null,null,null,null,null,null,null,null,null,null,null,null,null,null,null,null,null,null,null,null,null,null,null,null,null,null,null,null,null,null,null,null,null,null,null,null,null,null,null,null,null,null,null,null,null,null,null,null,null,null,null,null,null,null,null,null,null,null,null,null,null,null,null,null,null,"2012-2016","INC","%",{"$f":"CN17","v":2.1761658031088094E-2},"$",{"$f":"INDEX('[1]Subcompact Perf. PC'!$H$379:$X$467,MATCH(CR16,'[1]Subcompact Perf. PC'!$C$379:$C$467,0),MATCH(Inputs!$C$2,'[1]Subcompact Perf. PC'!$H$378:$X$378,0))*$B$14","v":41.549625537527582},10]
[null,null,null,null,null,null,null,null,null,null,null,null,null,null,null,null,null,null,null,null,null,null,null,null,null,null,null,null,null,null,null,null,null,null,null,null,null,null,null,null,null,null,null,null,null,null,null,null,null,null,null,null,null,null,null,null,null,null,null,null,null,null,null,null,null,null,null,null,null,null,null,null,null,null,null,null,null,null,null,null,null,null,null,null,null,null,null,null,null,"ABS","%",{"$f":"1-((1-CN5)*(1-CN14))","v":4.6119792746113997E-2},"$",{"$f":"CP5+CP14","v":103.50563317105993},"L"]
[null,null,null,null,null,null,null,null,null,null,null,null,null,null,null,null,null,null,null,null,null,null,null,null,null,null,null,null,null,null,null,null,null,null,null,null,null,null,null,null,null,null,null,null,null,null,null,null,null,null,null,null,null,null,null,null,null,null,null,null,null,null,null,null,null,null,null,null,null,null,null,null,null,null,null,null,null,null,null,null,null,null,null,null,null,null,null,null,null,null,"Intake Cam Phasing\n(ICP) - TBL",null,null,null,null,"ICP"]
[null,null,null,null,null,null,null,null,null,null,null,null,null,null,null,null,null,null,null,null,null,null,null,null,null,null,null,null,null,null,null,null,null,null,null,null,null,null,null,null,null,null,null,null,null,null,null,null,null,null,null,null,null,null,null,null,null,null,null,null,null,null,null,null,null,null,null,null,null,null,null,null,null,null,null,null,null,null,null,null,null,null,null,null,null,null,null,null,"2017+","INC","%",{"$f":"1-((1-CN18)/(1-CN8))","v":2.1761658031088094E-2},"$",{"$f":"CP14","v":41.549625537527582},10]
[null,null,null,null,null,null,null,null,null,null,null,null,null,null,null,null,null,null,null,null,null,null,null,null,null,null,null,null,null,null,null,null,null,null,null,null,null,null,null,null,null,null,null,null,null,null,null,null,null,null,null,null,null,null,null,null,null,null,null,null,null,null,null,null,null,null,null,null,null,null,null,null,null,null,null,null,null,null,null,null,null,null,null,null,null,null,null,null,null,"ABS","%",5.6000000000000001E-2,"$",{"$f":"CP8+CP17","v":166.34636500035145},"L"]
[]
[]
[]
["Notes: ","(1) All costs shown in $2009",null,null,null,null,null,null,null,null,null,null,null,null,null,null,null,null,null,null,null,null,null,null,null,"2012-2016","INC","%",{"$f":"AC25","v":4.1450777202072464E-2},"$",{"$f":"INDEX('[1]Subcompact Perf. PC'!$H$379:$X$467,MATCH(AG24,'[1]Subcompact Perf. PC'!$C$379:$C$467,0),MATCH(Inputs!$C$2,'[1]Subcompact Perf. PC'!$H$378:$X$378,0))*$B$14","v":41.549625537527582},10,null,null,null,null,null,null,null,null,null,null,null,null,null,null,null,null,null,null,null,null,null,null,null,null,null,null,null,null,null,null,null,null,null,null,null,null,null,null,null,null,null,null,null,null,null,null,null,null,null,null,null,null,null,null,null,null,"2012-2016","INC","%",{"$f":"CN25","v":2.0127118644067687E-2},"$",{"$f":"INDEX('[1]Subcompact Perf. PC'!$H$379:$X$467,MATCH(CR24,'[1]Subcompact Perf. PC'!$C$379:$C$467,0),MATCH(Inputs!$C$2,'[1]Subcompact Perf. PC'!$H$378:$X$378,0))*$B$14","v":38.527853942281702},10]
[null,null,null,null,null,null,null,null,null,null,null,null,null,null,null,null,null,null,null,null,null,null,null,null,null,null,"ABS","%",{"$f":"1-((1-CN5)*(1-AC22))","v":6.5318652849740921E-2},"$",{"$f":"CP5+AE22","v":103.50563317105993},"L",null,null,null,null,null,null,null,null,null,null,null,null,null,null,null,null,null,null,null,null,null,null,null,null,null,null,null,null,null,null,null,null,null,null,null,null,null,null,null,null,null,null,null,null,null,null,null,null,null,null,null,null,null,null,null,null,null,"ABS","%",{"$f":"1-((1-CN15)*(1-CN22))","v":6.531865284974081E-2},"$",{"$f":"CP15+CP22","v":142.03348711334164},"L"]
[null,null,null,null,null,null,null,null,null,null,null,null,null,null,null,null,null,null,null,null,null,null,null,null,null,null,null,"Coupled Cam Phasing\n(CCPS) - TBL",null,null,null,null,"CCPS",null,null,null,null,null,null,null,null,null,null,null,null,null,null,null,null,null,null,null,null,null,null,null,null,null,null,null,null,null,null,null,null,null,null,null,null,null,null,null,null,null,null,null,null,null,null,null,null,null,null,null,null,null,null,null,null,null,"Dual Cam Phasing\n(DCP) - TBL",null,null,null,null,"DCP"]
[null,null,null,null,null,null,null,null,null,null,null,null,null,null,null,null,null,null,null,null,null,null,null,null,null,"2017+","INC","%",{"$f":"1-((1-AC26)/(1-CN8))","v":4.1450777202072464E-2},"$",{"$f":"AE22","v":41.549625537527582},10,null,null,null,null,null,null,null,null,null,null,null,null,null,null,null,null,null,null,null,null,null,null,null,null,null,null,null,null,null,null,null,null,null,null,null,null,null,null,null,null,null,null,null,null,null,null,null,null,null,null,null,null,null,null,null,null,"2017+","INC","%",{"$f":"1-((1-CN26)/(1-CN18))","v":2.0127118644067687E-2},"$",{"$f":"CP22","v":38.527853942281702},10]
["L",null,null,null,null,null,null,null,null,null,null,null,null,null,null,null,null,null,null,null,null,null,null,null,null,null,"ABS","%",7.4999999999999997E-2,"$",{"$f":"CP8+AE25","v":166.34636500035145},"L",null,null,null,null,null,null,null,null,null,null,null,null,null,null,null,null,null,null,null,null,null,null,null,null,null,null,null,null,null,null,null,null,null,null,null,null,null,null,null,null,null,null,null,null,null,null,null,null,null,null,null,null,null,null,null,null,null,"ABS","%",7.4999999999999997E-2,"$",{"$f":"CP18+CP25","v":204.87421894263315},"L"]
["M"]
["H"]
["VH"]
[null,null,null,null,null,null,null,null,null,null,null,null,null,null,null,null,null,null,null,null,null,null,null,null,null,"2012-2016","INC","%",{"$f":"AC33","v":2.8108108108108154E-2},"$",{"$f":"INDEX('[1]Subcompact Perf. PC'!$H$379:$X$467,MATCH(AG32,'[1]Subcompact Perf. PC'!$C$379:$C$467,0),MATCH(Inputs!$C$2,'[1]Subcompact Perf. PC'!$H$378:$X$378,0))*$B$13","v":141.95784088900945},10,null,null,null,null,null,null,null,null,null,null,null,null,null,null,null,null,null,null,null,null,null,null,null,null,null,null,null,null,null,null,null,null,null,null,null,"2012-2016","INC","%",{"$f":"BS33","v":2.8108108108108154E-2},"$",{"$f":"INDEX('[1]Subcompact Perf. PC'!$H$379:$X$467,MATCH(BW32,'[1]Subcompact Perf. PC'!$C$379:$C$467,0),MATCH(Inputs!$C$2,'[1]Subcompact Perf. PC'!$H$378:$X$378,0))*$B$13","v":141.95784088900945},10,null,null,null,null,null,null,null,null,null,null,null,null,null,null,null,null,null,null,null,null,null,null,null,null,null,null,null,null,null,null,null,null,null,null,null,"2012-2016","INC","%",{"$f":"DI33","v":3.5675675675675755E-2},"$",{"$f":"INDEX('[1]Subcompact Perf. PC'!$H$379:$X$467,MATCH(DM32,'[1]Subcompact Perf. PC'!$C$379:$C$467,0),MATCH(Inputs!$C$2,'[1]Subcompact Perf. PC'!$H$378:$X$378,0))*$B$13","v":228.52533855632367},10,null,null,null,null,null,null,null,null,null,null,null,null,null,null,null,null,null,null,null,null,null,null,null,null,null,null,null,null,null,null,null,null,null,null,null,"2012-2016","INC","%",{"$f":"1-((1-EY31)/(1-CN5))","v":4.6251666495744082E-2},"$",{"$f":"INDEX('[1]Subcompact Perf. PC'!$H$379:$X$467,MATCH(FC32,'[1]Subcompact Perf. PC'!$C$379:$C$467,0),MATCH(Inputs!$C$2,'[1]Subcompact Perf. PC'!$H$378:$X$378,0))","v":180.85022482302156},10]
[null,null,null,null,null,null,null,null,null,null,null,null,null,null,null,null,null,null,null,null,null,null,null,null,null,null,"ABS","%",{"$f":"1-((1-AC23)*(1-AC30))","v":9.1590777202072537E-2},"$",{"$f":"AE23+AE30","v":245.46347406006936},"L",null,null,null,null,null,null,null,null,null,null,null,null,null,null,null,null,null,null,null,null,null,null,null,null,null,null,null,null,null,null,null,null,null,null,null,null,"ABS","%",{"$f":"1-((1-CN23)*(1-BS30))","v":9.1590777202072426E-2},"$",{"$f":"CP23+BU30","v":283.99132800235111},"L",null,null,null,null,null,null,null,null,null,null,null,null,null,null,null,null,null,null,null,null,null,null,null,null,null,null,null,null,null,null,null,null,null,null,null,null,"ABS","%",{"$f":"1-((1-CN23)*(1-DI30))","v":9.8664041450777118E-2},"$",{"$f":"CP23+DK30","v":370.55882566966534},"L",null,null,null,null,null,null,null,null,null,null,null,null,null,null,null,null,null,null,null,null,null,null,null,null,null,null,null,null,null,null,null,null,null,null,null,null,"ABS","%",7.0000000000000007E-2,"$",{"$f":"CP5+FA30","v":242.80623245655391},"L"]
[null,null,null,null,null,null,null,null,null,null,null,null,null,null,null,null,null,null,null,null,null,null,null,null,null,null,null,"Discrete VVL\n(DVVLS) - TBL",null,null,null,null,"DVVLS",null,null,null,null,null,null,null,null,null,null,null,null,null,null,null,null,null,null,null,null,null,null,null,null,null,null,null,null,null,null,null,null,null,null,null,null,"Discrete VVL\n(DVVLD) - TBL",null,null,null,null,"DVVLD",null,null,null,null,null,null,null,null,null,null,null,null,null,null,null,null,null,null,null,null,null,null,null,null,null,null,null,null,null,null,null,null,null,null,null,null,"Continuous VVL\n(CVVL) - TBL",null,null,null,null,"CVVL",null,null,null,null,null,null,null,null,null,null,null,null,null,null,null,null,null,null,null,null,null,null,null,null,null,null,null,null,null,null,null,null,null,null,null,null,"Cylinder Deactivation\n(DEACO) - TBL",null,null,null,null,"DEACO"]
[null,null,null,null,null,null,null,null,null,null,null,null,null,null,null,null,null,null,null,null,null,null,null,null,null,"2017+","INC","%",{"$f":"1-((1-AC34)/(1-AC26))","v":2.8108108108108154E-2},"$",{"$f":"AE30","v":141.95784088900945},10,null,null,null,null,null,null,null,null,null,null,null,null,null,null,null,null,null,null,null,null,null,null,null,null,null,null,null,null,null,null,null,null,null,null,null,"2017+","INC","%",{"$f":"1-((1-BS34)/(1-CN26))","v":2.8108108108108154E-2},"$",{"$f":"BU30","v":141.95784088900945},10,null,null,null,null,null,null,null,null,null,null,null,null,null,null,null,null,null,null,null,null,null,null,null,null,null,null,null,null,null,null,null,null,null,null,null,"2017+","INC","%",{"$f":"1-((1-DI34)/(1-CN26))","v":3.5675675675675755E-2},"$",{"$f":"DK30","v":228.52533855632367},10,null,null,null,null,null,null,null,null,null,null,null,null,null,null,null,null,null,null,null,null,null,null,null,null,null,null,null,null,null,null,null,null,null,null,null,"2017+","INC","%",{"$f":"1-((1-EY34)/(1-CN8))","v":4.663212435233155E-2},"$",{"$f":"FA30","v":180.85022482302156},10]
[null,"START",null,null,null,null,null,null,null,null,null,null,null,null,null,null,null,null,null,null,null,null,null,null,null,null,"ABS","%",0.10100000000000001,"$",{"$f":"AE26+AE33","v":308.3042058893609},"L",null,null,null,null,null,null,null,null,null,null,null,null,null,null,null,null,null,null,null,null,null,null,null,null,null,null,null,null,null,null,null,null,null,null,null,null,"ABS","%",0.10100000000000001,"$",{"$f":"CP26+BU33","v":346.8320598316426},"L",null,null,null,null,null,null,null,null,null,null,null,null,null,null,null,null,null,null,null,null,null,null,null,null,null,null,null,null,null,null,null,null,null,null,null,null,"ABS","%",0.108,"$",{"$f":"CP26+DK33","v":433.39955749895682},"L",null,null,null,null,null,null,null,null,null,null,null,null,null,null,null,null,null,null,null,null,null,null,null,null,null,null,null,null,null,null,null,null,null,null,null,null,"ABS","%",0.08,"$",{"$f":"CP8+FA33","v":305.64696428584546},"L"]
["Gas Engine Type","I4"]
["Displacement [L]",2.2000000000000002]
["Turbocharger","None"]
["EGR system","External",null,null,null,null,null,null,null,null,null,null,null,null,null,null,null,null,null,null,null,null,null,null,null,"2012-2016","INC","%",{"$f":"AC41","v":4.4493882091212189E-3},"$",{"$f":"INDEX('[1]Subcompact Perf. PC'!$H$379:$X$467,MATCH(AG40,'[1]Subcompact Perf. PC'!$C$379:$C$467,0),MATCH(Inputs!$C$2,'[1]Subcompact Perf. PC'!$H$378:$X$378,0))","v":28.176910737789065},10,null,null,null,null,null,null,null,null,null,null,null,null,null,null,null,null,null,null,null,null,null,null,null,null,null,null,null,null,null,null,null,null,null,null,null,"2012-2016","INC","%",{"$f":"BS41","v":4.4493882091212189E-3},"$",{"$f":"INDEX('[1]Subcompact Perf. PC'!$H$379:$X$467,MATCH(BW40,'[1]Subcompact Perf. PC'!$C$379:$C$467,0),MATCH(Inputs!$C$2,'[1]Subcompact Perf. PC'!$H$378:$X$378,0))","v":28.176910737789065},10,null,null,null,null,null,null,null,null,null,null,null,null,null,null,null,null,null,null,null,null,null,null,null,null,null,null,null,null,null,null,null,null,null,null,null,"2012-2016","INC","%",{"$f":"DI41","v":0},"$",0,10,null,null,null,null,null,null,null,null,null,null,null,null,null,null,null,null,null,null,null,null,null,null,null,null,null,null,null,null,null,null,null,null,null,null,null,"2012-2016","INC","%",{"$f":"1-((1-EY39)/(1-EY31))","v":2.1505376344085891E-2},"$",{"$f":"INDEX('[1]Subcompact Perf. PC'!$H$379:$X$467,MATCH(FC40,'[1]Subcompact Perf. PC'!$C$379:$C$467,0),MATCH(Inputs!$C$2,'[1]Subcompact Perf. PC'!$H$378:$X$378,0))*$B$14","v":45.204617214323278},10]
["Valvetrain","SOHC/ DOHC/ OHV",null,null,null,null,null,null,null,null,null,null,null,null,null,null,null,null,null,null,null,null,null,null,null,null,"ABS","%",{"$f":"1-((1-AC31)*(1-AC38))","v":9.5632642487046615E-2},"$",{"$f":"AE31+AE38","v":273.64038479785842},"L",null,null,null,null,null,null,null,null,null,null,null,null,null,null,null,null,null,null,null,null,null,null,null,null,null,null,null,null,null,null,null,null,null,null,null,null,"ABS","%",{"$f":"1-((1-BS31)*(1-BS38))","v":9.5632642487046504E-2},"$",{"$f":"BU31+BU38","v":312.16823874014017},"L",null,null,null,null,null,null,null,null,null,null,null,null,null,null,null,null,null,null,null,null,null,null,null,null,null,null,null,null,null,null,null,null,null,null,null,null,"ABS","%",{"$f":"1-((1-DI31)*(1-DI38))","v":9.8664041450777118E-2},"$",{"$f":"DK31+DK38","v":370.55882566966534},"L",null,null,null,null,null,null,null,null,null,null,null,null,null,null,null,null,null,null,null,null,null,null,null,null,null,null,null,null,null,null,null,null,null,null,null,null,"ABS","%",0.09,"$",{"$f":"FA31+FA38","v":288.01084967087718},"L"]
[null,null,null,null,null,null,null,null,null,null,null,null,null,null,null,null,null,null,null,null,null,null,null,null,null,null,null,"Cylinder Deactivation\n(DEACS) - TBL",null,null,null,null,"DEACS",null,null,null,null,null,null,null,null,null,null,null,null,null,null,null,null,null,null,null,null,null,null,null,null,null,null,null,null,null,null,null,null,null,null,null,null,"Cylinder Deactivation\n(DEACD) - TBL",null,null,null,null,"DEACD",null,null,null,null,null,null,null,null,null,null,null,null,null,null,null,null,null,null,null,null,null,null,null,null,null,null,null,null,null,null,null,null,null,null,null,null,"Cylinder Deactivation\n(DEACD) - TBL",null,null,null,null,null,null,null,null,null,null,null,null,null,null,null,null,null,null,null,null,null,null,null,null,null,null,null,null,null,null,null,null,null,null,null,null,null,null,null,null,null,"Coupled Cam Phasing and DVVL\n(VVA) - TBL",null,null,null,null,"VVA"]
[null,null,null,null,null,null,null,null,null,null,null,null,null,null,null,null,null,null,null,null,null,null,null,null,null,"2017+","INC","%",{"$f":"1-((1-AC42)/(1-AC34))","v":4.4493882091212189E-3},"$",{"$f":"AE38","v":28.176910737789065},10,null,null,null,null,null,null,null,null,null,null,null,null,null,null,null,null,null,null,null,null,null,null,null,null,null,null,null,null,null,null,null,null,null,null,null,"2017+","INC","%",{"$f":"1-((1-BS42)/(1-BS34))","v":4.4493882091212189E-3},"$",{"$f":"BU38","v":28.176910737789065},10,null,null,null,null,null,null,null,null,null,null,null,null,null,null,null,null,null,null,null,null,null,null,null,null,null,null,null,null,null,null,null,null,null,null,null,"2017+","INC","%",{"$f":"1-((1-DI42)/(1-DI34))","v":0},"$",{"$f":"DK38","v":0},10,null,null,null,null,null,null,null,null,null,null,null,null,null,null,null,null,null,null,null,null,null,null,null,null,null,null,null,null,null,null,null,null,null,null,null,"2017+","INC","%",{"$f":"1-((1-EY42)/(1-EY34))","v":2.7173913043478271E-2},"$",{"$f":"FA38","v":45.204617214323278},10]
[null,null,null,null,null,null,null,null,null,null,null,null,null,null,null,null,null,null,null,null,null,null,null,null,null,null,"ABS","%",0.105,"$",{"$f":"AE34+AE41","v":336.48111662714996},"L",null,null,null,null,null,null,null,null,null,null,null,null,null,null,null,null,null,null,null,null,null,null,null,null,null,null,null,null,null,null,null,null,null,null,null,null,"ABS","%",0.105,"$",{"$f":"BU34+BU41","v":375.00897056943165},"L",null,null,null,null,null,null,null,null,null,null,null,null,null,null,null,null,null,null,null,null,null,null,null,null,null,null,null,null,null,null,null,null,null,null,null,null,"ABS","%",{"$f":"DI34","v":0.108},"$",{"$f":"DK34+DK41","v":433.39955749895682},"L",null,null,null,null,null,null,null,null,null,null,null,null,null,null,null,null,null,null,null,null,null,null,null,null,null,null,null,null,null,null,null,null,null,null,null,null,"ABS","%",0.105,"$",{"$f":"FA34+FA41","v":350.85158150016872},"L"]
[]
[]
[]
[null,null,null,null,null,null,null,null,null,null,null,null,null,null,null,null,null,null,null,null,null,null,null,null,null,"2012-2016","INC","%",{"$f":"AC49","v":1.5642458100558643E-2},"$",{"$f":"INDEX('[1]Subcompact Perf. PC'!$H$379:$X$467,MATCH(AG48,'[1]Subcompact Perf. PC'!$C$379:$C$467,0),MATCH(Inputs!$C$2,'[1]Subcompact Perf. PC'!$H$378:$X$378,0))*$B$13","v":232.9452905107814},10,null,null,null,null,null,null,null,null,null,null,null,null,null,null,null,null,null,null,null,null,null,null,null,null,null,null,null,null,null,null,null,null,null,null,null,"2012-2016","INC","%",{"$f":"BS49","v":1.5642458100558643E-2},"$",{"$f":"INDEX('[1]Subcompact Perf. PC'!$H$379:$X$467,MATCH(BW48,'[1]Subcompact Perf. PC'!$C$379:$C$467,0),MATCH(Inputs!$C$2,'[1]Subcompact Perf. PC'!$H$378:$X$378,0))*$B$13","v":232.9452905107814},10,null,null,null,null,null,null,null,null,null,null,null,null,null,null,null,null,null,null,null,null,null,null,null,null,null,null,null,null,null,null,null,null,null,null,null,"2012-2016","INC","%",{"$f":"DI49","v":1.4573991031390121E-2},"$",{"$f":"INDEX('[1]Subcompact Perf. PC'!$H$379:$X$467,MATCH(DM48,'[1]Subcompact Perf. PC'!$C$379:$C$467,0),MATCH(Inputs!$C$2,'[1]Subcompact Perf. PC'!$H$378:$X$378,0))*$B$13","v":232.9452905107814},10,null,null,null,null,null,null,null,null,null,null,null,null,null,null,null,null,null,null,null,null,null,null,null,null,null,null,null,null,null,null,null,null,null,null,null,"2012-2016","INC","%",{"$f":"1-((1-EY47)/(1-EY39))","v":1.5384615384615441E-2},"$",{"$f":"INDEX('[1]Subcompact Perf. PC'!$H$379:$X$467,MATCH(FC48,'[1]Subcompact Perf. PC'!$C$379:$C$467,0),MATCH(Inputs!$C$2,'[1]Subcompact Perf. PC'!$H$378:$X$378,0))*$B$13","v":232.9452905107814},10]
[null,null,null,null,null,null,null,null,null,null,null,null,null,null,null,null,null,null,null,null,null,null,null,null,null,null,"ABS","%",{"$f":"1-((1-AC39)*(1-AC46))","v":0.10977917098445589},"$",{"$f":"AE39+AE46","v":506.58567530863979},"L",null,null,null,null,null,null,null,null,null,null,null,null,null,null,null,null,null,null,null,null,null,null,null,null,null,null,null,null,null,null,null,null,null,null,null,null,"ABS","%",{"$f":"1-((1-BS39)*(1-BS46))","v":0.10977917098445578},"$",{"$f":"BU39+BU46","v":545.1135292509216},"L",null,null,null,null,null,null,null,null,null,null,null,null,null,null,null,null,null,null,null,null,null,null,null,null,null,null,null,null,null,null,null,null,null,null,null,null,"ABS","%",{"$f":"1-((1-DI39)*(1-DI46))","v":0.11180010362694293},"$",{"$f":"DK39+DK46","v":603.50411618044677},"L",null,null,null,null,null,null,null,null,null,null,null,null,null,null,null,null,null,null,null,null,null,null,null,null,null,null,null,null,null,null,null,null,null,null,null,null,"ABS","%",0.104,"$",{"$f":"FA39+FA46","v":520.95614018165861},"L"]
[null,null,null,null,null,null,null,null,null,null,null,null,null,null,null,null,null,null,null,null,null,null,null,null,null,null,null,"Stoichiometric GDI\n(SGDI) - TBL",null,null,null,null,"SGDI",null,null,null,null,null,null,null,null,null,null,null,null,null,null,null,null,null,null,null,null,null,null,null,null,null,null,null,null,null,null,null,null,null,null,null,null,"Stoichiometric GDI\n(SGDI) - TBL",null,null,null,null,"SGDI",null,null,null,null,null,null,null,null,null,null,null,null,null,null,null,null,null,null,null,null,null,null,null,null,null,null,null,null,null,null,null,null,null,null,null,null,"Stoichiometric GDI\n(SGDI) - TBL",null,null,null,null,"SGDI",null,null,null,null,null,null,null,null,null,null,null,null,null,null,null,null,null,null,null,null,null,null,null,null,null,null,null,null,null,null,null,null,null,null,null,null,"Stoichiometric GDI\n(SGDIO) - TBL",null,null,null,null,"SGDIO"]
[null,null,null,null,null,null,null,null,null,null,null,null,null,null,null,null,null,null,null,null,null,null,null,null,null,"2017+","INC","%",{"$f":"1-((1-AC50)/(1-AC42))","v":1.5642458100558643E-2},"$",{"$f":"AE46","v":232.9452905107814},10,null,null,null,null,null,null,null,null,null,null,null,null,null,null,null,null,null,null,null,null,null,null,null,null,null,null,null,null,null,null,null,null,null,null,null,"2017+","INC","%",{"$f":"1-((1-BS50)/(1-BS42))","v":1.5642458100558643E-2},"$",{"$f":"BU46","v":232.9452905107814},10,null,null,null,null,null,null,null,null,null,null,null,null,null,null,null,null,null,null,null,null,null,null,null,null,null,null,null,null,null,null,null,null,null,null,null,"2017+","INC","%",{"$f":"1-((1-DI50)/(1-DI42))","v":1.4573991031390121E-2},"$",{"$f":"DK46","v":232.9452905107814},10,null,null,null,null,null,null,null,null,null,null,null,null,null,null,null,null,null,null,null,null,null,null,null,null,null,null,null,null,null,null,null,null,null,null,null,"2017+","INC","%",{"$f":"1-((1-EY50)/(1-EY42))","v":1.5642458100558643E-2},"$",{"$f":"FA46","v":232.9452905107814},10]
[null,null,null,null,null,null,null,null,null,null,null,null,null,null,null,null,null,null,null,null,null,null,null,"From SOHC Path",null,null,"ABS","%",0.11899999999999999,"$",{"$f":"AE42+AE49","v":569.42640713793139},"L",null,null,null,null,null,null,null,null,null,null,null,null,null,null,null,null,null,null,null,null,null,null,null,null,null,null,null,null,null,null,null,null,null,"From DOHC w/ DVVLD Path",null,null,"ABS","%",0.11899999999999999,"$",{"$f":"BU42+BU49","v":607.95426108021309},"L",null,null,null,null,null,null,null,null,null,null,null,null,null,null,null,null,null,null,null,null,null,null,null,null,null,null,null,null,null,null,null,null,null,"From DOHC w/ CVVL Path",null,null,"ABS","%",0.121,"$",{"$f":"DK42+DK49","v":666.34484800973826},"L",null,null,null,null,null,null,null,null,null,null,null,null,null,null,null,null,null,null,null,null,null,null,null,null,null,null,null,null,null,null,null,null,null,"From OHV w/ CDOHC Path",null,null,"ABS","%",0.11899999999999999,"$",{"$f":"FA42+FA49","v":583.7968720109501},"L"]
[]
[]
[null,null,null,null,null,null,null,null,null,null,null,null,null,null,null,null,null,null,null,null,null,null,null,null,null,null,null,null,null,null,null,null,null,null,null,null,null,null,null,null,null,null,null,null,null,null,null,null,null,null,null,null,null,null,null,null,{"$f":"BE54-$O$54","v":0},null,{"$f":"BG54-$Q$54","v":-10.350943204492637},null,null,null,null,null,null,null,null,null,null,null,{"$f":"BS54-$AC$54","v":0},null,{"$f":"BU54-$AE$54","v":-137.49257962890812},null,null,null,null,null,null,null,null,null,null,null,{"$f":"CG54-$AQ$54","v":0},null,{"$f":"CI54-$AS$54","v":-151.06222004175237},null,null,null,null,null,null,null,null,null,null,null,{"$f":"CU54-$O$54","v":-7.1733205179984605E-3},null,{"$f":"CW54-$Q$54","v":-10.350943204492637},null,null,null,null,null,null,null,null,null,null,null,{"$f":"DI54-$AC$54","v":-2.1229366256929616E-3},null,{"$f":"DK54-$AE$54","v":-137.49257962890812},null,null,null,null,null,null,null,null,null,null,null,{"$f":"DW54-$AQ$54","v":-2.1229366256929616E-3},null,{"$f":"DY54-$AS$54","v":-151.06222004175237},null,null,null,null,null,null,null,null,null,null,null,{"$f":"EK54-$O$54","v":4.7880517756197949E-2},null,{"$f":"EM54-$Q$54","v":-420.06358424991754},null,null,null,null,null,null,null,null,null,null,null,{"$f":"EY54-$AC$54","v":0},null,{"$f":"FA54-$AE$54","v":562.75413569090051},null,null,null,null,null,null,null,null,null,null,null,{"$f":"FM54-$AQ$54","v":0},null,{"$f":"FO54-$AS$54","v":523.98042111588995}]
[null,null,null,null,null,null,null,null,null,null,null,"2012-2016","INC","%",{"$f":"O57","v":7.2019736900250986E-2},"$",{"$f":"INDEX('[1]Subcompact Perf. PC'!$H$379:$X$467,MATCH(M56,'[1]Subcompact Perf. PC'!$C$379:$C$467,0),MATCH(Inputs!$C$2,'[1]Subcompact Perf. PC'!$H$378:$X$378,0))\n+INDEX('[1]Subcompact Perf. PC'!$H$379:$X$467,MATCH(S56,'[1]Subcompact Perf. PC'!$C$379:$C$467,0),MATCH(Inputs!$C$2,'[1]Subcompact Perf. PC'!$H$378:$X$378,0))","v":420.06358424991754},10,null,null,null,null,null,null,null,"2012-2016","INC","%",{"$f":"AC57","v":6.6969353007945487E-2},"$",{"$f":"INDEX('[1]Subcompact Perf. PC'!$H$379:$X$467,MATCH(AA56,'[1]Subcompact Perf. PC'!$C$379:$C$467,0),MATCH(Inputs!$C$2,'[1]Subcompact Perf. PC'!$H$378:$X$378,0))\n+INDEX('[1]Subcompact Perf. PC'!$H$379:$X$467,MATCH(AG56,'[1]Subcompact Perf. PC'!$C$379:$C$467,0),MATCH(Inputs!$C$2,'[1]Subcompact Perf. PC'!$H$378:$X$378,0))","v":-29.267884297748708},10,null,null,null,null,null,null,null,"2012-2016","INC","%",{"$f":"AQ57","v":6.6969353007945487E-2},"$",{"$f":"INDEX('[1]Subcompact Perf. PC'!$H$379:$X$467,MATCH(AO56,'[1]Subcompact Perf. PC'!$C$379:$C$467,0),MATCH(Inputs!$C$2,'[1]Subcompact Perf. PC'!$H$378:$X$378,0))\n+INDEX('[1]Subcompact Perf. PC'!$H$379:$X$467,MATCH(AU56,'[1]Subcompact Perf. PC'!$C$379:$C$467,0),MATCH(Inputs!$C$2,'[1]Subcompact Perf. PC'!$H$378:$X$378,0))","v":523.48084050429873},10,null,null,null,null,null,null,null,"2012-2016","INC","%",{"$f":"BE57","v":7.2019736900250986E-2},"$",{"$f":"INDEX('[1]Subcompact PC'!$H$530:$X$541,MATCH(BC56,'[1]Subcompact PC'!$C$530:$C$541,0),MATCH(Inputs!$C$2,'[1]Subcompact PC'!$H$529:$X$529,0))\n+INDEX('[1]Subcompact PC'!$H$530:$X$541,MATCH(BI56,'[1]Subcompact PC'!$C$530:$C$541,0),MATCH(Inputs!$C$2,'[1]Subcompact PC'!$H$529:$X$529,0))","v":409.7126410454249},10,null,null,null,null,null,null,null,"2012-2016","INC","%",{"$f":"BS57","v":6.6969353007945487E-2},"$",{"$f":"INDEX('[1]Subcompact PC'!$H$530:$X$541,MATCH(BQ56,'[1]Subcompact PC'!$C$530:$C$541,0),MATCH(Inputs!$C$2,'[1]Subcompact PC'!$H$529:$X$529,0))\n+INDEX('[1]Subcompact PC'!$H$530:$X$541,MATCH(BW56,'[1]Subcompact PC'!$C$530:$C$541,0),MATCH(Inputs!$C$2,'[1]Subcompact PC'!$H$529:$X$529,0))","v":-166.76046392665683},10,null,null,null,null,null,null,null,"2012-2016","INC","%",{"$f":"CG57","v":6.6969353007945487E-2},"$",{"$f":"INDEX('[1]Subcompact PC'!$H$530:$X$541,MATCH(CE56,'[1]Subcompact PC'!$C$530:$C$541,0),MATCH(Inputs!$C$2,'[1]Subcompact PC'!$H$529:$X$529,0))\n+INDEX('[1]Subcompact PC'!$H$530:$X$541,MATCH(CK56,'[1]Subcompact PC'!$C$530:$C$541,0),MATCH(Inputs!$C$2,'[1]Subcompact PC'!$H$529:$X$529,0))","v":372.41862046254636},10,null,null,null,null,null,null,null,"2012-2016","INC","%",{"$f":"CU57","v":6.4846416382252525E-2},"$",{"$f":"INDEX('[1]Subcompact PC'!$H$530:$X$541,MATCH(CS56,'[1]Subcompact PC'!$C$530:$C$541,0),MATCH(Inputs!$C$2,'[1]Subcompact PC'!$H$529:$X$529,0))\n+INDEX('[1]Subcompact PC'!$H$530:$X$541,MATCH(CY56,'[1]Subcompact PC'!$C$530:$C$541,0),MATCH(Inputs!$C$2,'[1]Subcompact PC'!$H$529:$X$529,0))","v":409.7126410454249},10,null,null,null,null,null,null,null,"2012-2016","INC","%",{"$f":"DI57","v":6.4846416382252525E-2},"$",{"$f":"INDEX('[1]Subcompact PC'!$H$530:$X$541,MATCH(DG56,'[1]Subcompact PC'!$C$530:$C$541,0),MATCH(Inputs!$C$2,'[1]Subcompact PC'!$H$529:$X$529,0))\n+INDEX('[1]Subcompact PC'!$H$530:$X$541,MATCH(DM56,'[1]Subcompact PC'!$C$530:$C$541,0),MATCH(Inputs!$C$2,'[1]Subcompact PC'!$H$529:$X$529,0))","v":-166.76046392665683},10,null,null,null,null,null,null,null,"2012-2016","INC","%",{"$f":"DW57","v":6.4846416382252525E-2},"$",{"$f":"INDEX('[1]Subcompact PC'!$H$530:$X$541,MATCH(DU56,'[1]Subcompact PC'!$C$530:$C$541,0),MATCH(Inputs!$C$2,'[1]Subcompact PC'!$H$529:$X$529,0))\n+INDEX('[1]Subcompact PC'!$H$530:$X$541,MATCH(EA56,'[1]Subcompact PC'!$C$530:$C$541,0),MATCH(Inputs!$C$2,'[1]Subcompact PC'!$H$529:$X$529,0))","v":372.41862046254636},10,null,null,null,null,null,null,null,"2012-2016","INC","%",{"$f":"EK57","v":0.11990025465644893},"$",{"$f":"INDEX('[1]Subcompact PC'!$H$530:$X$541,MATCH(EI56,'[1]Subcompact PC'!$C$530:$C$541,0),MATCH(Inputs!$C$2,'[1]Subcompact PC'!$H$529:$X$529,0))\n+INDEX('[1]Subcompact PC'!$H$530:$X$541,MATCH(EO56,'[1]Subcompact PC'!$C$530:$C$541,0),MATCH(Inputs!$C$2,'[1]Subcompact PC'!$H$529:$X$529,0))","v":0},10,null,null,null,null,null,null,null,"2012-2016","INC","%",{"$f":"EY57","v":6.6969353007945487E-2},"$",{"$f":"INDEX('[1]Subcompact PC'!$H$530:$X$541,MATCH(EW56,'[1]Subcompact PC'!$C$530:$C$541,0),MATCH(Inputs!$C$2,'[1]Subcompact PC'!$H$529:$X$529,0))\n+INDEX('[1]Subcompact PC'!$H$530:$X$541,MATCH(FC56,'[1]Subcompact PC'!$C$530:$C$541,0),MATCH(Inputs!$C$2,'[1]Subcompact PC'!$H$529:$X$529,0))","v":533.48625139315186},10,{"$f":"INDEX('[1]Subcompact PC'!$H$530:$X$541,MATCH(EW56,'[1]Subcompact PC'!$C$530:$C$541,0),MATCH(Inputs!$C$2,'[1]Subcompact PC'!$H$529:$X$529,0))","v":229.17561542502995},{"$f":"MATCH(EW56,'[1]Subcompact PC'!$C$530:$C$541,0)","v":9},null,null,null,null,null,"2012-2016","INC","%",{"$f":"FM57","v":6.6969353007945487E-2},"$",{"$f":"INDEX('[1]Subcompact PC'!$H$530:$X$541,MATCH(FK56,'[1]Subcompact PC'!$C$530:$C$541,0),MATCH(Inputs!$C$2,'[1]Subcompact PC'!$H$529:$X$529,0))\n+INDEX('[1]Subcompact PC'!$H$530:$X$541,MATCH(FQ56,'[1]Subcompact PC'!$C$530:$C$541,0),MATCH(Inputs!$C$2,'[1]Subcompact PC'!$H$529:$X$529,0))","v":1047.4612616201887},10]
[null,null,null,null,null,null,null,null,null,null,null,null,"ABS","%",{"$f":"1-((1-AC47+AC38)*(1-O54))","v":0.16976369643234546},"$",{"$f":"AE47+Q54","v":926.64925955855733},"L",null,null,null,null,null,null,null,null,"ABS","%",{"$f":"1-((1-AC47)*(1-AC54))","v":0.1693966839378237},"$",{"$f":"AE47+AE54","v":477.31779101089109},"L",null,null,null,null,null,null,null,null,"ABS","%",{"$f":"1-((1-AC47)*(1-AQ54))","v":0.1693966839378237},"$",{"$f":"AE47+AS54","v":1030.0665158129386},"L",null,null,null,null,null,null,null,null,"ABS","%",{"$f":"1-((1-BS47)*(1-BE54))","v":0.1738926408732786},"$",{"$f":"BU47+BG54","v":954.8261702963465},"L",null,null,null,null,null,null,null,null,"ABS","%",{"$f":"1-((1-BS47)*(1-BS54))","v":0.16939668393782359},"$",{"$f":"BU47+BU54","v":378.35306532426478},"L",null,null,null,null,null,null,null,null,"ABS","%",{"$f":"1-((1-BS47)*(1-CG54))","v":0.16939668393782359},"$",{"$f":"BU47+CI54","v":917.53214971346802},"L",null,null,null,null,null,null,null,null,"ABS","%",{"$f":"1-((1-DI47)*(1-CU54))","v":0.1693966839378237},"$",{"$f":"DK47+CW54","v":1013.2167572258717},"L",null,null,null,null,null,null,null,null,"ABS","%",{"$f":"1-((1-DI47)*(1-DI54))","v":0.1693966839378237},"$",{"$f":"DK47+DK54","v":436.74365225378995},"L",null,null,null,null,null,null,null,null,"ABS","%",{"$f":"1-((1-DI47)*(1-DW54))","v":0.1693966839378237},"$",{"$f":"DK47+DY54","v":975.92273664299319},"L",null,null,null,null,null,null,null,null,"ABS","%",{"$f":"1-((1-EY47)*(1-EK54))","v":0.21143062817217828},"$",{"$f":"FA47+EM54","v":520.95614018165861},"L",null,null,null,null,null,null,null,null,"ABS","%",{"$f":"1-((1-EY47)*(1-EY54))","v":0.16400454029511913},"$",{"$f":"FA47+FA54","v":1054.4423915748105},"L",null,null,null,null,null,null,null,null,"ABS","%",{"$f":"1-((1-EY47)*(1-FM54))","v":0.16400454029511913},"$",{"$f":"FA47+FO54","v":1568.4174018018473},"L"]
[null,"INTERMEDIATE",null,null,null,null,null,null,null,null,null,null,"TRBDS1_SD_TB","Turbocharging and Downsizing 1 (TRBDS1_SD) - TBL",null,null,null,null,"TRBDS1_SD_DS",null,null,null,null,null,null,null,"TRBDS1_MD_TB","Turbocharging and Downsizing 1 (TRBDS1_MD) - TBL",null,null,null,null,"TRBDS1_MD_DS",null,null,null,null,null,null,null,"TRBDS1_LD_TB","Turbocharging and Downsizing 1\n(TRBDS1_LD) - TBL",null,null,null,null,"TRBDS1_LD_DS",null,null,null,null,null,null,null,"TRBDS1_SD_TB_D",{"$f":"$N$56","v":"Turbocharging and Downsizing 1 (TRBDS1_SD) - TBL"},null,null,null,null,"TRBDS1_SD_DS_D",null,null,null,null,null,null,null,"TRBDS1_MD_TB_D","Turbocharging and Downsizing 1 (TRBDS1_MD) - TBL",null,null,null,null,"TRBDS1_MD_DS_D",null,null,null,null,null,null,null,"TRBDS1_LD_TB_D",{"$f":"$AP$56","v":"Turbocharging and Downsizing 1\n(TRBDS1_LD) - TBL"},null,null,null,null,"TRBDS1_LD_DS_D",null,null,null,null,null,null,null,"TRBDS1_SD_TB_D",{"$f":"$N$56","v":"Turbocharging and Downsizing 1 (TRBDS1_SD) - TBL"},null,null,null,null,"TRBDS1_SD_DS_D",null,null,null,null,null,null,null,"TRBDS1_MD_TB_D",{"$f":"$AB$56","v":"Turbocharging and Downsizing 1 (TRBDS1_MD) - TBL"},null,null,null,null,"TRBDS1_MD_DS_D",null,null,null,null,null,null,null,"TRBDS1_LD_TB_D",{"$f":"$AP$56","v":"Turbocharging and Downsizing 1\n(TRBDS1_LD) - TBL"},null,null,null,null,"TRBDS1_LD_DS_D",null,null,null,null,null,null,null,"TRBDS1_SD_TB_O",{"$f":"$N$56","v":"Turbocharging and Downsizing 1 (TRBDS1_SD) - TBL"},null,null,null,null,"TRBDS1_SD_DS_O",null,null,null,null,null,null,null,"TRBDS1_MD_TB_O",{"$f":"$AB$56","v":"Turbocharging and Downsizing 1 (TRBDS1_MD) - TBL"},null,null,null,null,"TRBDS1_MD_DS_O",null,null,null,null,null,null,null,"TRBDS1_LD_TB_O",{"$f":"$AP$56","v":"Turbocharging and Downsizing 1\n(TRBDS1_LD) - TBL"},null,null,null,null,"TRBDS1_LD_DS_O"]
["Gas Engine Type","I4",null,null,null,null,null,null,null,null,null,"2017+","INC","%",{"$f":"1-((1-O58-AC41)/(1-AC50))","v":7.2019736900250986E-2},"$",{"$f":"Q54","v":420.06358424991754},10,null,null,null,null,null,null,null,"2017+","INC","%",{"$f":"1-((1-AC58)/(1-AC50))","v":6.6969353007945487E-2},"$",{"$f":"AE54","v":-29.267884297748708},10,null,null,null,null,null,null,null,"2017+","INC","%",{"$f":"1-((1-AQ58)/(1-AC50))","v":6.6969353007945487E-2},"$",{"$f":"AS54","v":523.48084050429873},10,null,null,null,null,null,null,null,"2017+","INC","%",{"$f":"1-((1-BE58-BS41)/(1-BS50))","v":7.2019736900250986E-2},"$",{"$f":"BG54","v":409.7126410454249},10,null,null,null,null,null,null,null,"2017+","INC","%",{"$f":"1-((1-BS58)/(1-BS50))","v":6.6969353007945487E-2},"$",{"$f":"BU54","v":-166.76046392665683},10,null,null,null,null,null,null,null,"2017+","INC","%",{"$f":"1-((1-CG58)/(1-BS50))","v":6.6969353007945487E-2},"$",{"$f":"CI54","v":372.41862046254636},10,null,null,null,null,null,null,null,"2017+","INC","%",{"$f":"1-((1-CU58-DI41)/(1-DI50))","v":6.4846416382252525E-2},"$",{"$f":"CW54","v":409.7126410454249},10,null,null,null,null,null,null,null,"2017+","INC","%",{"$f":"1-((1-DI58)/(1-DI50))","v":6.4846416382252525E-2},"$",{"$f":"DK54","v":-166.76046392665683},10,null,null,null,null,null,null,null,"2017+","INC","%",{"$f":"1-((1-DW58)/(1-DI50))","v":6.4846416382252525E-2},"$",{"$f":"DY54","v":372.41862046254636},10,null,null,null,null,null,null,null,"2017+","INC","%",{"$f":"1-((1-EK58-EY33)/(1-EY50))","v":0.11990025465644893},"$",{"$f":"EM54","v":0},10,null,null,null,null,null,null,null,"2017+","INC","%",{"$f":"1-((1-EY58)/(1-EY50))","v":6.6969353007945487E-2},"$",{"$f":"FA54","v":533.48625139315186},10,null,null,null,null,null,null,null,"2017+","INC","%",{"$f":"1-((1-FM58)/(1-EY50))","v":6.6969353007945487E-2},"$",{"$f":"FO54","v":1047.4612616201887},10]
["Displacement [L]","1.5 to 2.0",null,null,null,null,null,null,null,null,null,null,"ABS","%",0.17799999999999999,"$",{"$f":"AE50+Q57","v":989.48999138784893},"L",null,null,null,null,null,null,null,null,"ABS","%",{"$f":"$O58","v":0.17799999999999999},"$",{"$f":"AE50+AE57","v":540.15852284018274},"L",null,null,null,null,null,null,null,null,"ABS","%",{"$f":"$O58","v":0.17799999999999999},"$",{"$f":"AE50+AS57","v":1092.9072476422302},"L",null,null,null,null,null,null,null,null,"ABS","%",{"$f":"$O58","v":0.17799999999999999},"$",{"$f":"BU50+BG57","v":1017.666902125638},"L",null,null,null,null,null,null,null,null,"ABS","%",{"$f":"$O58","v":0.17799999999999999},"$",{"$f":"BU50+BU57","v":441.19379715355626},"L",null,null,null,null,null,null,null,null,"ABS","%",{"$f":"$AQ58","v":0.17799999999999999},"$",{"$f":"BU50+CI57","v":980.37288154275939},"L",null,null,null,null,null,null,null,null,"ABS","%",{"$f":"$O58","v":0.17799999999999999},"$",{"$f":"DK50+CW57","v":1076.0574890551632},"L",null,null,null,null,null,null,null,null,"ABS","%",{"$f":"$AC58","v":0.17799999999999999},"$",{"$f":"DK50+DK57","v":499.58438408308143},"L",null,null,null,null,null,null,null,null,"ABS","%",{"$f":"$AQ58","v":0.17799999999999999},"$",{"$f":"DK50+DY57","v":1038.7634684722846},"L",null,null,null,null,null,null,null,null,"ABS","%",{"$f":"$O58","v":0.17799999999999999},"$",{"$f":"FA50+EM57","v":583.7968720109501},"L",null,null,null,null,null,null,null,null,"ABS","%",{"$f":"$AC58","v":0.17799999999999999},"$",{"$f":"FA50+FA57","v":1117.2831234041018},"L",null,null,null,null,null,null,null,null,"ABS","%",{"$f":"$AQ58","v":0.17799999999999999},"$",{"$f":"FA50+FO57","v":1631.2581336311387},"L"]
["Turbocharger","FGT",null,null,null,null,null,null,null,null,null,null,null,null,null,null,null,null,null,null,null,null,null,null,null,null,null,null,null,null,null,null,null,null,null,null,null,null,null,null,null,null,null,null,null,null,null,null,null,null,null,null,null,null,null,null,{"$f":"BE57-$O$57","v":0},null,{"$f":"BG57-$Q$57","v":-10.350943204492637},null,null,null,null,null,null,null,null,null,null,null,{"$f":"BS57-$AC$57","v":0},null,{"$f":"BU57-$AE$57","v":-137.49257962890812},null,null,null,null,null,null,null,null,null,null,null,{"$f":"CG57-$AQ$57","v":0},null,{"$f":"CI57-$AS$57","v":-151.06222004175237},null,null,null,null,null,null,null,null,null,null,null,{"$f":"CU57-$O$57","v":-7.1733205179984605E-3},null,{"$f":"CW57-$Q$57","v":-10.350943204492637},null,null,null,null,null,null,null,null,null,null,null,{"$f":"DI57-$AC$57","v":-2.1229366256929616E-3},null,{"$f":"DK57-$AE$57","v":-137.49257962890812},null,null,null,null,null,null,null,null,null,null,null,{"$f":"DW57-$AQ$57","v":-2.1229366256929616E-3},null,{"$f":"DY57-$AS$57","v":-151.06222004175237},null,null,null,null,null,null,null,null,null,null,null,{"$f":"EK57-$O$57","v":4.7880517756197949E-2},null,{"$f":"EM57-$Q$57","v":-420.06358424991754},null,null,null,null,null,null,null,null,null,null,null,{"$f":"EY57-$AC$57","v":0},null,{"$f":"FA57-$AE$57","v":562.75413569090051},null,null,null,null,null,null,null,null,null,null,null,{"$f":"FM57-$AQ$57","v":0},null,{"$f":"FO57-$AS$57","v":523.98042111588995}]
["EGR system","External"]
["Valvetrain","DOHC"]
["After Treatment","3way cat",null,null,null,null,null,null,null,null,null,"2012-2016","INC","%",{"$f":"1-((1-O63)/(1-O55))","v":0},"$",0,0,null,null,null,null,null,null,null,"2012-2016","INC","%",{"$f":"1-((1-AC63)/(1-AC55))","v":0},"$",0,0,null,null,null,null,null,null,null,"2012-2016","INC","%",{"$f":"1-((1-AQ63)/(1-AQ55))","v":0},"$",0,0,null,null,null,null,null,null,null,"2012-2016","INC","%",{"$f":"1-((1-BE63)/(1-BE55))","v":0},"$",{"$f":"$Q$62","v":0},{"$f":"$R$62","v":0},null,null,null,null,null,null,null,"2012-2016","INC","%",{"$f":"1-((1-BS63)/(1-BS55))","v":0},"$",{"$f":"$AE$62","v":0},{"$f":"$AF$62","v":0},null,null,null,null,null,null,null,"2012-2016","INC","%",{"$f":"1-((1-CG63)/(1-CG55))","v":0},"$",{"$f":"$AS$62","v":0},{"$f":"$AT$62","v":0},null,null,null,null,null,null,null,"2012-2016","INC","%",{"$f":"1-((1-CU63)/(1-CU55))","v":0},"$",{"$f":"$Q$62","v":0},{"$f":"$R$62","v":0},null,null,null,null,null,null,null,"2012-2016","INC","%",{"$f":"1-((1-DI63)/(1-DI55))","v":0},"$",{"$f":"$AE$62","v":0},{"$f":"$AF$62","v":0},null,null,null,null,null,null,null,"2012-2016","INC","%",{"$f":"1-((1-DW63)/(1-DW55))","v":0},"$",{"$f":"$AS$62","v":0},{"$f":"$AT$62","v":0},null,null,null,null,null,null,null,"2012-2016","INC","%",{"$f":"$O$62","v":0},"$",{"$f":"$Q$62","v":0},{"$f":"$R$62","v":0},null,null,null,null,null,null,null,"2012-2016","INC","%",{"$f":"1-((1-EY63)/(1-EY55))","v":0},"$",{"$f":"$AE$62","v":0},{"$f":"$AF$62","v":0},null,null,null,null,null,null,null,"2012-2016","INC","%",{"$f":"1-((1-FM63)/(1-FM55))","v":0},"$",{"$f":"$AS$62","v":0},{"$f":"$AT$62","v":0}]
[null,null,null,null,null,null,null,null,null,null,null,null,"ABS","%",{"$f":"O55","v":0.16976369643234546},"$",{"$f":"Q55+Q62","v":926.64925955855733},"L",null,null,null,null,null,null,null,null,"ABS","%",{"$f":"AC55","v":0.1693966839378237},"$",{"$f":"AE55+AE62","v":477.31779101089109},"L",null,null,null,null,null,null,null,null,"ABS","%",{"$f":"AQ55","v":0.1693966839378237},"$",{"$f":"AS55+AS62","v":1030.0665158129386},"L",null,null,null,null,null,null,null,null,"ABS","%",{"$f":"BE55","v":0.1738926408732786},"$",{"$f":"BG55+BG62","v":954.8261702963465},"L",null,null,null,null,null,null,null,null,"ABS","%",{"$f":"BS55","v":0.16939668393782359},"$",{"$f":"BU55+BU62","v":378.35306532426478},"L",null,null,null,null,null,null,null,null,"ABS","%",{"$f":"CG55","v":0.16939668393782359},"$",{"$f":"CI55+CI62","v":917.53214971346802},"L",null,null,null,null,null,null,null,null,"ABS","%",{"$f":"CU55","v":0.1693966839378237},"$",{"$f":"CW55+CW62","v":1013.2167572258717},"L",null,null,null,null,null,null,null,null,"ABS","%",{"$f":"DI55","v":0.1693966839378237},"$",{"$f":"DK55+DK62","v":436.74365225378995},"L",null,null,null,null,null,null,null,null,"ABS","%",{"$f":"DW55","v":0.1693966839378237},"$",{"$f":"DY55+DY62","v":975.92273664299319},"L",null,null,null,null,null,null,null,null,"ABS","%",{"$f":"1-((1-EK55)*(1-EK62))","v":0.21143062817217828},"$",{"$f":"EM55+EM62","v":520.95614018165861},"L",null,null,null,null,null,null,null,null,"ABS","%",{"$f":"EY55","v":0.16400454029511913},"$",{"$f":"FA55+FA62","v":1054.4423915748105},"L",null,null,null,null,null,null,null,null,"ABS","%",{"$f":"FM55","v":0.16400454029511913},"$",{"$f":"FO55+FO62","v":1568.4174018018473},"L"]
[null,null,null,null,null,null,null,null,null,null,null,null,"TRBDS2_SD_TB","Turbocharging and Downsizing 2\n(TRBDS2_SD) - TBL",null,null,null,null,"TRBDS2_SD_DS",null,null,null,null,null,null,null,"TRBDS2_MD_TB","Turbocharging and Downsizing 2\n(TRBDS2_MD) - TBL",null,null,null,null,"TRBDS2_MD_DS",null,null,null,null,null,null,null,"TRBDS2_LD_TB","Turbocharging and Downsizing 2\n(TRBDS2_LD) - TBL",null,null,null,null,"TRBDS2_LD_DS",null,null,null,null,null,null,null,"TRBDS2_SD_TB",{"$f":"$N$64","v":"Turbocharging and Downsizing 2\n(TRBDS2_SD) - TBL"},null,null,null,null,"TRBDS2_SD_DS",null,null,null,null,null,null,null,"TRBDS2_MD_TB",{"$f":"$AB$64","v":"Turbocharging and Downsizing 2\n(TRBDS2_MD) - TBL"},null,null,null,null,"TRBDS2_MD_DS",null,null,null,null,null,null,null,"TRBDS2_LD_TB",{"$f":"$AP$64","v":"Turbocharging and Downsizing 2\n(TRBDS2_LD) - TBL"},null,null,null,null,"TRBDS2_LD_DS",null,null,null,null,null,null,null,"TRBDS2_SD_TB",{"$f":"$N$64","v":"Turbocharging and Downsizing 2\n(TRBDS2_SD) - TBL"},null,null,null,null,"TRBDS2_SD_DS",null,null,null,null,null,null,null,"TRBDS2_MD_TB",{"$f":"$AB$64","v":"Turbocharging and Downsizing 2\n(TRBDS2_MD) - TBL"},null,null,null,null,"TRBDS2_MD_DS",null,null,null,null,null,null,null,"TRBDS2_LD_TB","Cooled EGR 1\n(CEGR1_LD) - TBL",null,null,null,null,"TRBDS2_LD_DS",null,null,null,null,null,null,null,"TRBDS2_SD_TB",{"$f":"$N$64","v":"Turbocharging and Downsizing 2\n(TRBDS2_SD) - TBL"},null,null,null,null,"TRBDS2_SD_DS",null,null,null,null,null,null,null,"TRBDS2_MD_TB",{"$f":"$AB$64","v":"Turbocharging and Downsizing 2\n(TRBDS2_MD) - TBL"},null,null,null,null,"TRBDS2_MD_DS",null,null,null,null,null,null,null,"TRBDS2_LD_TB","Cooled EGR 1\n(CEGR1_LD) - TBL",null,null,null,null,"TRBDS2_LD_DS"]
[null,"INTERMEDIATE",null,null,null,null,null,null,null,null,null,"2017+","INC","%",{"$f":"1-((1-O66)/(1-O58))","v":2.9197080291970878E-2},"$",{"$f":"INDEX('[1]Large PC'!$H$379:$X$467,MATCH(M64,'[1]Large PC'!$C$379:$C$467,0),MATCH(Inputs!$C$2,'[1]Large PC'!$H$378:$X$378,0))\n+INDEX('[1]Large PC'!$H$379:$X$467,MATCH(S64,'[1]Large PC'!$C$379:$C$467,0),MATCH(Inputs!$C$2,'[1]Large PC'!$H$378:$X$378,0))","v":19.914246875441577},10,null,null,null,null,null,null,null,"2017+","INC","%",{"$f":"1-((1-AC66)/(1-AC58))","v":2.9197080291970878E-2},"$",{"$f":"INDEX('[1]Subcompact Perf. PC'!$H$379:$X$467,MATCH(AA64,'[1]Subcompact Perf. PC'!$C$379:$C$467,0),MATCH(Inputs!$C$2,'[1]Subcompact Perf. PC'!$H$378:$X$378,0))\n+INDEX('[1]Subcompact Perf. PC'!$H$379:$X$467,MATCH(AG64,'[1]Subcompact Perf. PC'!$C$379:$C$467,0),MATCH(Inputs!$C$2,'[1]Subcompact Perf. PC'!$H$378:$X$378,0))","v":247.5936884943545},10,null,null,null,null,null,null,null,"2017+","INC","%",{"$f":"1-((1-AQ66)/(1-AQ58))","v":2.9197080291970878E-2},"$",{"$f":"INDEX('[1]Subcompact Perf. PC'!$H$379:$X$467,MATCH(AO64,'[1]Subcompact Perf. PC'!$C$379:$C$467,0),MATCH(Inputs!$C$2,'[1]Subcompact Perf. PC'!$H$378:$X$378,0))\n+INDEX('[1]Subcompact Perf. PC'!$H$379:$X$467,MATCH(AU64,'[1]Subcompact Perf. PC'!$C$379:$C$467,0),MATCH(Inputs!$C$2,'[1]Subcompact Perf. PC'!$H$378:$X$378,0))","v":417.35470758578072},10,null,null,null,null,null,null,null,"2017+","INC","%",{"$f":"1-((1-BE66)/(1-BE58))","v":2.9197080291970878E-2},"$",{"$f":"$Q65","v":19.914246875441577},{"$f":"$R$65","v":10},null,null,null,null,null,null,null,"2017+","INC","%",{"$f":"1-((1-BS66)/(1-BS58))","v":2.9197080291970878E-2},"$",{"$f":"$AE$65","v":247.5936884943545},{"$f":"$AF$65","v":10},null,null,null,null,null,null,null,"2017+","INC","%",{"$f":"1-((1-CG66)/(1-CG58))","v":2.9197080291970878E-2},"$",{"$f":"$AS$65","v":417.35470758578072},{"$f":"$AT$65","v":10},null,null,null,null,null,null,null,"2017+","INC","%",{"$f":"1-((1-CU66)/(1-CU58))","v":2.9197080291970878E-2},"$",{"$f":"$Q65","v":19.914246875441577},{"$f":"$R$65","v":10},null,null,null,null,null,null,null,"2017+","INC","%",{"$f":"1-((1-DI66)/(1-DI58))","v":2.9197080291970878E-2},"$",{"$f":"$AE$65","v":247.5936884943545},{"$f":"$AF$65","v":10},null,null,null,null,null,null,null,"2017+","INC","%",{"$f":"1-((1-DW66)/(1-DW58))","v":2.9197080291970878E-2},"$",{"$f":"$AS$65","v":417.35470758578072},{"$f":"$AT$65","v":10},null,null,null,null,null,null,null,"2017+","INC","%",{"$f":"1-((1-EK66)/(1-EK58))","v":2.9197080291970878E-2},"$",{"$f":"$Q65","v":19.914246875441577},{"$f":"$R$65","v":10},null,null,null,null,null,null,null,"2017+","INC","%",{"$f":"1-((1-EY66)/(1-EY58))","v":2.9197080291970878E-2},"$",{"$f":"$AE$65","v":247.5936884943545},{"$f":"$AF$65","v":10},null,null,null,null,null,null,null,"2017+","INC","%",{"$f":"1-((1-FM66)/(1-FM58))","v":2.9197080291970878E-2},"$",{"$f":"$AS$65","v":417.35470758578072},{"$f":"$AT$65","v":10}]
["Gas Engine Type","I4",null,null,null,null,null,null,null,null,null,null,"ABS","%",0.20200000000000001,"$",{"$f":"Q58+Q65","v":1009.4042382632905},"L",null,null,null,null,null,null,null,null,"ABS","%",{"$f":"$O66","v":0.20200000000000001},"$",{"$f":"AE58+AE65","v":787.75221133453726},"L",null,null,null,null,null,null,null,null,"ABS","%",{"$f":"$O66","v":0.20200000000000001},"$",{"$f":"AS58+AS65","v":1510.2619552280109},"L",null,null,null,null,null,null,null,null,"ABS","%",{"$f":"$O66","v":0.20200000000000001},"$",{"$f":"BG58+BG65","v":1037.5811490010797},"L",null,null,null,null,null,null,null,null,"ABS","%",{"$f":"$O66","v":0.20200000000000001},"$",{"$f":"BU58+BU65","v":688.78748564791078},"L",null,null,null,null,null,null,null,null,"ABS","%",{"$f":"$AQ66","v":0.20200000000000001},"$",{"$f":"CI58+CI65","v":1397.7275891285401},"L",null,null,null,null,null,null,null,null,"ABS","%",{"$f":"$O66","v":0.20200000000000001},"$",{"$f":"CW58+CW65","v":1095.9717359306048},"L",null,null,null,null,null,null,null,null,"ABS","%",{"$f":"$AC66","v":0.20200000000000001},"$",{"$f":"DK58+DK65","v":747.17807257743596},"L",null,null,null,null,null,null,null,null,"ABS","%",{"$f":"$AQ66","v":0.20200000000000001},"$",{"$f":"DY58+DY65","v":1456.1181760580653},"L",null,null,null,null,null,null,null,null,"ABS","%",{"$f":"$O66","v":0.20200000000000001},"$",{"$f":"EM58+EM65","v":603.71111888639166},"L",null,null,null,null,null,null,null,null,"ABS","%",{"$f":"$AC66","v":0.20200000000000001},"$",{"$f":"FA58+FA65","v":1364.8768118984563},"L",null,null,null,null,null,null,null,null,"ABS","%",{"$f":"$AQ66","v":0.20200000000000001},"$",{"$f":"FO58+FO65","v":2048.6128412169192},"L"]
["Displacement [L]",1]
["Turbocharger","FGT"]
["EGR system","External"]
["Valvetrain","DOHC",null,null,null,null,null,null,null,null,null,"2012-2016","INC","%",{"$f":"1-((1-O71)/(1-O63))","v":0},"$",0,0,null,null,null,null,null,null,null,"2012-2016","INC","%",{"$f":"1-((1-AC71)/(1-AC63))","v":0},"$",0,0,null,null,null,null,null,null,null,"2012-2016","INC","%",{"$f":"1-((1-AQ71)/(1-AQ63))","v":0},"$",0,0,null,null,null,null,null,null,null,"2012-2016","INC","%",{"$f":"1-((1-BE71)/(1-BE63))","v":0},"$",{"$f":"$Q$70","v":0},{"$f":"$R$70","v":0},null,null,null,null,null,null,null,"2012-2016","INC","%",{"$f":"1-((1-BS71)/(1-BS63))","v":0},"$",{"$f":"$AE$70","v":0},{"$f":"$AF$70","v":0},null,null,null,null,null,null,null,"2012-2016","INC","%",{"$f":"1-((1-CG71)/(1-CG63))","v":0},"$",{"$f":"$AS$70","v":0},{"$f":"$AT$70","v":0},null,null,null,null,null,null,null,"2012-2016","INC","%",{"$f":"1-((1-CU71)/(1-CU63))","v":0},"$",{"$f":"$Q$70","v":0},{"$f":"$R$70","v":0},null,null,null,null,null,null,null,"2012-2016","INC","%",{"$f":"1-((1-DI71)/(1-DI63))","v":0},"$",{"$f":"$AE$70","v":0},{"$f":"$AF$70","v":0},null,null,null,null,null,null,null,"2012-2016","INC","%",{"$f":"1-((1-DW71)/(1-DW63))","v":0},"$",{"$f":"$AS$70","v":0},{"$f":"$AT$70","v":0},null,null,null,null,null,null,null,"2012-2016","INC","%",{"$f":"1-((1-EK71)/(1-EK63))","v":0},"$",{"$f":"$Q$70","v":0},{"$f":"$R$70","v":0},null,null,null,null,null,null,null,"2012-2016","INC","%",{"$f":"1-((1-EY71)/(1-EY63))","v":0},"$",{"$f":"$AE$70","v":0},{"$f":"$AF$70","v":0},null,null,null,null,null,null,null,"2012-2016","INC","%",{"$f":"1-((1-FM71)/(1-FM63))","v":0},"$",{"$f":"$AS$70","v":0},{"$f":"$AT$70","v":0}]
["After Treatment","3way cat",null,null,null,null,null,null,null,null,null,null,"ABS","%",{"$f":"O63","v":0.16976369643234546},"$",{"$f":"Q63+Q70","v":926.64925955855733},"L",null,null,null,null,null,null,null,null,"ABS","%",{"$f":"AC63","v":0.1693966839378237},"$",{"$f":"AE63+AE70","v":477.31779101089109},"L",null,null,null,null,null,null,null,null,"ABS","%",{"$f":"AQ63","v":0.1693966839378237},"$",{"$f":"AS63+AS70","v":1030.0665158129386},"L",null,null,null,null,null,null,null,null,"ABS","%",{"$f":"BE63","v":0.1738926408732786},"$",{"$f":"BG63+BG70","v":954.8261702963465},"L",null,null,null,null,null,null,null,null,"ABS","%",{"$f":"BS63","v":0.16939668393782359},"$",{"$f":"BU63+BU70","v":378.35306532426478},"L",null,null,null,null,null,null,null,null,"ABS","%",{"$f":"CG63","v":0.16939668393782359},"$",{"$f":"CI63+CI70","v":917.53214971346802},"L",null,null,null,null,null,null,null,null,"ABS","%",{"$f":"CU63","v":0.1693966839378237},"$",{"$f":"CW63+CW70","v":1013.2167572258717},"L",null,null,null,null,null,null,null,null,"ABS","%",{"$f":"DI63","v":0.1693966839378237},"$",{"$f":"DK63+DK70","v":436.74365225378995},"L",null,null,null,null,null,null,null,null,"ABS","%",{"$f":"DW63","v":0.1693966839378237},"$",{"$f":"DY63+DY70","v":975.92273664299319},"L",null,null,null,null,null,null,null,null,"ABS","%",{"$f":"EK63","v":0.21143062817217828},"$",{"$f":"EM63+EM70","v":520.95614018165861},"L",null,null,null,null,null,null,null,null,"ABS","%",{"$f":"EY63","v":0.16400454029511913},"$",{"$f":"FA63+FA70","v":1054.4423915748105},"L",null,null,null,null,null,null,null,null,"ABS","%",{"$f":"FM63","v":0.16400454029511913},"$",{"$f":"FO63+FO70","v":1568.4174018018473},"L"]
[null,null,null,null,null,null,null,null,null,null,null,null,"CEGR1_SD_TB","Cooled EGR 1 \n(CEGR1_SD) - TBL",null,null,null,null,"CEGR1_SD_DS",null,null,null,null,null,null,null,"CEGR1_MD_TB","Cooled EGR 1 \n(CEGR1_MD) - TBL",null,null,null,null,"CEGR1_MD_DS",null,null,null,null,null,null,null,"CEGR1_LD_TB","Cooled EGR 1 \n(CEGR1_LD) - TBL",null,null,null,null,"CEGR1_LD_DS",null,null,null,null,null,null,null,"CEGR1_SD_TB",{"$f":"$N$72","v":"Cooled EGR 1 \n(CEGR1_SD) - TBL"},null,null,null,null,"CEGR1_SD_DS",null,null,null,null,null,null,null,"CEGR1_MD_TB",{"$f":"$AB$72","v":"Cooled EGR 1 \n(CEGR1_MD) - TBL"},null,null,null,null,"CEGR1_MD_DS",null,null,null,null,null,null,null,"CEGR1_LD_TB",{"$f":"$AP$72","v":"Cooled EGR 1 \n(CEGR1_LD) - TBL"},null,null,null,null,"CEGR1_LD_DS",null,null,null,null,null,null,null,"CEGR1_SD_TB",{"$f":"$N$72","v":"Cooled EGR 1 \n(CEGR1_SD) - TBL"},null,null,null,null,"CEGR1_SD_DS",null,null,null,null,null,null,null,"CEGR1_MD_TB",{"$f":"$AB$72","v":"Cooled EGR 1 \n(CEGR1_MD) - TBL"},null,null,null,null,"CEGR1_MD_DS",null,null,null,null,null,null,null,"CEGR1_LD_TB",{"$f":"$AP$72","v":"Cooled EGR 1 \n(CEGR1_LD) - TBL"},null,null,null,null,"CEGR1_LD_DS",null,null,null,null,null,null,null,"CEGR1_SD_TB",{"$f":"$N$72","v":"Cooled EGR 1 \n(CEGR1_SD) - TBL"},null,null,null,null,"CEGR1_SD_DS",null,null,null,null,null,null,null,"CEGR1_MD_TB",{"$f":"$AB$72","v":"Cooled EGR 1 \n(CEGR1_MD) - TBL"},null,null,null,null,"CEGR1_MD_DS",null,null,null,null,null,null,null,"CEGR1_LD_TB",{"$f":"$AP$72","v":"Cooled EGR 1 \n(CEGR1_LD) - TBL"},null,null,null,null,"CEGR1_LD_DS"]
[null,null,null,null,null,null,null,null,null,null,null,"2017+","INC","%",{"$f":"1-((1-O74)/(1-O66))","v":3.6340852130325896E-2},"$",{"$f":"INDEX('[1]Large Perf. PC'!$H$379:$X$467,MATCH(M72,'[1]Large Perf. PC'!$C$379:$C$467,0),MATCH(Inputs!$C$2,'[1]Large Perf. PC'!$H$378:$X$378,0))\n+INDEX('[1]Large Perf. PC'!$H$379:$X$467,MATCH(S72,'[1]Large Perf. PC'!$C$379:$C$467,0),MATCH(Inputs!$C$2,'[1]Large Perf. PC'!$H$378:$X$378,0))","v":285.15466932220613},10,null,null,null,null,null,null,null,"2017+","INC","%",{"$f":"1-((1-AC74)/(1-AC66))","v":3.6340852130325896E-2},"$",{"$f":"INDEX('[1]Subcompact Perf. PC'!$H$379:$X$467,MATCH(AA72,'[1]Subcompact Perf. PC'!$C$379:$C$467,0),MATCH(Inputs!$C$2,'[1]Subcompact Perf. PC'!$H$378:$X$378,0))\n+INDEX('[1]Subcompact Perf. PC'!$H$379:$X$467,MATCH(AG72,'[1]Subcompact Perf. PC'!$C$379:$C$467,0),MATCH(Inputs!$C$2,'[1]Subcompact Perf. PC'!$H$378:$X$378,0))","v":285.15466932220613},10,null,null,null,null,null,null,null,"2017+","INC","%",{"$f":"1-((1-AQ74)/(1-AQ66))","v":3.6340852130325896E-2},"$",{"$f":"INDEX('[1]Subcompact Perf. PC'!$H$379:$X$467,MATCH(AO72,'[1]Subcompact Perf. PC'!$C$379:$C$467,0),MATCH(Inputs!$C$2,'[1]Subcompact Perf. PC'!$H$378:$X$378,0))\n+INDEX('[1]Subcompact Perf. PC'!$H$379:$X$467,MATCH(AU72,'[1]Subcompact Perf. PC'!$C$379:$C$467,0),MATCH(Inputs!$C$2,'[1]Subcompact Perf. PC'!$H$378:$X$378,0))","v":285.15466932220613},10,null,null,null,null,null,null,null,"2017+","INC","%",{"$f":"$O$73","v":3.6340852130325896E-2},"$",{"$f":"$Q$73","v":285.15466932220613},{"$f":"$R$73","v":10},null,null,null,null,null,null,null,"2017+","INC","%",{"$f":"$AC$73","v":3.6340852130325896E-2},"$",{"$f":"$AE$73","v":285.15466932220613},{"$f":"$AF$73","v":10},null,null,null,null,null,null,null,"2017+","INC","%",{"$f":"$AQ$73","v":3.6340852130325896E-2},"$",{"$f":"$AS$73","v":285.15466932220613},{"$f":"$AT$73","v":10},null,null,null,null,null,null,null,"2017+","INC","%",{"$f":"$O$73","v":3.6340852130325896E-2},"$",{"$f":"$Q$73","v":285.15466932220613},{"$f":"$R$73","v":10},null,null,null,null,null,null,null,"2017+","INC","%",{"$f":"$AC$73","v":3.6340852130325896E-2},"$",{"$f":"$AE$73","v":285.15466932220613},{"$f":"$AF$73","v":10},null,null,null,null,null,null,null,"2017+","INC","%",{"$f":"$AQ$73","v":3.6340852130325896E-2},"$",{"$f":"$AS$73","v":285.15466932220613},{"$f":"$AT$73","v":10},null,null,null,null,null,null,null,"2017+","INC","%",{"$f":"$O$73","v":3.6340852130325896E-2},"$",{"$f":"$Q$73","v":285.15466932220613},{"$f":"$R$73","v":10},null,null,null,null,null,null,null,"2017+","INC","%",{"$f":"$AC$73","v":3.6340852130325896E-2},"$",{"$f":"$AE$73","v":285.15466932220613},{"$f":"$AF$73","v":10},null,null,null,null,null,null,null,"2017+","INC","%",{"$f":"$AQ$73","v":3.6340852130325896E-2},"$",{"$f":"$AS$73","v":285.15466932220613},{"$f":"$AT$73","v":10}]
[null,null,null,null,null,null,null,null,null,null,null,null,"ABS","%",0.23100000000000001,"$",{"$f":"Q66+Q73","v":1294.5589075854966},"L",null,null,null,null,null,null,null,null,"ABS","%",{"$f":"O74","v":0.23100000000000001},"$",{"$f":"AE66+AE73","v":1072.9068806567434},"L",null,null,null,null,null,null,null,null,"ABS","%",{"$f":"O74","v":0.23100000000000001},"$",{"$f":"AS66+AS73","v":1795.416624550217},"L",null,null,null,null,null,null,null,null,"ABS","%",{"$f":"1-((1-BE66)*(1-BE73))","v":0.23099999999999998},"$",{"$f":"BG66+BG73","v":1322.7358183232859},"L",null,null,null,null,null,null,null,null,"ABS","%",{"$f":"$O74","v":0.23100000000000001},"$",{"$f":"BU66+BU73","v":973.94215497011692},"L",null,null,null,null,null,null,null,null,"ABS","%",{"$f":"$AQ74","v":0.23100000000000001},"$",{"$f":"CI66+CI73","v":1682.8822584507461},"L",null,null,null,null,null,null,null,null,"ABS","%",{"$f":"$O74","v":0.23100000000000001},"$",{"$f":"CW66+CW73","v":1381.1264052528109},"L",null,null,null,null,null,null,null,null,"ABS","%",{"$f":"$AC74","v":0.23100000000000001},"$",{"$f":"DK66+DK73","v":1032.3327418996421},"L",null,null,null,null,null,null,null,null,"ABS","%",{"$f":"$AQ74","v":0.23100000000000001},"$",{"$f":"DY66+DY73","v":1741.2728453802715},"L",null,null,null,null,null,null,null,null,"ABS","%",{"$f":"$O74","v":0.23100000000000001},"$",{"$f":"EM66+EM73","v":888.86578820859779},"L",null,null,null,null,null,null,null,null,"ABS","%",{"$f":"$AC74","v":0.23100000000000001},"$",{"$f":"FA66+FA73","v":1650.0314812206625},"L",null,null,null,null,null,null,null,null,"ABS","%",{"$f":"$AQ74","v":0.23100000000000001},"$",{"$f":"FO66+FO73","v":2333.7675105391254},"L"]
[]
[]
[]
[null,null,null,null,null,null,null,null,null,null,null,"2012-2016","INC","%",{"$f":"1-((1-O79)/(1-O71))","v":0},"$",0,0,null,null,null,null,null,null,null,"2012-2016","INC","%",{"$f":"1-((1-AC79)/(1-AC71))","v":0},"$",0,0,null,null,null,null,null,null,null,"2012-2016","INC","%",{"$f":"1-((1-AQ79)/(1-AQ71))","v":0},"$",0,0,null,null,null,null,null,null,null,"2012-2016","INC","%",{"$f":"1-((1-BE79)/(1-BE71))","v":0},"$",{"$f":"$Q$78","v":0},{"$f":"$R$78","v":0},null,null,null,null,null,null,null,"2012-2016","INC","%",{"$f":"1-((1-BS79)/(1-BS71))","v":0},"$",{"$f":"$AE$78","v":0},{"$f":"$AF$78","v":0},null,null,null,null,null,null,null,"2012-2016","INC","%",{"$f":"1-((1-CG79)/(1-CG71))","v":0},"$",{"$f":"$AS$78","v":0},{"$f":"$AT$78","v":0},null,null,null,null,null,null,null,"2012-2016","INC","%",{"$f":"1-((1-CU79)/(1-CU71))","v":0},"$",{"$f":"$Q$78","v":0},{"$f":"$R$78","v":0},null,null,null,null,null,null,null,"2012-2016","INC","%",{"$f":"1-((1-DI79)/(1-DI71))","v":0},"$",{"$f":"$AE$78","v":0},{"$f":"$AF$78","v":0},null,null,null,null,null,null,null,"2012-2016","INC","%",{"$f":"1-((1-DW79)/(1-DW71))","v":0},"$",{"$f":"$AS$78","v":0},{"$f":"$AT$78","v":0},null,null,null,null,null,null,null,"2012-2016","INC","%",{"$f":"1-((1-EK79)/(1-EK71))","v":0},"$",{"$f":"$Q$78","v":0},{"$f":"$R$78","v":0},null,null,null,null,null,null,null,"2012-2016","INC","%",{"$f":"1-((1-EY79)/(1-EY71))","v":0},"$",{"$f":"$AE$78","v":0},{"$f":"$AF$78","v":0},null,null,null,null,null,null,null,"2012-2016","INC","%",{"$f":"1-((1-FM79)/(1-FM71))","v":0},"$",{"$f":"$AS$78","v":0},{"$f":"$AT$78","v":0}]
[null,null,null,null,null,null,null,null,null,null,null,null,"ABS","%",{"$f":"O71","v":0.16976369643234546},"$",{"$f":"Q71+Q78","v":926.64925955855733},"L",null,null,null,null,null,null,null,null,"ABS","%",{"$f":"AC71","v":0.1693966839378237},"$",{"$f":"AE71+AE78","v":477.31779101089109},"L",null,null,null,null,null,null,null,null,"ABS","%",{"$f":"AQ71","v":0.1693966839378237},"$",{"$f":"AS71+AS78","v":1030.0665158129386},"L",null,null,null,null,null,null,null,null,"ABS","%",{"$f":"BE71","v":0.1738926408732786},"$",{"$f":"BG71+BG78","v":954.8261702963465},"L",null,null,null,null,null,null,null,null,"ABS","%",{"$f":"BS71","v":0.16939668393782359},"$",{"$f":"BU71+BU78","v":378.35306532426478},"L",null,null,null,null,null,null,null,null,"ABS","%",{"$f":"CG71","v":0.16939668393782359},"$",{"$f":"CI71+CI78","v":917.53214971346802},"L",null,null,null,null,null,null,null,null,"ABS","%",{"$f":"CU71","v":0.1693966839378237},"$",{"$f":"CW71+CW78","v":1013.2167572258717},"L",null,null,null,null,null,null,null,null,"ABS","%",{"$f":"DI71","v":0.1693966839378237},"$",{"$f":"DK71+DK78","v":436.74365225378995},"L",null,null,null,null,null,null,null,null,"ABS","%",{"$f":"DW71","v":0.1693966839378237},"$",{"$f":"DY71+DY78","v":975.92273664299319},"L",null,null,null,null,null,null,null,null,"ABS","%",{"$f":"EK71","v":0.21143062817217828},"$",{"$f":"EM71+EM78","v":520.95614018165861},"L",null,null,null,null,null,null,null,null,"ABS","%",{"$f":"EY71","v":0.16400454029511913},"$",{"$f":"FA71+FA78","v":1054.4423915748105},"L",null,null,null,null,null,null,null,null,"ABS","%",{"$f":"FM71","v":0.16400454029511913},"$",{"$f":"FO71+FO78","v":1568.4174018018473},"L"]
[null,null,null,null,null,null,null,null,null,null,null,null,"CEGR2_SD_TB","Cooled EGR 2\n(CEGR2_SD) - TBL",null,null,null,null,"CEGR2_SD_DS",null,null,null,null,null,null,null,"CEGR2_MD_TB","Cooled EGR 2\n(CEGR2_MD) - TBL",null,null,null,null,"CEGR2_MD_DS",null,null,null,null,null,null,null,"CEGR2_LD_TB","Cooled EGR 2\n(CEGR2_LD) - TBL",null,null,null,null,"CEGR2_LD_DS",null,null,null,null,null,null,null,"CEGR2_SD_TB",{"$f":"$N$80","v":"Cooled EGR 2\n(CEGR2_SD) - TBL"},null,null,null,null,"CEGR2_SD_DS",null,null,null,null,null,null,null,"CEGR2_MD_TB",{"$f":"$AB$80","v":"Cooled EGR 2\n(CEGR2_MD) - TBL"},null,null,null,null,"CEGR2_MD_DS",null,null,null,null,null,null,null,"CEGR2_LD_TB",{"$f":"$AP$80","v":"Cooled EGR 2\n(CEGR2_LD) - TBL"},null,null,null,null,"CEGR2_LD_DS",null,null,null,null,null,null,null,"CEGR2_SD_TB",{"$f":"$N$80","v":"Cooled EGR 2\n(CEGR2_SD) - TBL"},null,null,null,null,"CEGR2_SD_DS",null,null,null,null,null,null,null,"CEGR2_MD_TB",{"$f":"$AB$80","v":"Cooled EGR 2\n(CEGR2_MD) - TBL"},null,null,null,null,"CEGR2_MD_DS",null,null,null,null,null,null,null,"CEGR2_LD_TB",{"$f":"$AP$80","v":"Cooled EGR 2\n(CEGR2_LD) - TBL"},null,null,null,null,"CEGR2_LD_DS",null,null,null,null,null,null,null,"CEGR2_SD_TB",{"$f":"$N$80","v":"Cooled EGR 2\n(CEGR2_SD) - TBL"},null,null,null,null,"CEGR2_SD_DS",null,null,null,null,null,null,null,"CEGR2_MD_TB",{"$f":"$AB$80","v":"Cooled EGR 2\n(CEGR2_MD) - TBL"},null,null,null,null,"CEGR2_MD_DS",null,null,null,null,null,null,null,"CEGR2_LD_TB",{"$f":"$AP$80","v":"Cooled EGR 2\n(CEGR2_LD) - TBL"},null,null,null,null,"CEGR2_LD_DS"]
[null,"STOP",null,null,null,null,null,null,null,null,null,"2017+","INC","%",{"$f":"1-((1-O82)/(1-O74))","v":1.040312093628093E-2},"$",{"$f":"INDEX('[1]Subcompact Perf. PC'!$H$379:$X$467,MATCH(M80,'[1]Subcompact Perf. PC'!$C$379:$C$467,0),MATCH(Inputs!$C$2,'[1]Subcompact Perf. PC'!$H$378:$X$378,0))\n+INDEX('[1]Subcompact Perf. PC'!$H$379:$X$467,MATCH(S80,'[1]Subcompact Perf. PC'!$C$379:$C$467,0),MATCH(Inputs!$C$2,'[1]Subcompact Perf. PC'!$H$378:$X$378,0))","v":495.18737698870899},10,null,null,null,null,null,null,null,"2017+","INC","%",{"$f":"1-((1-AC82)/(1-AC74))","v":1.040312093628093E-2},"$",{"$f":"INDEX('[1]Subcompact Perf. PC'!$H$379:$X$467,MATCH(AA80,'[1]Subcompact Perf. PC'!$C$379:$C$467,0),MATCH(Inputs!$C$2,'[1]Subcompact Perf. PC'!$H$378:$X$378,0))\n+INDEX('[1]Subcompact Perf. PC'!$H$379:$X$467,MATCH(AG80,'[1]Subcompact Perf. PC'!$C$379:$C$467,0),MATCH(Inputs!$C$2,'[1]Subcompact Perf. PC'!$H$378:$X$378,0))","v":495.18737698870899},10,null,null,null,null,null,null,null,"2017+","INC","%",{"$f":"1-((1-AQ82)/(1-AQ74))","v":1.040312093628093E-2},"$",{"$f":"INDEX('[1]Subcompact Perf. PC'!$H$379:$X$467,MATCH(AO80,'[1]Subcompact Perf. PC'!$C$379:$C$467,0),MATCH(Inputs!$C$2,'[1]Subcompact Perf. PC'!$H$378:$X$378,0))\n+INDEX('[1]Subcompact Perf. PC'!$H$379:$X$467,MATCH(AU80,'[1]Subcompact Perf. PC'!$C$379:$C$467,0),MATCH(Inputs!$C$2,'[1]Subcompact Perf. PC'!$H$378:$X$378,0))","v":-296.67298355204559},10,null,null,null,null,null,null,null,"2017+","INC","%",{"$f":"$O$81","v":1.040312093628093E-2},"$",{"$f":"$Q$81","v":495.18737698870899},{"$f":"$R$81","v":10},null,null,null,null,null,null,null,"2017+","INC","%",{"$f":"$AC$81","v":1.040312093628093E-2},"$",{"$f":"$AE$81","v":495.18737698870899},{"$f":"$AF$81","v":10},null,null,null,null,null,null,null,"2017+","INC","%",{"$f":"$AQ$81","v":1.040312093628093E-2},"$",{"$f":"$AS$81","v":-296.67298355204559},{"$f":"$AT$81","v":10},null,null,null,null,null,null,null,"2017+","INC","%",{"$f":"$O$81","v":1.040312093628093E-2},"$",{"$f":"$Q$81","v":495.18737698870899},{"$f":"$R$81","v":10},null,null,null,null,null,null,null,"2017+","INC","%",{"$f":"$AC$81","v":1.040312093628093E-2},"$",{"$f":"$AE$81","v":495.18737698870899},{"$f":"$AF$81","v":10},null,null,null,null,null,null,null,"2017+","INC","%",{"$f":"$AQ$81","v":1.040312093628093E-2},"$",{"$f":"$AS$81","v":-296.67298355204559},{"$f":"$AT$81","v":10},null,null,null,null,null,null,null,"2017+","INC","%",{"$f":"$O$81","v":1.040312093628093E-2},"$",{"$f":"$Q$81","v":495.18737698870899},{"$f":"$R$81","v":10},null,null,null,null,null,null,null,"2017+","INC","%",{"$f":"$AC$81","v":1.040312093628093E-2},"$",{"$f":"$AE$81","v":495.18737698870899},{"$f":"$AF$81","v":10},null,null,null,null,null,null,null,"2017+","INC","%",{"$f":"$AQ$81","v":1.040312093628093E-2},"$",{"$f":"$AS$81","v":-296.67298355204559},{"$f":"$AT$81","v":10}]
["Diesel Engine Type","I4",null,null,null,null,null,null,null,null,null,null,"ABS","%",0.23899999999999999,"$",{"$f":"Q74+Q81","v":1789.7462845742057},"L",null,null,null,null,null,null,null,null,"ABS","%",{"$f":"O82","v":0.23899999999999999},"$",{"$f":"AE74+AE81","v":1568.0942576454524},"L",null,null,null,null,null,null,null,null,"ABS","%",{"$f":"O82","v":0.23899999999999999},"$",{"$f":"AS74+AS81","v":1498.7436409981715},"L",null,null,null,null,null,null,null,null,"ABS","%",{"$f":"1-((1-BE74)*(1-BE81))","v":0.23899999999999999},"$",{"$f":"BG74+BG81","v":1817.923195311995},"L",null,null,null,null,null,null,null,null,"ABS","%",{"$f":"$O82","v":0.23899999999999999},"$",{"$f":"BU74+BU81","v":1469.129531958826},"L",null,null,null,null,null,null,null,null,"ABS","%",{"$f":"$AQ82","v":0.23899999999999999},"$",{"$f":"CI74+CI81","v":1386.2092748987006},"L",null,null,null,null,null,null,null,null,"ABS","%",{"$f":"$O82","v":0.23899999999999999},"$",{"$f":"CW74+CW81","v":1876.3137822415199},"L",null,null,null,null,null,null,null,null,"ABS","%",{"$f":"$AC82","v":0.23899999999999999},"$",{"$f":"DK74+DK81","v":1527.5201188883511},"L",null,null,null,null,null,null,null,null,"ABS","%",{"$f":"$AQ82","v":0.23899999999999999},"$",{"$f":"DY74+DY81","v":1444.599861828226},"L",null,null,null,null,null,null,null,null,"ABS","%",{"$f":"$O82","v":0.23899999999999999},"$",{"$f":"EM74+EM81","v":1384.0531651973067},"L",null,null,null,null,null,null,null,null,"ABS","%",{"$f":"$AC82","v":0.23899999999999999},"$",{"$f":"FA74+FA81","v":2145.2188582093713},"L",null,null,null,null,null,null,null,null,"ABS","%",{"$f":"$AQ82","v":0.23899999999999999},"$",{"$f":"FO74+FO81","v":2037.0945269870799},"L"]
["Displacement [L]","1.5 to 2.0"]
["Turbocharger","VNT"]
["EGR system","cooler+vlv+bypass vlv"]
["FIE","HPCR 1800bar solenoid",null,null,"2012-2016","INC","%",{"$f":"1-((1-H87)/(1-O79))","v":0},"$",0,"L","2012-2016","INC","%",0,"$",0,0,"2012-2016","INC","%",{"$f":"1-((1-V87)/(1-AC79))","v":0},"$",0,"L","2012-2016","INC","%",0,"$",0,0,"2012-2016","INC","%",{"$f":"1-((1-AJ87)/(1-AQ79))","v":0},"$",0,"L","2012-2016","INC","%",0,"$",0,0,"2012-2016","INC","%",{"$f":"1-((1-AX87)/(1-BE79))","v":-4.9980724603371218E-3},"$",0,"L","2012-2016","INC","%",0,"$",0,0,"2012-2016","INC","%",{"$f":"1-((1-BL87)/(1-BS79))","v":0},"$",0,"L","2012-2016","INC","%",0,"$",0,0,"2012-2016","INC","%",{"$f":"1-((1-BZ87)/(1-CG79))","v":0},"$",0,"L","2012-2016","INC","%",0,"$",0,0,"2012-2016","INC","%",{"$f":"1-((1-CN87)/(1-CU79))","v":4.418625442789148E-4},"$",0,"L","2012-2016","INC","%",0,"$",0,0,"2012-2016","INC","%",{"$f":"1-((1-DB87)/(1-DI79))","v":0},"$",0,"L","2012-2016","INC","%",0,"$",0,0,"2012-2016","INC","%",{"$f":"1-((1-DP87)/(1-DW79))","v":0},"$",0,"L","2012-2016","INC","%",0,"$",0,0,"2012-2016","INC","%",{"$f":"1-((1-ED87)/(1-EK79))","v":-5.2838638207889366E-2},"$",0,"L","2012-2016","INC","%",0,"$",0,0,"2012-2016","INC","%",{"$f":"1-((1-ER87)/(1-EY79))","v":6.4499676165802322E-3},"$",0,"L","2012-2016","INC","%",0,"$",0,0,"2012-2016","INC","%",{"$f":"1-((1-FF87)/(1-FM79))","v":6.4499676165802322E-3},"$",0,"L","2012-2016","INC","%",0,"$",0,0]
["Valvetrain","4-valve DOHC",null,null,null,"ABS","%",{"$f":"O79","v":0.16976369643234546},"$",{"$f":"J86+Q79","v":926.64925955855733},150,null,"ABS","%",{"$f":"1-((1-O79)*(1-O86))","v":0.16976369643234546},"$",{"$f":"Q79+Q86","v":926.64925955855733},"L",null,"ABS","%",{"$f":"AC79","v":0.1693966839378237},"$",{"$f":"X86+AE79","v":477.31779101089109},200,null,"ABS","%",{"$f":"1-((1-AC79)*(1-AC86))","v":0.1693966839378237},"$",{"$f":"AE79+AE86","v":477.31779101089109},"L",null,"ABS","%",{"$f":"AQ79","v":0.1693966839378237},"$",{"$f":"AL86+AS79","v":1030.0665158129386},500,null,"ABS","%",{"$f":"1-((1-AQ79)*(1-AQ86))","v":0.1693966839378237},"$",{"$f":"AS79+AS86","v":1030.0665158129386},"L",null,"ABS","%",{"$f":"$H$87","v":0.16976369643234546},"$",{"$f":"AZ86+BG79","v":954.8261702963465},{"$f":"$K$87","v":150},null,"ABS","%",{"$f":"1-((1-BE79)*(1-BE86))","v":0.1738926408732786},"$",{"$f":"BG79+BG86","v":954.8261702963465},"L",null,"ABS","%",{"$f":"$V$87","v":0.1693966839378237},"$",{"$f":"BN86+BU79","v":378.35306532426478},{"$f":"$Y$87","v":200},null,"ABS","%",{"$f":"1-((1-BS79)*(1-BS86))","v":0.16939668393782359},"$",{"$f":"BU79+BU86","v":378.35306532426478},"L",null,"ABS","%",{"$f":"$AJ$87","v":0.1693966839378237},"$",{"$f":"CB86+CI79","v":917.53214971346802},{"$f":"$AM$87","v":500},null,"ABS","%",{"$f":"1-((1-CG79)*(1-CG86))","v":0.16939668393782359},"$",{"$f":"CI79+CI86","v":917.53214971346802},"L",null,"ABS","%",{"$f":"$H$87","v":0.16976369643234546},"$",{"$f":"CP86+CW79","v":1013.2167572258717},{"$f":"$K$87","v":150},null,"ABS","%",{"$f":"1-((1-CU79)*(1-CU86))","v":0.1693966839378237},"$",{"$f":"CW79+CW86","v":1013.2167572258717},"L",null,"ABS","%",{"$f":"$V$87","v":0.1693966839378237},"$",{"$f":"DD86+DK79","v":436.74365225378995},{"$f":"$Y$87","v":200},null,"ABS","%",{"$f":"1-((1-DI79)*(1-DI86))","v":0.1693966839378237},"$",{"$f":"DK79+DK86","v":436.74365225378995},"L",null,"ABS","%",{"$f":"$AJ$87","v":0.1693966839378237},"$",{"$f":"DR86+DY79","v":975.92273664299319},{"$f":"$AM$87","v":500},null,"ABS","%",{"$f":"1-((1-DW79)*(1-DW86))","v":0.1693966839378237},"$",{"$f":"DY79+DY86","v":975.92273664299319},"L",null,"ABS","%",{"$f":"$H$87","v":0.16976369643234546},"$",{"$f":"EF86+EM79","v":520.95614018165861},{"$f":"$K$87","v":150},null,"ABS","%",{"$f":"1-((1-EK79)*(1-EK86))","v":0.21143062817217828},"$",{"$f":"EM79+EM86","v":520.95614018165861},"L",null,"ABS","%",{"$f":"$V$87","v":0.1693966839378237},"$",{"$f":"ET86+FA79","v":1054.4423915748105},{"$f":"$Y$87","v":200},null,"ABS","%",{"$f":"1-((1-EY79)*(1-EY86))","v":0.16400454029511913},"$",{"$f":"FA79+FA86","v":1054.4423915748105},"L",null,"ABS","%",{"$f":"$AJ$87","v":0.1693966839378237},"$",{"$f":"FH86+FO79","v":1568.4174018018473},{"$f":"$AM$87","v":500},null,"ABS","%",{"$f":"1-((1-FM79)*(1-FM86))","v":0.16400454029511913},"$",{"$f":"FO79+FO86","v":1568.4174018018473},"L"]
["Valvetrain option","N/A",null,null,null,null,"Advanced Diesel\n(ADSL_SD) - TBL",null,null,null,null,"ADSL_SD",null,"To Strong Hybrids",null,null,null,null,null,null,"Advanced Diesel\n(ADSL_MD) - TBL",null,null,null,null,"ADSL_MD",null,"To Strong Hybrids",null,null,null,null,null,null,"Advanced Diesel\n(ADSL_LD) - TBL",null,null,null,null,"ADSL_LD",null,"To Strong Hybrids",null,null,null,null,null,null,"Advanced Diesel\n(ADSL_SD) - TBL",null,null,null,null,"ADSL_SD",null,"To Strong Hybrids",null,null,null,null,null,null,"Advanced Diesel\n(ADSL_MD) - TBL",null,null,null,null,"ADSL_SD",null,"To Strong Hybrids",null,null,null,null,null,null,"Advanced Diesel\n(ADSL_LD) - TBL",null,null,null,null,"ADSL_SD",null,"To Strong Hybrids",null,null,null,null,null,null,"Advanced Diesel\n(ADSL_SD) - TBL",null,null,null,null,"ADSL_SD",null,"To Strong Hybrids",null,null,null,null,null,null,"Advanced Diesel\n(ADSL_MD) - TBL",null,null,null,null,"ADSL_SD",null,"To Strong Hybrids",null,null,null,null,null,null,"Advanced Diesel\n(ADSL_LD) - TBL",null,null,null,null,"ADSL_SD",null,"To Strong Hybrids",null,null,null,null,null,null,"Advanced Diesel\n(ADSL_SD) - TBL",null,null,null,null,"ADSL_SD",null,"To Strong Hybrids",null,null,null,null,null,null,"Advanced Diesel\n(ADSL_MD) - TBL",null,null,null,null,"ADSL_SD",null,"To Strong Hybrids",null,null,null,null,null,null,"Advanced Diesel\n(ADSL_LD) - TBL",null,null,null,null,"ADSL_SD",null,"To Strong Hybrids"]
["After Treatment","DOC+LNT+DPF",null,null,"2017+","INC","%",{"$f":"1-((1-H90)/(1-O82))","v":5.5321944809461288E-2},"$",{"$f":"INDEX('[1]Subcompact Perf. PC'!$H$379:$X$467,MATCH(L88,'[1]Subcompact Perf. PC'!$C$379:$C$467,0),MATCH(Inputs!$C$2,'[1]Subcompact Perf. PC'!$H$378:$X$378,0))","v":911.04083256975923},"L","2017+","INC","%",0,"$",{"$f":"Q86","v":0},0,"2017+","INC","%",{"$f":"1-((1-V90)/(1-AC82))","v":5.5321944809461288E-2},"$",{"$f":"INDEX('[1]Subcompact Perf. PC'!$H$379:$X$467,MATCH(Z88,'[1]Subcompact Perf. PC'!$C$379:$C$467,0),MATCH(Inputs!$C$2,'[1]Subcompact Perf. PC'!$H$378:$X$378,0))","v":927.85441038425756},"L","2017+","INC","%",0,"$",{"$f":"AE86","v":0},0,"2017+","INC","%",{"$f":"1-((1-AJ90)/(1-AQ82))","v":5.5321944809461288E-2},"$",{"$f":"INDEX('[1]Subcompact Perf. PC'!$H$379:$X$467,MATCH(AN88,'[1]Subcompact Perf. PC'!$C$379:$C$467,0),MATCH(Inputs!$C$2,'[1]Subcompact Perf. PC'!$H$378:$X$378,0))","v":1811.581549062259},"L","2017+","INC","%",0,"$",{"$f":"AS86","v":0},0,"2017+","INC","%",{"$f":"1-((1-AX90)/(1-BE82))","v":5.5321944809461288E-2},"$",{"$f":"$J$89","v":911.04083256975923},"L","2017+","INC","%",0,"$",{"$f":"BG86","v":0},0,"2017+","INC","%",{"$f":"1-((1-BL90)/(1-BS82))","v":5.5321944809461288E-2},"$",{"$f":"$X$89","v":927.85441038425756},"L","2017+","INC","%",0,"$",{"$f":"BU86","v":0},0,"2017+","INC","%",{"$f":"1-((1-BZ90)/(1-CG82))","v":5.5321944809461288E-2},"$",{"$f":"$AL$89","v":1811.581549062259},"L","2017+","INC","%",0,"$",{"$f":"CI86","v":0},0,"2017+","INC","%",{"$f":"1-((1-CN90)/(1-CU82))","v":5.5321944809461288E-2},"$",{"$f":"$J$89","v":911.04083256975923},"L","2017+","INC","%",0,"$",{"$f":"CW86","v":0},0,"2017+","INC","%",{"$f":"1-((1-DB90)/(1-DI82))","v":5.5321944809461288E-2},"$",{"$f":"$X$89","v":927.85441038425756},"L","2017+","INC","%",0,"$",{"$f":"DK86","v":0},0,"2017+","INC","%",{"$f":"1-((1-DP90)/(1-DW82))","v":5.5321944809461288E-2},"$",{"$f":"$AL$89","v":1811.581549062259},"L","2017+","INC","%",0,"$",{"$f":"DY86","v":0},0,"2017+","INC","%",{"$f":"1-((1-ED90)/(1-EK82))","v":5.5321944809461288E-2},"$",{"$f":"$J$89","v":911.04083256975923},"L","2017+","INC","%",0,"$",{"$f":"EM86","v":0},0,"2017+","INC","%",{"$f":"1-((1-ER90)/(1-EY82))","v":5.5321944809461288E-2},"$",{"$f":"$X$89","v":927.85441038425756},"L","2017+","INC","%",0,"$",{"$f":"FA86","v":0},0,"2017+","INC","%",{"$f":"1-((1-FF90)/(1-FM82))","v":5.5321944809461288E-2},"$",{"$f":"$AL$89","v":1811.581549062259},"L","2017+","INC","%",0,"$",{"$f":"FO86","v":0},0]
[null,null,null,null,null,"ABS","%",0.28110000000000002,"$",{"$f":"Q82+J89","v":2700.7871171439647},150,null,"ABS","%",{"$f":"1-((1-O82)*(1-O89))","v":0.23899999999999999},"$",{"$f":"Q82+Q89","v":1789.7462845742057},"L",null,"ABS","%",{"$f":"H90","v":0.28110000000000002},"$",{"$f":"AE82+X89","v":2495.94866802971},200,null,"ABS","%",{"$f":"1-((1-AC82)*(1-AC89))","v":0.23899999999999999},"$",{"$f":"AE82+AE89","v":1568.0942576454524},"L",null,"ABS","%",{"$f":"H90","v":0.28110000000000002},"$",{"$f":"AS82+AL89","v":3310.3251900604305},500,null,"ABS","%",{"$f":"1-((1-AQ82)*(1-AQ89))","v":0.23899999999999999},"$",{"$f":"AS82+AS89","v":1498.7436409981715},"L",null,"ABS","%",{"$f":"$H$90","v":0.28110000000000002},"$",{"$f":"$J$90","v":2700.7871171439647},{"$f":"$K$90","v":150},null,"ABS","%",{"$f":"1-((1-BE82)*(1-BE89))","v":0.23899999999999999},"$",{"$f":"BG82+BG89","v":1817.923195311995},"L",null,"ABS","%",{"$f":"$V$90","v":0.28110000000000002},"$",{"$f":"$X$90","v":2495.94866802971},{"$f":"$Y$90","v":200},null,"ABS","%",{"$f":"1-((1-BS82)*(1-BS89))","v":0.23899999999999999},"$",{"$f":"BU82+BU89","v":1469.129531958826},"L",null,"ABS","%",{"$f":"$AJ$90","v":0.28110000000000002},"$",{"$f":"$AL$90","v":3310.3251900604305},{"$f":"$AM$90","v":500},null,"ABS","%",{"$f":"1-((1-CG82)*(1-CG89))","v":0.23899999999999999},"$",{"$f":"CI82+CI89","v":1386.2092748987006},"L",null,"ABS","%",{"$f":"$H$90","v":0.28110000000000002},"$",{"$f":"$J$90","v":2700.7871171439647},{"$f":"$K$90","v":150},null,"ABS","%",{"$f":"1-((1-CU82)*(1-CU89))","v":0.23899999999999999},"$",{"$f":"CW82+CW89","v":1876.3137822415199},"L",null,"ABS","%",{"$f":"$V$90","v":0.28110000000000002},"$",{"$f":"$X$90","v":2495.94866802971},{"$f":"$Y$90","v":200},null,"ABS","%",{"$f":"1-((1-DI82)*(1-DI89))","v":0.23899999999999999},"$",{"$f":"DK82+DK89","v":1527.5201188883511},"L",null,"ABS","%",{"$f":"$AJ$90","v":0.28110000000000002},"$",{"$f":"$AL$90","v":3310.3251900604305},{"$f":"$AM$90","v":500},null,"ABS","%",{"$f":"1-((1-DW82)*(1-DW89))","v":0.23899999999999999},"$",{"$f":"DY82+DY89","v":1444.599861828226},"L",null,"ABS","%",{"$f":"$H$90","v":0.28110000000000002},"$",{"$f":"$J$90","v":2700.7871171439647},{"$f":"$K$90","v":150},null,"ABS","%",{"$f":"1-((1-EK82)*(1-EK89))","v":0.23899999999999999},"$",{"$f":"EM82+EM89","v":1384.0531651973067},"L",null,"ABS","%",{"$f":"$V$90","v":0.28110000000000002},"$",{"$f":"$X$90","v":2495.94866802971},{"$f":"$Y$90","v":200},null,"ABS","%",{"$f":"1-((1-EY82)*(1-EY89))","v":0.23899999999999999},"$",{"$f":"FA82+FA89","v":2145.2188582093713},"L",null,"ABS","%",{"$f":"$AJ$90","v":0.28110000000000002},"$",{"$f":"$AL$90","v":3310.3251900604305},{"$f":"$AM$90","v":500},null,"ABS","%",{"$f":"1-((1-FM82)*(1-FM89))","v":0.23899999999999999},"$",{"$f":"FO82+FO89","v":2037.0945269870799},"L"]
[]
[]
[]
[]
[]
[]
[]
["Expanded Trans/Hybrid Technology Decision Tree"]
[]
[]
[null,null,null,null,"Electrification",null,null,null,null,null,null,null,null,null,null,null,null,null,null,null,null,"Manual Trans",null,null,null,null,null,null,null,null,null,null,null,"Auto Trans"]
[]
[null,"START",null,null,"2012-2016","INC","%",1.4999999999999999E-2,"$",{"$f":"INDEX('[1]Subcompact Perf. PC'!$H$379:$X$467,MATCH(L105,'[1]Subcompact Perf. PC'!$C$379:$C$467,0),MATCH(Inputs!$C$2,'[1]Subcompact Perf. PC'!$H$378:$X$378,0))","v":98.103282519162363},95.93,null,null,null,"START",null,null,null,"2012-2016","INC","%",2.0199999999999999E-2,"$",{"$f":"INDEX('[1]Subcompact Perf. PC'!$H$379:$X$467,MATCH(Z105,'[1]Subcompact Perf. PC'!$C$379:$C$467,0),MATCH(Inputs!$C$2,'[1]Subcompact Perf. PC'!$H$378:$X$378,0))","v":250.31750824336308},225.33,null,null,null,"START",null,null,null,"2012-2016","INC","%",2.3E-2,"$",{"$f":"INDEX('[1]Subcompact Perf. PC'!$H$379:$X$467,MATCH(AN105,'[1]Subcompact Perf. PC'!$C$379:$C$467,0),MATCH(Inputs!$C$2,'[1]Subcompact Perf. PC'!$H$378:$X$378,0))","v":55.807948333210945},54.17]
["Curb Weight (lbs)",3054,null,null,null,"ABS","%",{"$f":"H103","v":1.4999999999999999E-2},"$",{"$f":"J103","v":98.103282519162363},"L",null,null,null,"5-spd",null,null,null,null,"ABS","%",{"$f":"V103","v":2.0199999999999999E-2},"$",{"$f":"X103","v":250.31750824336308},"L",null,null,null,"4/5-spd",null,null,null,null,"ABS","%",{"$f":"AJ103","v":2.3E-2},"$",{"$f":"AL103","v":55.807948333210945},"L"]
["Engine Displacement [L]",2.7,null,null,null,null,"Electric Power\nSteering (EPS) - TBL",null,null,null,null,"EPS",null,null,"Manual",null,null,null,null,null,"6 Speed Man/Imp.\nInternals (6MAN) - TBL",null,null,null,null,"6MAN",null,null,"Auto",null,null,null,null,null,"Imp. Auto Trans Cnrt./\nExternals (IATC) - TBL",null,null,null,null,"IATC"]
["Engine Power (HP)",260,null,null,"2017+","INC","%",{"$f":"H103","v":1.4999999999999999E-2},"$",{"$f":"J103","v":98.103282519162363},{"$f":"K103","v":95.93},null,null,null,null,null,null,null,"2017+","INC","%",2.0199999999999999E-2,"$",{"$f":"X103","v":250.31750824336308},225.33,null,null,null,null,null,null,null,"2017+","INC","%",2.3E-2,"$",{"$f":"AL103","v":55.807948333210945},54.17]
["Engine Torque (ft-lbf)",250,null,null,null,"ABS","%",{"$f":"H106","v":1.4999999999999999E-2},"$",{"$f":"J106","v":98.103282519162363},"L",null,null,null,null,null,null,null,null,"ABS","%",{"$f":"V106","v":2.0199999999999999E-2},"$",{"$f":"X106","v":250.31750824336308},"L",null,null,null,null,null,null,null,null,"ABS","%",{"$f":"AJ106","v":2.3E-2},"$",{"$f":"AL106","v":55.807948333210945},"L"]
["Footprint (ft2)",40]
[]
[]
[null,null,null,null,"2012-2016","INC","%",{"$f":"1-((1-H112)/(1-H104))","v":1.2182741116751328E-2},"$",{"$f":"INDEX('[1]Subcompact Perf. PC'!$H$379:$X$467,MATCH(L113,'[1]Subcompact Perf. PC'!$C$379:$C$467,0),MATCH(Inputs!$C$2,'[1]Subcompact Perf. PC'!$H$378:$X$378,0))","v":79.784981333734891},115.2,null,null,null,null,null,null,null,"2012-2016","INC","%",0,"$",0,100.55,null,null,null,null,null,null,null,"2012-2016","INC","%",{"$f":"1-((1-AJ112)/(1-AJ104))","v":1.8890497623293312E-2},"$",{"$f":"INDEX('[1]Subcompact Perf. PC'!$H$379:$X$467,MATCH(AN113,'[1]Subcompact Perf. PC'!$C$379:$C$467,0),MATCH(Inputs!$C$2,'[1]Subcompact Perf. PC'!$H$378:$X$378,0))","v":-37.91558007744085},100.55]
[null,null,null,null,null,"ABS","%",2.7E-2,"$",{"$f":"J104+J111","v":177.88826385289724},"L",null,null,null,null,null,null,null,null,"ABS","%",{"$f":"V104","v":2.0199999999999999E-2},"$",{"$f":"X111+X104","v":250.31750824336308},"L",null,null,null,null,null,null,null,null,"ABS","%",{"$f":"1-((1-5.2%)/(1-1.1%))","v":4.1456016177957578E-2},"$",{"$f":"AL111+AL104","v":17.892368255770094},"L"]
[null,null,null,null,null,null,"Improved Accessories 1\n(IACC1) - TBL",null,null,null,null,"IACC1",null,null,"From Engine Path\n2012-2016 ",null,null,null,null,null,"High Eff. Gearbox \n(Manual) -  (HETRANSM) - TBL",null,null,null,null,"HETRANS",null,null,null,null,null,null,null,null,"6-spd Auto Trans w/Imp\nInternals (NAUTO) - TBL",null,null,null,null,"NAUTO"]
[null,null,null,null,"2017+","INC","%",{"$f":"1-((1-H115)/(1-H107))","v":1.2182741116751328E-2},"$",{"$f":"J111","v":79.784981333734891},{"$f":"K111","v":115.2},null,null,null,null,null,null,null,"2017+","INC","%",{"$f":"1-((1-V115)/(1-V107))","v":3.4398572854509091E-2},"$",{"$f":"INDEX('[1]Subcompact Perf. PC'!$H$379:$X$467,MATCH(Z113,'[1]Subcompact Perf. PC'!$C$379:$C$467,0),MATCH(Inputs!$C$2,'[1]Subcompact Perf. PC'!$H$378:$X$378,0))","v":227.42624881754446},10,null,null,null,null,null,null,null,"2017+","INC","%",{"$f":"1-((1-AJ115)/(1-AJ107))","v":1.8890497623293312E-2},"$",{"$f":"AL111","v":-37.91558007744085},10]
[null,null,null,null,null,"ABS","%",{"$f":"H112","v":2.7E-2},"$",{"$f":"J107+J114","v":177.88826385289724},"L",null,null,null,null,null,null,null,null,"ABS","%",{"$f":"1-((1-6.45%)/(1-1.12%))","v":5.390372168284796E-2},"$",{"$f":"X107+X114","v":477.74375706090757},"L",null,null,null,null,null,null,null,null,"ABS","%",{"$f":"AJ112","v":4.1456016177957578E-2},"$",{"$f":"AL107+AL114","v":17.892368255770094},"L"]
[]
[]
[]
[null,null,null,null,"2012-2016","INC","%",{"$f":"1-((1-H120)/(1-H112))","v":0},"$",0,0,"2012-2016","INC","%",{"$f":"1-((1-O120)/(((1-$O$87)*(1-$H$136)*(1-AJ144))))","v":7.8191606787684886E-2},"$",{"$f":"INDEX('[1]Subcompact Perf. PC'!$H$379:$X$467,MATCH(M121,'[1]Subcompact Perf. PC'!$C$379:$C$467,0),MATCH(Inputs!$C$2,'[1]Subcompact Perf. PC'!$H$378:$X$378,0))\n+INDEX('[1]Subcompact Perf. PC'!$H$379:$X$467,MATCH(S121,'[1]Subcompact Perf. PC'!$C$379:$C$467,0),MATCH(Inputs!$C$2,'[1]Subcompact Perf. PC'!$H$378:$X$378,0))","v":1530.1516793900498},"L",null,null,null,null,null,null,null,null,null,null,null,null,null,null,"2012-2016","INC","%",{"$f":"1-((1-AJ120)/(1-AJ112))","v":3.3755274261603296E-2},"$",{"$f":"INDEX('[1]Subcompact Perf. PC'!$H$379:$X$467,MATCH(AN121,'[1]Subcompact Perf. PC'!$C$379:$C$467,0),MATCH(Inputs!$C$2,'[1]Subcompact Perf. PC'!$H$378:$X$378,0))","v":-79.182210630830212},-10.47]
[null,null,null,null,null,"ABS","%",{"$f":"H112","v":2.7E-2},"$",{"$f":"J112+J119","v":177.88826385289724},"L",null,"ABS","%",0.40300000000000002,"$",{"$f":"J136+Q119+Q87+AL144","v":3965.0486906751157},33.86,null,null,null,null,null,null,null,null,null,null,null,null,null,null,null,"ABS","%",{"$f":"1-((1-8.4%)/(1-1.1%))","v":7.3811931243680462E-2},"$",{"$f":"AL119+AL112","v":-61.289842375060118},"L"]
[null,null,null,null,null,null,"Improved Accessories 2\n(IACC2) - TBL",null,null,null,null,"IACC2","SHEV1_B","Strong Hybrid (Powersplit or 2-Mode) (SHEV1) - VBL",null,null,null,null,"SHEV1_NB",null,null,"From Engine Path\n2017+ ",null,null,null,null,null,null,null,null,null,null,null,null,"6-spd Dual Clutch Trans\n(DCT) - TBL",null,null,null,null,"DCT"]
[null,null,null,null,"2017+","INC","%",{"$f":"1-((1-H123)/(1-H115))","v":1.8499486125385434E-2},"$",{"$f":"INDEX('[1]Subcompact Perf. PC'!$H$379:$X$467,MATCH(L121,'[1]Subcompact Perf. PC'!$C$379:$C$467,0),MATCH(Inputs!$C$2,'[1]Subcompact Perf. PC'!$H$378:$X$378,0))","v":50.780571415814975},0,"2017+","INC","%",0,"$",0,"L",null,null,null,null,null,null,null,null,null,null,null,null,null,null,"2017+","INC","%",{"$f":"1-((1-AJ123)/(1-AJ115))","v":3.3755274261603296E-2},"$",{"$f":"AL119","v":-79.182210630830212},{"$f":"AM119","v":-10.47}]
[null,null,null,null,null,"ABS","%",4.4999999999999998E-2,"$",{"$f":"J115+J122","v":228.6688352687122},"L",null,"ABS","%",0,"$",{"$f":"Q116+Q122","v":0},0,null,null,null,null,null,null,null,null,null,null,null,null,null,null,null,"ABS","%",{"$f":"AJ120","v":7.3811931243680462E-2},"$",{"$f":"AL115+AL122","v":-61.289842375060118},"L"]
[]
[]
[]
[null,null,null,null,"2012-2016","INC","%",{"$f":"H130","v":1.6753926701570609E-2},"$",{"$f":"INDEX('[1]Subcompact Perf. PC'!$H$379:$X$467,MATCH(L129,'[1]Subcompact Perf. PC'!$C$379:$C$467,0),MATCH(Inputs!$C$2,'[1]Subcompact Perf. PC'!$H$378:$X$378,0))","v":273.82112054570302},259.67,"2012-2016","INC","%","n/a","$","n/a","L","2012-2016","INC","%",{"$f":"1-((1-V128)/(((1-$O$87)*(1-$H$136)*(1-AJ144))))","v":-0.54406766032213594},"$",0,"L",null,null,null,null,null,null,null,"2012-2016","INC","%",{"$f":"AJ130","v":4.4759825327510994E-2},"$",{"$f":"INDEX('[1]Subcompact Perf. PC'!$H$379:$X$467,MATCH(AN129,'[1]Subcompact Perf. PC'!$C$379:$C$467,0),MATCH(Inputs!$C$2,'[1]Subcompact Perf. PC'!$H$378:$X$378,0))","v":223.31892374342101},0]
[null,null,null,null,null,"ABS","%",{"$f":"H127+H120","v":4.3753926701570606E-2},"$",{"$f":"J120+J127","v":451.70938439860026},"L",null,"ABS","%","n/a","$","n/a",0,null,"ABS","%",0,"$",0,0,null,null,null,null,null,null,null,null,"ABS","%",{"$f":"AJ131","v":0.11526794742163804},"$",{"$f":"AL120+AL127","v":162.02908136836089},"M"]
[null,null,null,null,null,null,"12V Micro Hybrid - Stop-Start\n(MHEV) - TBL",null,null,null,null,"MHEV",null,"SHEV1 --> SHEV2",null,null,null,null,null,"SHEV2_B","Strong Hybrid (P2 Parallel or 2-Mode) (SHEV2) - VBL",null,null,null,null,"SHEV2_NB",null,null,null,null,null,null,null,null,"8-spd Trans (Auto or DCT)\n(8SPD) - TBL",null,null,null,null,"8SPD"]
[null,null,null,null,"2017+","INC","%",{"$f":"1-((1-H131)/(1-H123))","v":1.6753926701570609E-2},"$",{"$f":"J127","v":273.82112054570302},{"$f":"K127","v":259.67},"2017+","INC","%",{"$f":"1-((1-V131)/(1-O120))","v":0.10050251256281417},"$",{"$f":"Q131-Q120","v":1132.2573088121644},"L","2017+","INC","%",{"$f":"1-((1-V131)/(((1-$O$90)*(1-$H$139)*(1-AJ147))))","v":3.008023984753494E-2},"$",{"$f":"INDEX('[1]Subcompact Perf. PC'!$H$379:$X$467,MATCH(T129,'[1]Subcompact Perf. PC'!$C$379:$C$467,0),MATCH(Inputs!$C$2,'[1]Subcompact Perf. PC'!$H$378:$X$378,0))\n+INDEX('[1]Subcompact Perf. PC'!$H$379:$X$467,MATCH(Z129,'[1]Subcompact Perf. PC'!$C$379:$C$467,0),MATCH(Inputs!$C$2,'[1]Subcompact Perf. PC'!$H$378:$X$378,0))","v":1519.5927583985704},"L",null,null,null,null,null,null,null,"2017+","INC","%",{"$f":"1-((1-AJ131)/(1-AJ123))","v":4.4759825327510994E-2},"$",{"$f":"AL127","v":223.31892374342101},10]
[null,null,null,null,null,"ABS","%",6.0999999999999999E-2,"$",{"$f":"J123+J130","v":502.48995581441523},"L",null,"ABS","%",{"$f":"V131","v":0.46300000000000002},"$",{"$f":"X130+J139+Q90+AL147","v":5097.3059994872801},0,null,"ABS","%",0.46300000000000002,"$",{"$f":"X130+J139+Q90+AL147","v":5097.3059994872801},33.86,null,null,null,null,null,null,null,null,"ABS","%",{"$f":"1-((1-12.5%)/(1-1.1%))","v":0.11526794742163804},"$",{"$f":"AL123+AL130","v":162.02908136836089},"L"]
[]
[]
[]
[null,null,null,null,"2012-2016","INC","%",{"$f":"H138","v":7.4547390841320671E-2},"$",{"$f":"INDEX('[1]Large Perf. PC'!$H$379:$X$467,MATCH(F137,'[1]Large Perf. PC'!$C$379:$C$467,0),MATCH(Inputs!$C$2,'[1]Large Perf. PC'!$H$378:$X$378,0))\n+INDEX('[1]Large Perf. PC'!$H$379:$X$467,MATCH(L137,'[1]Large Perf. PC'!$C$379:$C$467,0),MATCH(Inputs!$C$2,'[1]Large Perf. PC'!$H$378:$X$378,0))","v":894.50928595954747},"L",null,null,null,null,null,null,null,"2012-2016","INC","%",{"$f":"1-((1-V136)/(1-V128))","v":0.35},"$",0,"L",null,null,null,null,null,null,null,"2012-2016","INC","%",{"$f":"1-((1-AJ136)/(1-AJ128))","v":0},"$",0,10]
[null,null,null,null,null,"ABS","%",{"$f":"H135+H128","v":0.11830131754289128},"$",{"$f":"J128+J135","v":1346.2186703581478},33.86,null,null,null,null,null,null,null,null,"ABS","%",0.35,"$",{"$f":"X135+X128","v":0},33.86,null,null,null,null,null,null,null,null,"ABS","%",{"$f":"AJ128","v":0.11526794742163804},"$",{"$f":"AL128+AL135","v":162.02908136836089},"L"]
[null,null,null,null,null,"ISG_B","Integrated Starter Generator\n(ISG) - VBL",null,null,null,null,"ISG_NB",null,null,null,null,null,null,null,"PHEV2_B","Plug-in Hybrid - 30 Mile Range  (PHEV1) - VBL",null,null,null,null,"PHEV2_NB",null,null,null,null,null,null,null,null,"High Eff. Gearbox\n(Auto or DCT) -  (HETRANS) - TBL",null,null,null,null,"HETRANS"]
[null,null,null,null,"2017+","INC","%",{"$f":"1-((1-H139)/(1-H131))","v":7.4547390841320671E-2},"$",{"$f":"J135","v":894.50928595954747},"L",null,null,null,null,null,null,null,"2017+","INC","%",0.40649999999999997,"$",{"$f":"INDEX('[1]Subcompact Perf. PC'!$H$379:$X$467,MATCH(T137,'[1]Subcompact Perf. PC'!$C$379:$C$467,0),MATCH(Inputs!$C$2,'[1]Subcompact Perf. PC'!$H$378:$X$378,0))\n+INDEX('[1]Subcompact Perf. PC'!$H$379:$X$467,MATCH(Z138,'[1]Subcompact Perf. PC'!$C$379:$C$467,0),MATCH(Inputs!$C$2,'[1]Subcompact Perf. PC'!$H$378:$X$378,0))\n+INDEX('[1]Subcompact Perf. PC'!$H$379:$X$467,MATCH(Z139,'[1]Subcompact Perf. PC'!$C$379:$C$467,0),MATCH(Inputs!$C$2,'[1]Subcompact Perf. PC'!$H$378:$X$378,0))\n+INDEX('[1]Subcompact Perf. PC'!$H$379:$X$467,MATCH(Z137,'[1]Subcompact Perf. PC'!$C$379:$C$467,0),MATCH(Inputs!$C$2,'[1]Subcompact Perf. PC'!$H$378:$X$378,0))","v":8231.3664634384349},"L","PHEV2_C",null,null,null,null,null,null,"2017+","INC","%",{"$f":"1-((1-AJ139)/(1-AJ131))","v":2.1714285714285686E-2},"$",{"$f":"INDEX('[1]Subcompact Perf. PC'!$H$379:$X$467,MATCH(AN137,'[1]Subcompact Perf. PC'!$C$379:$C$467,0),MATCH(Inputs!$C$2,'[1]Subcompact Perf. PC'!$H$378:$X$378,0))","v":227.42624881754446},10]
[null,null,null,null,null,"ABS","%",{"$f":"11.6%+H106","v":0.13100000000000001},"$",{"$f":"J131+J138","v":1396.9992417739627},33.86,null,null,null,null,null,null,null,null,"ABS","%",{"$f":"1-((1-V131)*(1-V138))","v":0.68129050000000002},"$",{"$f":"X138+X131","v":13328.672462925715},33.86,"CHRG_L",null,null,null,null,null,null,null,"ABS","%",{"$f":"1-((1-14.4%)/(1-1.1%))","v":0.13447927199191101},"$",{"$f":"AL131+AL138","v":389.45533018590538},"L"]
[]
[]
[]
[null,null,null,null,null,null,null,null,null,null,null,null,null,null,null,null,null,null,"2012-2016","INC","%",{"$f":"1-((1-V144)/(1-V136))","v":0},"$",0,"L",null,null,null,null,null,null,null,"2012-2016","INC","%",{"$f":"1-((1-AJ144)/(1-AJ136))","v":0},"$",0,10]
[null,null,null,null,null,null,null,null,null,null,null,null,null,null,null,null,null,null,null,"ABS","%",0.35,"$",{"$f":"X143+X136","v":0},33.86,null,null,null,null,null,null,null,null,"ABS","%",{"$f":"AJ136","v":0.11526794742163804},"$",{"$f":"AL136+AL143","v":162.02908136836089},"L"]
[null,null,null,null,null,null,null,null,null,"To Strong\nHybrid",null,null,null,null,null,null,null,null,null,"PHEV2_B","Plug-in Hybrid - VBL",null,null,null,null,"PHEV2_NB",null,null,null,null,null,null,null,null,"Shift Optimizer\n (SHFTOPT) - TBL",null,null,null,null,"SHFTOPT"]
[null,null,null,null,null,null,null,null,null,null,null,null,null,null,null,null,null,null,"2017+","INC","%",0,"$",0,"L","PHEV2_C",null,null,null,null,null,null,"2017+","INC","%",{"$f":"1-((1-AJ147)/(1-AJ139))","v":3.2710280373831724E-2},"$",{"$f":"INDEX('[1]Subcompact Perf. PC'!$H$379:$X$467,MATCH(AN145,'[1]Subcompact Perf. PC'!$C$379:$C$467,0),MATCH(Inputs!$C$2,'[1]Subcompact Perf. PC'!$H$378:$X$378,0))","v":1.5123845546366708},10]
[null,null,null,null,null,null,null,null,null,null,null,null,null,null,null,null,null,null,null,"ABS","%",{"$f":"1-((1-V139)*(1-V146))","v":0.68129050000000002},"$",{"$f":"X146+X139","v":13328.672462925715},33.86,null,null,null,null,null,null,null,null,"ABS","%",{"$f":"1-((1-17.2%)/(1-1.1%))","v":0.16279069767441856},"$",{"$f":"AL139+AL146","v":390.96771474054208},"L"]
[]
[]
[]
[null,null,null,null,null,null,null,null,null,null,null,null,null,null,null,null,null,null,"2012-2016","INC","%",{"$f":"1-((1-V152)/(1-V144))","v":0},"$",0,"L",null,null,null,null,null,null,null,null,null,null,null,"To Strong\n     Hybrid"]
[null,null,null,null,null,null,null,null,null,null,null,null,null,null,null,null,null,null,null,"ABS","%",0.35,"$",{"$f":"X151+X144","v":0},33.86]
[null,null,null,null,null,null,null,null,null,null,null,null,null,null,null,null,null,null,null,"EV1_B","Electric Vehicle - Early Adopter \n75 Mile Range - (EV1) - VBL",null,null,null,null,"EV1_NB"]
[null,null,null,null,null,null,null,null,null,null,null,null,null,null,null,null,null,null,"2017+","INC","%",0.68540000000000001,"$",{"$f":"INDEX('[1]Subcompact Perf. PC'!$H$379:$X$467,MATCH(T153,'[1]Subcompact Perf. PC'!$C$379:$C$467,0),MATCH(Inputs!$C$2,'[1]Subcompact Perf. PC'!$H$378:$X$378,0))\n+INDEX('[1]Subcompact Perf. PC'!$H$379:$X$467,MATCH(Z154,'[1]Subcompact Perf. PC'!$C$379:$C$467,0),MATCH(Inputs!$C$2,'[1]Subcompact Perf. PC'!$H$378:$X$378,0))\n+INDEX('[1]Subcompact Perf. PC'!$H$379:$X$467,MATCH(Z153,'[1]Subcompact Perf. PC'!$C$379:$C$467,0),MATCH(Inputs!$C$2,'[1]Subcompact Perf. PC'!$H$378:$X$378,0))","v":1606.6020143723727},"L","EV_C"]
[null,null,null,null,null,null,null,null,null,null,null,null,null,null,null,null,null,null,null,"ABS","%",{"$f":"1-((1-V147)*(1-V154))","v":0.89973399129999998},"$",{"$f":"X154+X147","v":14935.274477298088},33.86]
[]
[]
[]
[null,null,null,null,null,null,null,null,null,null,null,null,null,null,null,null,null,null,"2012-2016","INC","%",{"$f":"1-((1-V160)/(1-V152))","v":0},"$",0,"L"]
[null,null,null,null,null,null,null,null,null,null,null,null,null,null,null,null,null,null,null,"ABS","%",0.35,"$",{"$f":"X159+X152","v":0},33.86]
[null,null,null,null,null,null,null,null,null,null,null,null,null,null,null,null,null,null,null,"EV2_B","Electric Vehicle - Early Adopter \n100 Mile Range - (EV2) - VBL",null,null,null,null,"EV2_NB"]
[null,null,null,null,null,null,null,null,null,null,null,null,null,null,null,null,null,null,"2017+","INC","%",0,"$",0,"L"]
[null,null,null,null,null,null,null,null,null,null,null,null,null,null,null,null,null,null,null,"ABS","%",{"$f":"1-((1-V155)*(1-V162))","v":0.89973399129999998},"$",{"$f":"X162+X155","v":14935.274477298088},33.86]
[]
[]
[]
[null,null,null,null,null,null,null,null,null,null,null,null,null,null,null,null,null,null,"2012-2016","INC","%",{"$f":"1-((1-V168)/(1-V160))","v":0},"$",0,"L"]
[null,null,null,null,null,null,null,null,null,null,null,null,null,null,null,null,null,null,null,"ABS","%",0.35,"$",{"$f":"X167+X160","v":0},33.86]
[null,null,null,null,null,null,null,null,null,null,null,null,null,null,null,null,null,null,null,"EV3_B","Electric Vehicle - Early Adopter \n150 Mile Range - (EV3) - VBL",null,null,null,null,"EV3_NB"]
[null,null,null,null,null,null,null,null,null,null,null,null,null,null,null,null,null,null,"2017+","INC","%",0,"$",0,"L"]
[null,null,null,null,null,null,null,null,null,null,null,null,null,null,null,null,null,null,null,"ABS","%",{"$f":"1-((1-V163)*(1-V170))","v":0.89973399129999998},"$",{"$f":"X170+X163","v":14935.274477298088},33.86]
[]
[]
[]
[null,null,null,null,null,null,null,null,null,null,null,"2012-2016","INC","%",{"$f":"1-((1-O176)/(1-V168))","v":0},"$",0,"L",null,null,null,null,null,null,null,"2012-2016","INC","%",{"$f":"1-((1-AC176)/(1-V168))","v":0},"$",0,"L"]
[null,null,null,null,null,null,null,null,null,null,null,null,"ABS","%",0.35,"$",{"$f":"Q175+X168","v":0},33.86,null,null,null,null,null,null,null,null,"ABS","%",0.35,"$",{"$f":"AE175+X168","v":0},33.86]
[null,null,null,null,null,null,null,null,null,null,null,null,"EV4_B","Electric Vehicle - Mass Market \n150 Mile Range - (EV4) - VBL",null,null,null,null,"EV4_NB",null,null,null,null,null,null,null,"FCV_B","Fuel Cell Vehicle\n(FCV) - VBL",null,null,null,null,"FCV_NB"]
[null,null,null,null,null,null,null,null,null,null,null,"2017+","INC","%",0,"$",{"$f":"INDEX('[1]Subcompact Perf. PC'!$H$379:$X$467,MATCH(M177,'[1]Subcompact Perf. PC'!$C$379:$C$467,0),MATCH(Inputs!$C$2,'[1]Subcompact Perf. PC'!$H$378:$X$378,0))\n+INDEX('[1]Subcompact Perf. PC'!$H$379:$X$467,MATCH(S177,'[1]Subcompact Perf. PC'!$C$379:$C$467,0),MATCH(Inputs!$C$2,'[1]Subcompact Perf. PC'!$H$378:$X$378,0))","v":6309.7122202832888},"L",null,null,null,null,null,null,null,"2017+","INC","%",0,"$",{"$f":"INDEX('[1]Subcompact Perf. PC'!$H$379:$X$467,MATCH(AA177,'[1]Subcompact Perf. PC'!$C$379:$C$467,0),MATCH(Inputs!$C$2,'[1]Subcompact Perf. PC'!$H$378:$X$378,0))\n+INDEX('[1]Subcompact Perf. PC'!$H$379:$X$467,MATCH(AG177,'[1]Subcompact Perf. PC'!$C$379:$C$467,0),MATCH(Inputs!$C$2,'[1]Subcompact Perf. PC'!$H$378:$X$378,0))","v":{"$error":"#N/A"}},"L"]
[null,null,null,null,null,null,null,null,null,null,null,null,"ABS","%",{"$f":"1-((1-V171)*(1-O178))","v":0.89973399129999998},"$",{"$f":"Q178+X171","v":21244.986697581378},33.86,null,null,null,null,null,null,null,null,"ABS","%",{"$f":"1-((1-V171)*(1-AC178))","v":0.89973399129999998},"$",{"$f":"AE178+X171","v":{"$error":"#N/A"}},33.86]
[]
[]
[]
[]
[]
["Vehicle Technology Decision Tree"]
[]
[]
[]
[null,null,"ABS - WR",{"$f":"'[1]Subcompact Perf. PC'!$M$82","v":0},"2012-2016","INC","%",{"$f":"IF(D189<5%, D189*(3.5/10), D189*(5.1/10))","v":0},"$",{"$f":"INDEX('[1]Subcompact Perf. PC'!$H$379:$X$467,MATCH(L191,'[1]Subcompact Perf. PC'!$C$379:$C$467,0),MATCH(Inputs!$C$2,'[1]Subcompact Perf. PC'!$H$378:$X$378,0))","v":0},1.33,null,null,null,null,null,null,null,"2012-2016","INC","%",1.9E-2,"$",{"$f":"INDEX('[1]Subcompact Perf. PC'!$H$379:$X$467,MATCH(Z191,'[1]Subcompact Perf. PC'!$C$379:$C$467,0),MATCH(Inputs!$C$2,'[1]Subcompact Perf. PC'!$H$378:$X$378,0))","v":6.4396392400348512},5.15,null,null,null,null,null,null,null,"2012-2016","INC","%",8.0000000000000002E-3,"$",{"$f":"INDEX('[1]Subcompact Perf. PC'!$H$379:$X$467,MATCH(AN191,'[1]Subcompact Perf. PC'!$C$379:$C$467,0),MATCH(Inputs!$C$2,'[1]Subcompact Perf. PC'!$H$378:$X$378,0))","v":70.836031640383368},5.15,null,null,null,null,null,null,null,"2012-2016","INC","%",2.3E-2,"$",{"$f":"INDEX('[1]Subcompact Perf. PC'!$H$379:$X$467,MATCH(BB191,'[1]Subcompact Perf. PC'!$C$379:$C$467,0),MATCH(Inputs!$C$2,'[1]Subcompact Perf. PC'!$H$378:$X$378,0))","v":43.857938067390236},5.15]
[null,null,null,null,null,"ABS","%",{"$f":"H189","v":0},"$",{"$f":"J189","v":0},"L",null,null,null,null,null,null,null,null,"ABS","%",{"$f":"V189","v":1.9E-2},"$",{"$f":"X189","v":6.4396392400348512},"L",null,null,null,null,null,null,null,null,"ABS","%",{"$f":"AJ189","v":8.0000000000000002E-3},"$",{"$f":"AL189","v":70.836031640383368},"L",null,null,null,null,null,null,null,null,"ABS","%",{"$f":"AX189","v":2.3E-2},"$",{"$f":"AZ189","v":43.857938067390236},"L"]
[null,null,null,null,null,null,"Mass Reduction\n(MR1) - ($/pound) - TBL",null,null,null,null,"MR1",null,null,null,null,null,null,null,null,"Low Roll Resistance Tires 1\n (ROLL1) - No Learning Applied",null,null,null,null,"ROLL1",null,null,null,null,null,null,null,null,"Low Drag Brakes (LDB)\nNo Learning Applied",null,null,null,null,"LDB",null,null,null,null,null,null,null,null,"Aerodynamic Drag Reduction 1\n (AERO1) - No Learming Applied",null,null,null,null,"AERO1"]
[null,null,null,null,"2017+","INC","%",{"$f":"H189","v":0},"$",{"$f":"J189","v":0},1.33,null,null,null,null,null,null,null,"2017+","INC","%",{"$f":"V189","v":1.9E-2},"$",{"$f":"X189","v":6.4396392400348512},5.15,null,null,null,null,null,null,null,"2017+","INC","%",{"$f":"AJ189","v":8.0000000000000002E-3},"$",{"$f":"AL189","v":70.836031640383368},5.15,null,null,null,null,null,null,null,"2017+","INC","%",{"$f":"AX189","v":2.3E-2},"$",{"$f":"AZ189","v":43.857938067390236},5.15]
[null,null,null,null,null,"ABS","%",{"$f":"H192","v":0},"$",{"$f":"J192","v":0},"L",null,null,null,null,null,null,null,null,"ABS","%",{"$f":"V192","v":1.9E-2},"$",{"$f":"X192","v":6.4396392400348512},"L",null,null,null,null,null,null,null,null,"ABS","%",{"$f":"AJ192","v":8.0000000000000002E-3},"$",{"$f":"AL192","v":70.836031640383368},"L",null,null,null,null,null,null,null,null,"ABS","%",{"$f":"AX192","v":2.3E-2},"$",{"$f":"AZ192","v":43.857938067390236},"L"]
[]
[]
[]
[null,null,"INC - WR",{"$f":"'[1]Subcompact Perf. PC'!$M$83","v":0},"2012-2016","INC","%",{"$f":"1-((1-H198)/(1-H190))","v":0},"$",{"$f":"INDEX('[1]Subcompact Perf. PC'!$H$379:$X$467,MATCH(L199,'[1]Subcompact Perf. PC'!$C$379:$C$467,0),MATCH(Inputs!$C$2,'[1]Subcompact Perf. PC'!$H$378:$X$378,0))","v":0},1.33,null,null,null,null,null,null,null,"2012-2016","INC","%",{"$f":"1-((1-V198)/(1-V190))","v":2.0387359836901098E-2},"$",{"$f":"0","v":0},5.15,null,null,null,null,null,null,null,"2012-2016","INC","%",1.4E-2,"$",{"$f":"INDEX('[1]Subcompact Perf. PC'!$H$379:$X$467,MATCH(AN199,'[1]Subcompact Perf. PC'!$C$379:$C$467,0),MATCH(Inputs!$C$2,'[1]Subcompact Perf. PC'!$H$378:$X$378,0))","v":87.568251496242709},5.15,null,null,null,null,null,null,null,"2012-2016","INC","%",{"$f":"1-((1-AX198)/(1-AX190))","v":2.4564994882292801E-2},"$",{"$f":"INDEX('[1]Subcompact Perf. PC'!$H$379:$X$467,MATCH(BB199,'[1]Subcompact Perf. PC'!$C$379:$C$467,0),MATCH(Inputs!$C$2,'[1]Subcompact Perf. PC'!$H$378:$X$378,0))","v":154.95277498661324},5.15]
[null,null,"ABS - WR",{"$f":"D197+D189","v":0},null,"ABS","%",{"$f":"IF(D198<5%,D198 D198*(3.5/10), D198*(5.1/10))","v":0},"$",{"$f":"J197","v":0},"L",null,null,null,null,null,null,null,null,"ABS","%",3.9E-2,"$",{"$f":"X190+X197","v":6.4396392400348512},"L",null,null,null,null,null,null,null,null,"ABS","%",{"$f":"1-(1-AJ190)*(1-AJ197)","v":2.1888000000000019E-2},"$",{"$f":"AL190+AL197","v":158.40428313662608},"L",null,null,null,null,null,null,null,null,"ABS","%",4.7E-2,"$",{"$f":"AZ190+AZ197","v":198.81071305400349},"L"]
[null,null,null,null,null,null,"Mass Reduction\n(MR2) - ($/pound) - TBL",null,null,null,null,"MR2",null,null,null,null,null,null,null,null,"Low Roll Resistance Tires 2\n (ROLL2) - No Learning Applied",null,null,null,null,"ROLL2",null,null,null,null,null,null,null,null,"Secondary Axle Discon. (SAXU/SAXL)\nTBL",null,null,null,null,"SAX",null,null,null,null,null,null,null,null,"Aerodynamic Drag Reduction 2\n (AERO2) - No Learming Applied",null,null,null,null,"AERO2"]
[null,null,null,null,"2017+","INC","%",{"$f":"1-((1-H201)/(1-H193))","v":0},"$",{"$f":"J197","v":0},1.33,null,null,null,null,null,null,null,"2017+","INC","%",{"$f":"1-((1-V201)/(1-V193))","v":2.0387359836901098E-2},"$",{"$f":"INDEX('[1]Subcompact Perf. PC'!$H$379:$X$467,MATCH(Z199,'[1]Subcompact Perf. PC'!$C$379:$C$467,0),MATCH(Inputs!$C$2,'[1]Subcompact Perf. PC'!$H$378:$X$378,0))","v":50.173232527734726},5.15,null,null,null,null,null,null,null,"2017+","INC","%",{"$f":"AJ197","v":1.4E-2},"$",{"$f":"AL197","v":87.568251496242709},5.15,null,null,null,null,null,null,null,"2017+","INC","%",{"$f":"1-((1-AX201)/(1-AX193))","v":2.4564994882292801E-2},"$",{"$f":"AZ197","v":154.95277498661324},5.15]
[null,null,null,null,null,"ABS","%",{"$f":"IF(D198<5%, D198*(3.5/10), D198*(5.1/10))","v":0},"$",{"$f":"J200","v":0},"L",null,null,null,null,null,null,null,null,"ABS","%",{"$f":"V198","v":3.9E-2},"$",{"$f":"X193+X200","v":56.612871767769576},"L",null,null,null,null,null,null,null,null,"ABS","%",{"$f":"1-(1-AJ193)*(1-AJ200)","v":2.1888000000000019E-2},"$",{"$f":"AL193+AL200","v":158.40428313662608},"L",null,null,null,null,null,null,null,null,"ABS","%",{"$f":"AX198","v":4.7E-2},"$",{"$f":"AZ193+AZ200","v":198.81071305400349},"L"]
[]
[]
[]
[null,null,"INC - WR",{"$f":"'[1]Subcompact Perf. PC'!$M$84","v":0},"2012-2016","INC","%",{"$f":"1-((1-H206)/(1-H198))","v":0},"$",{"$f":"INDEX('[1]Subcompact Perf. PC'!$H$379:$X$467,MATCH(L207,'[1]Subcompact Perf. PC'!$C$379:$C$467,0),MATCH(Inputs!$C$2,'[1]Subcompact Perf. PC'!$H$378:$X$378,0))","v":0},1.33,null,null,null,null,null,null,null,"2012-2016","INC","%",0,"$",0,0]
[null,null,"ABS - WR",{"$f":"D205+D198","v":0},null,"ABS","%",{"$f":"IF(D206<5%, D206*(3.5/10), D206*(5.1/10))","v":0},"$",{"$f":"J205","v":0},"L",null,null,null,null,null,null,null,null,"ABS","%",{"$f":"1-((1-V198)*(1-V205))","v":3.9000000000000035E-2},"$",{"$f":"X198+X205","v":6.4396392400348512},"L"]
[null,null,null,null,null,null,"Mass Reduction\n(MR3) - ($/pound) - TBL",null,null,null,null,"MR3",null,null,null,null,null,null,null,null,"Low Roll Resistance Tires 3\n (ROLL3) - No Learning Applied"]
[null,null,null,null,"2017+","INC","%",{"$f":"1-((1-H209)/(1-H201))","v":0},"$",{"$f":"J205","v":0},1.33,null,null,null,null,null,null,null,"2017+","INC","%",0,"$",{"$f":"X205","v":0},0]
[null,null,null,null,null,"ABS","%",{"$f":"IF(D206<5%, D206*(3.5/10), D206*(5.1/10))","v":0},"$",{"$f":"J208","v":0},"L",null,null,null,null,null,null,null,null,"ABS","%",{"$f":"1-((1-V201)*(1-V208))","v":3.9000000000000035E-2},"$",{"$f":"X201+X208","v":56.612871767769576},"L"]
[]
[]
[]
[null,null,"INC - WR",{"$f":"'[1]Subcompact Perf. PC'!$M$85","v":0},"2012-2016","INC","%",{"$f":"1-((1-H214)/(1-H206))","v":0},"$",{"$f":"INDEX('[1]Subcompact Perf. PC'!$H$379:$X$467,MATCH(L215,'[1]Subcompact Perf. PC'!$C$379:$C$467,0),MATCH(Inputs!$C$2,'[1]Subcompact Perf. PC'!$H$378:$X$378,0))","v":0},1.33]
[null,null,"ABS - WR",{"$f":"D213+D206","v":0},null,"ABS","%",{"$f":"IF(D214<5%, D214*(3.5/10), D214*(5.1/10))","v":0},"$",{"$f":"J213","v":0},"L"]
[null,null,null,null,null,null,"Mass Reduction\n(MR4) - ($/pound) - TBL",null,null,null,null,"MR4"]
[null,null,null,null,"2017+","INC","%",{"$f":"1-((1-H217)/(1-H209))","v":0},"$",{"$f":"J213","v":0},1.33]
[null,null,null,null,null,"ABS","%",{"$f":"IF(D214<5%, D214*(3.5/10), D214*(5.1/10))","v":0},"$",{"$f":"J216","v":0},"L"]
[]
[]
[]
[null,null,"INC - WR",{"$f":"'[1]Subcompact Perf. PC'!$M$86","v":0},"2012-2016","INC","%",{"$f":"1-((1-H222)/(1-H214))","v":0},"$",{"$f":"INDEX('[1]Subcompact Perf. PC'!$H$379:$X$467,MATCH(L223,'[1]Subcompact Perf. PC'!$C$379:$C$467,0),MATCH(Inputs!$C$2,'[1]Subcompact Perf. PC'!$H$378:$X$378,0))","v":0},1.33]
[null,null,"ABS - WR",{"$f":"D221+D214","v":0},null,"ABS","%",{"$f":"IF(D222<5%, D222*(3.5/10), D222*(5.1/10))","v":0},"$",{"$f":"J221","v":0},"L"]
[null,null,null,null,null,null,"Mass Reduction\n(MR5) - ($/pound) - TBL",null,null,null,null,"MR5"]
[null,null,null,null,"2017+","INC","%",{"$f":"1-((1-H225)/(1-H217))","v":0},"$",{"$f":"J221","v":0},1.33]
[null,null,null,null,null,"ABS","%",{"$f":"IF(D222<5%, D222*(3.5/10), D222*(5.1/10))","v":0},"$",{"$f":"J224","v":0},"L"]

{"sheet":"Compact PC","index":4,"n_rows":225,"n_cols":173,"rows_kept":225,"cut":false,"hidden":false,"merged":[[5,62,5,66],[5,76,5,80],[5,90,5,94],[6,31,7,31],[6,32,7,32],[6,60,7,60],[6,74,7,74],[6,88,7,88],[0,0,0,172],[1,0,2,0],[3,31,4,31],[3,32,4,32],[3,60,4,60],[3,74,4,74],[3,88,4,88],[23,153,23,157],[24,25,25,25],[24,88,25,88],[24,151,25,151],[13,88,14,88],[15,90,15,94],[16,88,17,88],[21,25,22,25],[21,88,22,88],[21,151,22,151],[29,25,30,25],[29,67,30,67],[29,109,30,109],[29,151,30,151],[31,27,31,31],[31,69,31,73],[31,111,31,115],[23,27,23,31],[23,90,23,94],[39,153,39,157],[40,25,41,25],[40,67,41,67],[40,109,41,109],[40,151,41,151],[31,153,31,157],[32,25,33,25],[32,67,33,67],[32,109,33,109],[32,151,33,151],[37,25,38,25],[37,67,38,67],[37,109,38,109],[37,151,38,151],[45,25,46,25],[45,67,46,67],[45,109,46,109],[45,151,46,151],[47,27,47,31],[47,69,47,73],[47,111,47,115],[39,27,39,31],[39,69,39,73],[39,111,39,115],[47,153,47,157],[48,25,49,25],[48,67,49,67],[48,109,49,109],[48,151,49,151],[53,11,54,11],[53,25,54,25],[53,39,54,39],[53,53,54,53],[53,67,54,67],[53,165,54,165],[55,13,55,17],[55,27,55,31],[55,41,55,45],[55,55,55,59],[55,69,55,73],[55,83,55,87],[55,97,55,101],[55,111,55,115],[55,125,55,129],[53,81,54,81],[53,95,54,95],[53,109,54,109],[53,123,54,123],[53,137,54,137],[53,151,54,151],[55,139,55,143],[55,153,55,157],[55,167,55,171],[56,11,57,11],[56,25,57,25],[56,39,57,39],[56,53,57,53],[56,67,57,67],[56,81,57,81],[56,95,57,95],[56,109,57,109],[56,123,57,123],[56,137,57,137],[56,151,57,151],[56,165,57,165],[61,11,62,11],[61,25,62,25],[61,39,62,39],[61,53,62,53],[61,67,62,67],[61,165,62,165],[63,13,63,17],[63,27,63,31],[63,41,63,45],[63,55,63,59],[63,69,63,73],[63,83,63,87],[63,97,63,101],[63,111,63,115],[63,125,63,129],[61,81,62,81],[61,95,62,95],[61,109,62,109],[61,123,62,123],[61,137,62,137],[61,151,62,151],[63,139,63,143],[63,153,63,157],[63,167,63,171],[64,11,65,11],[64,25,65,25],[64,39,65,39],[64,53,65,53],[64,67,65,67],[64,81,65,81],[64,95,65,95],[64,109,65,109],[64,123,65,123],[64,137,65,137],[64,151,65,151],[64,165,65,165],[69,11,70,11],[69,25,70,25],[69,39,70,39],[69,53,70,53],[69,67,70,67],[69,165,70,165],[71,13,71,17],[71,27,71,31],[71,41,71,45],[71,55,71,59],[71,69,71,73],[71,83,71,87],[71,97,71,101],[71,111,71,115],[71,125,71,129],[69,81,70,81],[69,95,70,95],[69,109,70,109],[69,123,70,123],[69,137,70,137],[69,151,70,151],[71,139,71,143],[71,153,71,157],[77,88,78,88],[77,95,78,95],[77,102,78,102],[77,109,78,109],[71,167,71,171],[72,11,73,11],[72,25,73,25],[72,39,73,39],[72,53,73,53],[72,67,73,67],[72,81,73,81],[72,95,73,95],[72,109,73,109],[72,123,73,123],[72,137,73,137],[72,151,73,151],[72,165,73,165],[77,67,78,67],[77,74,78,74],[79,167,79,171],[80,4,81,4],[80,11,81,11],[80,18,81,18],[80,25,81,25],[80,32,81,32],[80,39,81,39],[77,165,78,165],[80,46,81,46],[80,53,81,53],[80,60,81,60],[80,67,81,67],[80,74,81,74],[80,81,81,81],[80,130,81,130],[80,137,81,137],[80,144,81,144],[77,4,78,4],[77,11,78,11],[77,18,78,18],[77,25,78,25],[77,32,78,32],[80,151,81,151],[80,158,81,158],[77,172,78,172],[79,13,79,17],[79,27,79,31],[79,41,79,45],[79,55,79,59],[79,69,79,73],[79,83,79,87],[79,97,79,101],[79,111,79,115],[77,123,78,123],[77,130,78,130],[77,137,78,137],[77,144,78,144],[77,151,78,151],[77,158,78,158],[77,81,78,81],[79,125,79,129],[79,139,79,143],[79,153,79,157],[77,116,78,116],[77,39,78,39],[77,46,78,46],[77,53,78,53],[77,60,78,60],[80,165,81,165],[80,88,81,88],[80,95,81,95],[80,102,81,102],[80,109,81,109],[80,116,81,116],[80,123,81,123],[85,46,86,46],[85,53,86,53],[85,60,86,60],[85,67,86,67],[85,74,86,74],[85,81,86,81],[85,151,86,151],[85,158,86,158],[85,165,86,165],[85,4,86,4],[85,11,86,11],[85,18,86,18],[85,25,86,25],[85,32,86,32],[85,39,86,39],[85,130,86,130],[85,137,86,137],[85,144,86,144],[85,88,86,88],[85,95,86,95],[85,102,86,102],[85,109,86,109],[85,116,86,116],[85,123,86,123],[87,48,87,52],[87,55,87,59],[87,62,87,66],[87,69,87,73],[87,76,87,80],[87,83,87,87],[87,6,87,10],[87,13,87,17],[87,20,87,24],[87,27,87,31],[87,34,87,38],[87,41,87,45],[87,132,87,136],[87,139,87,143],[87,146,87,150],[87,153,87,157],[87,160,87,164],[87,167,87,171],[87,90,87,94],[87,97,87,101],[87,104,87,108],[87,111,87,115],[87,118,87,122],[87,125,87,129],[88,144,89,144],[88,151,89,151],[88,158,89,158],[88,165,89,165],[88,88,89,88],[88,95,89,95],[88,102,89,102],[88,109,89,109],[88,116,89,116],[88,123,89,123],[97,0,97,38],[100,4,100,11],[100,21,100,23],[100,33,100,38],[102,4,103,4],[102,18,103,18],[102,32,103,32],[88,130,89,130],[88,137,89,137],[88,46,89,46],[88,53,89,53],[88,60,89,60],[88,67,89,67],[88,74,89,74],[88,81,89,81],[88,4,89,4],[88,11,89,11],[88,18,89,18],[88,25,89,25],[88,32,89,32],[88,39,89,39],[110,4,111,4],[110,32,111,32],[112,6,112,10],[112,14,114,16],[112,34,112,38],[113,4,114,4],[113,32,114,32],[104,6,104,10],[104,20,104,24],[104,34,104,38],[105,4,106,4],[105,18,106,18],[105,32,106,32],[110,18,111,18],[112,20,112,24],[113,18,114,18],[126,4,127,4],[126,32,127,32],[128,6,128,10],[128,13,128,17],[128,20,128,24],[128,34,128,38],[118,4,119,4],[118,32,119,32],[120,6,120,10],[120,13,120,17],[120,21,122,23],[120,34,120,38],[121,4,122,4],[121,32,122,32],[136,34,136,38],[137,4,138,4],[137,32,138,32],[142,32,143,32],[144,9,149,10],[144,20,144,24],[144,34,144,38],[145,32,146,32],[129,4,130,4],[129,32,130,32],[134,4,135,4],[134,32,135,32],[136,6,136,10],[136,20,136,24],[185,113,185,116],[185,148,185,151],[188,4,189,4],[188,18,189,18],[188,32,189,32],[188,46,189,46],[150,36,152,37],[152,20,152,24],[160,20,160,24],[168,20,168,24],[176,13,176,17],[176,27,176,31],[190,6,190,10],[190,20,190,24],[190,34,190,38],[190,48,190,52],[190,81,190,85],[191,4,192,4],[191,18,192,18],[191,32,192,32],[191,46,192,46],[191,80,192,80],[198,48,198,52],[199,4,200,4],[199,18,200,18],[199,32,200,32],[199,46,200,46],[200,95,201,95],[196,4,197,4],[196,18,197,18],[196,32,197,32],[196,46,197,46],[198,6,198,10],[198,20,198,24],[198,34,198,38],[200,151,201,151],[204,4,205,4],[204,18,205,18],[204,32,205,32],[206,6,206,10],[206,20,206,24],[200,102,201,102],[200,109,201,109],[200,116,201,116],[200,130,201,130],[200,137,201,137],[200,144,201,144],[215,4,216,4],[220,4,221,4],[222,6,222,10],[223,4,224,4],[207,4,208,4],[207,18,208,18],[207,32,208,32],[209,32,210,32],[212,4,213,4],[214,6,214,10]]}
["Full Engine Technology Decision Tree"]
[]
[null,"START"]
["Gas Engine Type","I4",null,null,null,null,null,null,null,null,null,null,null,null,null,null,null,null,null,null,null,null,null,null,null,null,null,null,null,null,null,null,null,null,null,null,null,null,null,null,null,null,null,null,null,null,null,null,null,null,null,null,null,null,null,null,null,null,null,null,"2012-2016","INC","%",5.0000000000000001E-3,"$",{"$f":"INDEX('[1]Compact PC'!$H$379:$X$467,MATCH(BP6,'[1]Compact PC'!$C$379:$C$467,0),MATCH(Inputs!$C$2,'[1]Compact PC'!$H$378:$X$378,0))","v":3.8637835440209107},10,null,null,null,null,null,null,null,"2012-2016","INC","%",0.02,"$",{"$f":"INDEX('[1]Compact PC'!$H$379:$X$467,MATCH(CD6,'[1]Compact PC'!$C$379:$C$467,0),MATCH(Inputs!$C$2,'[1]Compact PC'!$H$378:$X$378,0))*$B$13","v":58.092224089511433},10,null,null,null,null,null,null,null,"2012-2016","INC","%",{"$f":"1-((1-CN5)/(1-BZ5))","v":0},"$",0,"L"]
["Displacement [L]",2.2000000000000002,null,null,null,null,null,null,null,null,null,null,null,null,null,null,null,null,null,null,null,null,null,null,null,null,null,null,null,null,null,null,null,null,null,null,null,null,null,null,null,null,null,null,null,null,null,null,null,null,null,null,null,null,null,null,null,null,null,null,null,"ABS","%",{"$f":"BL4","v":5.0000000000000001E-3},"$",{"$f":"BN4","v":3.8637835440209107},"L",null,null,null,null,null,null,null,null,"ABS","%",{"$f":"1-((1-BL5)*(1-BZ4))","v":2.4900000000000033E-2},"$",{"$f":"BN5+CB4","v":61.956007633532344},"L",null,null,null,null,null,null,null,null,"ABS","%",{"$f":"BZ5","v":2.4900000000000033E-2},"$",{"$f":"CB5","v":61.956007633532344},0]
["Turbocharger","None",null,null,null,null,null,null,null,null,null,null,null,null,null,null,null,null,null,null,null,null,null,null,null,null,null,null,null,null,null,null,null,null,null,null,null,null,null,null,null,null,null,null,null,null,null,null,null,null,null,null,null,null,null,null,null,null,null,null,null,null,"Low-Friction Lubricants 1\n(LUB1) - No Learning Applied",null,null,null,null,"LUB1",null,null,null,null,null,null,null,null,"Engine Friction Reduction 1\n(EFR1) - No Learning Applied",null,null,null,null,"EFR1",null,null,null,null,null,null,null,null,"Low-Friction Lub & Engine Friction\nRedux 2 (LUB2_EFR2) - \nNo Learning Applied",null,null,null,null,"LUB2_EFR2"]
["EGR system","External",null,null,null,null,null,null,null,null,null,null,null,null,null,null,null,null,null,null,null,null,null,null,null,null,null,null,null,null,null,null,null,null,null,null,null,null,null,null,null,null,null,null,null,null,null,null,null,null,null,null,null,null,null,null,null,null,null,null,"2017+","INC","%",{"$f":"BL4","v":5.0000000000000001E-3},"$",{"$f":"BN4","v":3.8637835440209107},10,null,null,null,null,null,null,null,"2017+","INC","%",0.02,"$",{"$f":"CB4","v":58.092224089511433},10,null,null,null,null,null,null,null,"2017+","INC","%",{"$f":"1-((1-CN8)/(1-BZ8))","v":1.0357912009024695E-2},"$",{"$f":"INDEX('[1]Compact PC'!$H$379:$X$467,MATCH(CR6,'[1]Compact PC'!$C$379:$C$467,0),MATCH(Inputs!$C$2,'[1]Compact PC'!$H$378:$X$378,0))*$B$13","v":62.840731829291514},"L"]
["Valvetrain","SOHC/ DOHC/ OHV",null,null,null,null,null,null,null,null,null,null,null,null,null,null,null,null,null,null,null,null,null,null,null,null,null,null,null,null,null,null,null,null,null,null,null,null,null,null,null,null,null,null,null,null,null,null,null,null,null,null,null,null,null,null,null,null,null,null,null,"ABS","%",{"$f":"BL7","v":5.0000000000000001E-3},"$",{"$f":"BN7","v":3.8637835440209107},"L",null,null,null,null,null,null,null,null,"ABS","%",{"$f":"1-((1-BL8)*(1-BZ7))","v":2.4900000000000033E-2},"$",{"$f":"BN8+CB7","v":61.956007633532344},"L",null,null,null,null,null,null,null,null,"ABS","%",3.5000000000000003E-2,"$",{"$f":"CB8+CP7","v":124.79673946282387},33.86]
["After Treatment","3way cat"]
[]
[null,null,null,null,null,null,null,null,null,null,null,null,null,null,null,null,null,null,null,null,null,null,null,null,null,null,null,null,null,null,"SOHC",null,null,null,null,null,null,null,null,null,null,null,null,null,null,null,null,null,null,null,null,null,null,null,null,null,null,null,null,null,null,null,null,null,null,null,null,null,null,null,null,null,null,null,null,null,null,null,null,null,null,null,null,null,null,null,null,null,null,null,null,null,null,"DOHC",null,null,null,null,null,null,null,null,null,null,null,null,null,null,null,null,null,null,null,null,null,null,null,null,null,null,null,null,null,null,null,null,null,null,null,null,null,null,null,null,null,null,null,null,null,null,null,null,null,null,null,null,null,null,null,null,null,null,null,"OHV"]
[]
["Cylinders",{"$f":"IF(B4=\"I4\",4,IF(B4=\"V6\",6,8))","v":4}]
["Cylinder Banks",{"$f":"IF(B4=\"I4\",1,2)","v":1},null,null,null,null,null,null,null,null,null,null,null,null,null,null,null,null,null,null,null,null,null,null,null,null,null,null,null,null,null,null,null,null,null,null,null,null,null,null,null,null,null,null,null,null,null,null,null,null,null,null,null,null,null,null,null,null,null,null,null,null,null,null,null,null,null,null,null,null,null,null,null,null,null,null,null,null,null,null,null,null,null,null,null,null,null,null,"2012-2016","INC","%",{"$f":"CN17","v":2.1761658031088094E-2},"$",{"$f":"INDEX('[1]Compact PC'!$H$379:$X$467,MATCH(CR16,'[1]Compact PC'!$C$379:$C$467,0),MATCH(Inputs!$C$2,'[1]Compact PC'!$H$378:$X$378,0))*$B$14","v":41.549625537527582},10]
[null,null,null,null,null,null,null,null,null,null,null,null,null,null,null,null,null,null,null,null,null,null,null,null,null,null,null,null,null,null,null,null,null,null,null,null,null,null,null,null,null,null,null,null,null,null,null,null,null,null,null,null,null,null,null,null,null,null,null,null,null,null,null,null,null,null,null,null,null,null,null,null,null,null,null,null,null,null,null,null,null,null,null,null,null,null,null,null,null,"ABS","%",{"$f":"1-((1-CN5)*(1-CN14))","v":4.6119792746113997E-2},"$",{"$f":"CP5+CP14","v":103.50563317105993},"L"]
[null,null,null,null,null,null,null,null,null,null,null,null,null,null,null,null,null,null,null,null,null,null,null,null,null,null,null,null,null,null,null,null,null,null,null,null,null,null,null,null,null,null,null,null,null,null,null,null,null,null,null,null,null,null,null,null,null,null,null,null,null,null,null,null,null,null,null,null,null,null,null,null,null,null,null,null,null,null,null,null,null,null,null,null,null,null,null,null,null,null,"Intake Cam Phasing\n(ICP) - TBL",null,null,null,null,"ICP"]
[null,null,null,null,null,null,null,null,null,null,null,null,null,null,null,null,null,null,null,null,null,null,null,null,null,null,null,null,null,null,null,null,null,null,null,null,null,null,null,null,null,null,null,null,null,null,null,null,null,null,null,null,null,null,null,null,null,null,null,null,null,null,null,null,null,null,null,null,null,null,null,null,null,null,null,null,null,null,null,null,null,null,null,null,null,null,null,null,"2017+","INC","%",{"$f":"1-((1-CN18)/(1-CN8))","v":2.1761658031088094E-2},"$",{"$f":"CP14","v":41.549625537527582},10]
[null,null,null,null,null,null,null,null,null,null,null,null,null,null,null,null,null,null,null,null,null,null,null,null,null,null,null,null,null,null,null,null,null,null,null,null,null,null,null,null,null,null,null,null,null,null,null,null,null,null,null,null,null,null,null,null,null,null,null,null,null,null,null,null,null,null,null,null,null,null,null,null,null,null,null,null,null,null,null,null,null,null,null,null,null,null,null,null,null,"ABS","%",5.6000000000000001E-2,"$",{"$f":"CP8+CP17","v":166.34636500035145},"L"]
[]
[]
[]
["Notes: ","(1) All costs shown in $2009",null,null,null,null,null,null,null,null,null,null,null,null,null,null,null,null,null,null,null,null,null,null,null,"2012-2016","INC","%",{"$f":"AC25","v":4.1450777202072464E-2},"$",{"$f":"INDEX('[1]Compact PC'!$H$379:$X$467,MATCH(AG24,'[1]Compact PC'!$C$379:$C$467,0),MATCH(Inputs!$C$2,'[1]Compact PC'!$H$378:$X$378,0))*$B$14","v":41.549625537527582},10,null,null,null,null,null,null,null,null,null,null,null,null,null,null,null,null,null,null,null,null,null,null,null,null,null,null,null,null,null,null,null,null,null,null,null,null,null,null,null,null,null,null,null,null,null,null,null,null,null,null,null,null,null,null,null,null,"2012-2016","INC","%",{"$f":"CN25","v":2.0127118644067687E-2},"$",{"$f":"INDEX('[1]Compact PC'!$H$379:$X$467,MATCH(CR24,'[1]Compact PC'!$C$379:$C$467,0),MATCH(Inputs!$C$2,'[1]Compact PC'!$H$378:$X$378,0))*$B$14","v":38.527853942281702},10]
[null,null,null,null,null,null,null,null,null,null,null,null,null,null,null,null,null,null,null,null,null,null,null,null,null,null,"ABS","%",{"$f":"1-((1-CN5)*(1-AC22))","v":6.5318652849740921E-2},"$",{"$f":"CP5+AE22","v":103.50563317105993},"L",null,null,null,null,null,null,null,null,null,null,null,null,null,null,null,null,null,null,null,null,null,null,null,null,null,null,null,null,null,null,null,null,null,null,null,null,null,null,null,null,null,null,null,null,null,null,null,null,null,null,null,null,null,null,null,null,null,"ABS","%",{"$f":"1-((1-CN15)*(1-CN22))","v":6.531865284974081E-2},"$",{"$f":"CP15+CP22","v":142.03348711334164},"L"]
[null,null,null,null,null,null,null,null,null,null,null,null,null,null,null,null,null,null,null,null,null,null,null,null,null,null,null,"Coupled Cam Phasing\n(CCPS) - TBL",null,null,null,null,"CCPS",null,null,null,null,null,null,null,null,null,null,null,null,null,null,null,null,null,null,null,null,null,null,null,null,null,null,null,null,null,null,null,null,null,null,null,null,null,null,null,null,null,null,null,null,null,null,null,null,null,null,null,null,null,null,null,null,null,"Dual Cam Phasing\n(DCP) - TBL",null,null,null,null,"DCP"]
[null,null,null,null,null,null,null,null,null,null,null,null,null,null,null,null,null,null,null,null,null,null,null,null,null,"2017+","INC","%",{"$f":"1-((1-AC26)/(1-CN8))","v":4.1450777202072464E-2},"$",{"$f":"AE22","v":41.549625537527582},10,null,null,null,null,null,null,null,null,null,null,null,null,null,null,null,null,null,null,null,null,null,null,null,null,null,null,null,null,null,null,null,null,null,null,null,null,null,null,null,null,null,null,null,null,null,null,null,null,null,null,null,null,null,null,null,null,"2017+","INC","%",{"$f":"1-((1-CN26)/(1-CN18))","v":2.0127118644067687E-2},"$",{"$f":"CP22","v":38.527853942281702},10]
["L",null,null,null,null,null,null,null,null,null,null,null,null,null,null,null,null,null,null,null,null,null,null,null,null,null,"ABS","%",7.4999999999999997E-2,"$",{"$f":"CP8+AE25","v":166.34636500035145},"L",null,null,null,null,null,null,null,null,null,null,null,null,null,null,null,null,null,null,null,null,null,null,null,null,null,null,null,null,null,null,null,null,null,null,null,null,null,null,null,null,null,null,null,null,null,null,null,null,null,null,null,null,null,null,null,null,null,"ABS","%",7.4999999999999997E-2,"$",{"$f":"CP18+CP25","v":204.87421894263315},"L"]
["M"]
["H"]
["VH"]
[null,null,null,null,null,null,null,null,null,null,null,null,null,null,null,null,null,null,null,null,null,null,null,null,null,"2012-2016","INC","%",{"$f":"AC33","v":2.8108108108108154E-2},"$",{"$f":"INDEX('[1]Compact PC'!$H$379:$X$467,MATCH(AG32,'[1]Compact PC'!$C$379:$C$467,0),MATCH(Inputs!$C$2,'[1]Compact PC'!$H$378:$X$378,0))*$B$13","v":141.95784088900945},10,null,null,null,null,null,null,null,null,null,null,null,null,null,null,null,null,null,null,null,null,null,null,null,null,null,null,null,null,null,null,null,null,null,null,null,"2012-2016","INC","%",{"$f":"BS33","v":2.8108108108108154E-2},"$",{"$f":"INDEX('[1]Compact PC'!$H$379:$X$467,MATCH(BW32,'[1]Compact PC'!$C$379:$C$467,0),MATCH(Inputs!$C$2,'[1]Compact PC'!$H$378:$X$378,0))*$B$13","v":141.95784088900945},10,null,null,null,null,null,null,null,null,null,null,null,null,null,null,null,null,null,null,null,null,null,null,null,null,null,null,null,null,null,null,null,null,null,null,null,"2012-2016","INC","%",{"$f":"DI33","v":3.5675675675675755E-2},"$",{"$f":"INDEX('[1]Compact PC'!$H$379:$X$467,MATCH(DM32,'[1]Compact PC'!$C$379:$C$467,0),MATCH(Inputs!$C$2,'[1]Compact PC'!$H$378:$X$378,0))*$B$13","v":228.52533855632367},10,null,null,null,null,null,null,null,null,null,null,null,null,null,null,null,null,null,null,null,null,null,null,null,null,null,null,null,null,null,null,null,null,null,null,null,"2012-2016","INC","%",{"$f":"1-((1-EY31)/(1-CN5))","v":4.6251666495744082E-2},"$",{"$f":"INDEX('[1]Compact PC'!$H$379:$X$467,MATCH(FC32,'[1]Compact PC'!$C$379:$C$467,0),MATCH(Inputs!$C$2,'[1]Compact PC'!$H$378:$X$378,0))","v":180.85022482302156},10]
[null,null,null,null,null,null,null,null,null,null,null,null,null,null,null,null,null,null,null,null,null,null,null,null,null,null,"ABS","%",{"$f":"1-((1-AC23)*(1-AC30))","v":9.1590777202072537E-2},"$",{"$f":"AE23+AE30","v":245.46347406006936},"L",null,null,null,null,null,null,null,null,null,null,null,null,null,null,null,null,null,null,null,null,null,null,null,null,null,null,null,null,null,null,null,null,null,null,null,null,"ABS","%",{"$f":"1-((1-CN23)*(1-BS30))","v":9.1590777202072426E-2},"$",{"$f":"CP23+BU30","v":283.99132800235111},"L",null,null,null,null,null,null,null,null,null,null,null,null,null,null,null,null,null,null,null,null,null,null,null,null,null,null,null,null,null,null,null,null,null,null,null,null,"ABS","%",{"$f":"1-((1-CN23)*(1-DI30))","v":9.8664041450777118E-2},"$",{"$f":"CP23+DK30","v":370.55882566966534},"L",null,null,null,null,null,null,null,null,null,null,null,null,null,null,null,null,null,null,null,null,null,null,null,null,null,null,null,null,null,null,null,null,null,null,null,null,"ABS","%",7.0000000000000007E-2,"$",{"$f":"CP5+FA30","v":242.80623245655391},"L"]
[null,null,null,null,null,null,null,null,null,null,null,null,null,null,null,null,null,null,null,null,null,null,null,null,null,null,null,"Discrete VVL\n(DVVLS) - TBL",null,null,null,null,"DVVLS",null,null,null,null,null,null,null,null,null,null,null,null,null,null,null,null,null,null,null,null,null,null,null,null,null,null,null,null,null,null,null,null,null,null,null,null,"Discrete VVL\n(DVVLD) - TBL",null,null,null,null,"DVVLD",null,null,null,null,null,null,null,null,null,null,null,null,null,null,null,null,null,null,null,null,null,null,null,null,null,null,null,null,null,null,null,null,null,null,null,null,"Continuous VVL\n(CVVL) - TBL",null,null,null,null,"CVVL",null,null,null,null,null,null,null,null,null,null,null,null,null,null,null,null,null,null,null,null,null,null,null,null,null,null,null,null,null,null,null,null,null,null,null,null,"Cylinder Deactivation\n(DEACO) - TBL",null,null,null,null,"DEACO"]
[null,null,null,null,null,null,null,null,null,null,null,null,null,null,null,null,null,null,null,null,null,null,null,null,null,"2017+","INC","%",{"$f":"1-((1-AC34)/(1-AC26))","v":2.8108108108108154E-2},"$",{"$f":"AE30","v":141.95784088900945},10,null,null,null,null,null,null,null,null,null,null,null,null,null,null,null,null,null,null,null,null,null,null,null,null,null,null,null,null,null,null,null,null,null,null,null,"2017+","INC","%",{"$f":"1-((1-BS34)/(1-CN26))","v":2.8108108108108154E-2},"$",{"$f":"BU30","v":141.95784088900945},10,null,null,null,null,null,null,null,null,null,null,null,null,null,null,null,null,null,null,null,null,null,null,null,null,null,null,null,null,null,null,null,null,null,null,null,"2017+","INC","%",{"$f":"1-((1-DI34)/(1-CN26))","v":3.5675675675675755E-2},"$",{"$f":"DK30","v":228.52533855632367},10,null,null,null,null,null,null,null,null,null,null,null,null,null,null,null,null,null,null,null,null,null,null,null,null,null,null,null,null,null,null,null,null,null,null,null,"2017+","INC","%",{"$f":"1-((1-EY34)/(1-CN8))","v":4.663212435233155E-2},"$",{"$f":"FA30","v":180.85022482302156},10]
[null,"START",null,null,null,null,null,null,null,null,null,null,null,null,null,null,null,null,null,null,null,null,null,null,null,null,"ABS","%",0.10100000000000001,"$",{"$f":"AE26+AE33","v":308.3042058893609},"L",null,null,null,null,null,null,null,null,null,null,null,null,null,null,null,null,null,null,null,null,null,null,null,null,null,null,null,null,null,null,null,null,null,null,null,null,"ABS","%",0.10100000000000001,"$",{"$f":"CP26+BU33","v":346.8320598316426},"L",null,null,null,null,null,null,null,null,null,null,null,null,null,null,null,null,null,null,null,null,null,null,null,null,null,null,null,null,null,null,null,null,null,null,null,null,"ABS","%",0.108,"$",{"$f":"CP26+DK33","v":433.39955749895682},"L",null,null,null,null,null,null,null,null,null,null,null,null,null,null,null,null,null,null,null,null,null,null,null,null,null,null,null,null,null,null,null,null,null,null,null,null,"ABS","%",0.08,"$",{"$f":"CP8+FA33","v":305.64696428584546},"L"]
["Gas Engine Type","I4"]
["Displacement [L]",2.2000000000000002]
["Turbocharger","None"]
["EGR system","External",null,null,null,null,null,null,null,null,null,null,null,null,null,null,null,null,null,null,null,null,null,null,null,"2012-2016","INC","%",{"$f":"AC41","v":4.4493882091212189E-3},"$",{"$f":"INDEX('[1]Compact PC'!$H$379:$X$467,MATCH(AG40,'[1]Compact PC'!$C$379:$C$467,0),MATCH(Inputs!$C$2,'[1]Compact PC'!$H$378:$X$378,0))","v":28.176910737789065},10,null,null,null,null,null,null,null,null,null,null,null,null,null,null,null,null,null,null,null,null,null,null,null,null,null,null,null,null,null,null,null,null,null,null,null,"2012-2016","INC","%",{"$f":"BS41","v":4.4493882091212189E-3},"$",{"$f":"INDEX('[1]Compact PC'!$H$379:$X$467,MATCH(BW40,'[1]Compact PC'!$C$379:$C$467,0),MATCH(Inputs!$C$2,'[1]Compact PC'!$H$378:$X$378,0))","v":28.176910737789065},10,null,null,null,null,null,null,null,null,null,null,null,null,null,null,null,null,null,null,null,null,null,null,null,null,null,null,null,null,null,null,null,null,null,null,null,"2012-2016","INC","%",{"$f":"DI41","v":0},"$",0,10,null,null,null,null,null,null,null,null,null,null,null,null,null,null,null,null,null,null,null,null,null,null,null,null,null,null,null,null,null,null,null,null,null,null,null,"2012-2016","INC","%",{"$f":"1-((1-EY39)/(1-EY31))","v":2.1505376344085891E-2},"$",{"$f":"INDEX('[1]Compact PC'!$H$379:$X$467,MATCH(FC40,'[1]Compact PC'!$C$379:$C$467,0),MATCH(Inputs!$C$2,'[1]Compact PC'!$H$378:$X$378,0))*$B$14","v":45.204617214323278},10]
["Valvetrain","SOHC/ DOHC/ OHV",null,null,null,null,null,null,null,null,null,null,null,null,null,null,null,null,null,null,null,null,null,null,null,null,"ABS","%",{"$f":"1-((1-AC31)*(1-AC38))","v":9.5632642487046615E-2},"$",{"$f":"AE31+AE38","v":273.64038479785842},"L",null,null,null,null,null,null,null,null,null,null,null,null,null,null,null,null,null,null,null,null,null,null,null,null,null,null,null,null,null,null,null,null,null,null,null,null,"ABS","%",{"$f":"1-((1-BS31)*(1-BS38))","v":9.5632642487046504E-2},"$",{"$f":"BU31+BU38","v":312.16823874014017},"L",null,null,null,null,null,null,null,null,null,null,null,null,null,null,null,null,null,null,null,null,null,null,null,null,null,null,null,null,null,null,null,null,null,null,null,null,"ABS","%",{"$f":"1-((1-DI31)*(1-DI38))","v":9.8664041450777118E-2},"$",{"$f":"DK31+DK38","v":370.55882566966534},"L",null,null,null,null,null,null,null,null,null,null,null,null,null,null,null,null,null,null,null,null,null,null,null,null,null,null,null,null,null,null,null,null,null,null,null,null,"ABS","%",0.09,"$",{"$f":"FA31+FA38","v":288.01084967087718},"L"]
[null,null,null,null,null,null,null,null,null,null,null,null,null,null,null,null,null,null,null,null,null,null,null,null,null,null,null,"Cylinder Deactivation\n(DEACS) - TBL",null,null,null,null,"DEACS",null,null,null,null,null,null,null,null,null,null,null,null,null,null,null,null,null,null,null,null,null,null,null,null,null,null,null,null,null,null,null,null,null,null,null,null,"Cylinder Deactivation\n(DEACD) - TBL",null,null,null,null,"DEACD",null,null,null,null,null,null,null,null,null,null,null,null,null,null,null,null,null,null,null,null,null,null,null,null,null,null,null,null,null,null,null,null,null,null,null,null,"Cylinder Deactivation\n(DEACD) - TBL",null,null,null,null,null,null,null,null,null,null,null,null,null,null,null,null,null,null,null,null,null,null,null,null,null,null,null,null,null,null,null,null,null,null,null,null,null,null,null,null,null,"Coupled Cam Phasing and DVVL\n(VVA) - TBL",null,null,null,null,"VVA"]
[null,null,null,null,null,null,null,null,null,null,null,null,null,null,null,null,null,null,null,null,null,null,null,null,null,"2017+","INC","%",{"$f":"1-((1-AC42)/(1-AC34))","v":4.4493882091212189E-3},"$",{"$f":"AE38","v":28.176910737789065},10,null,null,null,null,null,null,null,null,null,null,null,null,null,null,null,null,null,null,null,null,null,null,null,null,null,null,null,null,null,null,null,null,null,null,null,"2017+","INC","%",{"$f":"1-((1-BS42)/(1-BS34))","v":4.4493882091212189E-3},"$",{"$f":"BU38","v":28.176910737789065},10,null,null,null,null,null,null,null,null,null,null,null,null,null,null,null,null,null,null,null,null,null,null,null,null,null,null,null,null,null,null,null,null,null,null,null,"2017+","INC","%",{"$f":"1-((1-DI42)/(1-DI34))","v":0},"$",{"$f":"DK38","v":0},10,null,null,null,null,null,null,null,null,null,null,null,null,null,null,null,null,null,null,null,null,null,null,null,null,null,null,null,null,null,null,null,null,null,null,null,"2017+","INC","%",{"$f":"1-((1-EY42)/(1-EY34))","v":2.7173913043478271E-2},"$",{"$f":"FA38","v":45.204617214323278},10]
[null,null,null,null,null,null,null,null,null,null,null,null,null,null,null,null,null,null,null,null,null,null,null,null,null,null,"ABS","%",0.105,"$",{"$f":"AE34+AE41","v":336.48111662714996},"L",null,null,null,null,null,null,null,null,null,null,null,null,null,null,null,null,null,null,null,null,null,null,null,null,null,null,null,null,null,null,null,null,null,null,null,null,"ABS","%",0.105,"$",{"$f":"BU34+BU41","v":375.00897056943165},"L",null,null,null,null,null,null,null,null,null,null,null,null,null,null,null,null,null,null,null,null,null,null,null,null,null,null,null,null,null,null,null,null,null,null,null,null,"ABS","%",{"$f":"DI34","v":0.108},"$",{"$f":"DK34+DK41","v":433.39955749895682},"L",null,null,null,null,null,null,null,null,null,null,null,null,null,null,null,null,null,null,null,null,null,null,null,null,null,null,null,null,null,null,null,null,null,null,null,null,"ABS","%",0.105,"$",{"$f":"FA34+FA41","v":350.85158150016872},"L"]
[]
[]
[]
[null,null,null,null,null,null,null,null,null,null,null,null,null,null,null,null,null,null,null,null,null,null,null,null,null,"2012-2016","INC","%",{"$f":"AC49","v":1.5642458100558643E-2},"$",{"$f":"INDEX('[1]Compact PC'!$H$379:$X$467,MATCH(AG48,'[1]Compact PC'!$C$379:$C$467,0),MATCH(Inputs!$C$2,'[1]Compact PC'!$H$378:$X$378,0))*$B$13","v":232.9452905107814},10,null,null,null,null,null,null,null,null,null,null,null,null,null,null,null,null,null,null,null,null,null,null,null,null,null,null,null,null,null,null,null,null,null,null,null,"2012-2016","INC","%",{"$f":"BS49","v":1.5642458100558643E-2},"$",{"$f":"INDEX('[1]Compact PC'!$H$379:$X$467,MATCH(BW48,'[1]Compact PC'!$C$379:$C$467,0),MATCH(Inputs!$C$2,'[1]Compact PC'!$H$378:$X$378,0))*$B$13","v":232.9452905107814},10,null,null,null,null,null,null,null,null,null,null,null,null,null,null,null,null,null,null,null,null,null,null,null,null,null,null,null,null,null,null,null,null,null,null,null,"2012-2016","INC","%",{"$f":"DI49","v":1.4573991031390121E-2},"$",{"$f":"INDEX('[1]Compact PC'!$H$379:$X$467,MATCH(DM48,'[1]Compact PC'!$C$379:$C$467,0),MATCH(Inputs!$C$2,'[1]Compact PC'!$H$378:$X$378,0))*$B$13","v":232.9452905107814},10,null,null,null,null,null,null,null,null,null,null,null,null,null,null,null,null,null,null,null,null,null,null,null,null,null,null,null,null,null,null,null,null,null,null,null,"2012-2016","INC","%",{"$f":"1-((1-EY47)/(1-EY39))","v":1.5384615384615441E-2},"$",{"$f":"INDEX('[1]Compact PC'!$H$379:$X$467,MATCH(FC48,'[1]Compact PC'!$C$379:$C$467,0),MATCH(Inputs!$C$2,'[1]Compact PC'!$H$378:$X$378,0))*$B$13","v":232.9452905107814},10]
[null,null,null,null,null,null,null,null,null,null,null,null,null,null,null,null,null,null,null,null,null,null,null,null,null,null,"ABS","%",{"$f":"1-((1-AC39)*(1-AC46))","v":0.10977917098445589},"$",{"$f":"AE39+AE46","v":506.58567530863979},"L",null,null,null,null,null,null,null,null,null,null,null,null,null,null,null,null,null,null,null,null,null,null,null,null,null,null,null,null,null,null,null,null,null,null,null,null,"ABS","%",{"$f":"1-((1-BS39)*(1-BS46))","v":0.10977917098445578},"$",{"$f":"BU39+BU46","v":545.1135292509216},"L",null,null,null,null,null,null,null,null,null,null,null,null,null,null,null,null,null,null,null,null,null,null,null,null,null,null,null,null,null,null,null,null,null,null,null,null,"ABS","%",{"$f":"1-((1-DI39)*(1-DI46))","v":0.11180010362694293},"$",{"$f":"DK39+DK46","v":603.50411618044677},"L",null,null,null,null,null,null,null,null,null,null,null,null,null,null,null,null,null,null,null,null,null,null,null,null,null,null,null,null,null,null,null,null,null,null,null,null,"ABS","%",0.104,"$",{"$f":"FA39+FA46","v":520.95614018165861},"L"]
[null,null,null,null,null,null,null,null,null,null,null,null,null,null,null,null,null,null,null,null,null,null,null,null,null,null,null,"Stoichiometric GDI\n(SGDI) - TBL",null,null,null,null,"SGDI",null,null,null,null,null,null,null,null,null,null,null,null,null,null,null,null,null,null,null,null,null,null,null,null,null,null,null,null,null,null,null,null,null,null,null,null,"Stoichiometric GDI\n(SGDI) - TBL",null,null,null,null,"SGDI",null,null,null,null,null,null,null,null,null,null,null,null,null,null,null,null,null,null,null,null,null,null,null,null,null,null,null,null,null,null,null,null,null,null,null,null,"Stoichiometric GDI\n(SGDI) - TBL",null,null,null,null,"SGDI",null,null,null,null,null,null,null,null,null,null,null,null,null,null,null,null,null,null,null,null,null,null,null,null,null,null,null,null,null,null,null,null,null,null,null,null,"Stoichiometric GDI\n(SGDIO) - TBL",null,null,null,null,"SGDIO"]
[null,null,null,null,null,null,null,null,null,null,null,null,null,null,null,null,null,null,null,null,null,null,null,null,null,"2017+","INC","%",{"$f":"1-((1-AC50)/(1-AC42))","v":1.5642458100558643E-2},"$",{"$f":"AE46","v":232.9452905107814},10,null,null,null,null,null,null,null,null,null,null,null,null,null,null,null,null,null,null,null,null,null,null,null,null,null,null,null,null,null,null,null,null,null,null,null,"2017+","INC","%",{"$f":"1-((1-BS50)/(1-BS42))","v":1.5642458100558643E-2},"$",{"$f":"BU46","v":232.9452905107814},10,null,null,null,null,null,null,null,null,null,null,null,null,null,null,null,null,null,null,null,null,null,null,null,null,null,null,null,null,null,null,null,null,null,null,null,"2017+","INC","%",{"$f":"1-((1-DI50)/(1-DI42))","v":1.4573991031390121E-2},"$",{"$f":"DK46","v":232.9452905107814},10,null,null,null,null,null,null,null,null,null,null,null,null,null,null,null,null,null,null,null,null,null,null,null,null,null,null,null,null,null,null,null,null,null,null,null,"2017+","INC","%",{"$f":"1-((1-EY50)/(1-EY42))","v":1.5642458100558643E-2},"$",{"$f":"FA46","v":232.9452905107814},10]
[null,null,null,null,null,null,null,null,null,null,null,null,null,null,null,null,null,null,null,null,null,null,null,"From SOHC Path",null,null,"ABS","%",0.11899999999999999,"$",{"$f":"AE42+AE49","v":569.42640713793139},"L",null,null,null,null,null,null,null,null,null,null,null,null,null,null,null,null,null,null,null,null,null,null,null,null,null,null,null,null,null,null,null,null,null,"From DOHC w/ DVVLD Path",null,null,"ABS","%",0.11899999999999999,"$",{"$f":"BU42+BU49","v":607.95426108021309},"L",null,null,null,null,null,null,null,null,null,null,null,null,null,null,null,null,null,null,null,null,null,null,null,null,null,null,null,null,null,null,null,null,null,"From DOHC w/ CVVL Path",null,null,"ABS","%",0.121,"$",{"$f":"DK42+DK49","v":666.34484800973826},"L",null,null,null,null,null,null,null,null,null,null,null,null,null,null,null,null,null,null,null,null,null,null,null,null,null,null,null,null,null,null,null,null,null,"From OHV w/ CDOHC Path",null,null,"ABS","%",0.11899999999999999,"$",{"$f":"FA42+FA49","v":583.7968720109501},"L"]
[]
[]
[null,null,null,null,null,null,null,null,null,null,null,null,null,null,null,null,null,null,null,null,null,null,null,null,null,null,null,null,null,null,null,null,null,null,null,null,null,null,null,null,null,null,null,null,null,null,null,null,null,null,null,null,null,null,null,null,{"$f":"BE54-$O$54","v":0},null,{"$f":"BG54-$Q$54","v":-10.350943204492637},null,null,null,null,null,null,null,null,null,null,null,{"$f":"BS54-$AC$54","v":0},null,{"$f":"BU54-$AE$54","v":-137.49257962890812},null,null,null,null,null,null,null,null,null,null,null,{"$f":"CG54-$AQ$54","v":0},null,{"$f":"CI54-$AS$54","v":-151.06222004175237},null,null,null,null,null,null,null,null,null,null,null,{"$f":"CU54-$O$54","v":-7.1733205179984605E-3},null,{"$f":"CW54-$Q$54","v":-10.350943204492637},null,null,null,null,null,null,null,null,null,null,null,{"$f":"DI54-$AC$54","v":-2.1229366256929616E-3},null,{"$f":"DK54-$AE$54","v":-137.49257962890812},null,null,null,null,null,null,null,null,null,null,null,{"$f":"DW54-$AQ$54","v":-2.1229366256929616E-3},null,{"$f":"DY54-$AS$54","v":-151.06222004175237},null,null,null,null,null,null,null,null,null,null,null,{"$f":"EK54-$O$54","v":4.7880517756197949E-2},null,{"$f":"EM54-$Q$54","v":-420.06358424991754},null,null,null,null,null,null,null,null,null,null,null,{"$f":"EY54-$AC$54","v":0},null,{"$f":"FA54-$AE$54","v":562.75413569090051},null,null,null,null,null,null,null,null,null,null,null,{"$f":"FM54-$AQ$54","v":0},null,{"$f":"FO54-$AS$54","v":523.98042111588995}]
[null,null,null,null,null,null,null,null,null,null,null,"2012-2016","INC","%",{"$f":"O57","v":7.2019736900250986E-2},"$",{"$f":"INDEX('[1]Compact PC'!$H$379:$X$467,MATCH(M56,'[1]Compact PC'!$C$379:$C$467,0),MATCH(Inputs!$C$2,'[1]Compact PC'!$H$378:$X$378,0))\n+INDEX('[1]Compact PC'!$H$379:$X$467,MATCH(S56,'[1]Compact PC'!$C$379:$C$467,0),MATCH(Inputs!$C$2,'[1]Compact PC'!$H$378:$X$378,0))","v":420.06358424991754},10,null,null,null,null,null,null,null,"2012-2016","INC","%",{"$f":"AC57","v":6.6969353007945487E-2},"$",{"$f":"INDEX('[1]Compact PC'!$H$379:$X$467,MATCH(AA56,'[1]Compact PC'!$C$379:$C$467,0),MATCH(Inputs!$C$2,'[1]Compact PC'!$H$378:$X$378,0))\n+INDEX('[1]Compact PC'!$H$379:$X$467,MATCH(AG56,'[1]Compact PC'!$C$379:$C$467,0),MATCH(Inputs!$C$2,'[1]Compact PC'!$H$378:$X$378,0))","v":-29.267884297748708},10,null,null,null,null,null,null,null,"2012-2016","INC","%",{"$f":"AQ57","v":6.6969353007945487E-2},"$",{"$f":"INDEX('[1]Compact PC'!$H$379:$X$467,MATCH(AO56,'[1]Compact PC'!$C$379:$C$467,0),MATCH(Inputs!$C$2,'[1]Compact PC'!$H$378:$X$378,0))\n+INDEX('[1]Compact PC'!$H$379:$X$467,MATCH(AU56,'[1]Compact PC'!$C$379:$C$467,0),MATCH(Inputs!$C$2,'[1]Compact PC'!$H$378:$X$378,0))","v":523.48084050429873},10,null,null,null,null,null,null,null,"2012-2016","INC","%",{"$f":"BE57","v":7.2019736900250986E-2},"$",{"$f":"INDEX('[1]Subcompact PC'!$H$530:$X$541,MATCH(BC56,'[1]Subcompact PC'!$C$530:$C$541,0),MATCH(Inputs!$C$2,'[1]Subcompact PC'!$H$529:$X$529,0))\n+INDEX('[1]Subcompact PC'!$H$530:$X$541,MATCH(BI56,'[1]Subcompact PC'!$C$530:$C$541,0),MATCH(Inputs!$C$2,'[1]Subcompact PC'!$H$529:$X$529,0))","v":409.7126410454249},10,null,null,null,null,null,null,null,"2012-2016","INC","%",{"$f":"BS57","v":6.6969353007945487E-2},"$",{"$f":"INDEX('[1]Subcompact PC'!$H$530:$X$541,MATCH(BQ56,'[1]Subcompact PC'!$C$530:$C$541,0),MATCH(Inputs!$C$2,'[1]Subcompact PC'!$H$529:$X$529,0))\n+INDEX('[1]Subcompact PC'!$H$530:$X$541,MATCH(BW56,'[1]Subcompact PC'!$C$530:$C$541,0),MATCH(Inputs!$C$2,'[1]Subcompact PC'!$H$529:$X$529,0))","v":-166.76046392665683},10,null,null,null,null,null,null,null,"2012-2016","INC","%",{"$f":"CG57","v":6.6969353007945487E-2},"$",{"$f":"INDEX('[1]Subcompact PC'!$H$530:$X$541,MATCH(CE56,'[1]Subcompact PC'!$C$530:$C$541,0),MATCH(Inputs!$C$2,'[1]Subcompact PC'!$H$529:$X$529,0))\n+INDEX('[1]Subcompact PC'!$H$530:$X$541,MATCH(CK56,'[1]Subcompact PC'!$C$530:$C$541,0),MATCH(Inputs!$C$2,'[1]Subcompact PC'!$H$529:$X$529,0))","v":372.41862046254636},10,null,null,null,null,null,null,null,"2012-2016","INC","%",{"$f":"CU57","v":6.4846416382252525E-2},"$",{"$f":"INDEX('[1]Subcompact PC'!$H$530:$X$541,MATCH(CS56,'[1]Subcompact PC'!$C$530:$C$541,0),MATCH(Inputs!$C$2,'[1]Subcompact PC'!$H$529:$X$529,0))\n+INDEX('[1]Subcompact PC'!$H$530:$X$541,MATCH(CY56,'[1]Subcompact PC'!$C$530:$C$541,0),MATCH(Inputs!$C$2,'[1]Subcompact PC'!$H$529:$X$529,0))","v":409.7126410454249},10,null,null,null,null,null,null,null,"2012-2016","INC","%",{"$f":"DI57","v":6.4846416382252525E-2},"$",{"$f":"INDEX('[1]Subcompact PC'!$H$530:$X$541,MATCH(DG56,'[1]Subcompact PC'!$C$530:$C$541,0),MATCH(Inputs!$C$2,'[1]Subcompact PC'!$H$529:$X$529,0))\n+INDEX('[1]Subcompact PC'!$H$530:$X$541,MATCH(DM56,'[1]Subcompact PC'!$C$530:$C$541,0),MATCH(Inputs!$C$2,'[1]Subcompact PC'!$H$529:$X$529,0))","v":-166.76046392665683},10,null,null,null,null,null,null,null,"2012-2016","INC","%",{"$f":"DW57","v":6.4846416382252525E-2},"$",{"$f":"INDEX('[1]Subcompact PC'!$H$530:$X$541,MATCH(DU56,'[1]Subcompact PC'!$C$530:$C$541,0),MATCH(Inputs!$C$2,'[1]Subcompact PC'!$H$529:$X$529,0))\n+INDEX('[1]Subcompact PC'!$H$530:$X$541,MATCH(EA56,'[1]Subcompact PC'!$C$530:$C$541,0),MATCH(Inputs!$C$2,'[1]Subcompact PC'!$H$529:$X$529,0))","v":372.41862046254636},10,null,null,null,null,null,null,null,"2012-2016","INC","%",{"$f":"EK57","v":0.11990025465644893},"$",{"$f":"INDEX('[1]Subcompact PC'!$H$530:$X$541,MATCH(EI56,'[1]Subcompact PC'!$C$530:$C$541,0),MATCH(Inputs!$C$2,'[1]Subcompact PC'!$H$529:$X$529,0))\n+INDEX('[1]Subcompact PC'!$H$530:$X$541,MATCH(EO56,'[1]Subcompact PC'!$C$530:$C$541,0),MATCH(Inputs!$C$2,'[1]Subcompact PC'!$H$529:$X$529,0))","v":0},10,null,null,null,null,null,null,null,"2012-2016","INC","%",{"$f":"EY57","v":6.6969353007945487E-2},"$",{"$f":"INDEX('[1]Subcompact PC'!$H$530:$X$541,MATCH(EW56,'[1]Subcompact PC'!$C$530:$C$541,0),MATCH(Inputs!$C$2,'[1]Subcompact PC'!$H$529:$X$529,0))\n+INDEX('[1]Subcompact PC'!$H$530:$X$541,MATCH(FC56,'[1]Subcompact PC'!$C$530:$C$541,0),MATCH(Inputs!$C$2,'[1]Subcompact PC'!$H$529:$X$529,0))","v":533.48625139315186},10,{"$f":"INDEX('[1]Subcompact PC'!$H$530:$X$541,MATCH(EW56,'[1]Subcompact PC'!$C$530:$C$541,0),MATCH(Inputs!$C$2,'[1]Subcompact PC'!$H$529:$X$529,0))","v":229.17561542502995},{"$f":"MATCH(EW56,'[1]Subcompact PC'!$C$530:$C$541,0)","v":9},null,null,null,null,null,"2012-2016","INC","%",{"$f":"FM57","v":6.6969353007945487E-2},"$",{"$f":"INDEX('[1]Subcompact PC'!$H$530:$X$541,MATCH(FK56,'[1]Subcompact PC'!$C$530:$C$541,0),MATCH(Inputs!$C$2,'[1]Subcompact PC'!$H$529:$X$529,0))\n+INDEX('[1]Subcompact PC'!$H$530:$X$541,MATCH(FQ56,'[1]Subcompact PC'!$C$530:$C$541,0),MATCH(Inputs!$C$2,'[1]Subcompact PC'!$H$529:$X$529,0))","v":1047.4612616201887},10]
[null,null,null,null,null,null,null,null,null,null,null,null,"ABS","%",{"$f":"1-((1-AC47+AC38)*(1-O54))","v":0.16976369643234546},"$",{"$f":"AE47+Q54","v":926.64925955855733},"L",null,null,null,null,null,null,null,null,"ABS","%",{"$f":"1-((1-AC47)*(1-AC54))","v":0.1693966839378237},"$",{"$f":"AE47+AE54","v":477.31779101089109},"L",null,null,null,null,null,null,null,null,"ABS","%",{"$f":"1-((1-AC47)*(1-AQ54))","v":0.1693966839378237},"$",{"$f":"AE47+AS54","v":1030.0665158129386},"L",null,null,null,null,null,null,null,null,"ABS","%",{"$f":"1-((1-BS47)*(1-BE54))","v":0.1738926408732786},"$",{"$f":"BU47+BG54","v":954.8261702963465},"L",null,null,null,null,null,null,null,null,"ABS","%",{"$f":"1-((1-BS47)*(1-BS54))","v":0.16939668393782359},"$",{"$f":"BU47+BU54","v":378.35306532426478},"L",null,null,null,null,null,null,null,null,"ABS","%",{"$f":"1-((1-BS47)*(1-CG54))","v":0.16939668393782359},"$",{"$f":"BU47+CI54","v":917.53214971346802},"L",null,null,null,null,null,null,null,null,"ABS","%",{"$f":"1-((1-DI47)*(1-CU54))","v":0.1693966839378237},"$",{"$f":"DK47+CW54","v":1013.2167572258717},"L",null,null,null,null,null,null,null,null,"ABS","%",{"$f":"1-((1-DI47)*(1-DI54))","v":0.1693966839378237},"$",{"$f":"DK47+DK54","v":436.74365225378995},"L",null,null,null,null,null,null,null,null,"ABS","%",{"$f":"1-((1-DI47)*(1-DW54))","v":0.1693966839378237},"$",{"$f":"DK47+DY54","v":975.92273664299319},"L",null,null,null,null,null,null,null,null,"ABS","%",{"$f":"1-((1-EY47)*(1-EK54))","v":0.21143062817217828},"$",{"$f":"FA47+EM54","v":520.95614018165861},"L",null,null,null,null,null,null,null,null,"ABS","%",{"$f":"1-((1-EY47)*(1-EY54))","v":0.16400454029511913},"$",{"$f":"FA47+FA54","v":1054.4423915748105},"L",null,null,null,null,null,null,null,null,"ABS","%",{"$f":"1-((1-EY47)*(1-FM54))","v":0.16400454029511913},"$",{"$f":"FA47+FO54","v":1568.4174018018473},"L"]
[null,"INTERMEDIATE",null,null,null,null,null,null,null,null,null,null,"TRBDS1_SD_TB","Turbocharging and Downsizing 1 (TRBDS1_SD) - TBL",null,null,null,null,"TRBDS1_SD_DS",null,null,null,null,null,null,null,"TRBDS1_MD_TB","Turbocharging and Downsizing 1 (TRBDS1_MD) - TBL",null,null,null,null,"TRBDS1_MD_DS",null,null,null,null,null,null,null,"TRBDS1_LD_TB","Turbocharging and Downsizing 1\n(TRBDS1_LD) - TBL",null,null,null,null,"TRBDS1_LD_DS",null,null,null,null,null,null,null,"TRBDS1_SD_TB_D",{"$f":"$N$56","v":"Turbocharging and Downsizing 1 (TRBDS1_SD) - TBL"},null,null,null,null,"TRBDS1_SD_DS_D",null,null,null,null,null,null,null,"TRBDS1_MD_TB_D","Turbocharging and Downsizing 1 (TRBDS1_MD) - TBL",null,null,null,null,"TRBDS1_MD_DS_D",null,null,null,null,null,null,null,"TRBDS1_LD_TB_D",{"$f":"$AP$56","v":"Turbocharging and Downsizing 1\n(TRBDS1_LD) - TBL"},null,null,null,null,"TRBDS1_LD_DS_D",null,null,null,null,null,null,null,"TRBDS1_SD_TB_D",{"$f":"$N$56","v":"Turbocharging and Downsizing 1 (TRBDS1_SD) - TBL"},null,null,null,null,"TRBDS1_SD_DS_D",null,null,null,null,null,null,null,"TRBDS1_MD_TB_D",{"$f":"$AB$56","v":"Turbocharging and Downsizing 1 (TRBDS1_MD) - TBL"},null,null,null,null,"TRBDS1_MD_DS_D",null,null,null,null,null,null,null,"TRBDS1_LD_TB_D",{"$f":"$AP$56","v":"Turbocharging and Downsizing 1\n(TRBDS1_LD) - TBL"},null,null,null,null,"TRBDS1_LD_DS_D",null,null,null,null,null,null,null,"TRBDS1_SD_TB_O",{"$f":"$N$56","v":"Turbocharging and Downsizing 1 (TRBDS1_SD) - TBL"},null,null,null,null,"TRBDS1_SD_DS_O",null,null,null,null,null,null,null,"TRBDS1_MD_TB_O",{"$f":"$AB$56","v":"Turbocharging and Downsizing 1 (TRBDS1_MD) - TBL"},null,null,null,null,"TRBDS1_MD_DS_O",null,null,null,null,null,null,null,"TRBDS1_LD_TB_O",{"$f":"$AP$56","v":"Turbocharging and Downsizing 1\n(TRBDS1_LD) - TBL"},null,null,null,null,"TRBDS1_LD_DS_O"]
["Gas Engine Type","I4",null,null,null,null,null,null,null,null,null,"2017+","INC","%",{"$f":"1-((1-O58-AC41)/(1-AC50))","v":7.2019736900250986E-2},"$",{"$f":"Q54","v":420.06358424991754},10,null,null,null,null,null,null,null,"2017+","INC","%",{"$f":"1-((1-AC58)/(1-AC50))","v":6.6969353007945487E-2},"$",{"$f":"AE54","v":-29.267884297748708},10,null,null,null,null,null,null,null,"2017+","INC","%",{"$f":"1-((1-AQ58)/(1-AC50))","v":6.6969353007945487E-2},"$",{"$f":"AS54","v":523.48084050429873},10,null,null,null,null,null,null,null,"2017+","INC","%",{"$f":"1-((1-BE58-BS41)/(1-BS50))","v":7.2019736900250986E-2},"$",{"$f":"BG54","v":409.7126410454249},10,null,null,null,null,null,null,null,"2017+","INC","%",{"$f":"1-((1-BS58)/(1-BS50))","v":6.6969353007945487E-2},"$",{"$f":"BU54","v":-166.76046392665683},10,null,null,null,null,null,null,null,"2017+","INC","%",{"$f":"1-((1-CG58)/(1-BS50))","v":6.6969353007945487E-2},"$",{"$f":"CI54","v":372.41862046254636},10,null,null,null,null,null,null,null,"2017+","INC","%",{"$f":"1-((1-CU58-DI41)/(1-DI50))","v":6.4846416382252525E-2},"$",{"$f":"CW54","v":409.7126410454249},10,null,null,null,null,null,null,null,"2017+","INC","%",{"$f":"1-((1-DI58)/(1-DI50))","v":6.4846416382252525E-2},"$",{"$f":"DK54","v":-166.76046392665683},10,null,null,null,null,null,null,null,"2017+","INC","%",{"$f":"1-((1-DW58)/(1-DI50))","v":6.4846416382252525E-2},"$",{"$f":"DY54","v":372.41862046254636},10,null,null,null,null,null,null,null,"2017+","INC","%",{"$f":"1-((1-EK58-EY33)/(1-EY50))","v":0.11990025465644893},"$",{"$f":"EM54","v":0},10,null,null,null,null,null,null,null,"2017+","INC","%",{"$f":"1-((1-EY58)/(1-EY50))","v":6.6969353007945487E-2},"$",{"$f":"FA54","v":533.48625139315186},10,null,null,null,null,null,null,null,"2017+","INC","%",{"$f":"1-((1-FM58)/(1-EY50))","v":6.6969353007945487E-2},"$",{"$f":"FO54","v":1047.4612616201887},10]
["Displacement [L]","1.5 to 2.0",null,null,null,null,null,null,null,null,null,null,"ABS","%",0.17799999999999999,"$",{"$f":"AE50+Q57","v":989.48999138784893},"L",null,null,null,null,null,null,null,null,"ABS","%",{"$f":"$O58","v":0.17799999999999999},"$",{"$f":"AE50+AE57","v":540.15852284018274},"L",null,null,null,null,null,null,null,null,"ABS","%",{"$f":"$O58","v":0.17799999999999999},"$",{"$f":"AE50+AS57","v":1092.9072476422302},"L",null,null,null,null,null,null,null,null,"ABS","%",{"$f":"$O58","v":0.17799999999999999},"$",{"$f":"BU50+BG57","v":1017.666902125638},"L",null,null,null,null,null,null,null,null,"ABS","%",{"$f":"$O58","v":0.17799999999999999},"$",{"$f":"BU50+BU57","v":441.19379715355626},"L",null,null,null,null,null,null,null,null,"ABS","%",{"$f":"$AQ58","v":0.17799999999999999},"$",{"$f":"BU50+CI57","v":980.37288154275939},"L",null,null,null,null,null,null,null,null,"ABS","%",{"$f":"$O58","v":0.17799999999999999},"$",{"$f":"DK50+CW57","v":1076.0574890551632},"L",null,null,null,null,null,null,null,null,"ABS","%",{"$f":"$AC58","v":0.17799999999999999},"$",{"$f":"DK50+DK57","v":499.58438408308143},"L",null,null,null,null,null,null,null,null,"ABS","%",{"$f":"$AQ58","v":0.17799999999999999},"$",{"$f":"DK50+DY57","v":1038.7634684722846},"L",null,null,null,null,null,null,null,null,"ABS","%",{"$f":"$O58","v":0.17799999999999999},"$",{"$f":"FA50+EM57","v":583.7968720109501},"L",null,null,null,null,null,null,null,null,"ABS","%",{"$f":"$AC58","v":0.17799999999999999},"$",{"$f":"FA50+FA57","v":1117.2831234041018},"L",null,null,null,null,null,null,null,null,"ABS","%",{"$f":"$AQ58","v":0.17799999999999999},"$",{"$f":"FA50+FO57","v":1631.2581336311387},"L"]
["Turbocharger","FGT",null,null,null,null,null,null,null,null,null,null,null,null,null,null,null,null,null,null,null,null,null,null,null,null,null,null,null,null,null,null,null,null,null,null,null,null,null,null,null,null,null,null,null,null,null,null,null,null,null,null,null,null,null,null,{"$f":"BE57-$O$57","v":0},null,{"$f":"BG57-$Q$57","v":-10.350943204492637},null,null,null,null,null,null,null,null,null,null,null,{"$f":"BS57-$AC$57","v":0},null,{"$f":"BU57-$AE$57","v":-137.49257962890812},null,null,null,null,null,null,null,null,null,null,null,{"$f":"CG57-$AQ$57","v":0},null,{"$f":"CI57-$AS$57","v":-151.06222004175237},null,null,null,null,null,null,null,null,null,null,null,{"$f":"CU57-$O$57","v":-7.1733205179984605E-3},null,{"$f":"CW57-$Q$57","v":-10.350943204492637},null,null,null,null,null,null,null,null,null,null,null,{"$f":"DI57-$AC$57","v":-2.1229366256929616E-3},null,{"$f":"DK57-$AE$57","v":-137.49257962890812},null,null,null,null,null,null,null,null,null,null,null,{"$f":"DW57-$AQ$57","v":-2.1229366256929616E-3},null,{"$f":"DY57-$AS$57","v":-151.06222004175237},null,null,null,null,null,null,null,null,null,null,null,{"$f":"EK57-$O$57","v":4.7880517756197949E-2},null,{"$f":"EM57-$Q$57","v":-420.06358424991754},null,null,null,null,null,null,null,null,null,null,null,{"$f":"EY57-$AC$57","v":0},null,{"$f":"FA57-$AE$57","v":562.75413569090051},null,null,null,null,null,null,null,null,null,null,null,{"$f":"FM57-$AQ$57","v":0},null,{"$f":"FO57-$AS$57","v":523.98042111588995}]
["EGR system","External"]
["Valvetrain","DOHC"]
["After Treatment","3way cat",null,null,null,null,null,null,null,null,null,"2012-2016","INC","%",{"$f":"1-((1-O63)/(1-O55))","v":0},"$",0,0,null,null,null,null,null,null,null,"2012-2016","INC","%",{"$f":"1-((1-AC63)/(1-AC55))","v":0},"$",0,0,null,null,null,null,null,null,null,"2012-2016","INC","%",{"$f":"1-((1-AQ63)/(1-AQ55))","v":0},"$",0,0,null,null,null,null,null,null,null,"2012-2016","INC","%",{"$f":"1-((1-BE63)/(1-BE55))","v":0},"$",{"$f":"$Q$62","v":0},{"$f":"$R$62","v":0},null,null,null,null,null,null,null,"2012-2016","INC","%",{"$f":"1-((1-BS63)/(1-BS55))","v":0},"$",{"$f":"$AE$62","v":0},{"$f":"$AF$62","v":0},null,null,null,null,null,null,null,"2012-2016","INC","%",{"$f":"1-((1-CG63)/(1-CG55))","v":0},"$",{"$f":"$AS$62","v":0},{"$f":"$AT$62","v":0},null,null,null,null,null,null,null,"2012-2016","INC","%",{"$f":"1-((1-CU63)/(1-CU55))","v":0},"$",{"$f":"$Q$62","v":0},{"$f":"$R$62","v":0},null,null,null,null,null,null,null,"2012-2016","INC","%",{"$f":"1-((1-DI63)/(1-DI55))","v":0},"$",{"$f":"$AE$62","v":0},{"$f":"$AF$62","v":0},null,null,null,null,null,null,null,"2012-2016","INC","%",{"$f":"1-((1-DW63)/(1-DW55))","v":0},"$",{"$f":"$AS$62","v":0},{"$f":"$AT$62","v":0},null,null,null,null,null,null,null,"2012-2016","INC","%",{"$f":"$O$62","v":0},"$",{"$f":"$Q$62","v":0},{"$f":"$R$62","v":0},null,null,null,null,null,null,null,"2012-2016","INC","%",{"$f":"1-((1-EY63)/(1-EY55))","v":0},"$",{"$f":"$AE$62","v":0},{"$f":"$AF$62","v":0},null,null,null,null,null,null,null,"2012-2016","INC","%",{"$f":"1-((1-FM63)/(1-FM55))","v":0},"$",{"$f":"$AS$62","v":0},{"$f":"$AT$62","v":0}]
[null,null,null,null,null,null,null,null,null,null,null,null,"ABS","%",{"$f":"O55","v":0.16976369643234546},"$",{"$f":"Q55+Q62","v":926.64925955855733},"L",null,null,null,null,null,null,null,null,"ABS","%",{"$f":"AC55","v":0.1693966839378237},"$",{"$f":"AE55+AE62","v":477.31779101089109},"L",null,null,null,null,null,null,null,null,"ABS","%",{"$f":"AQ55","v":0.1693966839378237},"$",{"$f":"AS55+AS62","v":1030.0665158129386},"L",null,null,null,null,null,null,null,null,"ABS","%",{"$f":"BE55","v":0.1738926408732786},"$",{"$f":"BG55+BG62","v":954.8261702963465},"L",null,null,null,null,null,null,null,null,"ABS","%",{"$f":"BS55","v":0.16939668393782359},"$",{"$f":"BU55+BU62","v":378.35306532426478},"L",null,null,null,null,null,null,null,null,"ABS","%",{"$f":"CG55","v":0.16939668393782359},"$",{"$f":"CI55+CI62","v":917.53214971346802},"L",null,null,null,null,null,null,null,null,"ABS","%",{"$f":"CU55","v":0.1693966839378237},"$",{"$f":"CW55+CW62","v":1013.2167572258717},"L",null,null,null,null,null,null,null,null,"ABS","%",{"$f":"DI55","v":0.1693966839378237},"$",{"$f":"DK55+DK62","v":436.74365225378995},"L",null,null,null,null,null,null,null,null,"ABS","%",{"$f":"DW55","v":0.1693966839378237},"$",{"$f":"DY55+DY62","v":975.92273664299319},"L",null,null,null,null,null,null,null,null,"ABS","%",{"$f":"1-((1-EK55)*(1-EK62))","v":0.21143062817217828},"$",{"$f":"EM55+EM62","v":520.95614018165861},"L",null,null,null,null,null,null,null,null,"ABS","%",{"$f":"EY55","v":0.16400454029511913},"$",{"$f":"FA55+FA62","v":1054.4423915748105},"L",null,null,null,null,null,null,null,null,"ABS","%",{"$f":"FM55","v":0.16400454029511913},"$",{"$f":"FO55+FO62","v":1568.4174018018473},"L"]
[null,null,null,null,null,null,null,null,null,null,null,null,"TRBDS2_SD_TB","Turbocharging and Downsizing 2\n(TRBDS2_SD) - TBL",null,null,null,null,"TRBDS2_SD_DS",null,null,null,null,null,null,null,"TRBDS2_MD_TB","Turbocharging and Downsizing 2\n(TRBDS2_MD) - TBL",null,null,null,null,"TRBDS2_MD_DS",null,null,null,null,null,null,null,"TRBDS2_LD_TB","Turbocharging and Downsizing 2\n(TRBDS2_LD) - TBL",null,null,null,null,"TRBDS2_LD_DS",null,null,null,null,null,null,null,"TRBDS2_SD_TB",{"$f":"$N$64","v":"Turbocharging and Downsizing 2\n(TRBDS2_SD) - TBL"},null,null,null,null,"TRBDS2_SD_DS",null,null,null,null,null,null,null,"TRBDS2_MD_TB",{"$f":"$AB$64","v":"Turbocharging and Downsizing 2\n(TRBDS2_MD) - TBL"},null,null,null,null,"TRBDS2_MD_DS",null,null,null,null,null,null,null,"TRBDS2_LD_TB",{"$f":"$AP$64","v":"Turbocharging and Downsizing 2\n(TRBDS2_LD) - TBL"},null,null,null,null,"TRBDS2_LD_DS",null,null,null,null,null,null,null,"TRBDS2_SD_TB",{"$f":"$N$64","v":"Turbocharging and Downsizing 2\n(TRBDS2_SD) - TBL"},null,null,null,null,"TRBDS2_SD_DS",null,null,null,null,null,null,null,"TRBDS2_MD_TB",{"$f":"$AB$64","v":"Turbocharging and Downsizing 2\n(TRBDS2_MD) - TBL"},null,null,null,null,"TRBDS2_MD_DS",null,null,null,null,null,null,null,"TRBDS2_LD_TB","Cooled EGR 1\n(CEGR1_LD) - TBL",null,null,null,null,"TRBDS2_LD_DS",null,null,null,null,null,null,null,"TRBDS2_SD_TB",{"$f":"$N$64","v":"Turbocharging and Downsizing 2\n(TRBDS2_SD) - TBL"},null,null,null,null,"TRBDS2_SD_DS",null,null,null,null,null,null,null,"TRBDS2_MD_TB",{"$f":"$AB$64","v":"Turbocharging and Downsizing 2\n(TRBDS2_MD) - TBL"},null,null,null,null,"TRBDS2_MD_DS",null,null,null,null,null,null,null,"TRBDS2_LD_TB","Cooled EGR 1\n(CEGR1_LD) - TBL",null,null,null,null,"TRBDS2_LD_DS"]
[null,"INTERMEDIATE",null,null,null,null,null,null,null,null,null,"2017+","INC","%",{"$f":"1-((1-O66)/(1-O58))","v":2.9197080291970878E-2},"$",{"$f":"INDEX('[1]Large PC'!$H$379:$X$467,MATCH(M64,'[1]Large PC'!$C$379:$C$467,0),MATCH(Inputs!$C$2,'[1]Large PC'!$H$378:$X$378,0))\n+INDEX('[1]Large PC'!$H$379:$X$467,MATCH(S64,'[1]Large PC'!$C$379:$C$467,0),MATCH(Inputs!$C$2,'[1]Large PC'!$H$378:$X$378,0))","v":19.914246875441577},10,null,null,null,null,null,null,null,"2017+","INC","%",{"$f":"1-((1-AC66)/(1-AC58))","v":2.9197080291970878E-2},"$",{"$f":"INDEX('[1]Compact PC'!$H$379:$X$467,MATCH(AA64,'[1]Compact PC'!$C$379:$C$467,0),MATCH(Inputs!$C$2,'[1]Compact PC'!$H$378:$X$378,0))\n+INDEX('[1]Compact PC'!$H$379:$X$467,MATCH(AG64,'[1]Compact PC'!$C$379:$C$467,0),MATCH(Inputs!$C$2,'[1]Compact PC'!$H$378:$X$378,0))","v":247.5936884943545},10,null,null,null,null,null,null,null,"2017+","INC","%",{"$f":"1-((1-AQ66)/(1-AQ58))","v":2.9197080291970878E-2},"$",{"$f":"INDEX('[1]Compact PC'!$H$379:$X$467,MATCH(AO64,'[1]Compact PC'!$C$379:$C$467,0),MATCH(Inputs!$C$2,'[1]Compact PC'!$H$378:$X$378,0))\n+INDEX('[1]Compact PC'!$H$379:$X$467,MATCH(AU64,'[1]Compact PC'!$C$379:$C$467,0),MATCH(Inputs!$C$2,'[1]Compact PC'!$H$378:$X$378,0))","v":417.35470758578072},10,null,null,null,null,null,null,null,"2017+","INC","%",{"$f":"1-((1-BE66)/(1-BE58))","v":2.9197080291970878E-2},"$",{"$f":"$Q65","v":19.914246875441577},{"$f":"$R$65","v":10},null,null,null,null,null,null,null,"2017+","INC","%",{"$f":"1-((1-BS66)/(1-BS58))","v":2.9197080291970878E-2},"$",{"$f":"$AE$65","v":247.5936884943545},{"$f":"$AF$65","v":10},null,null,null,null,null,null,null,"2017+","INC","%",{"$f":"1-((1-CG66)/(1-CG58))","v":2.9197080291970878E-2},"$",{"$f":"$AS$65","v":417.35470758578072},{"$f":"$AT$65","v":10},null,null,null,null,null,null,null,"2017+","INC","%",{"$f":"1-((1-CU66)/(1-CU58))","v":2.9197080291970878E-2},"$",{"$f":"$Q65","v":19.914246875441577},{"$f":"$R$65","v":10},null,null,null,null,null,null,null,"2017+","INC","%",{"$f":"1-((1-DI66)/(1-DI58))","v":2.9197080291970878E-2},"$",{"$f":"$AE$65","v":247.5936884943545},{"$f":"$AF$65","v":10},null,null,null,null,null,null,null,"2017+","INC","%",{"$f":"1-((1-DW66)/(1-DW58))","v":2.9197080291970878E-2},"$",{"$f":"$AS$65","v":417.35470758578072},{"$f":"$AT$65","v":10},null,null,null,null,null,null,null,"2017+","INC","%",{"$f":"1-((1-EK66)/(1-EK58))","v":2.9197080291970878E-2},"$",{"$f":"$Q65","v":19.914246875441577},{"$f":"$R$65","v":10},null,null,null,null,null,null,null,"2017+","INC","%",{"$f":"1-((1-EY66)/(1-EY58))","v":2.9197080291970878E-2},"$",{"$f":"$AE$65","v":247.5936884943545},{"$f":"$AF$65","v":10},null,null,null,null,null,null,null,"2017+","INC","%",{"$f":"1-((1-FM66)/(1-FM58))","v":2.9197080291970878E-2},"$",{"$f":"$AS$65","v":417.35470758578072},{"$f":"$AT$65","v":10}]
["Gas Engine Type","I4",null,null,null,null,null,null,null,null,null,null,"ABS","%",0.20200000000000001,"$",{"$f":"Q58+Q65","v":1009.4042382632905},"L",null,null,null,null,null,null,null,null,"ABS","%",{"$f":"$O66","v":0.20200000000000001},"$",{"$f":"AE58+AE65","v":787.75221133453726},"L",null,null,null,null,null,null,null,null,"ABS","%",{"$f":"$O66","v":0.20200000000000001},"$",{"$f":"AS58+AS65","v":1510.2619552280109},"L",null,null,null,null,null,null,null,null,"ABS","%",{"$f":"$O66","v":0.20200000000000001},"$",{"$f":"BG58+BG65","v":1037.5811490010797},"L",null,null,null,null,null,null,null,null,"ABS","%",{"$f":"$O66","v":0.20200000000000001},"$",{"$f":"BU58+BU65","v":688.78748564791078},"L",null,null,null,null,null,null,null,null,"ABS","%",{"$f":"$AQ66","v":0.20200000000000001},"$",{"$f":"CI58+CI65","v":1397.7275891285401},"L",null,null,null,null,null,null,null,null,"ABS","%",{"$f":"$O66","v":0.20200000000000001},"$",{"$f":"CW58+CW65","v":1095.9717359306048},"L",null,null,null,null,null,null,null,null,"ABS","%",{"$f":"$AC66","v":0.20200000000000001},"$",{"$f":"DK58+DK65","v":747.17807257743596},"L",null,null,null,null,null,null,null,null,"ABS","%",{"$f":"$AQ66","v":0.20200000000000001},"$",{"$f":"DY58+DY65","v":1456.1181760580653},"L",null,null,null,null,null,null,null,null,"ABS","%",{"$f":"$O66","v":0.20200000000000001},"$",{"$f":"EM58+EM65","v":603.71111888639166},"L",null,null,null,null,null,null,null,null,"ABS","%",{"$f":"$AC66","v":0.20200000000000001},"$",{"$f":"FA58+FA65","v":1364.8768118984563},"L",null,null,null,null,null,null,null,null,"ABS","%",{"$f":"$AQ66","v":0.20200000000000001},"$",{"$f":"FO58+FO65","v":2048.6128412169192},"L"]
["Displacement [L]",1]
["Turbocharger","FGT"]
["EGR system","External"]
["Valvetrain","DOHC",null,null,null,null,null,null,null,null,null,"2012-2016","INC","%",{"$f":"1-((1-O71)/(1-O63))","v":0},"$",0,0,null,null,null,null,null,null,null,"2012-2016","INC","%",{"$f":"1-((1-AC71)/(1-AC63))","v":0},"$",0,0,null,null,null,null,null,null,null,"2012-2016","INC","%",{"$f":"1-((1-AQ71)/(1-AQ63))","v":0},"$",0,0,null,null,null,null,null,null,null,"2012-2016","INC","%",{"$f":"1-((1-BE71)/(1-BE63))","v":0},"$",{"$f":"$Q$70","v":0},{"$f":"$R$70","v":0},null,null,null,null,null,null,null,"2012-2016","INC","%",{"$f":"1-((1-BS71)/(1-BS63))","v":0},"$",{"$f":"$AE$70","v":0},{"$f":"$AF$70","v":0},null,null,null,null,null,null,null,"2012-2016","INC","%",{"$f":"1-((1-CG71)/(1-CG63))","v":0},"$",{"$f":"$AS$70","v":0},{"$f":"$AT$70","v":0},null,null,null,null,null,null,null,"2012-2016","INC","%",{"$f":"1-((1-CU71)/(1-CU63))","v":0},"$",{"$f":"$Q$70","v":0},{"$f":"$R$70","v":0},null,null,null,null,null,null,null,"2012-2016","INC","%",{"$f":"1-((1-DI71)/(1-DI63))","v":0},"$",{"$f":"$AE$70","v":0},{"$f":"$AF$70","v":0},null,null,null,null,null,null,null,"2012-2016","INC","%",{"$f":"1-((1-DW71)/(1-DW63))","v":0},"$",{"$f":"$AS$70","v":0},{"$f":"$AT$70","v":0},null,null,null,null,null,null,null,"2012-2016","INC","%",{"$f":"1-((1-EK71)/(1-EK63))","v":0},"$",{"$f":"$Q$70","v":0},{"$f":"$R$70","v":0},null,null,null,null,null,null,null,"2012-2016","INC","%",{"$f":"1-((1-EY71)/(1-EY63))","v":0},"$",{"$f":"$AE$70","v":0},{"$f":"$AF$70","v":0},null,null,null,null,null,null,null,"2012-2016","INC","%",{"$f":"1-((1-FM71)/(1-FM63))","v":0},"$",{"$f":"$AS$70","v":0},{"$f":"$AT$70","v":0}]
["After Treatment","3way cat",null,null,null,null,null,null,null,null,null,null,"ABS","%",{"$f":"O63","v":0.16976369643234546},"$",{"$f":"Q63+Q70","v":926.64925955855733},"L",null,null,null,null,null,null,null,null,"ABS","%",{"$f":"AC63","v":0.1693966839378237},"$",{"$f":"AE63+AE70","v":477.31779101089109},"L",null,null,null,null,null,null,null,null,"ABS","%",{"$f":"AQ63","v":0.1693966839378237},"$",{"$f":"AS63+AS70","v":1030.0665158129386},"L",null,null,null,null,null,null,null,null,"ABS","%",{"$f":"BE63","v":0.1738926408732786},"$",{"$f":"BG63+BG70","v":954.8261702963465},"L",null,null,null,null,null,null,null,null,"ABS","%",{"$f":"BS63","v":0.16939668393782359},"$",{"$f":"BU63+BU70","v":378.35306532426478},"L",null,null,null,null,null,null,null,null,"ABS","%",{"$f":"CG63","v":0.16939668393782359},"$",{"$f":"CI63+CI70","v":917.53214971346802},"L",null,null,null,null,null,null,null,null,"ABS","%",{"$f":"CU63","v":0.1693966839378237},"$",{"$f":"CW63+CW70","v":1013.2167572258717},"L",null,null,null,null,null,null,null,null,"ABS","%",{"$f":"DI63","v":0.1693966839378237},"$",{"$f":"DK63+DK70","v":436.74365225378995},"L",null,null,null,null,null,null,null,null,"ABS","%",{"$f":"DW63","v":0.1693966839378237},"$",{"$f":"DY63+DY70","v":975.92273664299319},"L",null,null,null,null,null,null,null,null,"ABS","%",{"$f":"EK63","v":0.21143062817217828},"$",{"$f":"EM63+EM70","v":520.95614018165861},"L",null,null,null,null,null,null,null,null,"ABS","%",{"$f":"EY63","v":0.16400454029511913},"$",{"$f":"FA63+FA70","v":1054.4423915748105},"L",null,null,null,null,null,null,null,null,"ABS","%",{"$f":"FM63","v":0.16400454029511913},"$",{"$f":"FO63+FO70","v":1568.4174018018473},"L"]
[null,null,null,null,null,null,null,null,null,null,null,null,"CEGR1_SD_TB","Cooled EGR 1 \n(CEGR1_SD) - TBL",null,null,null,null,"CEGR1_SD_DS",null,null,null,null,null,null,null,"CEGR1_MD_TB","Cooled EGR 1 \n(CEGR1_MD) - TBL",null,null,null,null,"CEGR1_MD_DS",null,null,null,null,null,null,null,"CEGR1_LD_TB","Cooled EGR 1 \n(CEGR1_LD) - TBL",null,null,null,null,"CEGR1_LD_DS",null,null,null,null,null,null,null,"CEGR1_SD_TB",{"$f":"$N$72","v":"Cooled EGR 1 \n(CEGR1_SD) - TBL"},null,null,null,null,"CEGR1_SD_DS",null,null,null,null,null,null,null,"CEGR1_MD_TB",{"$f":"$AB$72","v":"Cooled EGR 1 \n(CEGR1_MD) - TBL"},null,null,null,null,"CEGR1_MD_DS",null,null,null,null,null,null,null,"CEGR1_LD_TB",{"$f":"$AP$72","v":"Cooled EGR 1 \n(CEGR1_LD) - TBL"},null,null,null,null,"CEGR1_LD_DS",null,null,null,null,null,null,null,"CEGR1_SD_TB",{"$f":"$N$72","v":"Cooled EGR 1 \n(CEGR1_SD) - TBL"},null,null,null,null,"CEGR1_SD_DS",null,null,null,null,null,null,null,"CEGR1_MD_TB",{"$f":"$AB$72","v":"Cooled EGR 1 \n(CEGR1_MD) - TBL"},null,null,null,null,"CEGR1_MD_DS",null,null,null,null,null,null,null,"CEGR1_LD_TB",{"$f":"$AP$72","v":"Cooled EGR 1 \n(CEGR1_LD) - TBL"},null,null,null,null,"CEGR1_LD_DS",null,null,null,null,null,null,null,"CEGR1_SD_TB",{"$f":"$N$72","v":"Cooled EGR 1 \n(CEGR1_SD) - TBL"},null,null,null,null,"CEGR1_SD_DS",null,null,null,null,null,null,null,"CEGR1_MD_TB",{"$f":"$AB$72","v":"Cooled EGR 1 \n(CEGR1_MD) - TBL"},null,null,null,null,"CEGR1_MD_DS",null,null,null,null,null,null,null,"CEGR1_LD_TB",{"$f":"$AP$72","v":"Cooled EGR 1 \n(CEGR1_LD) - TBL"},null,null,null,null,"CEGR1_LD_DS"]
[null,null,null,null,null,null,null,null,null,null,null,"2017+","INC","%",{"$f":"1-((1-O74)/(1-O66))","v":3.6340852130325896E-2},"$",{"$f":"INDEX('[1]Large Perf. PC'!$H$379:$X$467,MATCH(M72,'[1]Large Perf. PC'!$C$379:$C$467,0),MATCH(Inputs!$C$2,'[1]Large Perf. PC'!$H$378:$X$378,0))\n+INDEX('[1]Large Perf. PC'!$H$379:$X$467,MATCH(S72,'[1]Large Perf. PC'!$C$379:$C$467,0),MATCH(Inputs!$C$2,'[1]Large Perf. PC'!$H$378:$X$378,0))","v":285.15466932220613},10,null,null,null,null,null,null,null,"2017+","INC","%",{"$f":"1-((1-AC74)/(1-AC66))","v":3.6340852130325896E-2},"$",{"$f":"INDEX('[1]Compact PC'!$H$379:$X$467,MATCH(AA72,'[1]Compact PC'!$C$379:$C$467,0),MATCH(Inputs!$C$2,'[1]Compact PC'!$H$378:$X$378,0))\n+INDEX('[1]Compact PC'!$H$379:$X$467,MATCH(AG72,'[1]Compact PC'!$C$379:$C$467,0),MATCH(Inputs!$C$2,'[1]Compact PC'!$H$378:$X$378,0))","v":285.15466932220613},10,null,null,null,null,null,null,null,"2017+","INC","%",{"$f":"1-((1-AQ74)/(1-AQ66))","v":3.6340852130325896E-2},"$",{"$f":"INDEX('[1]Compact PC'!$H$379:$X$467,MATCH(AO72,'[1]Compact PC'!$C$379:$C$467,0),MATCH(Inputs!$C$2,'[1]Compact PC'!$H$378:$X$378,0))\n+INDEX('[1]Compact PC'!$H$379:$X$467,MATCH(AU72,'[1]Compact PC'!$C$379:$C$467,0),MATCH(Inputs!$C$2,'[1]Compact PC'!$H$378:$X$378,0))","v":285.15466932220613},10,null,null,null,null,null,null,null,"2017+","INC","%",{"$f":"$O$73","v":3.6340852130325896E-2},"$",{"$f":"$Q$73","v":285.15466932220613},{"$f":"$R$73","v":10},null,null,null,null,null,null,null,"2017+","INC","%",{"$f":"$AC$73","v":3.6340852130325896E-2},"$",{"$f":"$AE$73","v":285.15466932220613},{"$f":"$AF$73","v":10},null,null,null,null,null,null,null,"2017+","INC","%",{"$f":"$AQ$73","v":3.6340852130325896E-2},"$",{"$f":"$AS$73","v":285.15466932220613},{"$f":"$AT$73","v":10},null,null,null,null,null,null,null,"2017+","INC","%",{"$f":"$O$73","v":3.6340852130325896E-2},"$",{"$f":"$Q$73","v":285.15466932220613},{"$f":"$R$73","v":10},null,null,null,null,null,null,null,"2017+","INC","%",{"$f":"$AC$73","v":3.6340852130325896E-2},"$",{"$f":"$AE$73","v":285.15466932220613},{"$f":"$AF$73","v":10},null,null,null,null,null,null,null,"2017+","INC","%",{"$f":"$AQ$73","v":3.6340852130325896E-2},"$",{"$f":"$AS$73","v":285.15466932220613},{"$f":"$AT$73","v":10},null,null,null,null,null,null,null,"2017+","INC","%",{"$f":"$O$73","v":3.6340852130325896E-2},"$",{"$f":"$Q$73","v":285.15466932220613},{"$f":"$R$73","v":10},null,null,null,null,null,null,null,"2017+","INC","%",{"$f":"$AC$73","v":3.6340852130325896E-2},"$",{"$f":"$AE$73","v":285.15466932220613},{"$f":"$AF$73","v":10},null,null,null,null,null,null,null,"2017+","INC","%",{"$f":"$AQ$73","v":3.6340852130325896E-2},"$",{"$f":"$AS$73","v":285.15466932220613},{"$f":"$AT$73","v":10}]
[null,null,null,null,null,null,null,null,null,null,null,null,"ABS","%",0.23100000000000001,"$",{"$f":"Q66+Q73","v":1294.5589075854966},"L",null,null,null,null,null,null,null,null,"ABS","%",{"$f":"O74","v":0.23100000000000001},"$",{"$f":"AE66+AE73","v":1072.9068806567434},"L",null,null,null,null,null,null,null,null,"ABS","%",{"$f":"O74","v":0.23100000000000001},"$",{"$f":"AS66+AS73","v":1795.416624550217},"L",null,null,null,null,null,null,null,null,"ABS","%",{"$f":"1-((1-BE66)*(1-BE73))","v":0.23099999999999998},"$",{"$f":"BG66+BG73","v":1322.7358183232859},"L",null,null,null,null,null,null,null,null,"ABS","%",{"$f":"$O74","v":0.23100000000000001},"$",{"$f":"BU66+BU73","v":973.94215497011692},"L",null,null,null,null,null,null,null,null,"ABS","%",{"$f":"$AQ74","v":0.23100000000000001},"$",{"$f":"CI66+CI73","v":1682.8822584507461},"L",null,null,null,null,null,null,null,null,"ABS","%",{"$f":"$O74","v":0.23100000000000001},"$",{"$f":"CW66+CW73","v":1381.1264052528109},"L",null,null,null,null,null,null,null,null,"ABS","%",{"$f":"$AC74","v":0.23100000000000001},"$",{"$f":"DK66+DK73","v":1032.3327418996421},"L",null,null,null,null,null,null,null,null,"ABS","%",{"$f":"$AQ74","v":0.23100000000000001},"$",{"$f":"DY66+DY73","v":1741.2728453802715},"L",null,null,null,null,null,null,null,null,"ABS","%",{"$f":"$O74","v":0.23100000000000001},"$",{"$f":"EM66+EM73","v":888.86578820859779},"L",null,null,null,null,null,null,null,null,"ABS","%",{"$f":"$AC74","v":0.23100000000000001},"$",{"$f":"FA66+FA73","v":1650.0314812206625},"L",null,null,null,null,null,null,null,null,"ABS","%",{"$f":"$AQ74","v":0.23100000000000001},"$",{"$f":"FO66+FO73","v":2333.7675105391254},"L"]
[]
[]
[]
[null,null,null,null,null,null,null,null,null,null,null,"2012-2016","INC","%",{"$f":"1-((1-O79)/(1-O71))","v":0},"$",0,0,null,null,null,null,null,null,null,"2012-2016","INC","%",{"$f":"1-((1-AC79)/(1-AC71))","v":0},"$",0,0,null,null,null,null,null,null,null,"2012-2016","INC","%",{"$f":"1-((1-AQ79)/(1-AQ71))","v":0},"$",0,0,null,null,null,null,null,null,null,"2012-2016","INC","%",{"$f":"1-((1-BE79)/(1-BE71))","v":0},"$",{"$f":"$Q$78","v":0},{"$f":"$R$78","v":0},null,null,null,null,null,null,null,"2012-2016","INC","%",{"$f":"1-((1-BS79)/(1-BS71))","v":0},"$",{"$f":"$AE$78","v":0},{"$f":"$AF$78","v":0},null,null,null,null,null,null,null,"2012-2016","INC","%",{"$f":"1-((1-CG79)/(1-CG71))","v":0},"$",{"$f":"$AS$78","v":0},{"$f":"$AT$78","v":0},null,null,null,null,null,null,null,"2012-2016","INC","%",{"$f":"1-((1-CU79)/(1-CU71))","v":0},"$",{"$f":"$Q$78","v":0},{"$f":"$R$78","v":0},null,null,null,null,null,null,null,"2012-2016","INC","%",{"$f":"1-((1-DI79)/(1-DI71))","v":0},"$",{"$f":"$AE$78","v":0},{"$f":"$AF$78","v":0},null,null,null,null,null,null,null,"2012-2016","INC","%",{"$f":"1-((1-DW79)/(1-DW71))","v":0},"$",{"$f":"$AS$78","v":0},{"$f":"$AT$78","v":0},null,null,null,null,null,null,null,"2012-2016","INC","%",{"$f":"1-((1-EK79)/(1-EK71))","v":0},"$",{"$f":"$Q$78","v":0},{"$f":"$R$78","v":0},null,null,null,null,null,null,null,"2012-2016","INC","%",{"$f":"1-((1-EY79)/(1-EY71))","v":0},"$",{"$f":"$AE$78","v":0},{"$f":"$AF$78","v":0},null,null,null,null,null,null,null,"2012-2016","INC","%",{"$f":"1-((1-FM79)/(1-FM71))","v":0},"$",{"$f":"$AS$78","v":0},{"$f":"$AT$78","v":0}]
[null,null,null,null,null,null,null,null,null,null,null,null,"ABS","%",{"$f":"O71","v":0.16976369643234546},"$",{"$f":"Q71+Q78","v":926.64925955855733},"L",null,null,null,null,null,null,null,null,"ABS","%",{"$f":"AC71","v":0.1693966839378237},"$",{"$f":"AE71+AE78","v":477.31779101089109},"L",null,null,null,null,null,null,null,null,"ABS","%",{"$f":"AQ71","v":0.1693966839378237},"$",{"$f":"AS71+AS78","v":1030.0665158129386},"L",null,null,null,null,null,null,null,null,"ABS","%",{"$f":"BE71","v":0.1738926408732786},"$",{"$f":"BG71+BG78","v":954.8261702963465},"L",null,null,null,null,null,null,null,null,"ABS","%",{"$f":"BS71","v":0.16939668393782359},"$",{"$f":"BU71+BU78","v":378.35306532426478},"L",null,null,null,null,null,null,null,null,"ABS","%",{"$f":"CG71","v":0.16939668393782359},"$",{"$f":"CI71+CI78","v":917.53214971346802},"L",null,null,null,null,null,null,null,null,"ABS","%",{"$f":"CU71","v":0.1693966839378237},"$",{"$f":"CW71+CW78","v":1013.2167572258717},"L",null,null,null,null,null,null,null,null,"ABS","%",{"$f":"DI71","v":0.1693966839378237},"$",{"$f":"DK71+DK78","v":436.74365225378995},"L",null,null,null,null,null,null,null,null,"ABS","%",{"$f":"DW71","v":0.1693966839378237},"$",{"$f":"DY71+DY78","v":975.92273664299319},"L",null,null,null,null,null,null,null,null,"ABS","%",{"$f":"EK71","v":0.21143062817217828},"$",{"$f":"EM71+EM78","v":520.95614018165861},"L",null,null,null,null,null,null,null,null,"ABS","%",{"$f":"EY71","v":0.16400454029511913},"$",{"$f":"FA71+FA78","v":1054.4423915748105},"L",null,null,null,null,null,null,null,null,"ABS","%",{"$f":"FM71","v":0.16400454029511913},"$",{"$f":"FO71+FO78","v":1568.4174018018473},"L"]
[null,null,null,null,null,null,null,null,null,null,null,null,"CEGR2_SD_TB","Cooled EGR 2\n(CEGR2_SD) - TBL",null,null,null,null,"CEGR2_SD_DS",null,null,null,null,null,null,null,"CEGR2_MD_TB","Cooled EGR 2\n(CEGR2_MD) - TBL",null,null,null,null,"CEGR2_MD_DS",null,null,null,null,null,null,null,"CEGR2_LD_TB","Cooled EGR 2\n(CEGR2_LD) - TBL",null,null,null,null,"CEGR2_LD_DS",null,null,null,null,null,null,null,"CEGR2_SD_TB",{"$f":"$N$80","v":"Cooled EGR 2\n(CEGR2_SD) - TBL"},null,null,null,null,"CEGR2_SD_DS",null,null,null,null,null,null,null,"CEGR2_MD_TB",{"$f":"$AB$80","v":"Cooled EGR 2\n(CEGR2_MD) - TBL"},null,null,null,null,"CEGR2_MD_DS",null,null,null,null,null,null,null,"CEGR2_LD_TB",{"$f":"$AP$80","v":"Cooled EGR 2\n(CEGR2_LD) - TBL"},null,null,null,null,"CEGR2_LD_DS",null,null,null,null,null,null,null,"CEGR2_SD_TB",{"$f":"$N$80","v":"Cooled EGR 2\n(CEGR2_SD) - TBL"},null,null,null,null,"CEGR2_SD_DS",null,null,null,null,null,null,null,"CEGR2_MD_TB",{"$f":"$AB$80","v":"Cooled EGR 2\n(CEGR2_MD) - TBL"},null,null,null,null,"CEGR2_MD_DS",null,null,null,null,null,null,null,"CEGR2_LD_TB",{"$f":"$AP$80","v":"Cooled EGR 2\n(CEGR2_LD) - TBL"},null,null,null,null,"CEGR2_LD_DS",null,null,null,null,null,null,null,"CEGR2_SD_TB",{"$f":"$N$80","v":"Cooled EGR 2\n(CEGR2_SD) - TBL"},null,null,null,null,"CEGR2_SD_DS",null,null,null,null,null,null,null,"CEGR2_MD_TB",{"$f":"$AB$80","v":"Cooled EGR 2\n(CEGR2_MD) - TBL"},null,null,null,null,"CEGR2_MD_DS",null,null,null,null,null,null,null,"CEGR2_LD_TB",{"$f":"$AP$80","v":"Cooled EGR 2\n(CEGR2_LD) - TBL"},null,null,null,null,"CEGR2_LD_DS"]
[null,"STOP",null,null,null,null,null,null,null,null,null,"2017+","INC","%",{"$f":"1-((1-O82)/(1-O74))","v":1.040312093628093E-2},"$",{"$f":"INDEX('[1]Compact PC'!$H$379:$X$467,MATCH(M80,'[1]Compact PC'!$C$379:$C$467,0),MATCH(Inputs!$C$2,'[1]Compact PC'!$H$378:$X$378,0))\n+INDEX('[1]Compact PC'!$H$379:$X$467,MATCH(S80,'[1]Compact PC'!$C$379:$C$467,0),MATCH(Inputs!$C$2,'[1]Compact PC'!$H$378:$X$378,0))","v":495.18737698870899},10,null,null,null,null,null,null,null,"2017+","INC","%",{"$f":"1-((1-AC82)/(1-AC74))","v":1.040312093628093E-2},"$",{"$f":"INDEX('[1]Compact PC'!$H$379:$X$467,MATCH(AA80,'[1]Compact PC'!$C$379:$C$467,0),MATCH(Inputs!$C$2,'[1]Compact PC'!$H$378:$X$378,0))\n+INDEX('[1]Compact PC'!$H$379:$X$467,MATCH(AG80,'[1]Compact PC'!$C$379:$C$467,0),MATCH(Inputs!$C$2,'[1]Compact PC'!$H$378:$X$378,0))","v":495.18737698870899},10,null,null,null,null,null,null,null,"2017+","INC","%",{"$f":"1-((1-AQ82)/(1-AQ74))","v":1.040312093628093E-2},"$",{"$f":"INDEX('[1]Compact PC'!$H$379:$X$467,MATCH(AO80,'[1]Compact PC'!$C$379:$C$467,0),MATCH(Inputs!$C$2,'[1]Compact PC'!$H$378:$X$378,0))\n+INDEX('[1]Compact PC'!$H$379:$X$467,MATCH(AU80,'[1]Compact PC'!$C$379:$C$467,0),MATCH(Inputs!$C$2,'[1]Compact PC'!$H$378:$X$378,0))","v":-296.67298355204559},10,null,null,null,null,null,null,null,"2017+","INC","%",{"$f":"$O$81","v":1.040312093628093E-2},"$",{"$f":"$Q$81","v":495.18737698870899},{"$f":"$R$81","v":10},null,null,null,null,null,null,null,"2017+","INC","%",{"$f":"$AC$81","v":1.040312093628093E-2},"$",{"$f":"$AE$81","v":495.18737698870899},{"$f":"$AF$81","v":10},null,null,null,null,null,null,null,"2017+","INC","%",{"$f":"$AQ$81","v":1.040312093628093E-2},"$",{"$f":"$AS$81","v":-296.67298355204559},{"$f":"$AT$81","v":10},null,null,null,null,null,null,null,"2017+","INC","%",{"$f":"$O$81","v":1.040312093628093E-2},"$",{"$f":"$Q$81","v":495.18737698870899},{"$f":"$R$81","v":10},null,null,null,null,null,null,null,"2017+","INC","%",{"$f":"$AC$81","v":1.040312093628093E-2},"$",{"$f":"$AE$81","v":495.18737698870899},{"$f":"$AF$81","v":10},null,null,null,null,null,null,null,"2017+","INC","%",{"$f":"$AQ$81","v":1.040312093628093E-2},"$",{"$f":"$AS$81","v":-296.67298355204559},{"$f":"$AT$81","v":10},null,null,null,null,null,null,null,"2017+","INC","%",{"$f":"$O$81","v":1.040312093628093E-2},"$",{"$f":"$Q$81","v":495.18737698870899},{"$f":"$R$81","v":10},null,null,null,null,null,null,null,"2017+","INC","%",{"$f":"$AC$81","v":1.040312093628093E-2},"$",{"$f":"$AE$81","v":495.18737698870899},{"$f":"$AF$81","v":10},null,null,null,null,null,null,null,"2017+","INC","%",{"$f":"$AQ$81","v":1.040312093628093E-2},"$",{"$f":"$AS$81","v":-296.67298355204559},{"$f":"$AT$81","v":10}]
["Diesel Engine Type","I4",null,null,null,null,null,null,null,null,null,null,"ABS","%",0.23899999999999999,"$",{"$f":"Q74+Q81","v":1789.7462845742057},"L",null,null,null,null,null,null,null,null,"ABS","%",{"$f":"O82","v":0.23899999999999999},"$",{"$f":"AE74+AE81","v":1568.0942576454524},"L",null,null,null,null,null,null,null,null,"ABS","%",{"$f":"O82","v":0.23899999999999999},"$",{"$f":"AS74+AS81","v":1498.7436409981715},"L",null,null,null,null,null,null,null,null,"ABS","%",{"$f":"1-((1-BE74)*(1-BE81))","v":0.23899999999999999},"$",{"$f":"BG74+BG81","v":1817.923195311995},"L",null,null,null,null,null,null,null,null,"ABS","%",{"$f":"$O82","v":0.23899999999999999},"$",{"$f":"BU74+BU81","v":1469.129531958826},"L",null,null,null,null,null,null,null,null,"ABS","%",{"$f":"$AQ82","v":0.23899999999999999},"$",{"$f":"CI74+CI81","v":1386.2092748987006},"L",null,null,null,null,null,null,null,null,"ABS","%",{"$f":"$O82","v":0.23899999999999999},"$",{"$f":"CW74+CW81","v":1876.3137822415199},"L",null,null,null,null,null,null,null,null,"ABS","%",{"$f":"$AC82","v":0.23899999999999999},"$",{"$f":"DK74+DK81","v":1527.5201188883511},"L",null,null,null,null,null,null,null,null,"ABS","%",{"$f":"$AQ82","v":0.23899999999999999},"$",{"$f":"DY74+DY81","v":1444.599861828226},"L",null,null,null,null,null,null,null,null,"ABS","%",{"$f":"$O82","v":0.23899999999999999},"$",{"$f":"EM74+EM81","v":1384.0531651973067},"L",null,null,null,null,null,null,null,null,"ABS","%",{"$f":"$AC82","v":0.23899999999999999},"$",{"$f":"FA74+FA81","v":2145.2188582093713},"L",null,null,null,null,null,null,null,null,"ABS","%",{"$f":"$AQ82","v":0.23899999999999999},"$",{"$f":"FO74+FO81","v":2037.0945269870799},"L"]
["Displacement [L]","1.5 to 2.0"]
["Turbocharger","VNT"]
["EGR system","cooler+vlv+bypass vlv"]
["FIE","HPCR 1800bar solenoid",null,null,"2012-2016","INC","%",{"$f":"1-((1-H87)/(1-O79))","v":0},"$",0,"L","2012-2016","INC","%",0,"$",0,0,"2012-2016","INC","%",{"$f":"1-((1-V87)/(1-AC79))","v":0},"$",0,"L","2012-2016","INC","%",0,"$",0,0,"2012-2016","INC","%",{"$f":"1-((1-AJ87)/(1-AQ79))","v":0},"$",0,"L","2012-2016","INC","%",0,"$",0,0,"2012-2016","INC","%",{"$f":"1-((1-AX87)/(1-BE79))","v":-4.9980724603371218E-3},"$",0,"L","2012-2016","INC","%",0,"$",0,0,"2012-2016","INC","%",{"$f":"1-((1-BL87)/(1-BS79))","v":0},"$",0,"L","2012-2016","INC","%",0,"$",0,0,"2012-2016","INC","%",{"$f":"1-((1-BZ87)/(1-CG79))","v":0},"$",0,"L","2012-2016","INC","%",0,"$",0,0,"2012-2016","INC","%",{"$f":"1-((1-CN87)/(1-CU79))","v":4.418625442789148E-4},"$",0,"L","2012-2016","INC","%",0,"$",0,0,"2012-2016","INC","%",{"$f":"1-((1-DB87)/(1-DI79))","v":0},"$",0,"L","2012-2016","INC","%",0,"$",0,0,"2012-2016","INC","%",{"$f":"1-((1-DP87)/(1-DW79))","v":0},"$",0,"L","2012-2016","INC","%",0,"$",0,0,"2012-2016","INC","%",{"$f":"1-((1-ED87)/(1-EK79))","v":-5.2838638207889366E-2},"$",0,"L","2012-2016","INC","%",0,"$",0,0,"2012-2016","INC","%",{"$f":"1-((1-ER87)/(1-EY79))","v":6.4499676165802322E-3},"$",0,"L","2012-2016","INC","%",0,"$",0,0,"2012-2016","INC","%",{"$f":"1-((1-FF87)/(1-FM79))","v":6.4499676165802322E-3},"$",0,"L","2012-2016","INC","%",0,"$",0,0]
["Valvetrain","4-valve DOHC",null,null,null,"ABS","%",{"$f":"O79","v":0.16976369643234546},"$",{"$f":"J86+Q79","v":926.64925955855733},150,null,"ABS","%",{"$f":"1-((1-O79)*(1-O86))","v":0.16976369643234546},"$",{"$f":"Q79+Q86","v":926.64925955855733},"L",null,"ABS","%",{"$f":"AC79","v":0.1693966839378237},"$",{"$f":"X86+AE79","v":477.31779101089109},200,null,"ABS","%",{"$f":"1-((1-AC79)*(1-AC86))","v":0.1693966839378237},"$",{"$f":"AE79+AE86","v":477.31779101089109},"L",null,"ABS","%",{"$f":"AQ79","v":0.1693966839378237},"$",{"$f":"AL86+AS79","v":1030.0665158129386},500,null,"ABS","%",{"$f":"1-((1-AQ79)*(1-AQ86))","v":0.1693966839378237},"$",{"$f":"AS79+AS86","v":1030.0665158129386},"L",null,"ABS","%",{"$f":"$H$87","v":0.16976369643234546},"$",{"$f":"AZ86+BG79","v":954.8261702963465},{"$f":"$K$87","v":150},null,"ABS","%",{"$f":"1-((1-BE79)*(1-BE86))","v":0.1738926408732786},"$",{"$f":"BG79+BG86","v":954.8261702963465},"L",null,"ABS","%",{"$f":"$V$87","v":0.1693966839378237},"$",{"$f":"BN86+BU79","v":378.35306532426478},{"$f":"$Y$87","v":200},null,"ABS","%",{"$f":"1-((1-BS79)*(1-BS86))","v":0.16939668393782359},"$",{"$f":"BU79+BU86","v":378.35306532426478},"L",null,"ABS","%",{"$f":"$AJ$87","v":0.1693966839378237},"$",{"$f":"CB86+CI79","v":917.53214971346802},{"$f":"$AM$87","v":500},null,"ABS","%",{"$f":"1-((1-CG79)*(1-CG86))","v":0.16939668393782359},"$",{"$f":"CI79+CI86","v":917.53214971346802},"L",null,"ABS","%",{"$f":"$H$87","v":0.16976369643234546},"$",{"$f":"CP86+CW79","v":1013.2167572258717},{"$f":"$K$87","v":150},null,"ABS","%",{"$f":"1-((1-CU79)*(1-CU86))","v":0.1693966839378237},"$",{"$f":"CW79+CW86","v":1013.2167572258717},"L",null,"ABS","%",{"$f":"$V$87","v":0.1693966839378237},"$",{"$f":"DD86+DK79","v":436.74365225378995},{"$f":"$Y$87","v":200},null,"ABS","%",{"$f":"1-((1-DI79)*(1-DI86))","v":0.1693966839378237},"$",{"$f":"DK79+DK86","v":436.74365225378995},"L",null,"ABS","%",{"$f":"$AJ$87","v":0.1693966839378237},"$",{"$f":"DR86+DY79","v":975.92273664299319},{"$f":"$AM$87","v":500},null,"ABS","%",{"$f":"1-((1-DW79)*(1-DW86))","v":0.1693966839378237},"$",{"$f":"DY79+DY86","v":975.92273664299319},"L",null,"ABS","%",{"$f":"$H$87","v":0.16976369643234546},"$",{"$f":"EF86+EM79","v":520.95614018165861},{"$f":"$K$87","v":150},null,"ABS","%",{"$f":"1-((1-EK79)*(1-EK86))","v":0.21143062817217828},"$",{"$f":"EM79+EM86","v":520.95614018165861},"L",null,"ABS","%",{"$f":"$V$87","v":0.1693966839378237},"$",{"$f":"ET86+FA79","v":1054.4423915748105},{"$f":"$Y$87","v":200},null,"ABS","%",{"$f":"1-((1-EY79)*(1-EY86))","v":0.16400454029511913},"$",{"$f":"FA79+FA86","v":1054.4423915748105},"L",null,"ABS","%",{"$f":"$AJ$87","v":0.1693966839378237},"$",{"$f":"FH86+FO79","v":1568.4174018018473},{"$f":"$AM$87","v":500},null,"ABS","%",{"$f":"1-((1-FM79)*(1-FM86))","v":0.16400454029511913},"$",{"$f":"FO79+FO86","v":1568.4174018018473},"L"]
["Valvetrain option","N/A",null,null,null,null,"Advanced Diesel\n(ADSL_SD) - TBL",null,null,null,null,"ADSL_SD",null,"To Strong Hybrids",null,null,null,null,null,null,"Advanced Diesel\n(ADSL_MD) - TBL",null,null,null,null,"ADSL_MD",null,"To Strong Hybrids",null,null,null,null,null,null,"Advanced Diesel\n(ADSL_LD) - TBL",null,null,null,null,"ADSL_LD",null,"To Strong Hybrids",null,null,null,null,null,null,"Advanced Diesel\n(ADSL_SD) - TBL",null,null,null,null,"ADSL_SD",null,"To Strong Hybrids",null,null,null,null,null,null,"Advanced Diesel\n(ADSL_MD) - TBL",null,null,null,null,"ADSL_SD",null,"To Strong Hybrids",null,null,null,null,null,null,"Advanced Diesel\n(ADSL_LD) - TBL",null,null,null,null,"ADSL_SD",null,"To Strong Hybrids",null,null,null,null,null,null,"Advanced Diesel\n(ADSL_SD) - TBL",null,null,null,null,"ADSL_SD",null,"To Strong Hybrids",null,null,null,null,null,null,"Advanced Diesel\n(ADSL_MD) - TBL",null,null,null,null,"ADSL_SD",null,"To Strong Hybrids",null,null,null,null,null,null,"Advanced Diesel\n(ADSL_LD) - TBL",null,null,null,null,"ADSL_SD",null,"To Strong Hybrids",null,null,null,null,null,null,"Advanced Diesel\n(ADSL_SD) - TBL",null,null,null,null,"ADSL_SD",null,"To Strong Hybrids",null,null,null,null,null,null,"Advanced Diesel\n(ADSL_MD) - TBL",null,null,null,null,"ADSL_SD",null,"To Strong Hybrids",null,null,null,null,null,null,"Advanced Diesel\n(ADSL_LD) - TBL",null,null,null,null,"ADSL_SD",null,"To Strong Hybrids"]
["After Treatment","DOC+LNT+DPF",null,null,"2017+","INC","%",{"$f":"1-((1-H90)/(1-O82))","v":5.5321944809461288E-2},"$",{"$f":"INDEX('[1]Compact PC'!$H$379:$X$467,MATCH(L88,'[1]Compact PC'!$C$379:$C$467,0),MATCH(Inputs!$C$2,'[1]Compact PC'!$H$378:$X$378,0))","v":911.04083256975923},"L","2017+","INC","%",0,"$",{"$f":"Q86","v":0},0,"2017+","INC","%",{"$f":"1-((1-V90)/(1-AC82))","v":5.5321944809461288E-2},"$",{"$f":"INDEX('[1]Compact PC'!$H$379:$X$467,MATCH(Z88,'[1]Compact PC'!$C$379:$C$467,0),MATCH(Inputs!$C$2,'[1]Compact PC'!$H$378:$X$378,0))","v":927.85441038425756},"L","2017+","INC","%",0,"$",{"$f":"AE86","v":0},0,"2017+","INC","%",{"$f":"1-((1-AJ90)/(1-AQ82))","v":5.5321944809461288E-2},"$",{"$f":"INDEX('[1]Compact PC'!$H$379:$X$467,MATCH(AN88,'[1]Compact PC'!$C$379:$C$467,0),MATCH(Inputs!$C$2,'[1]Compact PC'!$H$378:$X$378,0))","v":1811.581549062259},"L","2017+","INC","%",0,"$",{"$f":"AS86","v":0},0,"2017+","INC","%",{"$f":"1-((1-AX90)/(1-BE82))","v":5.5321944809461288E-2},"$",{"$f":"$J$89","v":911.04083256975923},"L","2017+","INC","%",0,"$",{"$f":"BG86","v":0},0,"2017+","INC","%",{"$f":"1-((1-BL90)/(1-BS82))","v":5.5321944809461288E-2},"$",{"$f":"$X$89","v":927.85441038425756},"L","2017+","INC","%",0,"$",{"$f":"BU86","v":0},0,"2017+","INC","%",{"$f":"1-((1-BZ90)/(1-CG82))","v":5.5321944809461288E-2},"$",{"$f":"$AL$89","v":1811.581549062259},"L","2017+","INC","%",0,"$",{"$f":"CI86","v":0},0,"2017+","INC","%",{"$f":"1-((1-CN90)/(1-CU82))","v":5.5321944809461288E-2},"$",{"$f":"$J$89","v":911.04083256975923},"L","2017+","INC","%",0,"$",{"$f":"CW86","v":0},0,"2017+","INC","%",{"$f":"1-((1-DB90)/(1-DI82))","v":5.5321944809461288E-2},"$",{"$f":"$X$89","v":927.85441038425756},"L","2017+","INC","%",0,"$",{"$f":"DK86","v":0},0,"2017+","INC","%",{"$f":"1-((1-DP90)/(1-DW82))","v":5.5321944809461288E-2},"$",{"$f":"$AL$89","v":1811.581549062259},"L","2017+","INC","%",0,"$",{"$f":"DY86","v":0},0,"2017+","INC","%",{"$f":"1-((1-ED90)/(1-EK82))","v":5.5321944809461288E-2},"$",{"$f":"$J$89","v":911.04083256975923},"L","2017+","INC","%",0,"$",{"$f":"EM86","v":0},0,"2017+","INC","%",{"$f":"1-((1-ER90)/(1-EY82))","v":5.5321944809461288E-2},"$",{"$f":"$X$89","v":927.85441038425756},"L","2017+","INC","%",0,"$",{"$f":"FA86","v":0},0,"2017+","INC","%",{"$f":"1-((1-FF90)/(1-FM82))","v":5.5321944809461288E-2},"$",{"$f":"$AL$89","v":1811.581549062259},"L","2017+","INC","%",0,"$",{"$f":"FO86","v":0},0]
[null,null,null,null,null,"ABS","%",0.28110000000000002,"$",{"$f":"Q82+J89","v":2700.7871171439647},150,null,"ABS","%",{"$f":"1-((1-O82)*(1-O89))","v":0.23899999999999999},"$",{"$f":"Q82+Q89","v":1789.7462845742057},"L",null,"ABS","%",{"$f":"H90","v":0.28110000000000002},"$",{"$f":"AE82+X89","v":2495.94866802971},200,null,"ABS","%",{"$f":"1-((1-AC82)*(1-AC89))","v":0.23899999999999999},"$",{"$f":"AE82+AE89","v":1568.0942576454524},"L",null,"ABS","%",{"$f":"H90","v":0.28110000000000002},"$",{"$f":"AS82+AL89","v":3310.3251900604305},500,null,"ABS","%",{"$f":"1-((1-AQ82)*(1-AQ89))","v":0.23899999999999999},"$",{"$f":"AS82+AS89","v":1498.7436409981715},"L",null,"ABS","%",{"$f":"$H$90","v":0.28110000000000002},"$",{"$f":"$J$90","v":2700.7871171439647},{"$f":"$K$90","v":150},null,"ABS","%",{"$f":"1-((1-BE82)*(1-BE89))","v":0.23899999999999999},"$",{"$f":"BG82+BG89","v":1817.923195311995},"L",null,"ABS","%",{"$f":"$V$90","v":0.28110000000000002},"$",{"$f":"$X$90","v":2495.94866802971},{"$f":"$Y$90","v":200},null,"ABS","%",{"$f":"1-((1-BS82)*(1-BS89))","v":0.23899999999999999},"$",{"$f":"BU82+BU89","v":1469.129531958826},"L",null,"ABS","%",{"$f":"$AJ$90","v":0.28110000000000002},"$",{"$f":"$AL$90","v":3310.3251900604305},{"$f":"$AM$90","v":500},null,"ABS","%",{"$f":"1-((1-CG82)*(1-CG89))","v":0.23899999999999999},"$",{"$f":"CI82+CI89","v":1386.2092748987006},"L",null,"ABS","%",{"$f":"$H$90","v":0.28110000000000002},"$",{"$f":"$J$90","v":2700.7871171439647},{"$f":"$K$90","v":150},null,"ABS","%",{"$f":"1-((1-CU82)*(1-CU89))","v":0.23899999999999999},"$",{"$f":"CW82+CW89","v":1876.3137822415199},"L",null,"ABS","%",{"$f":"$V$90","v":0.28110000000000002},"$",{"$f":"$X$90","v":2495.94866802971},{"$f":"$Y$90","v":200},null,"ABS","%",{"$f":"1-((1-DI82)*(1-DI89))","v":0.23899999999999999},"$",{"$f":"DK82+DK89","v":1527.5201188883511},"L",null,"ABS","%",{"$f":"$AJ$90","v":0.28110000000000002},"$",{"$f":"$AL$90","v":3310.3251900604305},{"$f":"$AM$90","v":500},null,"ABS","%",{"$f":"1-((1-DW82)*(1-DW89))","v":0.23899999999999999},"$",{"$f":"DY82+DY89","v":1444.599861828226},"L",null,"ABS","%",{"$f":"$H$90","v":0.28110000000000002},"$",{"$f":"$J$90","v":2700.7871171439647},{"$f":"$K$90","v":150},null,"ABS","%",{"$f":"1-((1-EK82)*(1-EK89))","v":0.23899999999999999},"$",{"$f":"EM82+EM89","v":1384.0531651973067},"L",null,"ABS","%",{"$f":"$V$90","v":0.28110000000000002},"$",{"$f":"$X$90","v":2495.94866802971},{"$f":"$Y$90","v":200},null,"ABS","%",{"$f":"1-((1-EY82)*(1-EY89))","v":0.23899999999999999},"$",{"$f":"FA82+FA89","v":2145.2188582093713},"L",null,"ABS","%",{"$f":"$AJ$90","v":0.28110000000000002},"$",{"$f":"$AL$90","v":3310.3251900604305},{"$f":"$AM$90","v":500},null,"ABS","%",{"$f":"1-((1-FM82)*(1-FM89))","v":0.23899999999999999},"$",{"$f":"FO82+FO89","v":2037.0945269870799},"L"]
[]
[]
[]
[]
[]
[]
[]
["Expanded Trans/Hybrid Technology Decision Tree"]
[]
[]
[null,null,null,null,"Electrification",null,null,null,null,null,null,null,null,null,null,null,null,null,null,null,null,"Manual Trans",null,null,null,null,null,null,null,null,null,null,null,"Auto Trans"]
[]
[null,"START",null,null,"2012-2016","INC","%",1.4999999999999999E-2,"$",{"$f":"INDEX('[1]Compact PC'!$H$379:$X$467,MATCH(L105,'[1]Compact PC'!$C$379:$C$467,0),MATCH(Inputs!$C$2,'[1]Compact PC'!$H$378:$X$378,0))","v":98.103282519162363},95.93,null,null,null,"START",null,null,null,"2012-2016","INC","%",2.0199999999999999E-2,"$",{"$f":"INDEX('[1]Compact PC'!$H$379:$X$467,MATCH(Z105,'[1]Compact PC'!$C$379:$C$467,0),MATCH(Inputs!$C$2,'[1]Compact PC'!$H$378:$X$378,0))","v":250.31750824336308},225.33,null,null,null,"START",null,null,null,"2012-2016","INC","%",2.3E-2,"$",{"$f":"INDEX('[1]Compact PC'!$H$379:$X$467,MATCH(AN105,'[1]Compact PC'!$C$379:$C$467,0),MATCH(Inputs!$C$2,'[1]Compact PC'!$H$378:$X$378,0))","v":55.807948333210945},54.17]
["Curb Weight (lbs)",3359,null,null,null,"ABS","%",{"$f":"H103","v":1.4999999999999999E-2},"$",{"$f":"J103","v":98.103282519162363},"L",null,null,null,"5-spd",null,null,null,null,"ABS","%",{"$f":"V103","v":2.0199999999999999E-2},"$",{"$f":"X103","v":250.31750824336308},"L",null,null,null,"4/5-spd",null,null,null,null,"ABS","%",{"$f":"AJ103","v":2.3E-2},"$",{"$f":"AL103","v":55.807948333210945},"L"]
["Engine Displacement [L]",2.2000000000000002,null,null,null,null,"Electric Power\nSteering (EPS) - TBL",null,null,null,null,"EPS",null,null,"Manual",null,null,null,null,null,"6 Speed Man/Imp.\nInternals (6MAN) - TBL",null,null,null,null,"6MAN",null,null,"Auto",null,null,null,null,null,"Imp. Auto Trans Cnrt./\nExternals (IATC) - TBL",null,null,null,null,"IATC"]
["Engine Power (HP)",166,null,null,"2017+","INC","%",{"$f":"H103","v":1.4999999999999999E-2},"$",{"$f":"J103","v":98.103282519162363},{"$f":"K103","v":95.93},null,null,null,null,null,null,null,"2017+","INC","%",2.0199999999999999E-2,"$",{"$f":"X103","v":250.31750824336308},225.33,null,null,null,null,null,null,null,"2017+","INC","%",2.3E-2,"$",{"$f":"AL103","v":55.807948333210945},54.17]
["Engine Torque (ft-lbf)",167,null,null,null,"ABS","%",{"$f":"H106","v":1.4999999999999999E-2},"$",{"$f":"J106","v":98.103282519162363},"L",null,null,null,null,null,null,null,null,"ABS","%",{"$f":"V106","v":2.0199999999999999E-2},"$",{"$f":"X106","v":250.31750824336308},"L",null,null,null,null,null,null,null,null,"ABS","%",{"$f":"AJ106","v":2.3E-2},"$",{"$f":"AL106","v":55.807948333210945},"L"]
["Footprint (ft2)",44.5]
[]
[]
[null,null,null,null,"2012-2016","INC","%",{"$f":"1-((1-H112)/(1-H104))","v":1.2182741116751328E-2},"$",{"$f":"INDEX('[1]Compact PC'!$H$379:$X$467,MATCH(L113,'[1]Compact PC'!$C$379:$C$467,0),MATCH(Inputs!$C$2,'[1]Compact PC'!$H$378:$X$378,0))","v":79.784981333734891},115.2,null,null,null,null,null,null,null,"2012-2016","INC","%",0,"$",0,100.55,null,null,null,null,null,null,null,"2012-2016","INC","%",{"$f":"1-((1-AJ112)/(1-AJ104))","v":1.8890497623293312E-2},"$",{"$f":"INDEX('[1]Compact PC'!$H$379:$X$467,MATCH(AN113,'[1]Compact PC'!$C$379:$C$467,0),MATCH(Inputs!$C$2,'[1]Compact PC'!$H$378:$X$378,0))","v":-37.91558007744085},100.55]
[null,null,null,null,null,"ABS","%",2.7E-2,"$",{"$f":"J104+J111","v":177.88826385289724},"L",null,null,null,null,null,null,null,null,"ABS","%",{"$f":"V104","v":2.0199999999999999E-2},"$",{"$f":"X111+X104","v":250.31750824336308},"L",null,null,null,null,null,null,null,null,"ABS","%",{"$f":"1-((1-5.2%)/(1-1.1%))","v":4.1456016177957578E-2},"$",{"$f":"AL111+AL104","v":17.892368255770094},"L"]
[null,null,null,null,null,null,"Improved Accessories 1\n(IACC1) - TBL",null,null,null,null,"IACC1",null,null,"From Engine Path\n2012-2016 ",null,null,null,null,null,"High Eff. Gearbox \n(Manual) -  (HETRANSM) - TBL",null,null,null,null,"HETRANS",null,null,null,null,null,null,null,null,"6-spd Auto Trans w/Imp\nInternals (NAUTO) - TBL",null,null,null,null,"NAUTO"]
[null,null,null,null,"2017+","INC","%",{"$f":"1-((1-H115)/(1-H107))","v":1.2182741116751328E-2},"$",{"$f":"J111","v":79.784981333734891},{"$f":"K111","v":115.2},null,null,null,null,null,null,null,"2017+","INC","%",{"$f":"1-((1-V115)/(1-V107))","v":3.4398572854509091E-2},"$",{"$f":"INDEX('[1]Compact PC'!$H$379:$X$467,MATCH(Z113,'[1]Compact PC'!$C$379:$C$467,0),MATCH(Inputs!$C$2,'[1]Compact PC'!$H$378:$X$378,0))","v":227.42624881754446},10,null,null,null,null,null,null,null,"2017+","INC","%",{"$f":"1-((1-AJ115)/(1-AJ107))","v":1.8890497623293312E-2},"$",{"$f":"AL111","v":-37.91558007744085},10]
[null,null,null,null,null,"ABS","%",{"$f":"H112","v":2.7E-2},"$",{"$f":"J107+J114","v":177.88826385289724},"L",null,null,null,null,null,null,null,null,"ABS","%",{"$f":"1-((1-6.45%)/(1-1.12%))","v":5.390372168284796E-2},"$",{"$f":"X107+X114","v":477.74375706090757},"L",null,null,null,null,null,null,null,null,"ABS","%",{"$f":"AJ112","v":4.1456016177957578E-2},"$",{"$f":"AL107+AL114","v":17.892368255770094},"L"]
[]
[]
[]
[null,null,null,null,"2012-2016","INC","%",{"$f":"1-((1-H120)/(1-H112))","v":0},"$",0,0,"2012-2016","INC","%",{"$f":"1-((1-O120)/(((1-$O$87)*(1-$H$136)*(1-AJ144))))","v":7.8191606787684886E-2},"$",{"$f":"INDEX('[1]Compact PC'!$H$379:$X$467,MATCH(M121,'[1]Compact PC'!$C$379:$C$467,0),MATCH(Inputs!$C$2,'[1]Compact PC'!$H$378:$X$378,0))\n+INDEX('[1]Compact PC'!$H$379:$X$467,MATCH(S121,'[1]Compact PC'!$C$379:$C$467,0),MATCH(Inputs!$C$2,'[1]Compact PC'!$H$378:$X$378,0))","v":1530.1516793900498},"L",null,null,null,null,null,null,null,null,null,null,null,null,null,null,"2012-2016","INC","%",{"$f":"1-((1-AJ120)/(1-AJ112))","v":4.0084388185653963E-2},"$",{"$f":"INDEX('[1]Compact PC'!$H$379:$X$467,MATCH(AN121,'[1]Compact PC'!$C$379:$C$467,0),MATCH(Inputs!$C$2,'[1]Compact PC'!$H$378:$X$378,0))","v":-115.46286109701285},-10.47]
[null,null,null,null,null,"ABS","%",{"$f":"H112","v":2.7E-2},"$",{"$f":"J112+J119","v":177.88826385289724},"L",null,"ABS","%",0.40300000000000002,"$",{"$f":"J136+Q119+Q87+AL144","v":3951.1601210669764},33.86,null,null,null,null,null,null,null,null,null,null,null,null,null,null,null,"ABS","%",{"$f":"1-((1-9%)/(1-1.1%))","v":7.9878665318503517E-2},"$",{"$f":"AL119+AL112","v":-97.570492841242753},"L"]
[null,null,null,null,null,null,"Improved Accessories 2\n(IACC2) - TBL",null,null,null,null,"IACC2","SHEV1_B","Strong Hybrid (Powersplit or 2-Mode) (SHEV1) - VBL",null,null,null,null,"SHEV1_NB",null,null,"From Engine Path\n2017+ ",null,null,null,null,null,null,null,null,null,null,null,null,"6-spd Dual Clutch Trans\n(DCT) - TBL",null,null,null,null,"DCT"]
[null,null,null,null,"2017+","INC","%",{"$f":"1-((1-H123)/(1-H115))","v":1.8499486125385434E-2},"$",{"$f":"INDEX('[1]Compact PC'!$H$379:$X$467,MATCH(L121,'[1]Compact PC'!$C$379:$C$467,0),MATCH(Inputs!$C$2,'[1]Compact PC'!$H$378:$X$378,0))","v":50.780571415814975},0,"2017+","INC","%",0,"$",0,"L",null,null,null,null,null,null,null,null,null,null,null,null,null,null,"2017+","INC","%",{"$f":"1-((1-AJ123)/(1-AJ115))","v":4.0084388185653963E-2},"$",{"$f":"AL119","v":-115.46286109701285},{"$f":"AM119","v":-10.47}]
[null,null,null,null,null,"ABS","%",4.4999999999999998E-2,"$",{"$f":"J115+J122","v":228.6688352687122},"L",null,"ABS","%",0,"$",{"$f":"Q116+Q122","v":0},0,null,null,null,null,null,null,null,null,null,null,null,null,null,null,null,"ABS","%",{"$f":"AJ120","v":7.9878665318503517E-2},"$",{"$f":"AL115+AL122","v":-97.570492841242753},"L"]
[]
[]
[]
[null,null,null,null,"2012-2016","INC","%",{"$f":"H130","v":1.6753926701570609E-2},"$",{"$f":"INDEX('[1]Compact PC'!$H$379:$X$467,MATCH(L129,'[1]Compact PC'!$C$379:$C$467,0),MATCH(Inputs!$C$2,'[1]Compact PC'!$H$378:$X$378,0))","v":296.21320140374655},259.67,"2012-2016","INC","%","n/a","$","n/a","L","2012-2016","INC","%",{"$f":"1-((1-V128)/(((1-$O$87)*(1-$H$136)*(1-AJ144))))","v":-0.54406766032213594},"$",0,"L",null,null,null,null,null,null,null,"2012-2016","INC","%",{"$f":"AJ130","v":3.8461538461538547E-2},"$",{"$f":"INDEX('[1]Compact PC'!$H$379:$X$467,MATCH(AN129,'[1]Compact PC'!$C$379:$C$467,0),MATCH(Inputs!$C$2,'[1]Compact PC'!$H$378:$X$378,0))","v":223.31892374342101},0]
[null,null,null,null,null,"ABS","%",{"$f":"H127+H120","v":4.3753926701570606E-2},"$",{"$f":"J120+J127","v":474.10146525664379},"L",null,"ABS","%","n/a","$","n/a",0,null,"ABS","%",0,"$",0,0,null,null,null,null,null,null,null,null,"ABS","%",{"$f":"AJ131","v":0.11526794742163804},"$",{"$f":"AL120+AL127","v":125.74843090217826},"M"]
[null,null,null,null,null,null,"12V Micro Hybrid - Stop-Start\n(MHEV) - TBL",null,null,null,null,"MHEV",null,"SHEV1 --> SHEV2",null,null,null,null,null,"SHEV2_B","Strong Hybrid (P2 Parallel or 2-Mode) (SHEV2) - VBL",null,null,null,null,"SHEV2_NB",null,null,null,null,null,null,null,null,"8-spd Trans (Auto or DCT)\n(8SPD) - TBL",null,null,null,null,"8SPD"]
[null,null,null,null,"2017+","INC","%",{"$f":"1-((1-H131)/(1-H123))","v":1.6753926701570609E-2},"$",{"$f":"J127","v":296.21320140374655},{"$f":"K127","v":259.67},"2017+","INC","%",{"$f":"1-((1-V131)/(1-O120))","v":0.10050251256281417},"$",{"$f":"Q131-Q120","v":1132.2573088121658},"L","2017+","INC","%",{"$f":"1-((1-V131)/(((1-$O$90)*(1-$H$139)*(1-AJ147))))","v":3.008023984753494E-2},"$",{"$f":"INDEX('[1]Compact PC'!$H$379:$X$467,MATCH(T129,'[1]Compact PC'!$C$379:$C$467,0),MATCH(Inputs!$C$2,'[1]Compact PC'!$H$378:$X$378,0))\n+INDEX('[1]Compact PC'!$H$379:$X$467,MATCH(Z129,'[1]Compact PC'!$C$379:$C$467,0),MATCH(Inputs!$C$2,'[1]Compact PC'!$H$378:$X$378,0))","v":1519.5927583985704},"L",null,null,null,null,null,null,null,"2017+","INC","%",{"$f":"1-((1-AJ131)/(1-AJ123))","v":3.8461538461538547E-2},"$",{"$f":"AL127","v":223.31892374342101},10]
[null,null,null,null,null,"ABS","%",6.0999999999999999E-2,"$",{"$f":"J123+J130","v":524.88203667245875},"L",null,"ABS","%",{"$f":"V131","v":0.46300000000000002},"$",{"$f":"X130+J139+Q90+AL147","v":5083.4174298791422},0,null,"ABS","%",0.46300000000000002,"$",{"$f":"X130+J139+Q90+AL147","v":5083.4174298791422},33.86,null,null,null,null,null,null,null,null,"ABS","%",{"$f":"1-((1-12.5%)/(1-1.1%))","v":0.11526794742163804},"$",{"$f":"AL123+AL130","v":125.74843090217826},"L"]
[]
[]
[]
[null,null,null,null,"2012-2016","INC","%",{"$f":"H138","v":7.4547390841320671E-2},"$",{"$f":"INDEX('[1]Large Perf. PC'!$H$379:$X$467,MATCH(F137,'[1]Large Perf. PC'!$C$379:$C$467,0),MATCH(Inputs!$C$2,'[1]Large Perf. PC'!$H$378:$X$378,0))\n+INDEX('[1]Large Perf. PC'!$H$379:$X$467,MATCH(L137,'[1]Large Perf. PC'!$C$379:$C$467,0),MATCH(Inputs!$C$2,'[1]Large Perf. PC'!$H$378:$X$378,0))","v":894.50928595954747},"L",null,null,null,null,null,null,null,"2012-2016","INC","%",{"$f":"1-((1-V136)/(1-V128))","v":0.35},"$",0,"L",null,null,null,null,null,null,null,"2012-2016","INC","%",{"$f":"1-((1-AJ136)/(1-AJ128))","v":0},"$",0,10]
[null,null,null,null,null,"ABS","%",{"$f":"H135+H128","v":0.11830131754289128},"$",{"$f":"J128+J135","v":1368.6107512161911},33.86,null,null,null,null,null,null,null,null,"ABS","%",0.35,"$",{"$f":"X135+X128","v":0},33.86,null,null,null,null,null,null,null,null,"ABS","%",{"$f":"AJ128","v":0.11526794742163804},"$",{"$f":"AL128+AL135","v":125.74843090217826},"L"]
[null,null,null,null,null,"ISG_B","Integrated Starter Generator\n(ISG) - VBL",null,null,null,null,"ISG_NB",null,null,null,null,null,null,null,"PHEV2_B","Plug-in Hybrid - 30 Mile Range  (PHEV1) - VBL",null,null,null,null,"PHEV2_NB",null,null,null,null,null,null,null,null,"High Eff. Gearbox\n(Auto or DCT) -  (HETRANS) - TBL",null,null,null,null,"HETRANS"]
[null,null,null,null,"2017+","INC","%",{"$f":"1-((1-H139)/(1-H131))","v":7.4547390841320671E-2},"$",{"$f":"J135","v":894.50928595954747},"L",null,null,null,null,null,null,null,"2017+","INC","%",0.40649999999999997,"$",{"$f":"INDEX('[1]Compact PC'!$H$379:$X$467,MATCH(T137,'[1]Compact PC'!$C$379:$C$467,0),MATCH(Inputs!$C$2,'[1]Compact PC'!$H$378:$X$378,0))\n+INDEX('[1]Compact PC'!$H$379:$X$467,MATCH(Z138,'[1]Compact PC'!$C$379:$C$467,0),MATCH(Inputs!$C$2,'[1]Compact PC'!$H$378:$X$378,0))\n+INDEX('[1]Compact PC'!$H$379:$X$467,MATCH(Z139,'[1]Compact PC'!$C$379:$C$467,0),MATCH(Inputs!$C$2,'[1]Compact PC'!$H$378:$X$378,0))\n+INDEX('[1]Compact PC'!$H$379:$X$467,MATCH(Z137,'[1]Compact PC'!$C$379:$C$467,0),MATCH(Inputs!$C$2,'[1]Compact PC'!$H$378:$X$378,0))","v":8231.3664634384349},"L","PHEV2_C",null,null,null,null,null,null,"2017+","INC","%",{"$f":"1-((1-AJ139)/(1-AJ131))","v":2.1714285714285686E-2},"$",{"$f":"INDEX('[1]Compact PC'!$H$379:$X$467,MATCH(AN137,'[1]Compact PC'!$C$379:$C$467,0),MATCH(Inputs!$C$2,'[1]Compact PC'!$H$378:$X$378,0))","v":227.42624881754446},10]
[null,null,null,null,null,"ABS","%",{"$f":"11.6%+H106","v":0.13100000000000001},"$",{"$f":"J131+J138","v":1419.3913226320062},33.86,null,null,null,null,null,null,null,null,"ABS","%",{"$f":"1-((1-V131)*(1-V138))","v":0.68129050000000002},"$",{"$f":"X138+X131","v":13314.783893317577},33.86,"CHRG_L",null,null,null,null,null,null,null,"ABS","%",{"$f":"1-((1-14.4%)/(1-1.1%))","v":0.13447927199191101},"$",{"$f":"AL131+AL138","v":353.17467971972269},"L"]
[]
[]
[]
[null,null,null,null,null,null,null,null,null,null,null,null,null,null,null,null,null,null,"2012-2016","INC","%",{"$f":"1-((1-V144)/(1-V136))","v":0},"$",0,"L",null,null,null,null,null,null,null,"2012-2016","INC","%",{"$f":"1-((1-AJ144)/(1-AJ136))","v":0},"$",0,10]
[null,null,null,null,null,null,null,null,null,null,null,null,null,null,null,null,null,null,null,"ABS","%",0.35,"$",{"$f":"X143+X136","v":0},33.86,null,null,null,null,null,null,null,null,"ABS","%",{"$f":"AJ136","v":0.11526794742163804},"$",{"$f":"AL136+AL143","v":125.74843090217826},"L"]
[null,null,null,null,null,null,null,null,null,"To Strong\nHybrid",null,null,null,null,null,null,null,null,null,"PHEV2_B","Plug-in Hybrid - VBL",null,null,null,null,"PHEV2_NB",null,null,null,null,null,null,null,null,"Shift Optimizer\n (SHFTOPT) - TBL",null,null,null,null,"SHFTOPT"]
[null,null,null,null,null,null,null,null,null,null,null,null,null,null,null,null,null,null,"2017+","INC","%",0,"$",0,"L","PHEV2_C",null,null,null,null,null,null,"2017+","INC","%",{"$f":"1-((1-AJ147)/(1-AJ139))","v":3.2710280373831724E-2},"$",{"$f":"INDEX('[1]Compact PC'!$H$379:$X$467,MATCH(AN145,'[1]Compact PC'!$C$379:$C$467,0),MATCH(Inputs!$C$2,'[1]Compact PC'!$H$378:$X$378,0))","v":1.5123845546366708},10]
[null,null,null,null,null,null,null,null,null,null,null,null,null,null,null,null,null,null,null,"ABS","%",{"$f":"1-((1-V139)*(1-V146))","v":0.68129050000000002},"$",{"$f":"X146+X139","v":13314.783893317577},33.86,null,null,null,null,null,null,null,null,"ABS","%",{"$f":"1-((1-17.2%)/(1-1.1%))","v":0.16279069767441856},"$",{"$f":"AL139+AL146","v":354.68706427435939},"L"]
[]
[]
[]
[null,null,null,null,null,null,null,null,null,null,null,null,null,null,null,null,null,null,"2012-2016","INC","%",{"$f":"1-((1-V152)/(1-V144))","v":0},"$",0,"L",null,null,null,null,null,null,null,null,null,null,null,"To Strong\n     Hybrid"]
[null,null,null,null,null,null,null,null,null,null,null,null,null,null,null,null,null,null,null,"ABS","%",0.35,"$",{"$f":"X151+X144","v":0},33.86]
[null,null,null,null,null,null,null,null,null,null,null,null,null,null,null,null,null,null,null,"EV1_B","Electric Vehicle - Early Adopter \n75 Mile Range - (EV1) - VBL",null,null,null,null,"EV1_NB"]
[null,null,null,null,null,null,null,null,null,null,null,null,null,null,null,null,null,null,"2017+","INC","%",0.68540000000000001,"$",{"$f":"INDEX('[1]Compact PC'!$H$379:$X$467,MATCH(T153,'[1]Compact PC'!$C$379:$C$467,0),MATCH(Inputs!$C$2,'[1]Compact PC'!$H$378:$X$378,0))\n+INDEX('[1]Compact PC'!$H$379:$X$467,MATCH(Z154,'[1]Compact PC'!$C$379:$C$467,0),MATCH(Inputs!$C$2,'[1]Compact PC'!$H$378:$X$378,0))\n+INDEX('[1]Compact PC'!$H$379:$X$467,MATCH(Z153,'[1]Compact PC'!$C$379:$C$467,0),MATCH(Inputs!$C$2,'[1]Compact PC'!$H$378:$X$378,0))","v":1606.6020143723727},"L","EV_C"]
[null,null,null,null,null,null,null,null,null,null,null,null,null,null,null,null,null,null,null,"ABS","%",{"$f":"1-((1-V147)*(1-V154))","v":0.89973399129999998},"$",{"$f":"X154+X147","v":14921.38590768995},33.86]
[]
[]
[]
[null,null,null,null,null,null,null,null,null,null,null,null,null,null,null,null,null,null,"2012-2016","INC","%",{"$f":"1-((1-V160)/(1-V152))","v":0},"$",0,"L"]
[null,null,null,null,null,null,null,null,null,null,null,null,null,null,null,null,null,null,null,"ABS","%",0.35,"$",{"$f":"X159+X152","v":0},33.86]
[null,null,null,null,null,null,null,null,null,null,null,null,null,null,null,null,null,null,null,"EV2_B","Electric Vehicle - Early Adopter \n100 Mile Range - (EV2) - VBL",null,null,null,null,"EV2_NB"]
[null,null,null,null,null,null,null,null,null,null,null,null,null,null,null,null,null,null,"2017+","INC","%",0,"$",0,"L"]
[null,null,null,null,null,null,null,null,null,null,null,null,null,null,null,null,null,null,null,"ABS","%",{"$f":"1-((1-V155)*(1-V162))","v":0.89973399129999998},"$",{"$f":"X162+X155","v":14921.38590768995},33.86]
[]
[]
[]
[null,null,null,null,null,null,null,null,null,null,null,null,null,null,null,null,null,null,"2012-2016","INC","%",{"$f":"1-((1-V168)/(1-V160))","v":0},"$",0,"L"]
[null,null,null,null,null,null,null,null,null,null,null,null,null,null,null,null,null,null,null,"ABS","%",0.35,"$",{"$f":"X167+X160","v":0},33.86]
[null,null,null,null,null,null,null,null,null,null,null,null,null,null,null,null,null,null,null,"EV3_B","Electric Vehicle - Early Adopter \n150 Mile Range - (EV3) - VBL",null,null,null,null,"EV3_NB"]
[null,null,null,null,null,null,null,null,null,null,null,null,null,null,null,null,null,null,"2017+","INC","%",0,"$",0,"L"]
[null,null,null,null,null,null,null,null,null,null,null,null,null,null,null,null,null,null,null,"ABS","%",{"$f":"1-((1-V163)*(1-V170))","v":0.89973399129999998},"$",{"$f":"X170+X163","v":14921.38590768995},33.86]
[]
[]
[]
[null,null,null,null,null,null,null,null,null,null,null,"2012-2016","INC","%",{"$f":"1-((1-O176)/(1-V168))","v":0},"$",0,"L",null,null,null,null,null,null,null,"2012-2016","INC","%",{"$f":"1-((1-AC176)/(1-V168))","v":0},"$",0,"L"]
[null,null,null,null,null,null,null,null,null,null,null,null,"ABS","%",0.35,"$",{"$f":"Q175+X168","v":0},33.86,null,null,null,null,null,null,null,null,"ABS","%",0.35,"$",{"$f":"AE175+X168","v":0},33.86]
[null,null,null,null,null,null,null,null,null,null,null,null,"EV4_B","Electric Vehicle - Mass Market \n150 Mile Range - (EV4) - VBL",null,null,null,null,"EV4_NB",null,null,null,null,null,null,null,"FCV_B","Fuel Cell Vehicle\n(FCV) - VBL",null,null,null,null,"FCV_NB"]
[null,null,null,null,null,null,null,null,null,null,null,"2017+","INC","%",0,"$",{"$f":"INDEX('[1]Compact PC'!$H$379:$X$467,MATCH(M177,'[1]Compact PC'!$C$379:$C$467,0),MATCH(Inputs!$C$2,'[1]Compact PC'!$H$378:$X$378,0))\n+INDEX('[1]Compact PC'!$H$379:$X$467,MATCH(S177,'[1]Compact PC'!$C$379:$C$467,0),MATCH(Inputs!$C$2,'[1]Compact PC'!$H$378:$X$378,0))","v":6309.7122202832888},"L",null,null,null,null,null,null,null,"2017+","INC","%",0,"$",{"$f":"INDEX('[1]Compact PC'!$H$379:$X$467,MATCH(AA177,'[1]Compact PC'!$C$379:$C$467,0),MATCH(Inputs!$C$2,'[1]Compact PC'!$H$378:$X$378,0))\n+INDEX('[1]Compact PC'!$H$379:$X$467,MATCH(AG177,'[1]Compact PC'!$C$379:$C$467,0),MATCH(Inputs!$C$2,'[1]Compact PC'!$H$378:$X$378,0))","v":{"$error":"#N/A"}},"L"]
[null,null,null,null,null,null,null,null,null,null,null,null,"ABS","%",{"$f":"1-((1-V171)*(1-O178))","v":0.89973399129999998},"$",{"$f":"Q178+X171","v":21231.098127973237},33.86,null,null,null,null,null,null,null,null,"ABS","%",{"$f":"1-((1-V171)*(1-AC178))","v":0.89973399129999998},"$",{"$f":"AE178+X171","v":{"$error":"#N/A"}},33.86]
[]
[]
[]
[]
[]
["Vehicle Technology Decision Tree"]
[]
[]
[]
[null,null,"ABS - WR",{"$f":"'[1]Compact PC'!$M$82","v":0},"2012-2016","INC","%",{"$f":"IF(D189<5%, D189*(3.5/10), D189*(5.1/10))","v":0},"$",{"$f":"INDEX('[1]Compact PC'!$H$379:$X$467,MATCH(L191,'[1]Compact PC'!$C$379:$C$467,0),MATCH(Inputs!$C$2,'[1]Compact PC'!$H$378:$X$378,0))","v":0},1.33,null,null,null,null,null,null,null,"2012-2016","INC","%",1.9E-2,"$",{"$f":"INDEX('[1]Compact PC'!$H$379:$X$467,MATCH(Z191,'[1]Compact PC'!$C$379:$C$467,0),MATCH(Inputs!$C$2,'[1]Compact PC'!$H$378:$X$378,0))","v":6.4396392400348512},5.15,null,null,null,null,null,null,null,"2012-2016","INC","%",8.0000000000000002E-3,"$",{"$f":"INDEX('[1]Compact PC'!$H$379:$X$467,MATCH(AN191,'[1]Compact PC'!$C$379:$C$467,0),MATCH(Inputs!$C$2,'[1]Compact PC'!$H$378:$X$378,0))","v":70.836031640383368},5.15,null,null,null,null,null,null,null,"2012-2016","INC","%",2.3E-2,"$",{"$f":"INDEX('[1]Compact PC'!$H$379:$X$467,MATCH(BB191,'[1]Compact PC'!$C$379:$C$467,0),MATCH(Inputs!$C$2,'[1]Compact PC'!$H$378:$X$378,0))","v":43.857938067390236},5.15]
[null,null,null,null,null,"ABS","%",{"$f":"H189","v":0},"$",{"$f":"J189","v":0},"L",null,null,null,null,null,null,null,null,"ABS","%",{"$f":"V189","v":1.9E-2},"$",{"$f":"X189","v":6.4396392400348512},"L",null,null,null,null,null,null,null,null,"ABS","%",{"$f":"AJ189","v":8.0000000000000002E-3},"$",{"$f":"AL189","v":70.836031640383368},"L",null,null,null,null,null,null,null,null,"ABS","%",{"$f":"AX189","v":2.3E-2},"$",{"$f":"AZ189","v":43.857938067390236},"L"]
[null,null,null,null,null,null,"Mass Reduction\n(MR1) - ($/pound) - TBL",null,null,null,null,"MR1",null,null,null,null,null,null,null,null,"Low Roll Resistance Tires 1\n (ROLL1) - No Learning Applied",null,null,null,null,"ROLL1",null,null,null,null,null,null,null,null,"Low Drag Brakes (LDB)\nNo Learning Applied",null,null,null,null,"LDB",null,null,null,null,null,null,null,null,"Aerodynamic Drag Reduction 1\n (AERO1) - No Learming Applied",null,null,null,null,"AERO1"]
[null,null,null,null,"2017+","INC","%",{"$f":"H189","v":0},"$",{"$f":"J189","v":0},1.33,null,null,null,null,null,null,null,"2017+","INC","%",{"$f":"V189","v":1.9E-2},"$",{"$f":"X189","v":6.4396392400348512},5.15,null,null,null,null,null,null,null,"2017+","INC","%",{"$f":"AJ189","v":8.0000000000000002E-3},"$",{"$f":"AL189","v":70.836031640383368},5.15,null,null,null,null,null,null,null,"2017+","INC","%",{"$f":"AX189","v":2.3E-2},"$",{"$f":"AZ189","v":43.857938067390236},5.15]
[null,null,null,null,null,"ABS","%",{"$f":"H192","v":0},"$",{"$f":"J192","v":0},"L",null,null,null,null,null,null,null,null,"ABS","%",{"$f":"V192","v":1.9E-2},"$",{"$f":"X192","v":6.4396392400348512},"L",null,null,null,null,null,null,null,null,"ABS","%",{"$f":"AJ192","v":8.0000000000000002E-3},"$",{"$f":"AL192","v":70.836031640383368},"L",null,null,null,null,null,null,null,null,"ABS","%",{"$f":"AX192","v":2.3E-2},"$",{"$f":"AZ192","v":43.857938067390236},"L"]
[]
[]
[]
[null,null,"INC - WR",{"$f":"'[1]Compact PC'!$M$83","v":0},"2012-2016","INC","%",{"$f":"1-((1-H198)/(1-H190))","v":0},"$",{"$f":"INDEX('[1]Compact PC'!$H$379:$X$467,MATCH(L199,'[1]Compact PC'!$C$379:$C$467,0),MATCH(Inputs!$C$2,'[1]Compact PC'!$H$378:$X$378,0))","v":0},1.33,null,null,null,null,null,null,null,"2012-2016","INC","%",{"$f":"1-((1-V198)/(1-V190))","v":2.0387359836901098E-2},"$",{"$f":"0","v":0},5.15,null,null,null,null,null,null,null,"2012-2016","INC","%",1.4E-2,"$",{"$f":"INDEX('[1]Compact PC'!$H$379:$X$467,MATCH(AN199,'[1]Compact PC'!$C$379:$C$467,0),MATCH(Inputs!$C$2,'[1]Compact PC'!$H$378:$X$378,0))","v":87.568251496242709},5.15,null,null,null,null,null,null,null,"2012-2016","INC","%",{"$f":"1-((1-AX198)/(1-AX190))","v":2.4564994882292801E-2},"$",{"$f":"INDEX('[1]Compact PC'!$H$379:$X$467,MATCH(BB199,'[1]Compact PC'!$C$379:$C$467,0),MATCH(Inputs!$C$2,'[1]Compact PC'!$H$378:$X$378,0))","v":154.95277498661324},5.15]
[null,null,"ABS - WR",{"$f":"D197+D189","v":0},null,"ABS","%",{"$f":"IF(D198<5%,D198 D198*(3.5/10), D198*(5.1/10))","v":0},"$",{"$f":"J197","v":0},"L",null,null,null,null,null,null,null,null,"ABS","%",3.9E-2,"$",{"$f":"X190+X197","v":6.4396392400348512},"L",null,null,null,null,null,null,null,null,"ABS","%",{"$f":"1-(1-AJ190)*(1-AJ197)","v":2.1888000000000019E-2},"$",{"$f":"AL190+AL197","v":158.40428313662608},"L",null,null,null,null,null,null,null,null,"ABS","%",4.7E-2,"$",{"$f":"AZ190+AZ197","v":198.81071305400349},"L"]
[null,null,null,null,null,null,"Mass Reduction\n(MR2) - ($/pound) - TBL",null,null,null,null,"MR2",null,null,null,null,null,null,null,null,"Low Roll Resistance Tires 2\n (ROLL2) - No Learning Applied",null,null,null,null,"ROLL2",null,null,null,null,null,null,null,null,"Secondary Axle Discon. (SAXU/SAXL)\nTBL",null,null,null,null,"SAX",null,null,null,null,null,null,null,null,"Aerodynamic Drag Reduction 2\n (AERO2) - No Learming Applied",null,null,null,null,"AERO2"]
[null,null,null,null,"2017+","INC","%",{"$f":"1-((1-H201)/(1-H193))","v":0},"$",{"$f":"J197","v":0},1.33,null,null,null,null,null,null,null,"2017+","INC","%",{"$f":"1-((1-V201)/(1-V193))","v":2.0387359836901098E-2},"$",{"$f":"INDEX('[1]Compact PC'!$H$379:$X$467,MATCH(Z199,'[1]Compact PC'!$C$379:$C$467,0),MATCH(Inputs!$C$2,'[1]Compact PC'!$H$378:$X$378,0))","v":50.173232527734726},5.15,null,null,null,null,null,null,null,"2017+","INC","%",{"$f":"AJ197","v":1.4E-2},"$",{"$f":"AL197","v":87.568251496242709},5.15,null,null,null,null,null,null,null,"2017+","INC","%",{"$f":"1-((1-AX201)/(1-AX193))","v":2.4564994882292801E-2},"$",{"$f":"AZ197","v":154.95277498661324},5.15]
[null,null,null,null,null,"ABS","%",{"$f":"IF(D198<5%, D198*(3.5/10), D198*(5.1/10))","v":0},"$",{"$f":"J200","v":0},"L",null,null,null,null,null,null,null,null,"ABS","%",{"$f":"V198","v":3.9E-2},"$",{"$f":"X193+X200","v":56.612871767769576},"L",null,null,null,null,null,null,null,null,"ABS","%",{"$f":"1-(1-AJ193)*(1-AJ200)","v":2.1888000000000019E-2},"$",{"$f":"AL193+AL200","v":158.40428313662608},"L",null,null,null,null,null,null,null,null,"ABS","%",{"$f":"AX198","v":4.7E-2},"$",{"$f":"AZ193+AZ200","v":198.81071305400349},"L"]
[]
[]
[]
[null,null,"INC - WR",{"$f":"'[1]Compact PC'!$M$84","v":0},"2012-2016","INC","%",{"$f":"1-((1-H206)/(1-H198))","v":0},"$",{"$f":"INDEX('[1]Compact PC'!$H$379:$X$467,MATCH(L207,'[1]Compact PC'!$C$379:$C$467,0),MATCH(Inputs!$C$2,'[1]Compact PC'!$H$378:$X$378,0))","v":0},1.33,null,null,null,null,null,null,null,"2012-2016","INC","%",0,"$",0,0]
[null,null,"ABS - WR",{"$f":"D205+D198","v":0},null,"ABS","%",{"$f":"IF(D206<5%, D206*(3.5/10), D206*(5.1/10))","v":0},"$",{"$f":"J205","v":0},"L",null,null,null,null,null,null,null,null,"ABS","%",{"$f":"1-((1-V198)*(1-V205))","v":3.9000000000000035E-2},"$",{"$f":"X198+X205","v":6.4396392400348512},"L"]
[null,null,null,null,null,null,"Mass Reduction\n(MR3) - ($/pound) - TBL",null,null,null,null,"MR3",null,null,null,null,null,null,null,null,"Low Roll Resistance Tires 3\n (ROLL3) - No Learning Applied"]
[null,null,null,null,"2017+","INC","%",{"$f":"1-((1-H209)/(1-H201))","v":0},"$",{"$f":"J205","v":0},1.33,null,null,null,null,null,null,null,"2017+","INC","%",0,"$",{"$f":"X205","v":0},0]
[null,null,null,null,null,"ABS","%",{"$f":"IF(D206<5%, D206*(3.5/10), D206*(5.1/10))","v":0},"$",{"$f":"J208","v":0},"L",null,null,null,null,null,null,null,null,"ABS","%",{"$f":"1-((1-V201)*(1-V208))","v":3.9000000000000035E-2},"$",{"$f":"X201+X208","v":56.612871767769576},"L"]
[]
[]
[]
[null,null,"INC - WR",{"$f":"'[1]Compact PC'!$M$85","v":0},"2012-2016","INC","%",{"$f":"1-((1-H214)/(1-H206))","v":0},"$",{"$f":"INDEX('[1]Compact PC'!$H$379:$X$467,MATCH(L215,'[1]Compact PC'!$C$379:$C$467,0),MATCH(Inputs!$C$2,'[1]Compact PC'!$H$378:$X$378,0))","v":0},1.33]
[null,null,"ABS - WR",{"$f":"D213+D206","v":0},null,"ABS","%",{"$f":"IF(D214<5%, D214*(3.5/10), D214*(5.1/10))","v":0},"$",{"$f":"J213","v":0},"L"]
[null,null,null,null,null,null,"Mass Reduction\n(MR4) - ($/pound) - TBL",null,null,null,null,"MR4"]
[null,null,null,null,"2017+","INC","%",{"$f":"1-((1-H217)/(1-H209))","v":0},"$",{"$f":"J213","v":0},1.33]
[null,null,null,null,null,"ABS","%",{"$f":"IF(D214<5%, D214*(3.5/10), D214*(5.1/10))","v":0},"$",{"$f":"J216","v":0},"L"]
[]
[]
[]
[null,null,"INC - WR",{"$f":"'[1]Compact PC'!$M$86","v":0},"2012-2016","INC","%",{"$f":"1-((1-H222)/(1-H214))","v":0},"$",{"$f":"INDEX('[1]Compact PC'!$H$379:$X$467,MATCH(L223,'[1]Compact PC'!$C$379:$C$467,0),MATCH(Inputs!$C$2,'[1]Compact PC'!$H$378:$X$378,0))","v":0},1.33]
[null,null,"ABS - WR",{"$f":"D221+D214","v":0},null,"ABS","%",{"$f":"IF(D222<5%, D222*(3.5/10), D222*(5.1/10))","v":0},"$",{"$f":"J221","v":0},"L"]
[null,null,null,null,null,null,"Mass Reduction\n(MR5) - ($/pound) - TBL",null,null,null,null,"MR5"]
[null,null,null,null,"2017+","INC","%",{"$f":"1-((1-H225)/(1-H217))","v":0},"$",{"$f":"J221","v":0},1.33]
[null,null,null,null,null,"ABS","%",{"$f":"IF(D222<5%, D222*(3.5/10), D222*(5.1/10))","v":0},"$",{"$f":"J224","v":0},"L"]

{"sheet":"Compact Perf. PC","index":5,"n_rows":225,"n_cols":173,"rows_kept":225,"cut":false,"hidden":false,"merged":[[5,62,5,66],[5,76,5,80],[5,90,5,94],[6,31,7,31],[6,32,7,32],[6,60,7,60],[6,74,7,74],[6,88,7,88],[0,0,0,172],[1,0,2,0],[3,31,4,31],[3,32,4,32],[3,60,4,60],[3,74,4,74],[3,88,4,88],[23,153,23,157],[24,25,25,25],[24,88,25,88],[24,151,25,151],[13,88,14,88],[15,90,15,94],[16,88,17,88],[21,25,22,25],[21,88,22,88],[21,151,22,151],[29,25,30,25],[29,67,30,67],[29,109,30,109],[29,151,30,151],[31,27,31,31],[31,69,31,73],[31,111,31,115],[23,27,23,31],[23,90,23,94],[39,153,39,157],[40,25,41,25],[40,67,41,67],[40,109,41,109],[40,151,41,151],[31,153,31,157],[32,25,33,25],[32,67,33,67],[32,109,33,109],[32,151,33,151],[37,25,38,25],[37,67,38,67],[37,109,38,109],[37,151,38,151],[45,25,46,25],[45,67,46,67],[45,109,46,109],[45,151,46,151],[47,27,47,31],[47,69,47,73],[47,111,47,115],[39,27,39,31],[39,69,39,73],[39,111,39,115],[47,153,47,157],[48,25,49,25],[48,67,49,67],[48,109,49,109],[48,151,49,151],[53,11,54,11],[53,25,54,25],[53,39,54,39],[53,53,54,53],[53,67,54,67],[53,165,54,165],[55,13,55,17],[55,27,55,31],[55,41,55,45],[55,55,55,59],[55,69,55,73],[55,83,55,87],[55,97,55,101],[55,111,55,115],[55,125,55,129],[53,81,54,81],[53,95,54,95],[53,109,54,109],[53,123,54,123],[53,137,54,137],[53,151,54,151],[55,139,55,143],[55,153,55,157],[55,167,55,171],[56,11,57,11],[56,25,57,25],[56,39,57,39],[56,53,57,53],[56,67,57,67],[56,81,57,81],[56,95,57,95],[56,109,57,109],[56,123,57,123],[56,137,57,137],[56,151,57,151],[56,165,57,165],[61,11,62,11],[61,25,62,25],[61,39,62,39],[61,53,62,53],[61,67,62,67],[61,165,62,165],[63,13,63,17],[63,27,63,31],[63,41,63,45],[63,55,63,59],[63,69,63,73],[63,83,63,87],[63,97,63,101],[63,111,63,115],[63,125,63,129],[61,81,62,81],[61,95,62,95],[61,109,62,109],[61,123,62,123],[61,137,62,137],[61,151,62,151],[63,139,63,143],[63,153,63,157],[63,167,63,171],[64,11,65,11],[64,25,65,25],[64,39,65,39],[64,53,65,53],[64,67,65,67],[64,81,65,81],[64,95,65,95],[64,109,65,109],[64,123,65,123],[64,137,65,137],[64,151,65,151],[64,165,65,165],[69,11,70,11],[69,25,70,25],[69,39,70,39],[69,53,70,53],[69,67,70,67],[69,165,70,165],[71,13,71,17],[71,27,71,31],[71,41,71,45],[71,55,71,59],[71,69,71,73],[71,83,71,87],[71,97,71,101],[71,111,71,115],[71,125,71,129],[69,81,70,81],[69,95,70,95],[69,109,70,109],[69,123,70,123],[69,137,70,137],[69,151,70,151],[71,139,71,143],[71,153,71,157],[77,88,78,88],[77,95,78,95],[77,102,78,102],[77,109,78,109],[71,167,71,171],[72,11,73,11],[72,25,73,25],[72,39,73,39],[72,53,73,53],[72,67,73,67],[72,81,73,81],[72,95,73,95],[72,109,73,109],[72,123,73,123],[72,137,73,137],[72,151,73,151],[72,165,73,165],[77,67,78,67],[77,74,78,74],[79,167,79,171],[80,4,81,4],[80,11,81,11],[80,18,81,18],[80,25,81,25],[80,32,81,32],[80,39,81,39],[77,165,78,165],[80,46,81,46],[80,53,81,53],[80,60,81,60],[80,67,81,67],[80,74,81,74],[80,81,81,81],[80,130,81,130],[80,137,81,137],[80,144,81,144],[77,4,78,4],[77,11,78,11],[77,18,78,18],[77,25,78,25],[77,32,78,32],[80,151,81,151],[80,158,81,158],[77,172,78,172],[79,13,79,17],[79,27,79,31],[79,41,79,45],[79,55,79,59],[79,69,79,73],[79,83,79,87],[79,97,79,101],[79,111,79,115],[77,123,78,123],[77,130,78,130],[77,137,78,137],[77,144,78,144],[77,151,78,151],[77,158,78,158],[77,81,78,81],[79,125,79,129],[79,139,79,143],[79,153,79,157],[77,116,78,116],[77,39,78,39],[77,46,78,46],[77,53,78,53],[77,60,78,60],[80,165,81,165],[80,88,81,88],[80,95,81,95],[80,102,81,102],[80,109,81,109],[80,116,81,116],[80,123,81,123],[85,46,86,46],[85,53,86,53],[85,60,86,60],[85,67,86,67],[85,74,86,74],[85,81,86,81],[85,151,86,151],[85,158,86,158],[85,165,86,165],[85,4,86,4],[85,11,86,11],[85,18,86,18],[85,25,86,25],[85,32,86,32],[85,39,86,39],[85,130,86,130],[85,137,86,137],[85,144,86,144],[85,88,86,88],[85,95,86,95],[85,102,86,102],[85,109,86,109],[85,116,86,116],[85,123,86,123],[87,48,87,52],[87,55,87,59],[87,62,87,66],[87,69,87,73],[87,76,87,80],[87,83,87,87],[87,6,87,10],[87,13,87,17],[87,20,87,24],[87,27,87,31],[87,34,87,38],[87,41,87,45],[87,132,87,136],[87,139,87,143],[87,146,87,150],[87,153,87,157],[87,160,87,164],[87,167,87,171],[87,90,87,94],[87,97,87,101],[87,104,87,108],[87,111,87,115],[87,118,87,122],[87,125,87,129],[88,144,89,144],[88,151,89,151],[88,158,89,158],[88,165,89,165],[88,88,89,88],[88,95,89,95],[88,102,89,102],[88,109,89,109],[88,116,89,116],[88,123,89,123],[97,0,97,38],[100,4,100,11],[100,21,100,23],[100,33,100,38],[102,4,103,4],[102,18,103,18],[102,32,103,32],[88,130,89,130],[88,137,89,137],[88,46,89,46],[88,53,89,53],[88,60,89,60],[88,67,89,67],[88,74,89,74],[88,81,89,81],[88,4,89,4],[88,11,89,11],[88,18,89,18],[88,25,89,25],[88,32,89,32],[88,39,89,39],[110,4,111,4],[110,32,111,32],[112,6,112,10],[112,14,114,16],[112,34,112,38],[113,4,114,4],[113,32,114,32],[104,6,104,10],[104,20,104,24],[104,34,104,38],[105,4,106,4],[105,18,106,18],[105,32,106,32],[110,18,111,18],[112,20,112,24],[113,18,114,18],[126,4,127,4],[126,32,127,32],[128,6,128,10],[128,13,128,17],[128,20,128,24],[128,34,128,38],[118,4,119,4],[118,32,119,32],[120,6,120,10],[120,13,120,17],[120,21,122,23],[120,34,120,38],[121,4,122,4],[121,32,122,32],[136,34,136,38],[137,4,138,4],[137,32,138,32],[142,32,143,32],[144,9,149,10],[144,20,144,24],[144,34,144,38],[145,32,146,32],[129,4,130,4],[129,32,130,32],[134,4,135,4],[134,32,135,32],[136,6,136,10],[136,20,136,24],[185,113,185,116],[185,148,185,151],[188,4,189,4],[188,18,189,18],[188,32,189,32],[188,46,189,46],[150,36,152,37],[152,20,152,24],[160,20,160,24],[168,20,168,24],[176,13,176,17],[176,27,176,31],[190,6,190,10],[190,20,190,24],[190,34,190,38],[190,48,190,52],[190,81,190,85],[191,4,192,4],[191,18,192,18],[191,32,192,32],[191,46,192,46],[191,80,192,80],[198,48,198,52],[199,4,200,4],[199,18,200,18],[199,32,200,32],[199,46,200,46],[200,95,201,95],[196,4,197,4],[196,18,197,18],[196,32,197,32],[196,46,197,46],[198,6,198,10],[198,20,198,24],[198,34,198,38],[200,151,201,151],[204,4,205,4],[204,18,205,18],[204,32,205,32],[206,6,206,10],[206,20,206,24],[200,102,201,102],[200,109,201,109],[200,116,201,116],[200,130,201,130],[200,137,201,137],[200,144,201,144],[215,4,216,4],[220,4,221,4],[222,6,222,10],[223,4,224,4],[207,4,208,4],[207,18,208,18],[207,32,208,32],[209,32,210,32],[212,4,213,4],[214,6,214,10]]}
["Full Engine Technology Decision Tree"]
[]
[null,"START"]
["Gas Engine Type","V6",null,null,null,null,null,null,null,null,null,null,null,null,null,null,null,null,null,null,null,null,null,null,null,null,null,null,null,null,null,null,null,null,null,null,null,null,null,null,null,null,null,null,null,null,null,null,null,null,null,null,null,null,null,null,null,null,null,null,"2012-2016","INC","%",5.0000000000000001E-3,"$",{"$f":"INDEX('[1]Compact Perf. PC'!$H$379:$X$467,MATCH(BP6,'[1]Compact Perf. PC'!$C$379:$C$467,0),MATCH(Inputs!$C$2,'[1]Compact Perf. PC'!$H$378:$X$378,0))","v":3.8637835440209107},10,null,null,null,null,null,null,null,"2012-2016","INC","%",0.02,"$",{"$f":"INDEX('[1]Compact Perf. PC'!$H$379:$X$467,MATCH(CD6,'[1]Compact Perf. PC'!$C$379:$C$467,0),MATCH(Inputs!$C$2,'[1]Compact Perf. PC'!$H$378:$X$378,0))*$B$13","v":87.138336134267149},10,null,null,null,null,null,null,null,"2012-2016","INC","%",{"$f":"1-((1-CN5)/(1-BZ5))","v":0},"$",0,"L"]
["Displacement [L]",3.5,null,null,null,null,null,null,null,null,null,null,null,null,null,null,null,null,null,null,null,null,null,null,null,null,null,null,null,null,null,null,null,null,null,null,null,null,null,null,null,null,null,null,null,null,null,null,null,null,null,null,null,null,null,null,null,null,null,null,null,"ABS","%",{"$f":"BL4","v":5.0000000000000001E-3},"$",{"$f":"BN4","v":3.8637835440209107},"L",null,null,null,null,null,null,null,null,"ABS","%",{"$f":"1-((1-BL5)*(1-BZ4))","v":2.4900000000000033E-2},"$",{"$f":"BN5+CB4","v":91.002119678288054},"L",null,null,null,null,null,null,null,null,"ABS","%",{"$f":"BZ5","v":2.4900000000000033E-2},"$",{"$f":"CB5","v":91.002119678288054},0]
["Turbocharger","None",null,null,null,null,null,null,null,null,null,null,null,null,null,null,null,null,null,null,null,null,null,null,null,null,null,null,null,null,null,null,null,null,null,null,null,null,null,null,null,null,null,null,null,null,null,null,null,null,null,null,null,null,null,null,null,null,null,null,null,null,"Low-Friction Lubricants 1\n(LUB1) - No Learning Applied",null,null,null,null,"LUB1",null,null,null,null,null,null,null,null,"Engine Friction Reduction 1\n(EFR1) - No Learning Applied",null,null,null,null,"EFR1",null,null,null,null,null,null,null,null,"Low-Friction Lub & Engine Friction\nRedux 2 (LUB2_EFR2) - \nNo Learning Applied",null,null,null,null,"LUB2_EFR2"]
["EGR system","None/internal",null,null,null,null,null,null,null,null,null,null,null,null,null,null,null,null,null,null,null,null,null,null,null,null,null,null,null,null,null,null,null,null,null,null,null,null,null,null,null,null,null,null,null,null,null,null,null,null,null,null,null,null,null,null,null,null,null,null,"2017+","INC","%",{"$f":"BL4","v":5.0000000000000001E-3},"$",{"$f":"BN4","v":3.8637835440209107},10,null,null,null,null,null,null,null,"2017+","INC","%",0.02,"$",{"$f":"CB4","v":87.138336134267149},10,null,null,null,null,null,null,null,"2017+","INC","%",{"$f":"1-((1-CN8)/(1-BZ8))","v":1.0357912009024695E-2},"$",{"$f":"INDEX('[1]Compact Perf. PC'!$H$379:$X$467,MATCH(CR6,'[1]Compact Perf. PC'!$C$379:$C$467,0),MATCH(Inputs!$C$2,'[1]Compact Perf. PC'!$H$378:$X$378,0))*$B$13","v":94.26109774393727},"L"]
["Valvetrain","SOHC/ DOHC/ OHV",null,null,null,null,null,null,null,null,null,null,null,null,null,null,null,null,null,null,null,null,null,null,null,null,null,null,null,null,null,null,null,null,null,null,null,null,null,null,null,null,null,null,null,null,null,null,null,null,null,null,null,null,null,null,null,null,null,null,null,"ABS","%",{"$f":"BL7","v":5.0000000000000001E-3},"$",{"$f":"BN7","v":3.8637835440209107},"L",null,null,null,null,null,null,null,null,"ABS","%",{"$f":"1-((1-BL8)*(1-BZ7))","v":2.4900000000000033E-2},"$",{"$f":"BN8+CB7","v":91.002119678288054},"L",null,null,null,null,null,null,null,null,"ABS","%",3.5000000000000003E-2,"$",{"$f":"CB8+CP7","v":185.26321742222532},33.86]
["After Treatment","3way cat"]
[]
[null,null,null,null,null,null,null,null,null,null,null,null,null,null,null,null,null,null,null,null,null,null,null,null,null,null,null,null,null,null,"SOHC",null,null,null,null,null,null,null,null,null,null,null,null,null,null,null,null,null,null,null,null,null,null,null,null,null,null,null,null,null,null,null,null,null,null,null,null,null,null,null,null,null,null,null,null,null,null,null,null,null,null,null,null,null,null,null,null,null,null,null,null,null,null,"DOHC",null,null,null,null,null,null,null,null,null,null,null,null,null,null,null,null,null,null,null,null,null,null,null,null,null,null,null,null,null,null,null,null,null,null,null,null,null,null,null,null,null,null,null,null,null,null,null,null,null,null,null,null,null,null,null,null,null,null,null,"OHV"]
[]
["Cylinders",{"$f":"IF(B4=\"I4\",4,IF(B4=\"V6\",6,8))","v":6}]
["Cylinder Banks",{"$f":"IF(B4=\"I4\",1,2)","v":2},null,null,null,null,null,null,null,null,null,null,null,null,null,null,null,null,null,null,null,null,null,null,null,null,null,null,null,null,null,null,null,null,null,null,null,null,null,null,null,null,null,null,null,null,null,null,null,null,null,null,null,null,null,null,null,null,null,null,null,null,null,null,null,null,null,null,null,null,null,null,null,null,null,null,null,null,null,null,null,null,null,null,null,null,null,null,"2012-2016","INC","%",{"$f":"CN17","v":2.1761658031088094E-2},"$",{"$f":"INDEX('[1]Compact Perf. PC'!$H$379:$X$467,MATCH(CR16,'[1]Compact Perf. PC'!$C$379:$C$467,0),MATCH(Inputs!$C$2,'[1]Compact Perf. PC'!$H$378:$X$378,0))*$B$14","v":83.099251075055165},10]
[null,null,null,null,null,null,null,null,null,null,null,null,null,null,null,null,null,null,null,null,null,null,null,null,null,null,null,null,null,null,null,null,null,null,null,null,null,null,null,null,null,null,null,null,null,null,null,null,null,null,null,null,null,null,null,null,null,null,null,null,null,null,null,null,null,null,null,null,null,null,null,null,null,null,null,null,null,null,null,null,null,null,null,null,null,null,null,null,null,"ABS","%",{"$f":"1-((1-CN5)*(1-CN14))","v":4.6119792746113997E-2},"$",{"$f":"CP5+CP14","v":174.10137075334322},"L"]
[null,null,null,null,null,null,null,null,null,null,null,null,null,null,null,null,null,null,null,null,null,null,null,null,null,null,null,null,null,null,null,null,null,null,null,null,null,null,null,null,null,null,null,null,null,null,null,null,null,null,null,null,null,null,null,null,null,null,null,null,null,null,null,null,null,null,null,null,null,null,null,null,null,null,null,null,null,null,null,null,null,null,null,null,null,null,null,null,null,null,"Intake Cam Phasing\n(ICP) - TBL",null,null,null,null,"ICP"]
[null,null,null,null,null,null,null,null,null,null,null,null,null,null,null,null,null,null,null,null,null,null,null,null,null,null,null,null,null,null,null,null,null,null,null,null,null,null,null,null,null,null,null,null,null,null,null,null,null,null,null,null,null,null,null,null,null,null,null,null,null,null,null,null,null,null,null,null,null,null,null,null,null,null,null,null,null,null,null,null,null,null,null,null,null,null,null,null,"2017+","INC","%",{"$f":"1-((1-CN18)/(1-CN8))","v":2.1761658031088094E-2},"$",{"$f":"CP14","v":83.099251075055165},10]
[null,null,null,null,null,null,null,null,null,null,null,null,null,null,null,null,null,null,null,null,null,null,null,null,null,null,null,null,null,null,null,null,null,null,null,null,null,null,null,null,null,null,null,null,null,null,null,null,null,null,null,null,null,null,null,null,null,null,null,null,null,null,null,null,null,null,null,null,null,null,null,null,null,null,null,null,null,null,null,null,null,null,null,null,null,null,null,null,null,"ABS","%",5.6000000000000001E-2,"$",{"$f":"CP8+CP17","v":268.36246849728047},"L"]
[]
[]
[]
["Notes: ","(1) All costs shown in $2009",null,null,null,null,null,null,null,null,null,null,null,null,null,null,null,null,null,null,null,null,null,null,null,"2012-2016","INC","%",{"$f":"AC25","v":4.1450777202072464E-2},"$",{"$f":"INDEX('[1]Compact Perf. PC'!$H$379:$X$467,MATCH(AG24,'[1]Compact Perf. PC'!$C$379:$C$467,0),MATCH(Inputs!$C$2,'[1]Compact Perf. PC'!$H$378:$X$378,0))*$B$14","v":83.099251075055165},10,null,null,null,null,null,null,null,null,null,null,null,null,null,null,null,null,null,null,null,null,null,null,null,null,null,null,null,null,null,null,null,null,null,null,null,null,null,null,null,null,null,null,null,null,null,null,null,null,null,null,null,null,null,null,null,null,"2012-2016","INC","%",{"$f":"CN25","v":2.0127118644067687E-2},"$",{"$f":"INDEX('[1]Compact Perf. PC'!$H$379:$X$467,MATCH(CR24,'[1]Compact Perf. PC'!$C$379:$C$467,0),MATCH(Inputs!$C$2,'[1]Compact Perf. PC'!$H$378:$X$378,0))*$B$14","v":77.055707884563404},10]
[null,null,null,null,null,null,null,null,null,null,null,null,null,null,null,null,null,null,null,null,null,null,null,null,null,null,"ABS","%",{"$f":"1-((1-CN5)*(1-AC22))","v":6.5318652849740921E-2},"$",{"$f":"CP5+AE22","v":174.10137075334322},"L",null,null,null,null,null,null,null,null,null,null,null,null,null,null,null,null,null,null,null,null,null,null,null,null,null,null,null,null,null,null,null,null,null,null,null,null,null,null,null,null,null,null,null,null,null,null,null,null,null,null,null,null,null,null,null,null,null,"ABS","%",{"$f":"1-((1-CN15)*(1-CN22))","v":6.531865284974081E-2},"$",{"$f":"CP15+CP22","v":251.15707863790664},"L"]
[null,null,null,null,null,null,null,null,null,null,null,null,null,null,null,null,null,null,null,null,null,null,null,null,null,null,null,"Coupled Cam Phasing\n(CCPS) - TBL",null,null,null,null,"CCPS",null,null,null,null,null,null,null,null,null,null,null,null,null,null,null,null,null,null,null,null,null,null,null,null,null,null,null,null,null,null,null,null,null,null,null,null,null,null,null,null,null,null,null,null,null,null,null,null,null,null,null,null,null,null,null,null,null,"Dual Cam Phasing\n(DCP) - TBL",null,null,null,null,"DCP"]
[null,null,null,null,null,null,null,null,null,null,null,null,null,null,null,null,null,null,null,null,null,null,null,null,null,"2017+","INC","%",{"$f":"1-((1-AC26)/(1-CN8))","v":4.1450777202072464E-2},"$",{"$f":"AE22","v":83.099251075055165},10,null,null,null,null,null,null,null,null,null,null,null,null,null,null,null,null,null,null,null,null,null,null,null,null,null,null,null,null,null,null,null,null,null,null,null,null,null,null,null,null,null,null,null,null,null,null,null,null,null,null,null,null,null,null,null,null,"2017+","INC","%",{"$f":"1-((1-CN26)/(1-CN18))","v":2.0127118644067687E-2},"$",{"$f":"CP22","v":77.055707884563404},10]
["L",null,null,null,null,null,null,null,null,null,null,null,null,null,null,null,null,null,null,null,null,null,null,null,null,null,"ABS","%",7.4999999999999997E-2,"$",{"$f":"CP8+AE25","v":268.36246849728047},"L",null,null,null,null,null,null,null,null,null,null,null,null,null,null,null,null,null,null,null,null,null,null,null,null,null,null,null,null,null,null,null,null,null,null,null,null,null,null,null,null,null,null,null,null,null,null,null,null,null,null,null,null,null,null,null,null,null,"ABS","%",7.4999999999999997E-2,"$",{"$f":"CP18+CP25","v":345.41817638184386},"L"]
["M"]
["H"]
["VH"]
[null,null,null,null,null,null,null,null,null,null,null,null,null,null,null,null,null,null,null,null,null,null,null,null,null,"2012-2016","INC","%",{"$f":"AC33","v":2.8108108108108154E-2},"$",{"$f":"INDEX('[1]Compact Perf. PC'!$H$379:$X$467,MATCH(AG32,'[1]Compact Perf. PC'!$C$379:$C$467,0),MATCH(Inputs!$C$2,'[1]Compact Perf. PC'!$H$378:$X$378,0))*$B$13","v":212.93676133351417},10,null,null,null,null,null,null,null,null,null,null,null,null,null,null,null,null,null,null,null,null,null,null,null,null,null,null,null,null,null,null,null,null,null,null,null,"2012-2016","INC","%",{"$f":"BS33","v":2.8108108108108154E-2},"$",{"$f":"INDEX('[1]Compact Perf. PC'!$H$379:$X$467,MATCH(BW32,'[1]Compact Perf. PC'!$C$379:$C$467,0),MATCH(Inputs!$C$2,'[1]Compact Perf. PC'!$H$378:$X$378,0))*$B$13","v":212.93676133351417},10,null,null,null,null,null,null,null,null,null,null,null,null,null,null,null,null,null,null,null,null,null,null,null,null,null,null,null,null,null,null,null,null,null,null,null,"2012-2016","INC","%",{"$f":"DI33","v":3.5675675675675755E-2},"$",{"$f":"INDEX('[1]Compact Perf. PC'!$H$379:$X$467,MATCH(DM32,'[1]Compact Perf. PC'!$C$379:$C$467,0),MATCH(Inputs!$C$2,'[1]Compact Perf. PC'!$H$378:$X$378,0))*$B$13","v":342.78800783448548},10,null,null,null,null,null,null,null,null,null,null,null,null,null,null,null,null,null,null,null,null,null,null,null,null,null,null,null,null,null,null,null,null,null,null,null,"2012-2016","INC","%",{"$f":"1-((1-EY31)/(1-CN5))","v":4.6251666495744082E-2},"$",{"$f":"INDEX('[1]Compact Perf. PC'!$H$379:$X$467,MATCH(FC32,'[1]Compact Perf. PC'!$C$379:$C$467,0),MATCH(Inputs!$C$2,'[1]Compact Perf. PC'!$H$378:$X$378,0))","v":180.85022482302156},10]
[null,null,null,null,null,null,null,null,null,null,null,null,null,null,null,null,null,null,null,null,null,null,null,null,null,null,"ABS","%",{"$f":"1-((1-AC23)*(1-AC30))","v":9.1590777202072537E-2},"$",{"$f":"AE23+AE30","v":387.03813208685739},"L",null,null,null,null,null,null,null,null,null,null,null,null,null,null,null,null,null,null,null,null,null,null,null,null,null,null,null,null,null,null,null,null,null,null,null,null,"ABS","%",{"$f":"1-((1-CN23)*(1-BS30))","v":9.1590777202072426E-2},"$",{"$f":"CP23+BU30","v":464.09383997142083},"L",null,null,null,null,null,null,null,null,null,null,null,null,null,null,null,null,null,null,null,null,null,null,null,null,null,null,null,null,null,null,null,null,null,null,null,null,"ABS","%",{"$f":"1-((1-CN23)*(1-DI30))","v":9.8664041450777118E-2},"$",{"$f":"CP23+DK30","v":593.94508647239218},"L",null,null,null,null,null,null,null,null,null,null,null,null,null,null,null,null,null,null,null,null,null,null,null,null,null,null,null,null,null,null,null,null,null,null,null,null,"ABS","%",7.0000000000000007E-2,"$",{"$f":"CP5+FA30","v":271.85234450130963},"L"]
[null,null,null,null,null,null,null,null,null,null,null,null,null,null,null,null,null,null,null,null,null,null,null,null,null,null,null,"Discrete VVL\n(DVVLS) - TBL",null,null,null,null,"DVVLS",null,null,null,null,null,null,null,null,null,null,null,null,null,null,null,null,null,null,null,null,null,null,null,null,null,null,null,null,null,null,null,null,null,null,null,null,"Discrete VVL\n(DVVLD) - TBL",null,null,null,null,"DVVLD",null,null,null,null,null,null,null,null,null,null,null,null,null,null,null,null,null,null,null,null,null,null,null,null,null,null,null,null,null,null,null,null,null,null,null,null,"Continuous VVL\n(CVVL) - TBL",null,null,null,null,"CVVL",null,null,null,null,null,null,null,null,null,null,null,null,null,null,null,null,null,null,null,null,null,null,null,null,null,null,null,null,null,null,null,null,null,null,null,null,"Cylinder Deactivation\n(DEACO) - TBL",null,null,null,null,"DEACO"]
[null,null,null,null,null,null,null,null,null,null,null,null,null,null,null,null,null,null,null,null,null,null,null,null,null,"2017+","INC","%",{"$f":"1-((1-AC34)/(1-AC26))","v":2.8108108108108154E-2},"$",{"$f":"AE30","v":212.93676133351417},10,null,null,null,null,null,null,null,null,null,null,null,null,null,null,null,null,null,null,null,null,null,null,null,null,null,null,null,null,null,null,null,null,null,null,null,"2017+","INC","%",{"$f":"1-((1-BS34)/(1-CN26))","v":2.8108108108108154E-2},"$",{"$f":"BU30","v":212.93676133351417},10,null,null,null,null,null,null,null,null,null,null,null,null,null,null,null,null,null,null,null,null,null,null,null,null,null,null,null,null,null,null,null,null,null,null,null,"2017+","INC","%",{"$f":"1-((1-DI34)/(1-CN26))","v":3.5675675675675755E-2},"$",{"$f":"DK30","v":342.78800783448548},10,null,null,null,null,null,null,null,null,null,null,null,null,null,null,null,null,null,null,null,null,null,null,null,null,null,null,null,null,null,null,null,null,null,null,null,"2017+","INC","%",{"$f":"1-((1-EY34)/(1-CN8))","v":4.663212435233155E-2},"$",{"$f":"FA30","v":180.85022482302156},10]
[null,"START",null,null,null,null,null,null,null,null,null,null,null,null,null,null,null,null,null,null,null,null,null,null,null,null,"ABS","%",0.10100000000000001,"$",{"$f":"AE26+AE33","v":481.29922983079462},"L",null,null,null,null,null,null,null,null,null,null,null,null,null,null,null,null,null,null,null,null,null,null,null,null,null,null,null,null,null,null,null,null,null,null,null,null,"ABS","%",0.10100000000000001,"$",{"$f":"CP26+BU33","v":558.35493771535801},"L",null,null,null,null,null,null,null,null,null,null,null,null,null,null,null,null,null,null,null,null,null,null,null,null,null,null,null,null,null,null,null,null,null,null,null,null,"ABS","%",0.108,"$",{"$f":"CP26+DK33","v":688.20618421632935},"L",null,null,null,null,null,null,null,null,null,null,null,null,null,null,null,null,null,null,null,null,null,null,null,null,null,null,null,null,null,null,null,null,null,null,null,null,"ABS","%",0.08,"$",{"$f":"CP8+FA33","v":366.11344224524692},"L"]
["Gas Engine Type","I4"]
["Displacement [L]",2.2000000000000002]
["Turbocharger","None"]
["EGR system","External",null,null,null,null,null,null,null,null,null,null,null,null,null,null,null,null,null,null,null,null,null,null,null,"2012-2016","INC","%",{"$f":"AC41","v":4.4493882091212189E-3},"$",{"$f":"INDEX('[1]Compact Perf. PC'!$H$379:$X$467,MATCH(AG40,'[1]Compact Perf. PC'!$C$379:$C$467,0),MATCH(Inputs!$C$2,'[1]Compact Perf. PC'!$H$378:$X$378,0))","v":28.176910737789065},10,null,null,null,null,null,null,null,null,null,null,null,null,null,null,null,null,null,null,null,null,null,null,null,null,null,null,null,null,null,null,null,null,null,null,null,"2012-2016","INC","%",{"$f":"BS41","v":4.4493882091212189E-3},"$",{"$f":"INDEX('[1]Compact Perf. PC'!$H$379:$X$467,MATCH(BW40,'[1]Compact Perf. PC'!$C$379:$C$467,0),MATCH(Inputs!$C$2,'[1]Compact Perf. PC'!$H$378:$X$378,0))","v":28.176910737789065},10,null,null,null,null,null,null,null,null,null,null,null,null,null,null,null,null,null,null,null,null,null,null,null,null,null,null,null,null,null,null,null,null,null,null,null,"2012-2016","INC","%",{"$f":"DI41","v":0},"$",0,10,null,null,null,null,null,null,null,null,null,null,null,null,null,null,null,null,null,null,null,null,null,null,null,null,null,null,null,null,null,null,null,null,null,null,null,"2012-2016","INC","%",{"$f":"1-((1-EY39)/(1-EY31))","v":2.1505376344085891E-2},"$",{"$f":"INDEX('[1]Compact Perf. PC'!$H$379:$X$467,MATCH(FC40,'[1]Compact Perf. PC'!$C$379:$C$467,0),MATCH(Inputs!$C$2,'[1]Compact Perf. PC'!$H$378:$X$378,0))*$B$14","v":90.409234428646556},10]
["Valvetrain","SOHC/ DOHC/ OHV",null,null,null,null,null,null,null,null,null,null,null,null,null,null,null,null,null,null,null,null,null,null,null,null,"ABS","%",{"$f":"1-((1-AC31)*(1-AC38))","v":9.5632642487046615E-2},"$",{"$f":"AE31+AE38","v":415.21504282464645},"L",null,null,null,null,null,null,null,null,null,null,null,null,null,null,null,null,null,null,null,null,null,null,null,null,null,null,null,null,null,null,null,null,null,null,null,null,"ABS","%",{"$f":"1-((1-BS31)*(1-BS38))","v":9.5632642487046504E-2},"$",{"$f":"BU31+BU38","v":492.27075070920989},"L",null,null,null,null,null,null,null,null,null,null,null,null,null,null,null,null,null,null,null,null,null,null,null,null,null,null,null,null,null,null,null,null,null,null,null,null,"ABS","%",{"$f":"1-((1-DI31)*(1-DI38))","v":9.8664041450777118E-2},"$",{"$f":"DK31+DK38","v":593.94508647239218},"L",null,null,null,null,null,null,null,null,null,null,null,null,null,null,null,null,null,null,null,null,null,null,null,null,null,null,null,null,null,null,null,null,null,null,null,null,"ABS","%",0.09,"$",{"$f":"FA31+FA38","v":362.26157892995616},"L"]
[null,null,null,null,null,null,null,null,null,null,null,null,null,null,null,null,null,null,null,null,null,null,null,null,null,null,null,"Cylinder Deactivation\n(DEACS) - TBL",null,null,null,null,"DEACS",null,null,null,null,null,null,null,null,null,null,null,null,null,null,null,null,null,null,null,null,null,null,null,null,null,null,null,null,null,null,null,null,null,null,null,null,"Cylinder Deactivation\n(DEACD) - TBL",null,null,null,null,"DEACD",null,null,null,null,null,null,null,null,null,null,null,null,null,null,null,null,null,null,null,null,null,null,null,null,null,null,null,null,null,null,null,null,null,null,null,null,"Cylinder Deactivation\n(DEACD) - TBL",null,null,null,null,null,null,null,null,null,null,null,null,null,null,null,null,null,null,null,null,null,null,null,null,null,null,null,null,null,null,null,null,null,null,null,null,null,null,null,null,null,"Coupled Cam Phasing and DVVL\n(VVA) - TBL",null,null,null,null,"VVA"]
[null,null,null,null,null,null,null,null,null,null,null,null,null,null,null,null,null,null,null,null,null,null,null,null,null,"2017+","INC","%",{"$f":"1-((1-AC42)/(1-AC34))","v":4.4493882091212189E-3},"$",{"$f":"AE38","v":28.176910737789065},10,null,null,null,null,null,null,null,null,null,null,null,null,null,null,null,null,null,null,null,null,null,null,null,null,null,null,null,null,null,null,null,null,null,null,null,"2017+","INC","%",{"$f":"1-((1-BS42)/(1-BS34))","v":4.4493882091212189E-3},"$",{"$f":"BU38","v":28.176910737789065},10,null,null,null,null,null,null,null,null,null,null,null,null,null,null,null,null,null,null,null,null,null,null,null,null,null,null,null,null,null,null,null,null,null,null,null,"2017+","INC","%",{"$f":"1-((1-DI42)/(1-DI34))","v":0},"$",{"$f":"DK38","v":0},10,null,null,null,null,null,null,null,null,null,null,null,null,null,null,null,null,null,null,null,null,null,null,null,null,null,null,null,null,null,null,null,null,null,null,null,"2017+","INC","%",{"$f":"1-((1-EY42)/(1-EY34))","v":2.7173913043478271E-2},"$",{"$f":"FA38","v":90.409234428646556},10]
[null,null,null,null,null,null,null,null,null,null,null,null,null,null,null,null,null,null,null,null,null,null,null,null,null,null,"ABS","%",0.105,"$",{"$f":"AE34+AE41","v":509.47614056858367},"L",null,null,null,null,null,null,null,null,null,null,null,null,null,null,null,null,null,null,null,null,null,null,null,null,null,null,null,null,null,null,null,null,null,null,null,null,"ABS","%",0.105,"$",{"$f":"BU34+BU41","v":586.53184845314706},"L",null,null,null,null,null,null,null,null,null,null,null,null,null,null,null,null,null,null,null,null,null,null,null,null,null,null,null,null,null,null,null,null,null,null,null,null,"ABS","%",{"$f":"DI34","v":0.108},"$",{"$f":"DK34+DK41","v":688.20618421632935},"L",null,null,null,null,null,null,null,null,null,null,null,null,null,null,null,null,null,null,null,null,null,null,null,null,null,null,null,null,null,null,null,null,null,null,null,null,"ABS","%",0.105,"$",{"$f":"FA34+FA41","v":456.52267667389344},"L"]
[]
[]
[]
[null,null,null,null,null,null,null,null,null,null,null,null,null,null,null,null,null,null,null,null,null,null,null,null,null,"2012-2016","INC","%",{"$f":"AC49","v":1.5642458100558643E-2},"$",{"$f":"INDEX('[1]Compact Perf. PC'!$H$379:$X$467,MATCH(AG48,'[1]Compact Perf. PC'!$C$379:$C$467,0),MATCH(Inputs!$C$2,'[1]Compact Perf. PC'!$H$378:$X$378,0))*$B$13","v":349.41793576617209},10,null,null,null,null,null,null,null,null,null,null,null,null,null,null,null,null,null,null,null,null,null,null,null,null,null,null,null,null,null,null,null,null,null,null,null,"2012-2016","INC","%",{"$f":"BS49","v":1.5642458100558643E-2},"$",{"$f":"INDEX('[1]Compact Perf. PC'!$H$379:$X$467,MATCH(BW48,'[1]Compact Perf. PC'!$C$379:$C$467,0),MATCH(Inputs!$C$2,'[1]Compact Perf. PC'!$H$378:$X$378,0))*$B$13","v":349.41793576617209},10,null,null,null,null,null,null,null,null,null,null,null,null,null,null,null,null,null,null,null,null,null,null,null,null,null,null,null,null,null,null,null,null,null,null,null,"2012-2016","INC","%",{"$f":"DI49","v":1.4573991031390121E-2},"$",{"$f":"INDEX('[1]Compact Perf. PC'!$H$379:$X$467,MATCH(DM48,'[1]Compact Perf. PC'!$C$379:$C$467,0),MATCH(Inputs!$C$2,'[1]Compact Perf. PC'!$H$378:$X$378,0))*$B$13","v":349.41793576617209},10,null,null,null,null,null,null,null,null,null,null,null,null,null,null,null,null,null,null,null,null,null,null,null,null,null,null,null,null,null,null,null,null,null,null,null,"2012-2016","INC","%",{"$f":"1-((1-EY47)/(1-EY39))","v":1.5384615384615441E-2},"$",{"$f":"INDEX('[1]Compact Perf. PC'!$H$379:$X$467,MATCH(FC48,'[1]Compact Perf. PC'!$C$379:$C$467,0),MATCH(Inputs!$C$2,'[1]Compact Perf. PC'!$H$378:$X$378,0))*$B$13","v":349.41793576617209},10]
[null,null,null,null,null,null,null,null,null,null,null,null,null,null,null,null,null,null,null,null,null,null,null,null,null,null,"ABS","%",{"$f":"1-((1-AC39)*(1-AC46))","v":0.10977917098445589},"$",{"$f":"AE39+AE46","v":764.63297859081854},"L",null,null,null,null,null,null,null,null,null,null,null,null,null,null,null,null,null,null,null,null,null,null,null,null,null,null,null,null,null,null,null,null,null,null,null,null,"ABS","%",{"$f":"1-((1-BS39)*(1-BS46))","v":0.10977917098445578},"$",{"$f":"BU39+BU46","v":841.68868647538193},"L",null,null,null,null,null,null,null,null,null,null,null,null,null,null,null,null,null,null,null,null,null,null,null,null,null,null,null,null,null,null,null,null,null,null,null,null,"ABS","%",{"$f":"1-((1-DI39)*(1-DI46))","v":0.11180010362694293},"$",{"$f":"DK39+DK46","v":943.36302223856433},"L",null,null,null,null,null,null,null,null,null,null,null,null,null,null,null,null,null,null,null,null,null,null,null,null,null,null,null,null,null,null,null,null,null,null,null,null,"ABS","%",0.104,"$",{"$f":"FA39+FA46","v":711.67951469612831},"L"]
[null,null,null,null,null,null,null,null,null,null,null,null,null,null,null,null,null,null,null,null,null,null,null,null,null,null,null,"Stoichiometric GDI\n(SGDI) - TBL",null,null,null,null,"SGDI",null,null,null,null,null,null,null,null,null,null,null,null,null,null,null,null,null,null,null,null,null,null,null,null,null,null,null,null,null,null,null,null,null,null,null,null,"Stoichiometric GDI\n(SGDI) - TBL",null,null,null,null,"SGDI",null,null,null,null,null,null,null,null,null,null,null,null,null,null,null,null,null,null,null,null,null,null,null,null,null,null,null,null,null,null,null,null,null,null,null,null,"Stoichiometric GDI\n(SGDI) - TBL",null,null,null,null,"SGDI",null,null,null,null,null,null,null,null,null,null,null,null,null,null,null,null,null,null,null,null,null,null,null,null,null,null,null,null,null,null,null,null,null,null,null,null,"Stoichiometric GDI\n(SGDIO) - TBL",null,null,null,null,"SGDIO"]
[null,null,null,null,null,null,null,null,null,null,null,null,null,null,null,null,null,null,null,null,null,null,null,null,null,"2017+","INC","%",{"$f":"1-((1-AC50)/(1-AC42))","v":1.5642458100558643E-2},"$",{"$f":"AE46","v":349.41793576617209},10,null,null,null,null,null,null,null,null,null,null,null,null,null,null,null,null,null,null,null,null,null,null,null,null,null,null,null,null,null,null,null,null,null,null,null,"2017+","INC","%",{"$f":"1-((1-BS50)/(1-BS42))","v":1.5642458100558643E-2},"$",{"$f":"BU46","v":349.41793576617209},10,null,null,null,null,null,null,null,null,null,null,null,null,null,null,null,null,null,null,null,null,null,null,null,null,null,null,null,null,null,null,null,null,null,null,null,"2017+","INC","%",{"$f":"1-((1-DI50)/(1-DI42))","v":1.4573991031390121E-2},"$",{"$f":"DK46","v":349.41793576617209},10,null,null,null,null,null,null,null,null,null,null,null,null,null,null,null,null,null,null,null,null,null,null,null,null,null,null,null,null,null,null,null,null,null,null,null,"2017+","INC","%",{"$f":"1-((1-EY50)/(1-EY42))","v":1.5642458100558643E-2},"$",{"$f":"FA46","v":349.41793576617209},10]
[null,null,null,null,null,null,null,null,null,null,null,null,null,null,null,null,null,null,null,null,null,null,null,"From SOHC Path",null,null,"ABS","%",0.11899999999999999,"$",{"$f":"AE42+AE49","v":858.89407633475571},"L",null,null,null,null,null,null,null,null,null,null,null,null,null,null,null,null,null,null,null,null,null,null,null,null,null,null,null,null,null,null,null,null,null,"From DOHC w/ DVVLD Path",null,null,"ABS","%",0.11899999999999999,"$",{"$f":"BU42+BU49","v":935.9497842193191},"L",null,null,null,null,null,null,null,null,null,null,null,null,null,null,null,null,null,null,null,null,null,null,null,null,null,null,null,null,null,null,null,null,null,"From DOHC w/ CVVL Path",null,null,"ABS","%",0.121,"$",{"$f":"DK42+DK49","v":1037.6241199825015},"L",null,null,null,null,null,null,null,null,null,null,null,null,null,null,null,null,null,null,null,null,null,null,null,null,null,null,null,null,null,null,null,null,null,"From OHV w/ CDOHC Path",null,null,"ABS","%",0.11899999999999999,"$",{"$f":"FA42+FA49","v":805.94061244006548},"L"]
[]
[]
[null,null,null,null,null,null,null,null,null,null,null,null,null,null,null,null,null,null,null,null,null,null,null,null,null,null,null,null,null,null,null,null,null,null,null,null,null,null,null,null,null,null,null,null,null,null,null,null,null,null,null,null,null,null,null,null,{"$f":"BE54-$O$54","v":0},null,{"$f":"BG54-$Q$54","v":-10.350943204492637},null,null,null,null,null,null,null,null,null,null,null,{"$f":"BS54-$AC$54","v":0},null,{"$f":"BU54-$AE$54","v":-137.49257962890812},null,null,null,null,null,null,null,null,null,null,null,{"$f":"CG54-$AQ$54","v":0},null,{"$f":"CI54-$AS$54","v":-151.06222004175237},null,null,null,null,null,null,null,null,null,null,null,{"$f":"CU54-$O$54","v":-7.1733205179984605E-3},null,{"$f":"CW54-$Q$54","v":-10.350943204492637},null,null,null,null,null,null,null,null,null,null,null,{"$f":"DI54-$AC$54","v":-2.1229366256929616E-3},null,{"$f":"DK54-$AE$54","v":-137.49257962890812},null,null,null,null,null,null,null,null,null,null,null,{"$f":"DW54-$AQ$54","v":-2.1229366256929616E-3},null,{"$f":"DY54-$AS$54","v":-151.06222004175237},null,null,null,null,null,null,null,null,null,null,null,{"$f":"EK54-$O$54","v":4.7880517756197949E-2},null,{"$f":"EM54-$Q$54","v":-420.06358424991754},null,null,null,null,null,null,null,null,null,null,null,{"$f":"EY54-$AC$54","v":0},null,{"$f":"FA54-$AE$54","v":562.75413569090051},null,null,null,null,null,null,null,null,null,null,null,{"$f":"FM54-$AQ$54","v":0},null,{"$f":"FO54-$AS$54","v":523.98042111588995}]
[null,null,null,null,null,null,null,null,null,null,null,"2012-2016","INC","%",{"$f":"O57","v":7.2019736900250986E-2},"$",{"$f":"INDEX('[1]Compact Perf. PC'!$H$379:$X$467,MATCH(M56,'[1]Compact Perf. PC'!$C$379:$C$467,0),MATCH(Inputs!$C$2,'[1]Compact Perf. PC'!$H$378:$X$378,0))\n+INDEX('[1]Compact Perf. PC'!$H$379:$X$467,MATCH(S56,'[1]Compact Perf. PC'!$C$379:$C$467,0),MATCH(Inputs!$C$2,'[1]Compact Perf. PC'!$H$378:$X$378,0))","v":420.06358424991754},10,null,null,null,null,null,null,null,"2012-2016","INC","%",{"$f":"AC57","v":6.6969353007945487E-2},"$",{"$f":"INDEX('[1]Compact Perf. PC'!$H$379:$X$467,MATCH(AA56,'[1]Compact Perf. PC'!$C$379:$C$467,0),MATCH(Inputs!$C$2,'[1]Compact Perf. PC'!$H$378:$X$378,0))\n+INDEX('[1]Compact Perf. PC'!$H$379:$X$467,MATCH(AG56,'[1]Compact Perf. PC'!$C$379:$C$467,0),MATCH(Inputs!$C$2,'[1]Compact Perf. PC'!$H$378:$X$378,0))","v":-29.267884297748708},10,null,null,null,null,null,null,null,"2012-2016","INC","%",{"$f":"AQ57","v":6.6969353007945487E-2},"$",{"$f":"INDEX('[1]Compact Perf. PC'!$H$379:$X$467,MATCH(AO56,'[1]Compact Perf. PC'!$C$379:$C$467,0),MATCH(Inputs!$C$2,'[1]Compact Perf. PC'!$H$378:$X$378,0))\n+INDEX('[1]Compact Perf. PC'!$H$379:$X$467,MATCH(AU56,'[1]Compact Perf. PC'!$C$379:$C$467,0),MATCH(Inputs!$C$2,'[1]Compact Perf. PC'!$H$378:$X$378,0))","v":523.48084050429873},10,null,null,null,null,null,null,null,"2012-2016","INC","%",{"$f":"BE57","v":7.2019736900250986E-2},"$",{"$f":"INDEX('[1]Subcompact PC'!$H$530:$X$541,MATCH(BC56,'[1]Subcompact PC'!$C$530:$C$541,0),MATCH(Inputs!$C$2,'[1]Subcompact PC'!$H$529:$X$529,0))\n+INDEX('[1]Subcompact PC'!$H$530:$X$541,MATCH(BI56,'[1]Subcompact PC'!$C$530:$C$541,0),MATCH(Inputs!$C$2,'[1]Subcompact PC'!$H$529:$X$529,0))","v":409.7126410454249},10,null,null,null,null,null,null,null,"2012-2016","INC","%",{"$f":"BS57","v":6.6969353007945487E-2},"$",{"$f":"INDEX('[1]Subcompact PC'!$H$530:$X$541,MATCH(BQ56,'[1]Subcompact PC'!$C$530:$C$541,0),MATCH(Inputs!$C$2,'[1]Subcompact PC'!$H$529:$X$529,0))\n+INDEX('[1]Subcompact PC'!$H$530:$X$541,MATCH(BW56,'[1]Subcompact PC'!$C$530:$C$541,0),MATCH(Inputs!$C$2,'[1]Subcompact PC'!$H$529:$X$529,0))","v":-166.76046392665683},10,null,null,null,null,null,null,null,"2012-2016","INC","%",{"$f":"CG57","v":6.6969353007945487E-2},"$",{"$f":"INDEX('[1]Subcompact PC'!$H$530:$X$541,MATCH(CE56,'[1]Subcompact PC'!$C$530:$C$541,0),MATCH(Inputs!$C$2,'[1]Subcompact PC'!$H$529:$X$529,0))\n+INDEX('[1]Subcompact PC'!$H$530:$X$541,MATCH(CK56,'[1]Subcompact PC'!$C$530:$C$541,0),MATCH(Inputs!$C$2,'[1]Subcompact PC'!$H$529:$X$529,0))","v":372.41862046254636},10,null,null,null,null,null,null,null,"2012-2016","INC","%",{"$f":"CU57","v":6.4846416382252525E-2},"$",{"$f":"INDEX('[1]Subcompact PC'!$H$530:$X$541,MATCH(CS56,'[1]Subcompact PC'!$C$530:$C$541,0),MATCH(Inputs!$C$2,'[1]Subcompact PC'!$H$529:$X$529,0))\n+INDEX('[1]Subcompact PC'!$H$530:$X$541,MATCH(CY56,'[1]Subcompact PC'!$C$530:$C$541,0),MATCH(Inputs!$C$2,'[1]Subcompact PC'!$H$529:$X$529,0))","v":409.7126410454249},10,null,null,null,null,null,null,null,"2012-2016","INC","%",{"$f":"DI57","v":6.4846416382252525E-2},"$",{"$f":"INDEX('[1]Subcompact PC'!$H$530:$X$541,MATCH(DG56,'[1]Subcompact PC'!$C$530:$C$541,0),MATCH(Inputs!$C$2,'[1]Subcompact PC'!$H$529:$X$529,0))\n+INDEX('[1]Subcompact PC'!$H$530:$X$541,MATCH(DM56,'[1]Subcompact PC'!$C$530:$C$541,0),MATCH(Inputs!$C$2,'[1]Subcompact PC'!$H$529:$X$529,0))","v":-166.76046392665683},10,null,null,null,null,null,null,null,"2012-2016","INC","%",{"$f":"DW57","v":6.4846416382252525E-2},"$",{"$f":"INDEX('[1]Subcompact PC'!$H$530:$X$541,MATCH(DU56,'[1]Subcompact PC'!$C$530:$C$541,0),MATCH(Inputs!$C$2,'[1]Subcompact PC'!$H$529:$X$529,0))\n+INDEX('[1]Subcompact PC'!$H$530:$X$541,MATCH(EA56,'[1]Subcompact PC'!$C$530:$C$541,0),MATCH(Inputs!$C$2,'[1]Subcompact PC'!$H$529:$X$529,0))","v":372.41862046254636},10,null,null,null,null,null,null,null,"2012-2016","INC","%",{"$f":"EK57","v":0.11990025465644893},"$",{"$f":"INDEX('[1]Subcompact PC'!$H$530:$X$541,MATCH(EI56,'[1]Subcompact PC'!$C$530:$C$541,0),MATCH(Inputs!$C$2,'[1]Subcompact PC'!$H$529:$X$529,0))\n+INDEX('[1]Subcompact PC'!$H$530:$X$541,MATCH(EO56,'[1]Subcompact PC'!$C$530:$C$541,0),MATCH(Inputs!$C$2,'[1]Subcompact PC'!$H$529:$X$529,0))","v":0},10,null,null,null,null,null,null,null,"2012-2016","INC","%",{"$f":"EY57","v":6.6969353007945487E-2},"$",{"$f":"INDEX('[1]Subcompact PC'!$H$530:$X$541,MATCH(EW56,'[1]Subcompact PC'!$C$530:$C$541,0),MATCH(Inputs!$C$2,'[1]Subcompact PC'!$H$529:$X$529,0))\n+INDEX('[1]Subcompact PC'!$H$530:$X$541,MATCH(FC56,'[1]Subcompact PC'!$C$530:$C$541,0),MATCH(Inputs!$C$2,'[1]Subcompact PC'!$H$529:$X$529,0))","v":533.48625139315186},10,{"$f":"INDEX('[1]Subcompact PC'!$H$530:$X$541,MATCH(EW56,'[1]Subcompact PC'!$C$530:$C$541,0),MATCH(Inputs!$C$2,'[1]Subcompact PC'!$H$529:$X$529,0))","v":229.17561542502995},{"$f":"MATCH(EW56,'[1]Subcompact PC'!$C$530:$C$541,0)","v":9},null,null,null,null,null,"2012-2016","INC","%",{"$f":"FM57","v":6.6969353007945487E-2},"$",{"$f":"INDEX('[1]Subcompact PC'!$H$530:$X$541,MATCH(FK56,'[1]Subcompact PC'!$C$530:$C$541,0),MATCH(Inputs!$C$2,'[1]Subcompact PC'!$H$529:$X$529,0))\n+INDEX('[1]Subcompact PC'!$H$530:$X$541,MATCH(FQ56,'[1]Subcompact PC'!$C$530:$C$541,0),MATCH(Inputs!$C$2,'[1]Subcompact PC'!$H$529:$X$529,0))","v":1047.4612616201887},10]
[null,null,null,null,null,null,null,null,null,null,null,null,"ABS","%",{"$f":"1-((1-AC47+AC38)*(1-O54))","v":0.16976369643234546},"$",{"$f":"AE47+Q54","v":1184.6965628407361},"L",null,null,null,null,null,null,null,null,"ABS","%",{"$f":"1-((1-AC47)*(1-AC54))","v":0.1693966839378237},"$",{"$f":"AE47+AE54","v":735.36509429306989},"L",null,null,null,null,null,null,null,null,"ABS","%",{"$f":"1-((1-AC47)*(1-AQ54))","v":0.1693966839378237},"$",{"$f":"AE47+AS54","v":1288.1138190951174},"L",null,null,null,null,null,null,null,null,"ABS","%",{"$f":"1-((1-BS47)*(1-BE54))","v":0.1738926408732786},"$",{"$f":"BU47+BG54","v":1251.4013275208067},"L",null,null,null,null,null,null,null,null,"ABS","%",{"$f":"1-((1-BS47)*(1-BS54))","v":0.16939668393782359},"$",{"$f":"BU47+BU54","v":674.9282225487251},"L",null,null,null,null,null,null,null,null,"ABS","%",{"$f":"1-((1-BS47)*(1-CG54))","v":0.16939668393782359},"$",{"$f":"BU47+CI54","v":1214.1073069379283},"L",null,null,null,null,null,null,null,null,"ABS","%",{"$f":"1-((1-DI47)*(1-CU54))","v":0.1693966839378237},"$",{"$f":"DK47+CW54","v":1353.0756632839893},"L",null,null,null,null,null,null,null,null,"ABS","%",{"$f":"1-((1-DI47)*(1-DI54))","v":0.1693966839378237},"$",{"$f":"DK47+DK54","v":776.6025583119075},"L",null,null,null,null,null,null,null,null,"ABS","%",{"$f":"1-((1-DI47)*(1-DW54))","v":0.1693966839378237},"$",{"$f":"DK47+DY54","v":1315.7816427011107},"L",null,null,null,null,null,null,null,null,"ABS","%",{"$f":"1-((1-EY47)*(1-EK54))","v":0.21143062817217828},"$",{"$f":"FA47+EM54","v":711.67951469612831},"L",null,null,null,null,null,null,null,null,"ABS","%",{"$f":"1-((1-EY47)*(1-EY54))","v":0.16400454029511913},"$",{"$f":"FA47+FA54","v":1245.1657660892802},"L",null,null,null,null,null,null,null,null,"ABS","%",{"$f":"1-((1-EY47)*(1-FM54))","v":0.16400454029511913},"$",{"$f":"FA47+FO54","v":1759.140776316317},"L"]
[null,"INTERMEDIATE",null,null,null,null,null,null,null,null,null,null,"TRBDS1_SD_TB","Turbocharging and Downsizing 1 (TRBDS1_SD) - TBL",null,null,null,null,"TRBDS1_SD_DS",null,null,null,null,null,null,null,"TRBDS1_MD_TB","Turbocharging and Downsizing 1 (TRBDS1_MD) - TBL",null,null,null,null,"TRBDS1_MD_DS",null,null,null,null,null,null,null,"TRBDS1_LD_TB","Turbocharging and Downsizing 1\n(TRBDS1_LD) - TBL",null,null,null,null,"TRBDS1_LD_DS",null,null,null,null,null,null,null,"TRBDS1_SD_TB_D",{"$f":"$N$56","v":"Turbocharging and Downsizing 1 (TRBDS1_SD) - TBL"},null,null,null,null,"TRBDS1_SD_DS_D",null,null,null,null,null,null,null,"TRBDS1_MD_TB_D","Turbocharging and Downsizing 1 (TRBDS1_MD) - TBL",null,null,null,null,"TRBDS1_MD_DS_D",null,null,null,null,null,null,null,"TRBDS1_LD_TB_D",{"$f":"$AP$56","v":"Turbocharging and Downsizing 1\n(TRBDS1_LD) - TBL"},null,null,null,null,"TRBDS1_LD_DS_D",null,null,null,null,null,null,null,"TRBDS1_SD_TB_D",{"$f":"$N$56","v":"Turbocharging and Downsizing 1 (TRBDS1_SD) - TBL"},null,null,null,null,"TRBDS1_SD_DS_D",null,null,null,null,null,null,null,"TRBDS1_MD_TB_D",{"$f":"$AB$56","v":"Turbocharging and Downsizing 1 (TRBDS1_MD) - TBL"},null,null,null,null,"TRBDS1_MD_DS_D",null,null,null,null,null,null,null,"TRBDS1_LD_TB_D",{"$f":"$AP$56","v":"Turbocharging and Downsizing 1\n(TRBDS1_LD) - TBL"},null,null,null,null,"TRBDS1_LD_DS_D",null,null,null,null,null,null,null,"TRBDS1_SD_TB_O",{"$f":"$N$56","v":"Turbocharging and Downsizing 1 (TRBDS1_SD) - TBL"},null,null,null,null,"TRBDS1_SD_DS_O",null,null,null,null,null,null,null,"TRBDS1_MD_TB_O",{"$f":"$AB$56","v":"Turbocharging and Downsizing 1 (TRBDS1_MD) - TBL"},null,null,null,null,"TRBDS1_MD_DS_O",null,null,null,null,null,null,null,"TRBDS1_LD_TB_O",{"$f":"$AP$56","v":"Turbocharging and Downsizing 1\n(TRBDS1_LD) - TBL"},null,null,null,null,"TRBDS1_LD_DS_O"]
["Gas Engine Type","I4",null,null,null,null,null,null,null,null,null,"2017+","INC","%",{"$f":"1-((1-O58-AC41)/(1-AC50))","v":7.2019736900250986E-2},"$",{"$f":"Q54","v":420.06358424991754},10,null,null,null,null,null,null,null,"2017+","INC","%",{"$f":"1-((1-AC58)/(1-AC50))","v":6.6969353007945487E-2},"$",{"$f":"AE54","v":-29.267884297748708},10,null,null,null,null,null,null,null,"2017+","INC","%",{"$f":"1-((1-AQ58)/(1-AC50))","v":6.6969353007945487E-2},"$",{"$f":"AS54","v":523.48084050429873},10,null,null,null,null,null,null,null,"2017+","INC","%",{"$f":"1-((1-BE58-BS41)/(1-BS50))","v":7.2019736900250986E-2},"$",{"$f":"BG54","v":409.7126410454249},10,null,null,null,null,null,null,null,"2017+","INC","%",{"$f":"1-((1-BS58)/(1-BS50))","v":6.6969353007945487E-2},"$",{"$f":"BU54","v":-166.76046392665683},10,null,null,null,null,null,null,null,"2017+","INC","%",{"$f":"1-((1-CG58)/(1-BS50))","v":6.6969353007945487E-2},"$",{"$f":"CI54","v":372.41862046254636},10,null,null,null,null,null,null,null,"2017+","INC","%",{"$f":"1-((1-CU58-DI41)/(1-DI50))","v":6.4846416382252525E-2},"$",{"$f":"CW54","v":409.7126410454249},10,null,null,null,null,null,null,null,"2017+","INC","%",{"$f":"1-((1-DI58)/(1-DI50))","v":6.4846416382252525E-2},"$",{"$f":"DK54","v":-166.76046392665683},10,null,null,null,null,null,null,null,"2017+","INC","%",{"$f":"1-((1-DW58)/(1-DI50))","v":6.4846416382252525E-2},"$",{"$f":"DY54","v":372.41862046254636},10,null,null,null,null,null,null,null,"2017+","INC","%",{"$f":"1-((1-EK58-EY33)/(1-EY50))","v":0.11990025465644893},"$",{"$f":"EM54","v":0},10,null,null,null,null,null,null,null,"2017+","INC","%",{"$f":"1-((1-EY58)/(1-EY50))","v":6.6969353007945487E-2},"$",{"$f":"FA54","v":533.48625139315186},10,null,null,null,null,null,null,null,"2017+","INC","%",{"$f":"1-((1-FM58)/(1-EY50))","v":6.6969353007945487E-2},"$",{"$f":"FO54","v":1047.4612616201887},10]
["Displacement [L]","1.5 to 2.0",null,null,null,null,null,null,null,null,null,null,"ABS","%",0.17799999999999999,"$",{"$f":"AE50+Q57","v":1278.9576605846732},"L",null,null,null,null,null,null,null,null,"ABS","%",{"$f":"$O58","v":0.17799999999999999},"$",{"$f":"AE50+AE57","v":829.62619203700706},"L",null,null,null,null,null,null,null,null,"ABS","%",{"$f":"$O58","v":0.17799999999999999},"$",{"$f":"AE50+AS57","v":1382.3749168390545},"L",null,null,null,null,null,null,null,null,"ABS","%",{"$f":"$O58","v":0.17799999999999999},"$",{"$f":"BU50+BG57","v":1345.6624252647439},"L",null,null,null,null,null,null,null,null,"ABS","%",{"$f":"$O58","v":0.17799999999999999},"$",{"$f":"BU50+BU57","v":769.18932029266227},"L",null,null,null,null,null,null,null,null,"ABS","%",{"$f":"$AQ58","v":0.17799999999999999},"$",{"$f":"BU50+CI57","v":1308.3684046818655},"L",null,null,null,null,null,null,null,null,"ABS","%",{"$f":"$O58","v":0.17799999999999999},"$",{"$f":"DK50+CW57","v":1447.3367610279265},"L",null,null,null,null,null,null,null,null,"ABS","%",{"$f":"$AC58","v":0.17799999999999999},"$",{"$f":"DK50+DK57","v":870.86365605584467},"L",null,null,null,null,null,null,null,null,"ABS","%",{"$f":"$AQ58","v":0.17799999999999999},"$",{"$f":"DK50+DY57","v":1410.0427404450479},"L",null,null,null,null,null,null,null,null,"ABS","%",{"$f":"$O58","v":0.17799999999999999},"$",{"$f":"FA50+EM57","v":805.94061244006548},"L",null,null,null,null,null,null,null,null,"ABS","%",{"$f":"$AC58","v":0.17799999999999999},"$",{"$f":"FA50+FA57","v":1339.4268638332173},"L",null,null,null,null,null,null,null,null,"ABS","%",{"$f":"$AQ58","v":0.17799999999999999},"$",{"$f":"FA50+FO57","v":1853.4018740602542},"L"]
["Turbocharger","FGT",null,null,null,null,null,null,null,null,null,null,null,null,null,null,null,null,null,null,null,null,null,null,null,null,null,null,null,null,null,null,null,null,null,null,null,null,null,null,null,null,null,null,null,null,null,null,null,null,null,null,null,null,null,null,{"$f":"BE57-$O$57","v":0},null,{"$f":"BG57-$Q$57","v":-10.350943204492637},null,null,null,null,null,null,null,null,null,null,null,{"$f":"BS57-$AC$57","v":0},null,{"$f":"BU57-$AE$57","v":-137.49257962890812},null,null,null,null,null,null,null,null,null,null,null,{"$f":"CG57-$AQ$57","v":0},null,{"$f":"CI57-$AS$57","v":-151.06222004175237},null,null,null,null,null,null,null,null,null,null,null,{"$f":"CU57-$O$57","v":-7.1733205179984605E-3},null,{"$f":"CW57-$Q$57","v":-10.350943204492637},null,null,null,null,null,null,null,null,null,null,null,{"$f":"DI57-$AC$57","v":-2.1229366256929616E-3},null,{"$f":"DK57-$AE$57","v":-137.49257962890812},null,null,null,null,null,null,null,null,null,null,null,{"$f":"DW57-$AQ$57","v":-2.1229366256929616E-3},null,{"$f":"DY57-$AS$57","v":-151.06222004175237},null,null,null,null,null,null,null,null,null,null,null,{"$f":"EK57-$O$57","v":4.7880517756197949E-2},null,{"$f":"EM57-$Q$57","v":-420.06358424991754},null,null,null,null,null,null,null,null,null,null,null,{"$f":"EY57-$AC$57","v":0},null,{"$f":"FA57-$AE$57","v":562.75413569090051},null,null,null,null,null,null,null,null,null,null,null,{"$f":"FM57-$AQ$57","v":0},null,{"$f":"FO57-$AS$57","v":523.98042111588995}]
["EGR system","External"]
["Valvetrain","DOHC"]
["After Treatment","3way cat",null,null,null,null,null,null,null,null,null,"2012-2016","INC","%",{"$f":"1-((1-O63)/(1-O55))","v":0},"$",0,0,null,null,null,null,null,null,null,"2012-2016","INC","%",{"$f":"1-((1-AC63)/(1-AC55))","v":0},"$",0,0,null,null,null,null,null,null,null,"2012-2016","INC","%",{"$f":"1-((1-AQ63)/(1-AQ55))","v":0},"$",0,0,null,null,null,null,null,null,null,"2012-2016","INC","%",{"$f":"1-((1-BE63)/(1-BE55))","v":0},"$",{"$f":"$Q$62","v":0},{"$f":"$R$62","v":0},null,null,null,null,null,null,null,"2012-2016","INC","%",{"$f":"1-((1-BS63)/(1-BS55))","v":0},"$",{"$f":"$AE$62","v":0},{"$f":"$AF$62","v":0},null,null,null,null,null,null,null,"2012-2016","INC","%",{"$f":"1-((1-CG63)/(1-CG55))","v":0},"$",{"$f":"$AS$62","v":0},{"$f":"$AT$62","v":0},null,null,null,null,null,null,null,"2012-2016","INC","%",{"$f":"1-((1-CU63)/(1-CU55))","v":0},"$",{"$f":"$Q$62","v":0},{"$f":"$R$62","v":0},null,null,null,null,null,null,null,"2012-2016","INC","%",{"$f":"1-((1-DI63)/(1-DI55))","v":0},"$",{"$f":"$AE$62","v":0},{"$f":"$AF$62","v":0},null,null,null,null,null,null,null,"2012-2016","INC","%",{"$f":"1-((1-DW63)/(1-DW55))","v":0},"$",{"$f":"$AS$62","v":0},{"$f":"$AT$62","v":0},null,null,null,null,null,null,null,"2012-2016","INC","%",{"$f":"$O$62","v":0},"$",{"$f":"$Q$62","v":0},{"$f":"$R$62","v":0},null,null,null,null,null,null,null,"2012-2016","INC","%",{"$f":"1-((1-EY63)/(1-EY55))","v":0},"$",{"$f":"$AE$62","v":0},{"$f":"$AF$62","v":0},null,null,null,null,null,null,null,"2012-2016","INC","%",{"$f":"1-((1-FM63)/(1-FM55))","v":0},"$",{"$f":"$AS$62","v":0},{"$f":"$AT$62","v":0}]
[null,null,null,null,null,null,null,null,null,null,null,null,"ABS","%",{"$f":"O55","v":0.16976369643234546},"$",{"$f":"Q55+Q62","v":1184.6965628407361},"L",null,null,null,null,null,null,null,null,"ABS","%",{"$f":"AC55","v":0.1693966839378237},"$",{"$f":"AE55+AE62","v":735.36509429306989},"L",null,null,null,null,null,null,null,null,"ABS","%",{"$f":"AQ55","v":0.1693966839378237},"$",{"$f":"AS55+AS62","v":1288.1138190951174},"L",null,null,null,null,null,null,null,null,"ABS","%",{"$f":"BE55","v":0.1738926408732786},"$",{"$f":"BG55+BG62","v":1251.4013275208067},"L",null,null,null,null,null,null,null,null,"ABS","%",{"$f":"BS55","v":0.16939668393782359},"$",{"$f":"BU55+BU62","v":674.9282225487251},"L",null,null,null,null,null,null,null,null,"ABS","%",{"$f":"CG55","v":0.16939668393782359},"$",{"$f":"CI55+CI62","v":1214.1073069379283},"L",null,null,null,null,null,null,null,null,"ABS","%",{"$f":"CU55","v":0.1693966839378237},"$",{"$f":"CW55+CW62","v":1353.0756632839893},"L",null,null,null,null,null,null,null,null,"ABS","%",{"$f":"DI55","v":0.1693966839378237},"$",{"$f":"DK55+DK62","v":776.6025583119075},"L",null,null,null,null,null,null,null,null,"ABS","%",{"$f":"DW55","v":0.1693966839378237},"$",{"$f":"DY55+DY62","v":1315.7816427011107},"L",null,null,null,null,null,null,null,null,"ABS","%",{"$f":"1-((1-EK55)*(1-EK62))","v":0.21143062817217828},"$",{"$f":"EM55+EM62","v":711.67951469612831},"L",null,null,null,null,null,null,null,null,"ABS","%",{"$f":"EY55","v":0.16400454029511913},"$",{"$f":"FA55+FA62","v":1245.1657660892802},"L",null,null,null,null,null,null,null,null,"ABS","%",{"$f":"FM55","v":0.16400454029511913},"$",{"$f":"FO55+FO62","v":1759.140776316317},"L"]
[null,null,null,null,null,null,null,null,null,null,null,null,"TRBDS2_SD_TB","Turbocharging and Downsizing 2\n(TRBDS2_SD) - TBL",null,null,null,null,"TRBDS2_SD_DS",null,null,null,null,null,null,null,"TRBDS2_MD_TB","Turbocharging and Downsizing 2\n(TRBDS2_MD) - TBL",null,null,null,null,"TRBDS2_MD_DS",null,null,null,null,null,null,null,"TRBDS2_LD_TB","Turbocharging and Downsizing 2\n(TRBDS2_LD) - TBL",null,null,null,null,"TRBDS2_LD_DS",null,null,null,null,null,null,null,"TRBDS2_SD_TB",{"$f":"$N$64","v":"Turbocharging and Downsizing 2\n(TRBDS2_SD) - TBL"},null,null,null,null,"TRBDS2_SD_DS",null,null,null,null,null,null,null,"TRBDS2_MD_TB",{"$f":"$AB$64","v":"Turbocharging and Downsizing 2\n(TRBDS2_MD) - TBL"},null,null,null,null,"TRBDS2_MD_DS",null,null,null,null,null,null,null,"TRBDS2_LD_TB",{"$f":"$AP$64","v":"Turbocharging and Downsizing 2\n(TRBDS2_LD) - TBL"},null,null,null,null,"TRBDS2_LD_DS",null,null,null,null,null,null,null,"TRBDS2_SD_TB",{"$f":"$N$64","v":"Turbocharging and Downsizing 2\n(TRBDS2_SD) - TBL"},null,null,null,null,"TRBDS2_SD_DS",null,null,null,null,null,null,null,"TRBDS2_MD_TB",{"$f":"$AB$64","v":"Turbocharging and Downsizing 2\n(TRBDS2_MD) - TBL"},null,null,null,null,"TRBDS2_MD_DS",null,null,null,null,null,null,null,"TRBDS2_LD_TB","Cooled EGR 1\n(CEGR1_LD) - TBL",null,null,null,null,"TRBDS2_LD_DS",null,null,null,null,null,null,null,"TRBDS2_SD_TB",{"$f":"$N$64","v":"Turbocharging and Downsizing 2\n(TRBDS2_SD) - TBL"},null,null,null,null,"TRBDS2_SD_DS",null,null,null,null,null,null,null,"TRBDS2_MD_TB",{"$f":"$AB$64","v":"Turbocharging and Downsizing 2\n(TRBDS2_MD) - TBL"},null,null,null,null,"TRBDS2_MD_DS",null,null,null,null,null,null,null,"TRBDS2_LD_TB","Cooled EGR 1\n(CEGR1_LD) - TBL",null,null,null,null,"TRBDS2_LD_DS"]
[null,"INTERMEDIATE",null,null,null,null,null,null,null,null,null,"2017+","INC","%",{"$f":"1-((1-O66)/(1-O58))","v":2.9197080291970878E-2},"$",{"$f":"INDEX('[1]Large PC'!$H$379:$X$467,MATCH(M64,'[1]Large PC'!$C$379:$C$467,0),MATCH(Inputs!$C$2,'[1]Large PC'!$H$378:$X$378,0))\n+INDEX('[1]Large PC'!$H$379:$X$467,MATCH(S64,'[1]Large PC'!$C$379:$C$467,0),MATCH(Inputs!$C$2,'[1]Large PC'!$H$378:$X$378,0))","v":19.914246875441577},10,null,null,null,null,null,null,null,"2017+","INC","%",{"$f":"1-((1-AC66)/(1-AC58))","v":2.9197080291970878E-2},"$",{"$f":"INDEX('[1]Compact Perf. PC'!$H$379:$X$467,MATCH(AA64,'[1]Compact Perf. PC'!$C$379:$C$467,0),MATCH(Inputs!$C$2,'[1]Compact Perf. PC'!$H$378:$X$378,0))\n+INDEX('[1]Compact Perf. PC'!$H$379:$X$467,MATCH(AG64,'[1]Compact Perf. PC'!$C$379:$C$467,0),MATCH(Inputs!$C$2,'[1]Compact Perf. PC'!$H$378:$X$378,0))","v":247.5936884943545},10,null,null,null,null,null,null,null,"2017+","INC","%",{"$f":"1-((1-AQ66)/(1-AQ58))","v":2.9197080291970878E-2},"$",{"$f":"INDEX('[1]Compact Perf. PC'!$H$379:$X$467,MATCH(AO64,'[1]Compact Perf. PC'!$C$379:$C$467,0),MATCH(Inputs!$C$2,'[1]Compact Perf. PC'!$H$378:$X$378,0))\n+INDEX('[1]Compact Perf. PC'!$H$379:$X$467,MATCH(AU64,'[1]Compact Perf. PC'!$C$379:$C$467,0),MATCH(Inputs!$C$2,'[1]Compact Perf. PC'!$H$378:$X$378,0))","v":417.35470758578072},10,null,null,null,null,null,null,null,"2017+","INC","%",{"$f":"1-((1-BE66)/(1-BE58))","v":2.9197080291970878E-2},"$",{"$f":"$Q65","v":19.914246875441577},{"$f":"$R$65","v":10},null,null,null,null,null,null,null,"2017+","INC","%",{"$f":"1-((1-BS66)/(1-BS58))","v":2.9197080291970878E-2},"$",{"$f":"$AE$65","v":247.5936884943545},{"$f":"$AF$65","v":10},null,null,null,null,null,null,null,"2017+","INC","%",{"$f":"1-((1-CG66)/(1-CG58))","v":2.9197080291970878E-2},"$",{"$f":"$AS$65","v":417.35470758578072},{"$f":"$AT$65","v":10},null,null,null,null,null,null,null,"2017+","INC","%",{"$f":"1-((1-CU66)/(1-CU58))","v":2.9197080291970878E-2},"$",{"$f":"$Q65","v":19.914246875441577},{"$f":"$R$65","v":10},null,null,null,null,null,null,null,"2017+","INC","%",{"$f":"1-((1-DI66)/(1-DI58))","v":2.9197080291970878E-2},"$",{"$f":"$AE$65","v":247.5936884943545},{"$f":"$AF$65","v":10},null,null,null,null,null,null,null,"2017+","INC","%",{"$f":"1-((1-DW66)/(1-DW58))","v":2.9197080291970878E-2},"$",{"$f":"$AS$65","v":417.35470758578072},{"$f":"$AT$65","v":10},null,null,null,null,null,null,null,"2017+","INC","%",{"$f":"1-((1-EK66)/(1-EK58))","v":2.9197080291970878E-2},"$",{"$f":"$Q65","v":19.914246875441577},{"$f":"$R$65","v":10},null,null,null,null,null,null,null,"2017+","INC","%",{"$f":"1-((1-EY66)/(1-EY58))","v":2.9197080291970878E-2},"$",{"$f":"$AE$65","v":247.5936884943545},{"$f":"$AF$65","v":10},null,null,null,null,null,null,null,"2017+","INC","%",{"$f":"1-((1-FM66)/(1-FM58))","v":2.9197080291970878E-2},"$",{"$f":"$AS$65","v":417.35470758578072},{"$f":"$AT$65","v":10}]
["Gas Engine Type","I4",null,null,null,null,null,null,null,null,null,null,"ABS","%",0.20200000000000001,"$",{"$f":"Q58+Q65","v":1298.8719074601149},"L",null,null,null,null,null,null,null,null,"ABS","%",{"$f":"$O66","v":0.20200000000000001},"$",{"$f":"AE58+AE65","v":1077.2198805313615},"L",null,null,null,null,null,null,null,null,"ABS","%",{"$f":"$O66","v":0.20200000000000001},"$",{"$f":"AS58+AS65","v":1799.7296244248353},"L",null,null,null,null,null,null,null,null,"ABS","%",{"$f":"$O66","v":0.20200000000000001},"$",{"$f":"BG58+BG65","v":1365.5766721401856},"L",null,null,null,null,null,null,null,null,"ABS","%",{"$f":"$O66","v":0.20200000000000001},"$",{"$f":"BU58+BU65","v":1016.7830087870168},"L",null,null,null,null,null,null,null,null,"ABS","%",{"$f":"$AQ66","v":0.20200000000000001},"$",{"$f":"CI58+CI65","v":1725.7231122676462},"L",null,null,null,null,null,null,null,null,"ABS","%",{"$f":"$O66","v":0.20200000000000001},"$",{"$f":"CW58+CW65","v":1467.2510079033682},"L",null,null,null,null,null,null,null,null,"ABS","%",{"$f":"$AC66","v":0.20200000000000001},"$",{"$f":"DK58+DK65","v":1118.4573445501992},"L",null,null,null,null,null,null,null,null,"ABS","%",{"$f":"$AQ66","v":0.20200000000000001},"$",{"$f":"DY58+DY65","v":1827.3974480308286},"L",null,null,null,null,null,null,null,null,"ABS","%",{"$f":"$O66","v":0.20200000000000001},"$",{"$f":"EM58+EM65","v":825.85485931550704},"L",null,null,null,null,null,null,null,null,"ABS","%",{"$f":"$AC66","v":0.20200000000000001},"$",{"$f":"FA58+FA65","v":1587.0205523275717},"L",null,null,null,null,null,null,null,null,"ABS","%",{"$f":"$AQ66","v":0.20200000000000001},"$",{"$f":"FO58+FO65","v":2270.7565816460346},"L"]
["Displacement [L]",1]
["Turbocharger","FGT"]
["EGR system","External"]
["Valvetrain","DOHC",null,null,null,null,null,null,null,null,null,"2012-2016","INC","%",{"$f":"1-((1-O71)/(1-O63))","v":0},"$",0,0,null,null,null,null,null,null,null,"2012-2016","INC","%",{"$f":"1-((1-AC71)/(1-AC63))","v":0},"$",0,0,null,null,null,null,null,null,null,"2012-2016","INC","%",{"$f":"1-((1-AQ71)/(1-AQ63))","v":0},"$",0,0,null,null,null,null,null,null,null,"2012-2016","INC","%",{"$f":"1-((1-BE71)/(1-BE63))","v":0},"$",{"$f":"$Q$70","v":0},{"$f":"$R$70","v":0},null,null,null,null,null,null,null,"2012-2016","INC","%",{"$f":"1-((1-BS71)/(1-BS63))","v":0},"$",{"$f":"$AE$70","v":0},{"$f":"$AF$70","v":0},null,null,null,null,null,null,null,"2012-2016","INC","%",{"$f":"1-((1-CG71)/(1-CG63))","v":0},"$",{"$f":"$AS$70","v":0},{"$f":"$AT$70","v":0},null,null,null,null,null,null,null,"2012-2016","INC","%",{"$f":"1-((1-CU71)/(1-CU63))","v":0},"$",{"$f":"$Q$70","v":0},{"$f":"$R$70","v":0},null,null,null,null,null,null,null,"2012-2016","INC","%",{"$f":"1-((1-DI71)/(1-DI63))","v":0},"$",{"$f":"$AE$70","v":0},{"$f":"$AF$70","v":0},null,null,null,null,null,null,null,"2012-2016","INC","%",{"$f":"1-((1-DW71)/(1-DW63))","v":0},"$",{"$f":"$AS$70","v":0},{"$f":"$AT$70","v":0},null,null,null,null,null,null,null,"2012-2016","INC","%",{"$f":"1-((1-EK71)/(1-EK63))","v":0},"$",{"$f":"$Q$70","v":0},{"$f":"$R$70","v":0},null,null,null,null,null,null,null,"2012-2016","INC","%",{"$f":"1-((1-EY71)/(1-EY63))","v":0},"$",{"$f":"$AE$70","v":0},{"$f":"$AF$70","v":0},null,null,null,null,null,null,null,"2012-2016","INC","%",{"$f":"1-((1-FM71)/(1-FM63))","v":0},"$",{"$f":"$AS$70","v":0},{"$f":"$AT$70","v":0}]
["After Treatment","3way cat",null,null,null,null,null,null,null,null,null,null,"ABS","%",{"$f":"O63","v":0.16976369643234546},"$",{"$f":"Q63+Q70","v":1184.6965628407361},"L",null,null,null,null,null,null,null,null,"ABS","%",{"$f":"AC63","v":0.1693966839378237},"$",{"$f":"AE63+AE70","v":735.36509429306989},"L",null,null,null,null,null,null,null,null,"ABS","%",{"$f":"AQ63","v":0.1693966839378237},"$",{"$f":"AS63+AS70","v":1288.1138190951174},"L",null,null,null,null,null,null,null,null,"ABS","%",{"$f":"BE63","v":0.1738926408732786},"$",{"$f":"BG63+BG70","v":1251.4013275208067},"L",null,null,null,null,null,null,null,null,"ABS","%",{"$f":"BS63","v":0.16939668393782359},"$",{"$f":"BU63+BU70","v":674.9282225487251},"L",null,null,null,null,null,null,null,null,"ABS","%",{"$f":"CG63","v":0.16939668393782359},"$",{"$f":"CI63+CI70","v":1214.1073069379283},"L",null,null,null,null,null,null,null,null,"ABS","%",{"$f":"CU63","v":0.1693966839378237},"$",{"$f":"CW63+CW70","v":1353.0756632839893},"L",null,null,null,null,null,null,null,null,"ABS","%",{"$f":"DI63","v":0.1693966839378237},"$",{"$f":"DK63+DK70","v":776.6025583119075},"L",null,null,null,null,null,null,null,null,"ABS","%",{"$f":"DW63","v":0.1693966839378237},"$",{"$f":"DY63+DY70","v":1315.7816427011107},"L",null,null,null,null,null,null,null,null,"ABS","%",{"$f":"EK63","v":0.21143062817217828},"$",{"$f":"EM63+EM70","v":711.67951469612831},"L",null,null,null,null,null,null,null,null,"ABS","%",{"$f":"EY63","v":0.16400454029511913},"$",{"$f":"FA63+FA70","v":1245.1657660892802},"L",null,null,null,null,null,null,null,null,"ABS","%",{"$f":"FM63","v":0.16400454029511913},"$",{"$f":"FO63+FO70","v":1759.140776316317},"L"]
[null,null,null,null,null,null,null,null,null,null,null,null,"CEGR1_SD_TB","Cooled EGR 1 \n(CEGR1_SD) - TBL",null,null,null,null,"CEGR1_SD_DS",null,null,null,null,null,null,null,"CEGR1_MD_TB","Cooled EGR 1 \n(CEGR1_MD) - TBL",null,null,null,null,"CEGR1_MD_DS",null,null,null,null,null,null,null,"CEGR1_LD_TB","Cooled EGR 1 \n(CEGR1_LD) - TBL",null,null,null,null,"CEGR1_LD_DS",null,null,null,null,null,null,null,"CEGR1_SD_TB",{"$f":"$N$72","v":"Cooled EGR 1 \n(CEGR1_SD) - TBL"},null,null,null,null,"CEGR1_SD_DS",null,null,null,null,null,null,null,"CEGR1_MD_TB",{"$f":"$AB$72","v":"Cooled EGR 1 \n(CEGR1_MD) - TBL"},null,null,null,null,"CEGR1_MD_DS",null,null,null,null,null,null,null,"CEGR1_LD_TB",{"$f":"$AP$72","v":"Cooled EGR 1 \n(CEGR1_LD) - TBL"},null,null,null,null,"CEGR1_LD_DS",null,null,null,null,null,null,null,"CEGR1_SD_TB",{"$f":"$N$72","v":"Cooled EGR 1 \n(CEGR1_SD) - TBL"},null,null,null,null,"CEGR1_SD_DS",null,null,null,null,null,null,null,"CEGR1_MD_TB",{"$f":"$AB$72","v":"Cooled EGR 1 \n(CEGR1_MD) - TBL"},null,null,null,null,"CEGR1_MD_DS",null,null,null,null,null,null,null,"CEGR1_LD_TB",{"$f":"$AP$72","v":"Cooled EGR 1 \n(CEGR1_LD) - TBL"},null,null,null,null,"CEGR1_LD_DS",null,null,null,null,null,null,null,"CEGR1_SD_TB",{"$f":"$N$72","v":"Cooled EGR 1 \n(CEGR1_SD) - TBL"},null,null,null,null,"CEGR1_SD_DS",null,null,null,null,null,null,null,"CEGR1_MD_TB",{"$f":"$AB$72","v":"Cooled EGR 1 \n(CEGR1_MD) - TBL"},null,null,null,null,"CEGR1_MD_DS",null,null,null,null,null,null,null,"CEGR1_LD_TB",{"$f":"$AP$72","v":"Cooled EGR 1 \n(CEGR1_LD) - TBL"},null,null,null,null,"CEGR1_LD_DS"]
[null,null,null,null,null,null,null,null,null,null,null,"2017+","INC","%",{"$f":"1-((1-O74)/(1-O66))","v":3.6340852130325896E-2},"$",{"$f":"INDEX('[1]Large Perf. PC'!$H$379:$X$467,MATCH(M72,'[1]Large Perf. PC'!$C$379:$C$467,0),MATCH(Inputs!$C$2,'[1]Large Perf. PC'!$H$378:$X$378,0))\n+INDEX('[1]Large Perf. PC'!$H$379:$X$467,MATCH(S72,'[1]Large Perf. PC'!$C$379:$C$467,0),MATCH(Inputs!$C$2,'[1]Large Perf. PC'!$H$378:$X$378,0))","v":285.15466932220613},10,null,null,null,null,null,null,null,"2017+","INC","%",{"$f":"1-((1-AC74)/(1-AC66))","v":3.6340852130325896E-2},"$",{"$f":"INDEX('[1]Compact Perf. PC'!$H$379:$X$467,MATCH(AA72,'[1]Compact Perf. PC'!$C$379:$C$467,0),MATCH(Inputs!$C$2,'[1]Compact Perf. PC'!$H$378:$X$378,0))\n+INDEX('[1]Compact Perf. PC'!$H$379:$X$467,MATCH(AG72,'[1]Compact Perf. PC'!$C$379:$C$467,0),MATCH(Inputs!$C$2,'[1]Compact Perf. PC'!$H$378:$X$378,0))","v":285.15466932220613},10,null,null,null,null,null,null,null,"2017+","INC","%",{"$f":"1-((1-AQ74)/(1-AQ66))","v":3.6340852130325896E-2},"$",{"$f":"INDEX('[1]Compact Perf. PC'!$H$379:$X$467,MATCH(AO72,'[1]Compact Perf. PC'!$C$379:$C$467,0),MATCH(Inputs!$C$2,'[1]Compact Perf. PC'!$H$378:$X$378,0))\n+INDEX('[1]Compact Perf. PC'!$H$379:$X$467,MATCH(AU72,'[1]Compact Perf. PC'!$C$379:$C$467,0),MATCH(Inputs!$C$2,'[1]Compact Perf. PC'!$H$378:$X$378,0))","v":285.15466932220613},10,null,null,null,null,null,null,null,"2017+","INC","%",{"$f":"$O$73","v":3.6340852130325896E-2},"$",{"$f":"$Q$73","v":285.15466932220613},{"$f":"$R$73","v":10},null,null,null,null,null,null,null,"2017+","INC","%",{"$f":"$AC$73","v":3.6340852130325896E-2},"$",{"$f":"$AE$73","v":285.15466932220613},{"$f":"$AF$73","v":10},null,null,null,null,null,null,null,"2017+","INC","%",{"$f":"$AQ$73","v":3.6340852130325896E-2},"$",{"$f":"$AS$73","v":285.15466932220613},{"$f":"$AT$73","v":10},null,null,null,null,null,null,null,"2017+","INC","%",{"$f":"$O$73","v":3.6340852130325896E-2},"$",{"$f":"$Q$73","v":285.15466932220613},{"$f":"$R$73","v":10},null,null,null,null,null,null,null,"2017+","INC","%",{"$f":"$AC$73","v":3.6340852130325896E-2},"$",{"$f":"$AE$73","v":285.15466932220613},{"$f":"$AF$73","v":10},null,null,null,null,null,null,null,"2017+","INC","%",{"$f":"$AQ$73","v":3.6340852130325896E-2},"$",{"$f":"$AS$73","v":285.15466932220613},{"$f":"$AT$73","v":10},null,null,null,null,null,null,null,"2017+","INC","%",{"$f":"$O$73","v":3.6340852130325896E-2},"$",{"$f":"$Q$73","v":285.15466932220613},{"$f":"$R$73","v":10},null,null,null,null,null,null,null,"2017+","INC","%",{"$f":"$AC$73","v":3.6340852130325896E-2},"$",{"$f":"$AE$73","v":285.15466932220613},{"$f":"$AF$73","v":10},null,null,null,null,null,null,null,"2017+","INC","%",{"$f":"$AQ$73","v":3.6340852130325896E-2},"$",{"$f":"$AS$73","v":285.15466932220613},{"$f":"$AT$73","v":10}]
[null,null,null,null,null,null,null,null,null,null,null,null,"ABS","%",0.23100000000000001,"$",{"$f":"Q66+Q73","v":1584.0265767823212},"L",null,null,null,null,null,null,null,null,"ABS","%",{"$f":"O74","v":0.23100000000000001},"$",{"$f":"AE66+AE73","v":1362.3745498535677},"L",null,null,null,null,null,null,null,null,"ABS","%",{"$f":"O74","v":0.23100000000000001},"$",{"$f":"AS66+AS73","v":2084.8842937470413},"L",null,null,null,null,null,null,null,null,"ABS","%",{"$f":"1-((1-BE66)*(1-BE73))","v":0.23099999999999998},"$",{"$f":"BG66+BG73","v":1650.7313414623918},"L",null,null,null,null,null,null,null,null,"ABS","%",{"$f":"$O74","v":0.23100000000000001},"$",{"$f":"BU66+BU73","v":1301.9376781092228},"L",null,null,null,null,null,null,null,null,"ABS","%",{"$f":"$AQ74","v":0.23100000000000001},"$",{"$f":"CI66+CI73","v":2010.8777815898525},"L",null,null,null,null,null,null,null,null,"ABS","%",{"$f":"$O74","v":0.23100000000000001},"$",{"$f":"CW66+CW73","v":1752.4056772255744},"L",null,null,null,null,null,null,null,null,"ABS","%",{"$f":"$AC74","v":0.23100000000000001},"$",{"$f":"DK66+DK73","v":1403.6120138724054},"L",null,null,null,null,null,null,null,null,"ABS","%",{"$f":"$AQ74","v":0.23100000000000001},"$",{"$f":"DY66+DY73","v":2112.5521173530346},"L",null,null,null,null,null,null,null,null,"ABS","%",{"$f":"$O74","v":0.23100000000000001},"$",{"$f":"EM66+EM73","v":1111.0095286377132},"L",null,null,null,null,null,null,null,null,"ABS","%",{"$f":"$AC74","v":0.23100000000000001},"$",{"$f":"FA66+FA73","v":1872.175221649778},"L",null,null,null,null,null,null,null,null,"ABS","%",{"$f":"$AQ74","v":0.23100000000000001},"$",{"$f":"FO66+FO73","v":2555.9112509682409},"L"]
[]
[]
[]
[null,null,null,null,null,null,null,null,null,null,null,"2012-2016","INC","%",{"$f":"1-((1-O79)/(1-O71))","v":0},"$",0,0,null,null,null,null,null,null,null,"2012-2016","INC","%",{"$f":"1-((1-AC79)/(1-AC71))","v":0},"$",0,0,null,null,null,null,null,null,null,"2012-2016","INC","%",{"$f":"1-((1-AQ79)/(1-AQ71))","v":0},"$",0,0,null,null,null,null,null,null,null,"2012-2016","INC","%",{"$f":"1-((1-BE79)/(1-BE71))","v":0},"$",{"$f":"$Q$78","v":0},{"$f":"$R$78","v":0},null,null,null,null,null,null,null,"2012-2016","INC","%",{"$f":"1-((1-BS79)/(1-BS71))","v":0},"$",{"$f":"$AE$78","v":0},{"$f":"$AF$78","v":0},null,null,null,null,null,null,null,"2012-2016","INC","%",{"$f":"1-((1-CG79)/(1-CG71))","v":0},"$",{"$f":"$AS$78","v":0},{"$f":"$AT$78","v":0},null,null,null,null,null,null,null,"2012-2016","INC","%",{"$f":"1-((1-CU79)/(1-CU71))","v":0},"$",{"$f":"$Q$78","v":0},{"$f":"$R$78","v":0},null,null,null,null,null,null,null,"2012-2016","INC","%",{"$f":"1-((1-DI79)/(1-DI71))","v":0},"$",{"$f":"$AE$78","v":0},{"$f":"$AF$78","v":0},null,null,null,null,null,null,null,"2012-2016","INC","%",{"$f":"1-((1-DW79)/(1-DW71))","v":0},"$",{"$f":"$AS$78","v":0},{"$f":"$AT$78","v":0},null,null,null,null,null,null,null,"2012-2016","INC","%",{"$f":"1-((1-EK79)/(1-EK71))","v":0},"$",{"$f":"$Q$78","v":0},{"$f":"$R$78","v":0},null,null,null,null,null,null,null,"2012-2016","INC","%",{"$f":"1-((1-EY79)/(1-EY71))","v":0},"$",{"$f":"$AE$78","v":0},{"$f":"$AF$78","v":0},null,null,null,null,null,null,null,"2012-2016","INC","%",{"$f":"1-((1-FM79)/(1-FM71))","v":0},"$",{"$f":"$AS$78","v":0},{"$f":"$AT$78","v":0}]
[null,null,null,null,null,null,null,null,null,null,null,null,"ABS","%",{"$f":"O71","v":0.16976369643234546},"$",{"$f":"Q71+Q78","v":1184.6965628407361},"L",null,null,null,null,null,null,null,null,"ABS","%",{"$f":"AC71","v":0.1693966839378237},"$",{"$f":"AE71+AE78","v":735.36509429306989},"L",null,null,null,null,null,null,null,null,"ABS","%",{"$f":"AQ71","v":0.1693966839378237},"$",{"$f":"AS71+AS78","v":1288.1138190951174},"L",null,null,null,null,null,null,null,null,"ABS","%",{"$f":"BE71","v":0.1738926408732786},"$",{"$f":"BG71+BG78","v":1251.4013275208067},"L",null,null,null,null,null,null,null,null,"ABS","%",{"$f":"BS71","v":0.16939668393782359},"$",{"$f":"BU71+BU78","v":674.9282225487251},"L",null,null,null,null,null,null,null,null,"ABS","%",{"$f":"CG71","v":0.16939668393782359},"$",{"$f":"CI71+CI78","v":1214.1073069379283},"L",null,null,null,null,null,null,null,null,"ABS","%",{"$f":"CU71","v":0.1693966839378237},"$",{"$f":"CW71+CW78","v":1353.0756632839893},"L",null,null,null,null,null,null,null,null,"ABS","%",{"$f":"DI71","v":0.1693966839378237},"$",{"$f":"DK71+DK78","v":776.6025583119075},"L",null,null,null,null,null,null,null,null,"ABS","%",{"$f":"DW71","v":0.1693966839378237},"$",{"$f":"DY71+DY78","v":1315.7816427011107},"L",null,null,null,null,null,null,null,null,"ABS","%",{"$f":"EK71","v":0.21143062817217828},"$",{"$f":"EM71+EM78","v":711.67951469612831},"L",null,null,null,null,null,null,null,null,"ABS","%",{"$f":"EY71","v":0.16400454029511913},"$",{"$f":"FA71+FA78","v":1245.1657660892802},"L",null,null,null,null,null,null,null,null,"ABS","%",{"$f":"FM71","v":0.16400454029511913},"$",{"$f":"FO71+FO78","v":1759.140776316317},"L"]
[null,null,null,null,null,null,null,null,null,null,null,null,"CEGR2_SD_TB","Cooled EGR 2\n(CEGR2_SD) - TBL",null,null,null,null,"CEGR2_SD_DS",null,null,null,null,null,null,null,"CEGR2_MD_TB","Cooled EGR 2\n(CEGR2_MD) - TBL",null,null,null,null,"CEGR2_MD_DS",null,null,null,null,null,null,null,"CEGR2_LD_TB","Cooled EGR 2\n(CEGR2_LD) - TBL",null,null,null,null,"CEGR2_LD_DS",null,null,null,null,null,null,null,"CEGR2_SD_TB",{"$f":"$N$80","v":"Cooled EGR 2\n(CEGR2_SD) - TBL"},null,null,null,null,"CEGR2_SD_DS",null,null,null,null,null,null,null,"CEGR2_MD_TB",{"$f":"$AB$80","v":"Cooled EGR 2\n(CEGR2_MD) - TBL"},null,null,null,null,"CEGR2_MD_DS",null,null,null,null,null,null,null,"CEGR2_LD_TB",{"$f":"$AP$80","v":"Cooled EGR 2\n(CEGR2_LD) - TBL"},null,null,null,null,"CEGR2_LD_DS",null,null,null,null,null,null,null,"CEGR2_SD_TB",{"$f":"$N$80","v":"Cooled EGR 2\n(CEGR2_SD) - TBL"},null,null,null,null,"CEGR2_SD_DS",null,null,null,null,null,null,null,"CEGR2_MD_TB",{"$f":"$AB$80","v":"Cooled EGR 2\n(CEGR2_MD) - TBL"},null,null,null,null,"CEGR2_MD_DS",null,null,null,null,null,null,null,"CEGR2_LD_TB",{"$f":"$AP$80","v":"Cooled EGR 2\n(CEGR2_LD) - TBL"},null,null,null,null,"CEGR2_LD_DS",null,null,null,null,null,null,null,"CEGR2_SD_TB",{"$f":"$N$80","v":"Cooled EGR 2\n(CEGR2_SD) - TBL"},null,null,null,null,"CEGR2_SD_DS",null,null,null,null,null,null,null,"CEGR2_MD_TB",{"$f":"$AB$80","v":"Cooled EGR 2\n(CEGR2_MD) - TBL"},null,null,null,null,"CEGR2_MD_DS",null,null,null,null,null,null,null,"CEGR2_LD_TB",{"$f":"$AP$80","v":"Cooled EGR 2\n(CEGR2_LD) - TBL"},null,null,null,null,"CEGR2_LD_DS"]
[null,"STOP",null,null,null,null,null,null,null,null,null,"2017+","INC","%",{"$f":"1-((1-O82)/(1-O74))","v":1.040312093628093E-2},"$",{"$f":"INDEX('[1]Compact Perf. PC'!$H$379:$X$467,MATCH(M80,'[1]Compact Perf. PC'!$C$379:$C$467,0),MATCH(Inputs!$C$2,'[1]Compact Perf. PC'!$H$378:$X$378,0))\n+INDEX('[1]Compact Perf. PC'!$H$379:$X$467,MATCH(S80,'[1]Compact Perf. PC'!$C$379:$C$467,0),MATCH(Inputs!$C$2,'[1]Compact Perf. PC'!$H$378:$X$378,0))","v":495.18737698870899},10,null,null,null,null,null,null,null,"2017+","INC","%",{"$f":"1-((1-AC82)/(1-AC74))","v":1.040312093628093E-2},"$",{"$f":"INDEX('[1]Compact Perf. PC'!$H$379:$X$467,MATCH(AA80,'[1]Compact Perf. PC'!$C$379:$C$467,0),MATCH(Inputs!$C$2,'[1]Compact Perf. PC'!$H$378:$X$378,0))\n+INDEX('[1]Compact Perf. PC'!$H$379:$X$467,MATCH(AG80,'[1]Compact Perf. PC'!$C$379:$C$467,0),MATCH(Inputs!$C$2,'[1]Compact Perf. PC'!$H$378:$X$378,0))","v":495.18737698870899},10,null,null,null,null,null,null,null,"2017+","INC","%",{"$f":"1-((1-AQ82)/(1-AQ74))","v":1.040312093628093E-2},"$",{"$f":"INDEX('[1]Compact Perf. PC'!$H$379:$X$467,MATCH(AO80,'[1]Compact Perf. PC'!$C$379:$C$467,0),MATCH(Inputs!$C$2,'[1]Compact Perf. PC'!$H$378:$X$378,0))\n+INDEX('[1]Compact Perf. PC'!$H$379:$X$467,MATCH(AU80,'[1]Compact Perf. PC'!$C$379:$C$467,0),MATCH(Inputs!$C$2,'[1]Compact Perf. PC'!$H$378:$X$378,0))","v":-296.67298355204559},10,null,null,null,null,null,null,null,"2017+","INC","%",{"$f":"$O$81","v":1.040312093628093E-2},"$",{"$f":"$Q$81","v":495.18737698870899},{"$f":"$R$81","v":10},null,null,null,null,null,null,null,"2017+","INC","%",{"$f":"$AC$81","v":1.040312093628093E-2},"$",{"$f":"$AE$81","v":495.18737698870899},{"$f":"$AF$81","v":10},null,null,null,null,null,null,null,"2017+","INC","%",{"$f":"$AQ$81","v":1.040312093628093E-2},"$",{"$f":"$AS$81","v":-296.67298355204559},{"$f":"$AT$81","v":10},null,null,null,null,null,null,null,"2017+","INC","%",{"$f":"$O$81","v":1.040312093628093E-2},"$",{"$f":"$Q$81","v":495.18737698870899},{"$f":"$R$81","v":10},null,null,null,null,null,null,null,"2017+","INC","%",{"$f":"$AC$81","v":1.040312093628093E-2},"$",{"$f":"$AE$81","v":495.18737698870899},{"$f":"$AF$81","v":10},null,null,null,null,null,null,null,"2017+","INC","%",{"$f":"$AQ$81","v":1.040312093628093E-2},"$",{"$f":"$AS$81","v":-296.67298355204559},{"$f":"$AT$81","v":10},null,null,null,null,null,null,null,"2017+","INC","%",{"$f":"$O$81","v":1.040312093628093E-2},"$",{"$f":"$Q$81","v":495.18737698870899},{"$f":"$R$81","v":10},null,null,null,null,null,null,null,"2017+","INC","%",{"$f":"$AC$81","v":1.040312093628093E-2},"$",{"$f":"$AE$81","v":495.18737698870899},{"$f":"$AF$81","v":10},null,null,null,null,null,null,null,"2017+","INC","%",{"$f":"$AQ$81","v":1.040312093628093E-2},"$",{"$f":"$AS$81","v":-296.67298355204559},{"$f":"$AT$81","v":10}]
["Diesel Engine Type","I4",null,null,null,null,null,null,null,null,null,null,"ABS","%",0.23899999999999999,"$",{"$f":"Q74+Q81","v":2079.21395377103},"L",null,null,null,null,null,null,null,null,"ABS","%",{"$f":"O82","v":0.23899999999999999},"$",{"$f":"AE74+AE81","v":1857.5619268422768},"L",null,null,null,null,null,null,null,null,"ABS","%",{"$f":"O82","v":0.23899999999999999},"$",{"$f":"AS74+AS81","v":1788.2113101949958},"L",null,null,null,null,null,null,null,null,"ABS","%",{"$f":"1-((1-BE74)*(1-BE81))","v":0.23899999999999999},"$",{"$f":"BG74+BG81","v":2145.9187184511006},"L",null,null,null,null,null,null,null,null,"ABS","%",{"$f":"$O82","v":0.23899999999999999},"$",{"$f":"BU74+BU81","v":1797.1250550979319},"L",null,null,null,null,null,null,null,null,"ABS","%",{"$f":"$AQ82","v":0.23899999999999999},"$",{"$f":"CI74+CI81","v":1714.204798037807},"L",null,null,null,null,null,null,null,null,"ABS","%",{"$f":"$O82","v":0.23899999999999999},"$",{"$f":"CW74+CW81","v":2247.5930542142833},"L",null,null,null,null,null,null,null,null,"ABS","%",{"$f":"$AC82","v":0.23899999999999999},"$",{"$f":"DK74+DK81","v":1898.7993908611145},"L",null,null,null,null,null,null,null,null,"ABS","%",{"$f":"$AQ82","v":0.23899999999999999},"$",{"$f":"DY74+DY81","v":1815.8791338009892},"L",null,null,null,null,null,null,null,null,"ABS","%",{"$f":"$O82","v":0.23899999999999999},"$",{"$f":"EM74+EM81","v":1606.1969056264222},"L",null,null,null,null,null,null,null,null,"ABS","%",{"$f":"$AC82","v":0.23899999999999999},"$",{"$f":"FA74+FA81","v":2367.3625986384868},"L",null,null,null,null,null,null,null,null,"ABS","%",{"$f":"$AQ82","v":0.23899999999999999},"$",{"$f":"FO74+FO81","v":2259.2382674161954},"L"]
["Displacement [L]","1.5 to 2.0"]
["Turbocharger","VNT"]
["EGR system","cooler+vlv+bypass vlv"]
["FIE","HPCR 1800bar solenoid",null,null,"2012-2016","INC","%",{"$f":"1-((1-H87)/(1-O79))","v":0},"$",0,"L","2012-2016","INC","%",0,"$",0,0,"2012-2016","INC","%",{"$f":"1-((1-V87)/(1-AC79))","v":0},"$",0,"L","2012-2016","INC","%",0,"$",0,0,"2012-2016","INC","%",{"$f":"1-((1-AJ87)/(1-AQ79))","v":0},"$",0,"L","2012-2016","INC","%",0,"$",0,0,"2012-2016","INC","%",{"$f":"1-((1-AX87)/(1-BE79))","v":-4.9980724603371218E-3},"$",0,"L","2012-2016","INC","%",0,"$",0,0,"2012-2016","INC","%",{"$f":"1-((1-BL87)/(1-BS79))","v":0},"$",0,"L","2012-2016","INC","%",0,"$",0,0,"2012-2016","INC","%",{"$f":"1-((1-BZ87)/(1-CG79))","v":0},"$",0,"L","2012-2016","INC","%",0,"$",0,0,"2012-2016","INC","%",{"$f":"1-((1-CN87)/(1-CU79))","v":4.418625442789148E-4},"$",0,"L","2012-2016","INC","%",0,"$",0,0,"2012-2016","INC","%",{"$f":"1-((1-DB87)/(1-DI79))","v":0},"$",0,"L","2012-2016","INC","%",0,"$",0,0,"2012-2016","INC","%",{"$f":"1-((1-DP87)/(1-DW79))","v":0},"$",0,"L","2012-2016","INC","%",0,"$",0,0,"2012-2016","INC","%",{"$f":"1-((1-ED87)/(1-EK79))","v":-5.2838638207889366E-2},"$",0,"L","2012-2016","INC","%",0,"$",0,0,"2012-2016","INC","%",{"$f":"1-((1-ER87)/(1-EY79))","v":6.4499676165802322E-3},"$",0,"L","2012-2016","INC","%",0,"$",0,0,"2012-2016","INC","%",{"$f":"1-((1-FF87)/(1-FM79))","v":6.4499676165802322E-3},"$",0,"L","2012-2016","INC","%",0,"$",0,0]
["Valvetrain","4-valve DOHC",null,null,null,"ABS","%",{"$f":"O79","v":0.16976369643234546},"$",{"$f":"J86+Q79","v":1184.6965628407361},150,null,"ABS","%",{"$f":"1-((1-O79)*(1-O86))","v":0.16976369643234546},"$",{"$f":"Q79+Q86","v":1184.6965628407361},"L",null,"ABS","%",{"$f":"AC79","v":0.1693966839378237},"$",{"$f":"X86+AE79","v":735.36509429306989},200,null,"ABS","%",{"$f":"1-((1-AC79)*(1-AC86))","v":0.1693966839378237},"$",{"$f":"AE79+AE86","v":735.36509429306989},"L",null,"ABS","%",{"$f":"AQ79","v":0.1693966839378237},"$",{"$f":"AL86+AS79","v":1288.1138190951174},500,null,"ABS","%",{"$f":"1-((1-AQ79)*(1-AQ86))","v":0.1693966839378237},"$",{"$f":"AS79+AS86","v":1288.1138190951174},"L",null,"ABS","%",{"$f":"$H$87","v":0.16976369643234546},"$",{"$f":"AZ86+BG79","v":1251.4013275208067},{"$f":"$K$87","v":150},null,"ABS","%",{"$f":"1-((1-BE79)*(1-BE86))","v":0.1738926408732786},"$",{"$f":"BG79+BG86","v":1251.4013275208067},"L",null,"ABS","%",{"$f":"$V$87","v":0.1693966839378237},"$",{"$f":"BN86+BU79","v":674.9282225487251},{"$f":"$Y$87","v":200},null,"ABS","%",{"$f":"1-((1-BS79)*(1-BS86))","v":0.16939668393782359},"$",{"$f":"BU79+BU86","v":674.9282225487251},"L",null,"ABS","%",{"$f":"$AJ$87","v":0.1693966839378237},"$",{"$f":"CB86+CI79","v":1214.1073069379283},{"$f":"$AM$87","v":500},null,"ABS","%",{"$f":"1-((1-CG79)*(1-CG86))","v":0.16939668393782359},"$",{"$f":"CI79+CI86","v":1214.1073069379283},"L",null,"ABS","%",{"$f":"$H$87","v":0.16976369643234546},"$",{"$f":"CP86+CW79","v":1353.0756632839893},{"$f":"$K$87","v":150},null,"ABS","%",{"$f":"1-((1-CU79)*(1-CU86))","v":0.1693966839378237},"$",{"$f":"CW79+CW86","v":1353.0756632839893},"L",null,"ABS","%",{"$f":"$V$87","v":0.1693966839378237},"$",{"$f":"DD86+DK79","v":776.6025583119075},{"$f":"$Y$87","v":200},null,"ABS","%",{"$f":"1-((1-DI79)*(1-DI86))","v":0.1693966839378237},"$",{"$f":"DK79+DK86","v":776.6025583119075},"L",null,"ABS","%",{"$f":"$AJ$87","v":0.1693966839378237},"$",{"$f":"DR86+DY79","v":1315.7816427011107},{"$f":"$AM$87","v":500},null,"ABS","%",{"$f":"1-((1-DW79)*(1-DW86))","v":0.1693966839378237},"$",{"$f":"DY79+DY86","v":1315.7816427011107},"L",null,"ABS","%",{"$f":"$H$87","v":0.16976369643234546},"$",{"$f":"EF86+EM79","v":711.67951469612831},{"$f":"$K$87","v":150},null,"ABS","%",{"$f":"1-((1-EK79)*(1-EK86))","v":0.21143062817217828},"$",{"$f":"EM79+EM86","v":711.67951469612831},"L",null,"ABS","%",{"$f":"$V$87","v":0.1693966839378237},"$",{"$f":"ET86+FA79","v":1245.1657660892802},{"$f":"$Y$87","v":200},null,"ABS","%",{"$f":"1-((1-EY79)*(1-EY86))","v":0.16400454029511913},"$",{"$f":"FA79+FA86","v":1245.1657660892802},"L",null,"ABS","%",{"$f":"$AJ$87","v":0.1693966839378237},"$",{"$f":"FH86+FO79","v":1759.140776316317},{"$f":"$AM$87","v":500},null,"ABS","%",{"$f":"1-((1-FM79)*(1-FM86))","v":0.16400454029511913},"$",{"$f":"FO79+FO86","v":1759.140776316317},"L"]
["Valvetrain option","N/A",null,null,null,null,"Advanced Diesel\n(ADSL_SD) - TBL",null,null,null,null,"ADSL_SD",null,"To Strong Hybrids",null,null,null,null,null,null,"Advanced Diesel\n(ADSL_MD) - TBL",null,null,null,null,"ADSL_MD",null,"To Strong Hybrids",null,null,null,null,null,null,"Advanced Diesel\n(ADSL_LD) - TBL",null,null,null,null,"ADSL_LD",null,"To Strong Hybrids",null,null,null,null,null,null,"Advanced Diesel\n(ADSL_SD) - TBL",null,null,null,null,"ADSL_SD",null,"To Strong Hybrids",null,null,null,null,null,null,"Advanced Diesel\n(ADSL_MD) - TBL",null,null,null,null,"ADSL_SD",null,"To Strong Hybrids",null,null,null,null,null,null,"Advanced Diesel\n(ADSL_LD) - TBL",null,null,null,null,"ADSL_SD",null,"To Strong Hybrids",null,null,null,null,null,null,"Advanced Diesel\n(ADSL_SD) - TBL",null,null,null,null,"ADSL_SD",null,"To Strong Hybrids",null,null,null,null,null,null,"Advanced Diesel\n(ADSL_MD) - TBL",null,null,null,null,"ADSL_SD",null,"To Strong Hybrids",null,null,null,null,null,null,"Advanced Diesel\n(ADSL_LD) - TBL",null,null,null,null,"ADSL_SD",null,"To Strong Hybrids",null,null,null,null,null,null,"Advanced Diesel\n(ADSL_SD) - TBL",null,null,null,null,"ADSL_SD",null,"To Strong Hybrids",null,null,null,null,null,null,"Advanced Diesel\n(ADSL_MD) - TBL",null,null,null,null,"ADSL_SD",null,"To Strong Hybrids",null,null,null,null,null,null,"Advanced Diesel\n(ADSL_LD) - TBL",null,null,null,null,"ADSL_SD",null,"To Strong Hybrids"]
["After Treatment","DOC+LNT+DPF",null,null,"2017+","INC","%",{"$f":"1-((1-H90)/(1-O82))","v":5.5321944809461288E-2},"$",{"$f":"INDEX('[1]Compact Perf. PC'!$H$379:$X$467,MATCH(L88,'[1]Compact Perf. PC'!$C$379:$C$467,0),MATCH(Inputs!$C$2,'[1]Compact Perf. PC'!$H$378:$X$378,0))","v":911.04083256975923},"L","2017+","INC","%",0,"$",{"$f":"Q86","v":0},0,"2017+","INC","%",{"$f":"1-((1-V90)/(1-AC82))","v":5.5321944809461288E-2},"$",{"$f":"INDEX('[1]Compact Perf. PC'!$H$379:$X$467,MATCH(Z88,'[1]Compact Perf. PC'!$C$379:$C$467,0),MATCH(Inputs!$C$2,'[1]Compact Perf. PC'!$H$378:$X$378,0))","v":927.85441038425756},"L","2017+","INC","%",0,"$",{"$f":"AE86","v":0},0,"2017+","INC","%",{"$f":"1-((1-AJ90)/(1-AQ82))","v":5.5321944809461288E-2},"$",{"$f":"INDEX('[1]Compact Perf. PC'!$H$379:$X$467,MATCH(AN88,'[1]Compact Perf. PC'!$C$379:$C$467,0),MATCH(Inputs!$C$2,'[1]Compact Perf. PC'!$H$378:$X$378,0))","v":1811.581549062259},"L","2017+","INC","%",0,"$",{"$f":"AS86","v":0},0,"2017+","INC","%",{"$f":"1-((1-AX90)/(1-BE82))","v":5.5321944809461288E-2},"$",{"$f":"$J$89","v":911.04083256975923},"L","2017+","INC","%",0,"$",{"$f":"BG86","v":0},0,"2017+","INC","%",{"$f":"1-((1-BL90)/(1-BS82))","v":5.5321944809461288E-2},"$",{"$f":"$X$89","v":927.85441038425756},"L","2017+","INC","%",0,"$",{"$f":"BU86","v":0},0,"2017+","INC","%",{"$f":"1-((1-BZ90)/(1-CG82))","v":5.5321944809461288E-2},"$",{"$f":"$AL$89","v":1811.581549062259},"L","2017+","INC","%",0,"$",{"$f":"CI86","v":0},0,"2017+","INC","%",{"$f":"1-((1-CN90)/(1-CU82))","v":5.5321944809461288E-2},"$",{"$f":"$J$89","v":911.04083256975923},"L","2017+","INC","%",0,"$",{"$f":"CW86","v":0},0,"2017+","INC","%",{"$f":"1-((1-DB90)/(1-DI82))","v":5.5321944809461288E-2},"$",{"$f":"$X$89","v":927.85441038425756},"L","2017+","INC","%",0,"$",{"$f":"DK86","v":0},0,"2017+","INC","%",{"$f":"1-((1-DP90)/(1-DW82))","v":5.5321944809461288E-2},"$",{"$f":"$AL$89","v":1811.581549062259},"L","2017+","INC","%",0,"$",{"$f":"DY86","v":0},0,"2017+","INC","%",{"$f":"1-((1-ED90)/(1-EK82))","v":5.5321944809461288E-2},"$",{"$f":"$J$89","v":911.04083256975923},"L","2017+","INC","%",0,"$",{"$f":"EM86","v":0},0,"2017+","INC","%",{"$f":"1-((1-ER90)/(1-EY82))","v":5.5321944809461288E-2},"$",{"$f":"$X$89","v":927.85441038425756},"L","2017+","INC","%",0,"$",{"$f":"FA86","v":0},0,"2017+","INC","%",{"$f":"1-((1-FF90)/(1-FM82))","v":5.5321944809461288E-2},"$",{"$f":"$AL$89","v":1811.581549062259},"L","2017+","INC","%",0,"$",{"$f":"FO86","v":0},0]
[null,null,null,null,null,"ABS","%",0.28110000000000002,"$",{"$f":"Q82+J89","v":2990.254786340789},150,null,"ABS","%",{"$f":"1-((1-O82)*(1-O89))","v":0.23899999999999999},"$",{"$f":"Q82+Q89","v":2079.21395377103},"L",null,"ABS","%",{"$f":"H90","v":0.28110000000000002},"$",{"$f":"AE82+X89","v":2785.4163372265343},200,null,"ABS","%",{"$f":"1-((1-AC82)*(1-AC89))","v":0.23899999999999999},"$",{"$f":"AE82+AE89","v":1857.5619268422768},"L",null,"ABS","%",{"$f":"H90","v":0.28110000000000002},"$",{"$f":"AS82+AL89","v":3599.7928592572548},500,null,"ABS","%",{"$f":"1-((1-AQ82)*(1-AQ89))","v":0.23899999999999999},"$",{"$f":"AS82+AS89","v":1788.2113101949958},"L",null,"ABS","%",{"$f":"$H$90","v":0.28110000000000002},"$",{"$f":"$J$90","v":2990.254786340789},{"$f":"$K$90","v":150},null,"ABS","%",{"$f":"1-((1-BE82)*(1-BE89))","v":0.23899999999999999},"$",{"$f":"BG82+BG89","v":2145.9187184511006},"L",null,"ABS","%",{"$f":"$V$90","v":0.28110000000000002},"$",{"$f":"$X$90","v":2785.4163372265343},{"$f":"$Y$90","v":200},null,"ABS","%",{"$f":"1-((1-BS82)*(1-BS89))","v":0.23899999999999999},"$",{"$f":"BU82+BU89","v":1797.1250550979319},"L",null,"ABS","%",{"$f":"$AJ$90","v":0.28110000000000002},"$",{"$f":"$AL$90","v":3599.7928592572548},{"$f":"$AM$90","v":500},null,"ABS","%",{"$f":"1-((1-CG82)*(1-CG89))","v":0.23899999999999999},"$",{"$f":"CI82+CI89","v":1714.204798037807},"L",null,"ABS","%",{"$f":"$H$90","v":0.28110000000000002},"$",{"$f":"$J$90","v":2990.254786340789},{"$f":"$K$90","v":150},null,"ABS","%",{"$f":"1-((1-CU82)*(1-CU89))","v":0.23899999999999999},"$",{"$f":"CW82+CW89","v":2247.5930542142833},"L",null,"ABS","%",{"$f":"$V$90","v":0.28110000000000002},"$",{"$f":"$X$90","v":2785.4163372265343},{"$f":"$Y$90","v":200},null,"ABS","%",{"$f":"1-((1-DI82)*(1-DI89))","v":0.23899999999999999},"$",{"$f":"DK82+DK89","v":1898.7993908611145},"L",null,"ABS","%",{"$f":"$AJ$90","v":0.28110000000000002},"$",{"$f":"$AL$90","v":3599.7928592572548},{"$f":"$AM$90","v":500},null,"ABS","%",{"$f":"1-((1-DW82)*(1-DW89))","v":0.23899999999999999},"$",{"$f":"DY82+DY89","v":1815.8791338009892},"L",null,"ABS","%",{"$f":"$H$90","v":0.28110000000000002},"$",{"$f":"$J$90","v":2990.254786340789},{"$f":"$K$90","v":150},null,"ABS","%",{"$f":"1-((1-EK82)*(1-EK89))","v":0.23899999999999999},"$",{"$f":"EM82+EM89","v":1606.1969056264222},"L",null,"ABS","%",{"$f":"$V$90","v":0.28110000000000002},"$",{"$f":"$X$90","v":2785.4163372265343},{"$f":"$Y$90","v":200},null,"ABS","%",{"$f":"1-((1-EY82)*(1-EY89))","v":0.23899999999999999},"$",{"$f":"FA82+FA89","v":2367.3625986384868},"L",null,"ABS","%",{"$f":"$AJ$90","v":0.28110000000000002},"$",{"$f":"$AL$90","v":3599.7928592572548},{"$f":"$AM$90","v":500},null,"ABS","%",{"$f":"1-((1-FM82)*(1-FM89))","v":0.23899999999999999},"$",{"$f":"FO82+FO89","v":2259.2382674161954},"L"]
[]
[]
[]
[]
[]
[]
[]
["Expanded Trans/Hybrid Technology Decision Tree"]
[]
[]
[null,null,null,null,"Electrification",null,null,null,null,null,null,null,null,null,null,null,null,null,null,null,null,"Manual Trans",null,null,null,null,null,null,null,null,null,null,null,"Auto Trans"]
[]
[null,"START",null,null,"2012-2016","INC","%",1.4999999999999999E-2,"$",{"$f":"INDEX('[1]Compact Perf. PC'!$H$379:$X$467,MATCH(L105,'[1]Compact Perf. PC'!$C$379:$C$467,0),MATCH(Inputs!$C$2,'[1]Compact Perf. PC'!$H$378:$X$378,0))","v":98.103282519162363},95.93,null,null,null,"START",null,null,null,"2012-2016","INC","%",2.0199999999999999E-2,"$",{"$f":"INDEX('[1]Compact Perf. PC'!$H$379:$X$467,MATCH(Z105,'[1]Compact Perf. PC'!$C$379:$C$467,0),MATCH(Inputs!$C$2,'[1]Compact Perf. PC'!$H$378:$X$378,0))","v":250.31750824336308},225.33,null,null,null,"START",null,null,null,"2012-2016","INC","%",2.3E-2,"$",{"$f":"INDEX('[1]Compact Perf. PC'!$H$379:$X$467,MATCH(AN105,'[1]Compact Perf. PC'!$C$379:$C$467,0),MATCH(Inputs!$C$2,'[1]Compact Perf. PC'!$H$378:$X$378,0))","v":55.807948333210945},54.17]
["Curb Weight (lbs)",3516,null,null,null,"ABS","%",{"$f":"H103","v":1.4999999999999999E-2},"$",{"$f":"J103","v":98.103282519162363},"L",null,null,null,"5-spd",null,null,null,null,"ABS","%",{"$f":"V103","v":2.0199999999999999E-2},"$",{"$f":"X103","v":250.31750824336308},"L",null,null,null,"4/5-spd",null,null,null,null,"ABS","%",{"$f":"AJ103","v":2.3E-2},"$",{"$f":"AL103","v":55.807948333210945},"L"]
["Engine Displacement [L]",3,null,null,null,null,"Electric Power\nSteering (EPS) - TBL",null,null,null,null,"EPS",null,null,"Manual",null,null,null,null,null,"6 Speed Man/Imp.\nInternals (6MAN) - TBL",null,null,null,null,"6MAN",null,null,"Auto",null,null,null,null,null,"Imp. Auto Trans Cnrt./\nExternals (IATC) - TBL",null,null,null,null,"IATC"]
["Engine Power (HP)",269,null,null,"2017+","INC","%",{"$f":"H103","v":1.4999999999999999E-2},"$",{"$f":"J103","v":98.103282519162363},{"$f":"K103","v":95.93},null,null,null,null,null,null,null,"2017+","INC","%",2.0199999999999999E-2,"$",{"$f":"X103","v":250.31750824336308},225.33,null,null,null,null,null,null,null,"2017+","INC","%",2.3E-2,"$",{"$f":"AL103","v":55.807948333210945},54.17]
["Engine Torque (ft-lbf)",260,null,null,null,"ABS","%",{"$f":"H106","v":1.4999999999999999E-2},"$",{"$f":"J106","v":98.103282519162363},"L",null,null,null,null,null,null,null,null,"ABS","%",{"$f":"V106","v":2.0199999999999999E-2},"$",{"$f":"X106","v":250.31750824336308},"L",null,null,null,null,null,null,null,null,"ABS","%",{"$f":"AJ106","v":2.3E-2},"$",{"$f":"AL106","v":55.807948333210945},"L"]
["Footprint (ft2)",44.4]
[]
[]
[null,null,null,null,"2012-2016","INC","%",{"$f":"1-((1-H112)/(1-H104))","v":1.2182741116751328E-2},"$",{"$f":"INDEX('[1]Compact Perf. PC'!$H$379:$X$467,MATCH(L113,'[1]Compact Perf. PC'!$C$379:$C$467,0),MATCH(Inputs!$C$2,'[1]Compact Perf. PC'!$H$378:$X$378,0))","v":79.784981333734891},115.2,null,null,null,null,null,null,null,"2012-2016","INC","%",0,"$",0,100.55,null,null,null,null,null,null,null,"2012-2016","INC","%",{"$f":"1-((1-AJ112)/(1-AJ104))","v":1.8890497623293312E-2},"$",{"$f":"INDEX('[1]Compact Perf. PC'!$H$379:$X$467,MATCH(AN113,'[1]Compact Perf. PC'!$C$379:$C$467,0),MATCH(Inputs!$C$2,'[1]Compact Perf. PC'!$H$378:$X$378,0))","v":-37.91558007744085},100.55]
[null,null,null,null,null,"ABS","%",2.7E-2,"$",{"$f":"J104+J111","v":177.88826385289724},"L",null,null,null,null,null,null,null,null,"ABS","%",{"$f":"V104","v":2.0199999999999999E-2},"$",{"$f":"X111+X104","v":250.31750824336308},"L",null,null,null,null,null,null,null,null,"ABS","%",{"$f":"1-((1-5.2%)/(1-1.1%))","v":4.1456016177957578E-2},"$",{"$f":"AL111+AL104","v":17.892368255770094},"L"]
[null,null,null,null,null,null,"Improved Accessories 1\n(IACC1) - TBL",null,null,null,null,"IACC1",null,null,"From Engine Path\n2012-2016 ",null,null,null,null,null,"High Eff. Gearbox \n(Manual) -  (HETRANSM) - TBL",null,null,null,null,"HETRANS",null,null,null,null,null,null,null,null,"6-spd Auto Trans w/Imp\nInternals (NAUTO) - TBL",null,null,null,null,"NAUTO"]
[null,null,null,null,"2017+","INC","%",{"$f":"1-((1-H115)/(1-H107))","v":1.2182741116751328E-2},"$",{"$f":"J111","v":79.784981333734891},{"$f":"K111","v":115.2},null,null,null,null,null,null,null,"2017+","INC","%",{"$f":"1-((1-V115)/(1-V107))","v":3.4398572854509091E-2},"$",{"$f":"INDEX('[1]Compact Perf. PC'!$H$379:$X$467,MATCH(Z113,'[1]Compact Perf. PC'!$C$379:$C$467,0),MATCH(Inputs!$C$2,'[1]Compact Perf. PC'!$H$378:$X$378,0))","v":227.42624881754446},10,null,null,null,null,null,null,null,"2017+","INC","%",{"$f":"1-((1-AJ115)/(1-AJ107))","v":1.8890497623293312E-2},"$",{"$f":"AL111","v":-37.91558007744085},10]
[null,null,null,null,null,"ABS","%",{"$f":"H112","v":2.7E-2},"$",{"$f":"J107+J114","v":177.88826385289724},"L",null,null,null,null,null,null,null,null,"ABS","%",{"$f":"1-((1-6.45%)/(1-1.12%))","v":5.390372168284796E-2},"$",{"$f":"X107+X114","v":477.74375706090757},"L",null,null,null,null,null,null,null,null,"ABS","%",{"$f":"AJ112","v":4.1456016177957578E-2},"$",{"$f":"AL107+AL114","v":17.892368255770094},"L"]
[]
[]
[]
[null,null,null,null,"2012-2016","INC","%",{"$f":"1-((1-H120)/(1-H112))","v":0},"$",0,0,"2012-2016","INC","%",{"$f":"1-((1-O120)/(((1-$O$87)*(1-$H$136)*(1-AJ144))))","v":7.8191606787684886E-2},"$",{"$f":"INDEX('[1]Compact Perf. PC'!$H$379:$X$467,MATCH(M121,'[1]Compact Perf. PC'!$C$379:$C$467,0),MATCH(Inputs!$C$2,'[1]Compact Perf. PC'!$H$378:$X$378,0))\n+INDEX('[1]Compact Perf. PC'!$H$379:$X$467,MATCH(S121,'[1]Compact Perf. PC'!$C$379:$C$467,0),MATCH(Inputs!$C$2,'[1]Compact Perf. PC'!$H$378:$X$378,0))","v":1530.1516793900498},"L",null,null,null,null,null,null,null,null,null,null,null,null,null,null,"2012-2016","INC","%",{"$f":"1-((1-AJ120)/(1-AJ112))","v":3.3755274261603296E-2},"$",{"$f":"INDEX('[1]Compact Perf. PC'!$H$379:$X$467,MATCH(AN121,'[1]Compact Perf. PC'!$C$379:$C$467,0),MATCH(Inputs!$C$2,'[1]Compact Perf. PC'!$H$378:$X$378,0))","v":-79.182210630830212},-10.47]
[null,null,null,null,null,"ABS","%",{"$f":"H112","v":2.7E-2},"$",{"$f":"J112+J119","v":177.88826385289724},"L",null,"ABS","%",0.40300000000000002,"$",{"$f":"J136+Q119+AE87+AL144","v":3796.1566062676716},33.86,null,null,null,null,null,null,null,null,null,null,null,null,null,null,null,"ABS","%",{"$f":"1-((1-8.4%)/(1-1.1%))","v":7.3811931243680462E-2},"$",{"$f":"AL119+AL112","v":-61.289842375060118},"L"]
[null,null,null,null,null,null,"Improved Accessories 2\n(IACC2) - TBL",null,null,null,null,"IACC2","SHEV1_B","Strong Hybrid (Powersplit or 2-Mode) (SHEV1) - VBL",null,null,null,null,"SHEV1_NB",null,null,"From Engine Path\n2017+ ",null,null,null,null,null,null,null,null,null,null,null,null,"6-spd Dual Clutch Trans\n(DCT) - TBL",null,null,null,null,"DCT"]
[null,null,null,null,"2017+","INC","%",{"$f":"1-((1-H123)/(1-H115))","v":1.8499486125385434E-2},"$",{"$f":"INDEX('[1]Compact Perf. PC'!$H$379:$X$467,MATCH(L121,'[1]Compact Perf. PC'!$C$379:$C$467,0),MATCH(Inputs!$C$2,'[1]Compact Perf. PC'!$H$378:$X$378,0))","v":50.780571415814975},0,"2017+","INC","%",0,"$",0,"L",null,null,null,null,null,null,null,null,null,null,null,null,null,null,"2017+","INC","%",{"$f":"1-((1-AJ123)/(1-AJ115))","v":3.3755274261603296E-2},"$",{"$f":"AL119","v":-79.182210630830212},{"$f":"AM119","v":-10.47}]
[null,null,null,null,null,"ABS","%",4.4999999999999998E-2,"$",{"$f":"J115+J122","v":228.6688352687122},"L",null,"ABS","%",0,"$",{"$f":"Q116+Q122","v":0},0,null,null,null,null,null,null,null,null,null,null,null,null,null,null,null,"ABS","%",{"$f":"AJ120","v":7.3811931243680462E-2},"$",{"$f":"AL115+AL122","v":-61.289842375060118},"L"]
[]
[]
[]
[null,null,null,null,"2012-2016","INC","%",{"$f":"H130","v":1.6753926701570609E-2},"$",{"$f":"INDEX('[1]Compact Perf. PC'!$H$379:$X$467,MATCH(L129,'[1]Compact Perf. PC'!$C$379:$C$467,0),MATCH(Inputs!$C$2,'[1]Compact Perf. PC'!$H$378:$X$378,0))","v":296.21320140374655},259.67,"2012-2016","INC","%","n/a","$","n/a","L","2012-2016","INC","%",{"$f":"1-((1-V128)/(((1-$O$87)*(1-$H$136)*(1-AJ144))))","v":-0.54406766032213594},"$",0,"L",null,null,null,null,null,null,null,"2012-2016","INC","%",{"$f":"AJ130","v":4.4759825327510994E-2},"$",{"$f":"INDEX('[1]Compact Perf. PC'!$H$379:$X$467,MATCH(AN129,'[1]Compact Perf. PC'!$C$379:$C$467,0),MATCH(Inputs!$C$2,'[1]Compact Perf. PC'!$H$378:$X$378,0))","v":223.31892374342101},0]
[null,null,null,null,null,"ABS","%",{"$f":"H127+H120","v":4.3753926701570606E-2},"$",{"$f":"J120+J127","v":474.10146525664379},"L",null,"ABS","%","n/a","$","n/a",0,null,"ABS","%",0,"$",0,0,null,null,null,null,null,null,null,null,"ABS","%",{"$f":"AJ131","v":0.11526794742163804},"$",{"$f":"AL120+AL127","v":162.02908136836089},"M"]
[null,null,null,null,null,null,"12V Micro Hybrid - Stop-Start\n(MHEV) - TBL",null,null,null,null,"MHEV",null,"SHEV1 --> SHEV2",null,null,null,null,null,"SHEV2_B","Strong Hybrid (P2 Parallel or 2-Mode) (SHEV2) - VBL",null,null,null,null,"SHEV2_NB",null,null,null,null,null,null,null,null,"8-spd Trans (Auto or DCT)\n(8SPD) - TBL",null,null,null,null,"8SPD"]
[null,null,null,null,"2017+","INC","%",{"$f":"1-((1-H131)/(1-H123))","v":1.6753926701570609E-2},"$",{"$f":"J127","v":296.21320140374655},{"$f":"K127","v":259.67},"2017+","INC","%",{"$f":"1-((1-V131)/(1-O120))","v":0.10050251256281417},"$",{"$f":"Q131-Q120","v":1613.0091432744771},"L","2017+","INC","%",{"$f":"1-((1-V131)/(((1-$O$90)*(1-$H$139)*(1-AJ147))))","v":3.008023984753494E-2},"$",{"$f":"INDEX('[1]Compact Perf. PC'!$H$379:$X$467,MATCH(T129,'[1]Compact Perf. PC'!$C$379:$C$467,0),MATCH(Inputs!$C$2,'[1]Compact Perf. PC'!$H$378:$X$378,0))\n+INDEX('[1]Compact Perf. PC'!$H$379:$X$467,MATCH(Z129,'[1]Compact Perf. PC'!$C$379:$C$467,0),MATCH(Inputs!$C$2,'[1]Compact Perf. PC'!$H$378:$X$378,0))","v":1519.5927583985704},"L",null,null,null,null,null,null,null,"2017+","INC","%",{"$f":"1-((1-AJ131)/(1-AJ123))","v":4.4759825327510994E-2},"$",{"$f":"AL127","v":223.31892374342101},10]
[null,null,null,null,null,"ABS","%",6.0999999999999999E-2,"$",{"$f":"J123+J130","v":524.88203667245875},"L",null,"ABS","%",{"$f":"V131","v":0.46300000000000002},"$",{"$f":"X130+J139+Q90+AL147","v":5409.1657495421487},0,null,"ABS","%",0.46300000000000002,"$",{"$f":"X130+J139+AE90+AL147","v":5187.5137226133957},33.86,null,null,null,null,null,null,null,null,"ABS","%",{"$f":"1-((1-12.5%)/(1-1.1%))","v":0.11526794742163804},"$",{"$f":"AL123+AL130","v":162.02908136836089},"L"]
[]
[]
[]
[null,null,null,null,"2012-2016","INC","%",{"$f":"H138","v":7.4547390841320671E-2},"$",{"$f":"INDEX('[1]Large Perf. PC'!$H$379:$X$467,MATCH(F137,'[1]Large Perf. PC'!$C$379:$C$467,0),MATCH(Inputs!$C$2,'[1]Large Perf. PC'!$H$378:$X$378,0))\n+INDEX('[1]Large Perf. PC'!$H$379:$X$467,MATCH(L137,'[1]Large Perf. PC'!$C$379:$C$467,0),MATCH(Inputs!$C$2,'[1]Large Perf. PC'!$H$378:$X$378,0))","v":894.50928595954747},"L",null,null,null,null,null,null,null,"2012-2016","INC","%",{"$f":"1-((1-V136)/(1-V128))","v":0.35},"$",0,"L",null,null,null,null,null,null,null,"2012-2016","INC","%",{"$f":"1-((1-AJ136)/(1-AJ128))","v":0},"$",0,10]
[null,null,null,null,null,"ABS","%",{"$f":"H135+H128","v":0.11830131754289128},"$",{"$f":"J128+J135","v":1368.6107512161911},33.86,null,null,null,null,null,null,null,null,"ABS","%",0.35,"$",{"$f":"X135+X128","v":0},33.86,null,null,null,null,null,null,null,null,"ABS","%",{"$f":"AJ128","v":0.11526794742163804},"$",{"$f":"AL128+AL135","v":162.02908136836089},"L"]
[null,null,null,null,null,"ISG_B","Integrated Starter Generator\n(ISG) - VBL",null,null,null,null,"ISG_NB",null,null,null,null,null,null,null,"PHEV2_B","Plug-in Hybrid - 30 Mile Range  (PHEV1) - VBL",null,null,null,null,"PHEV2_NB",null,null,null,null,null,null,null,null,"High Eff. Gearbox\n(Auto or DCT) -  (HETRANS) - TBL",null,null,null,null,"HETRANS"]
[null,null,null,null,"2017+","INC","%",{"$f":"1-((1-H139)/(1-H131))","v":7.4547390841320671E-2},"$",{"$f":"J135","v":894.50928595954747},"L",null,null,null,null,null,null,null,"2017+","INC","%",0.40649999999999997,"$",{"$f":"INDEX('[1]Compact Perf. PC'!$H$379:$X$467,MATCH(T137,'[1]Compact Perf. PC'!$C$379:$C$467,0),MATCH(Inputs!$C$2,'[1]Compact Perf. PC'!$H$378:$X$378,0))\n+INDEX('[1]Compact Perf. PC'!$H$379:$X$467,MATCH(Z138,'[1]Compact Perf. PC'!$C$379:$C$467,0),MATCH(Inputs!$C$2,'[1]Compact Perf. PC'!$H$378:$X$378,0))\n+INDEX('[1]Compact Perf. PC'!$H$379:$X$467,MATCH(Z139,'[1]Compact Perf. PC'!$C$379:$C$467,0),MATCH(Inputs!$C$2,'[1]Compact Perf. PC'!$H$378:$X$378,0))\n+INDEX('[1]Compact Perf. PC'!$H$379:$X$467,MATCH(Z137,'[1]Compact Perf. PC'!$C$379:$C$467,0),MATCH(Inputs!$C$2,'[1]Compact Perf. PC'!$H$378:$X$378,0))","v":8231.3664634384349},"L","PHEV2_C",null,null,null,null,null,null,"2017+","INC","%",{"$f":"1-((1-AJ139)/(1-AJ131))","v":2.1714285714285686E-2},"$",{"$f":"INDEX('[1]Compact Perf. PC'!$H$379:$X$467,MATCH(AN137,'[1]Compact Perf. PC'!$C$379:$C$467,0),MATCH(Inputs!$C$2,'[1]Compact Perf. PC'!$H$378:$X$378,0))","v":227.42624881754446},10]
[null,null,null,null,null,"ABS","%",{"$f":"11.6%+H106","v":0.13100000000000001},"$",{"$f":"J131+J138","v":1419.3913226320062},33.86,null,null,null,null,null,null,null,null,"ABS","%",{"$f":"1-((1-V131)*(1-V138))","v":0.68129050000000002},"$",{"$f":"X138+X131","v":13418.880186051831},33.86,"CHRG_L",null,null,null,null,null,null,null,"ABS","%",{"$f":"1-((1-14.4%)/(1-1.1%))","v":0.13447927199191101},"$",{"$f":"AL131+AL138","v":389.45533018590538},"L"]
[]
[]
[]
[null,null,null,null,null,null,null,null,null,null,null,null,null,null,null,null,null,null,"2012-2016","INC","%",{"$f":"1-((1-V144)/(1-V136))","v":0},"$",0,"L",null,null,null,null,null,null,null,"2012-2016","INC","%",{"$f":"1-((1-AJ144)/(1-AJ136))","v":0},"$",0,10]
[null,null,null,null,null,null,null,null,null,null,null,null,null,null,null,null,null,null,null,"ABS","%",0.35,"$",{"$f":"X143+X136","v":0},33.86,null,null,null,null,null,null,null,null,"ABS","%",{"$f":"AJ136","v":0.11526794742163804},"$",{"$f":"AL136+AL143","v":162.02908136836089},"L"]
[null,null,null,null,null,null,null,null,null,"To Strong\nHybrid",null,null,null,null,null,null,null,null,null,"PHEV2_B","Plug-in Hybrid - VBL",null,null,null,null,"PHEV2_NB",null,null,null,null,null,null,null,null,"Shift Optimizer\n (SHFTOPT) - TBL",null,null,null,null,"SHFTOPT"]
[null,null,null,null,null,null,null,null,null,null,null,null,null,null,null,null,null,null,"2017+","INC","%",0,"$",0,"L","PHEV2_C",null,null,null,null,null,null,"2017+","INC","%",{"$f":"1-((1-AJ147)/(1-AJ139))","v":3.2710280373831724E-2},"$",{"$f":"INDEX('[1]Compact Perf. PC'!$H$379:$X$467,MATCH(AN145,'[1]Compact Perf. PC'!$C$379:$C$467,0),MATCH(Inputs!$C$2,'[1]Compact Perf. PC'!$H$378:$X$378,0))","v":1.5123845546366708},10]
[null,null,null,null,null,null,null,null,null,null,null,null,null,null,null,null,null,null,null,"ABS","%",{"$f":"1-((1-V139)*(1-V146))","v":0.68129050000000002},"$",{"$f":"X146+X139","v":13418.880186051831},33.86,null,null,null,null,null,null,null,null,"ABS","%",{"$f":"1-((1-17.2%)/(1-1.1%))","v":0.16279069767441856},"$",{"$f":"AL139+AL146","v":390.96771474054208},"L"]
[]
[]
[]
[null,null,null,null,null,null,null,null,null,null,null,null,null,null,null,null,null,null,"2012-2016","INC","%",{"$f":"1-((1-V152)/(1-V144))","v":0},"$",0,"L",null,null,null,null,null,null,null,null,null,null,null,"To Strong\n     Hybrid"]
[null,null,null,null,null,null,null,null,null,null,null,null,null,null,null,null,null,null,null,"ABS","%",0.35,"$",{"$f":"X151+X144","v":0},33.86]
[null,null,null,null,null,null,null,null,null,null,null,null,null,null,null,null,null,null,null,"EV1_B","Electric Vehicle - Early Adopter \n75 Mile Range - (EV1) - VBL",null,null,null,null,"EV1_NB"]
[null,null,null,null,null,null,null,null,null,null,null,null,null,null,null,null,null,null,"2017+","INC","%",0.68540000000000001,"$",{"$f":"INDEX('[1]Compact Perf. PC'!$H$379:$X$467,MATCH(T153,'[1]Compact Perf. PC'!$C$379:$C$467,0),MATCH(Inputs!$C$2,'[1]Compact Perf. PC'!$H$378:$X$378,0))\n+INDEX('[1]Compact Perf. PC'!$H$379:$X$467,MATCH(Z154,'[1]Compact Perf. PC'!$C$379:$C$467,0),MATCH(Inputs!$C$2,'[1]Compact Perf. PC'!$H$378:$X$378,0))\n+INDEX('[1]Compact Perf. PC'!$H$379:$X$467,MATCH(Z153,'[1]Compact Perf. PC'!$C$379:$C$467,0),MATCH(Inputs!$C$2,'[1]Compact Perf. PC'!$H$378:$X$378,0))","v":1606.6020143723727},"L","EV_C"]
[null,null,null,null,null,null,null,null,null,null,null,null,null,null,null,null,null,null,null,"ABS","%",{"$f":"1-((1-V147)*(1-V154))","v":0.89973399129999998},"$",{"$f":"X154+X147","v":15025.482200424203},33.86]
[]
[]
[]
[null,null,null,null,null,null,null,null,null,null,null,null,null,null,null,null,null,null,"2012-2016","INC","%",{"$f":"1-((1-V160)/(1-V152))","v":0},"$",0,"L"]
[null,null,null,null,null,null,null,null,null,null,null,null,null,null,null,null,null,null,null,"ABS","%",0.35,"$",{"$f":"X159+X152","v":0},33.86]
[null,null,null,null,null,null,null,null,null,null,null,null,null,null,null,null,null,null,null,"EV2_B","Electric Vehicle - Early Adopter \n100 Mile Range - (EV2) - VBL",null,null,null,null,"EV2_NB"]
[null,null,null,null,null,null,null,null,null,null,null,null,null,null,null,null,null,null,"2017+","INC","%",0,"$",0,"L"]
[null,null,null,null,null,null,null,null,null,null,null,null,null,null,null,null,null,null,null,"ABS","%",{"$f":"1-((1-V155)*(1-V162))","v":0.89973399129999998},"$",{"$f":"X162+X155","v":15025.482200424203},33.86]
[]
[]
[]
[null,null,null,null,null,null,null,null,null,null,null,null,null,null,null,null,null,null,"2012-2016","INC","%",{"$f":"1-((1-V168)/(1-V160))","v":0},"$",0,"L"]
[null,null,null,null,null,null,null,null,null,null,null,null,null,null,null,null,null,null,null,"ABS","%",0.35,"$",{"$f":"X167+X160","v":0},33.86]
[null,null,null,null,null,null,null,null,null,null,null,null,null,null,null,null,null,null,null,"EV3_B","Electric Vehicle - Early Adopter \n150 Mile Range - (EV3) - VBL",null,null,null,null,"EV3_NB"]
[null,null,null,null,null,null,null,null,null,null,null,null,null,null,null,null,null,null,"2017+","INC","%",0,"$",0,"L"]
[null,null,null,null,null,null,null,null,null,null,null,null,null,null,null,null,null,null,null,"ABS","%",{"$f":"1-((1-V163)*(1-V170))","v":0.89973399129999998},"$",{"$f":"X170+X163","v":15025.482200424203},33.86]
[]
[]
[]
[null,null,null,null,null,null,null,null,null,null,null,"2012-2016","INC","%",{"$f":"1-((1-O176)/(1-V168))","v":0},"$",0,"L",null,null,null,null,null,null,null,"2012-2016","INC","%",{"$f":"1-((1-AC176)/(1-V168))","v":0},"$",0,"L"]
[null,null,null,null,null,null,null,null,null,null,null,null,"ABS","%",0.35,"$",{"$f":"Q175+X168","v":0},33.86,null,null,null,null,null,null,null,null,"ABS","%",0.35,"$",{"$f":"AE175+X168","v":0},33.86]
[null,null,null,null,null,null,null,null,null,null,null,null,"EV4_B","Electric Vehicle - Mass Market \n150 Mile Range - (EV4) - VBL",null,null,null,null,"EV4_NB",null,null,null,null,null,null,null,"FCV_B","Fuel Cell Vehicle\n(FCV) - VBL",null,null,null,null,"FCV_NB"]
[null,null,null,null,null,null,null,null,null,null,null,"2017+","INC","%",0,"$",{"$f":"INDEX('[1]Compact Perf. PC'!$H$379:$X$467,MATCH(M177,'[1]Compact Perf. PC'!$C$379:$C$467,0),MATCH(Inputs!$C$2,'[1]Compact Perf. PC'!$H$378:$X$378,0))\n+INDEX('[1]Compact Perf. PC'!$H$379:$X$467,MATCH(S177,'[1]Compact Perf. PC'!$C$379:$C$467,0),MATCH(Inputs!$C$2,'[1]Compact Perf. PC'!$H$378:$X$378,0))","v":6309.7122202832888},"L",null,null,null,null,null,null,null,"2017+","INC","%",0,"$",{"$f":"INDEX('[1]Compact Perf. PC'!$H$379:$X$467,MATCH(AA177,'[1]Compact Perf. PC'!$C$379:$C$467,0),MATCH(Inputs!$C$2,'[1]Compact Perf. PC'!$H$378:$X$378,0))\n+INDEX('[1]Compact Perf. PC'!$H$379:$X$467,MATCH(AG177,'[1]Compact Perf. PC'!$C$379:$C$467,0),MATCH(Inputs!$C$2,'[1]Compact Perf. PC'!$H$378:$X$378,0))","v":{"$error":"#N/A"}},"L"]
[null,null,null,null,null,null,null,null,null,null,null,null,"ABS","%",{"$f":"1-((1-V171)*(1-O178))","v":0.89973399129999998},"$",{"$f":"Q178+X171","v":21335.194420707492},33.86,null,null,null,null,null,null,null,null,"ABS","%",{"$f":"1-((1-V171)*(1-AC178))","v":0.89973399129999998},"$",{"$f":"AE178+X171","v":{"$error":"#N/A"}},33.86]
[]
[]
[]
[]
[]
["Vehicle Technology Decision Tree"]
[]
[]
[]
[null,null,"ABS - WR",{"$f":"'[1]Compact Perf. PC'!$M$82","v":0},"2012-2016","INC","%",{"$f":"IF(D189<5%, D189*(3.5/10), D189*(5.1/10))","v":0},"$",{"$f":"INDEX('[1]Compact Perf. PC'!$H$379:$X$467,MATCH(L191,'[1]Compact Perf. PC'!$C$379:$C$467,0),MATCH(Inputs!$C$2,'[1]Compact Perf. PC'!$H$378:$X$378,0))","v":0},1.33,null,null,null,null,null,null,null,"2012-2016","INC","%",1.9E-2,"$",{"$f":"INDEX('[1]Compact Perf. PC'!$H$379:$X$467,MATCH(Z191,'[1]Compact Perf. PC'!$C$379:$C$467,0),MATCH(Inputs!$C$2,'[1]Compact Perf. PC'!$H$378:$X$378,0))","v":6.4396392400348512},5.15,null,null,null,null,null,null,null,"2012-2016","INC","%",8.0000000000000002E-3,"$",{"$f":"INDEX('[1]Compact Perf. PC'!$H$379:$X$467,MATCH(AN191,'[1]Compact Perf. PC'!$C$379:$C$467,0),MATCH(Inputs!$C$2,'[1]Compact Perf. PC'!$H$378:$X$378,0))","v":70.836031640383368},5.15,null,null,null,null,null,null,null,"2012-2016","INC","%",2.3E-2,"$",{"$f":"INDEX('[1]Compact Perf. PC'!$H$379:$X$467,MATCH(BB191,'[1]Compact Perf. PC'!$C$379:$C$467,0),MATCH(Inputs!$C$2,'[1]Compact Perf. PC'!$H$378:$X$378,0))","v":43.857938067390236},5.15]
[null,null,null,null,null,"ABS","%",{"$f":"H189","v":0},"$",{"$f":"J189","v":0},"L",null,null,null,null,null,null,null,null,"ABS","%",{"$f":"V189","v":1.9E-2},"$",{"$f":"X189","v":6.4396392400348512},"L",null,null,null,null,null,null,null,null,"ABS","%",{"$f":"AJ189","v":8.0000000000000002E-3},"$",{"$f":"AL189","v":70.836031640383368},"L",null,null,null,null,null,null,null,null,"ABS","%",{"$f":"AX189","v":2.3E-2},"$",{"$f":"AZ189","v":43.857938067390236},"L"]
[null,null,null,null,null,null,"Mass Reduction\n(MR1) - ($/pound) - TBL",null,null,null,null,"MR1",null,null,null,null,null,null,null,null,"Low Roll Resistance Tires 1\n (ROLL1) - No Learning Applied",null,null,null,null,"ROLL1",null,null,null,null,null,null,null,null,"Low Drag Brakes (LDB)\nNo Learning Applied",null,null,null,null,"LDB",null,null,null,null,null,null,null,null,"Aerodynamic Drag Reduction 1\n (AERO1) - No Learming Applied",null,null,null,null,"AERO1"]
[null,null,null,null,"2017+","INC","%",{"$f":"H189","v":0},"$",{"$f":"J189","v":0},1.33,null,null,null,null,null,null,null,"2017+","INC","%",{"$f":"V189","v":1.9E-2},"$",{"$f":"X189","v":6.4396392400348512},5.15,null,null,null,null,null,null,null,"2017+","INC","%",{"$f":"AJ189","v":8.0000000000000002E-3},"$",{"$f":"AL189","v":70.836031640383368},5.15,null,null,null,null,null,null,null,"2017+","INC","%",{"$f":"AX189","v":2.3E-2},"$",{"$f":"AZ189","v":43.857938067390236},5.15]
[null,null,null,null,null,"ABS","%",{"$f":"H192","v":0},"$",{"$f":"J192","v":0},"L",null,null,null,null,null,null,null,null,"ABS","%",{"$f":"V192","v":1.9E-2},"$",{"$f":"X192","v":6.4396392400348512},"L",null,null,null,null,null,null,null,null,"ABS","%",{"$f":"AJ192","v":8.0000000000000002E-3},"$",{"$f":"AL192","v":70.836031640383368},"L",null,null,null,null,null,null,null,null,"ABS","%",{"$f":"AX192","v":2.3E-2},"$",{"$f":"AZ192","v":43.857938067390236},"L"]
[]
[]
[]
[null,null,"INC - WR",{"$f":"'[1]Compact Perf. PC'!$M$83","v":0},"2012-2016","INC","%",{"$f":"1-((1-H198)/(1-H190))","v":0},"$",{"$f":"INDEX('[1]Compact Perf. PC'!$H$379:$X$467,MATCH(L199,'[1]Compact Perf. PC'!$C$379:$C$467,0),MATCH(Inputs!$C$2,'[1]Compact Perf. PC'!$H$378:$X$378,0))","v":0},1.33,null,null,null,null,null,null,null,"2012-2016","INC","%",{"$f":"1-((1-V198)/(1-V190))","v":2.0387359836901098E-2},"$",{"$f":"0","v":0},5.15,null,null,null,null,null,null,null,"2012-2016","INC","%",1.4E-2,"$",{"$f":"INDEX('[1]Compact Perf. PC'!$H$379:$X$467,MATCH(AN199,'[1]Compact Perf. PC'!$C$379:$C$467,0),MATCH(Inputs!$C$2,'[1]Compact Perf. PC'!$H$378:$X$378,0))","v":87.568251496242709},5.15,null,null,null,null,null,null,null,"2012-2016","INC","%",{"$f":"1-((1-AX198)/(1-AX190))","v":2.4564994882292801E-2},"$",{"$f":"INDEX('[1]Compact Perf. PC'!$H$379:$X$467,MATCH(BB199,'[1]Compact Perf. PC'!$C$379:$C$467,0),MATCH(Inputs!$C$2,'[1]Compact Perf. PC'!$H$378:$X$378,0))","v":154.95277498661324},5.15]
[null,null,"ABS - WR",{"$f":"D197+D189","v":0},null,"ABS","%",{"$f":"IF(D198<5%,D198 D198*(3.5/10), D198*(5.1/10))","v":0},"$",{"$f":"J197","v":0},"L",null,null,null,null,null,null,null,null,"ABS","%",3.9E-2,"$",{"$f":"X190+X197","v":6.4396392400348512},"L",null,null,null,null,null,null,null,null,"ABS","%",{"$f":"1-(1-AJ190)*(1-AJ197)","v":2.1888000000000019E-2},"$",{"$f":"AL190+AL197","v":158.40428313662608},"L",null,null,null,null,null,null,null,null,"ABS","%",4.7E-2,"$",{"$f":"AZ190+AZ197","v":198.81071305400349},"L"]
[null,null,null,null,null,null,"Mass Reduction\n(MR2) - ($/pound) - TBL",null,null,null,null,"MR2",null,null,null,null,null,null,null,null,"Low Roll Resistance Tires 2\n (ROLL2) - No Learning Applied",null,null,null,null,"ROLL2",null,null,null,null,null,null,null,null,"Secondary Axle Discon. (SAXU/SAXL)\nTBL",null,null,null,null,"SAX",null,null,null,null,null,null,null,null,"Aerodynamic Drag Reduction 2\n (AERO2) - No Learming Applied",null,null,null,null,"AERO2"]
[null,null,null,null,"2017+","INC","%",{"$f":"1-((1-H201)/(1-H193))","v":0},"$",{"$f":"J197","v":0},1.33,null,null,null,null,null,null,null,"2017+","INC","%",{"$f":"1-((1-V201)/(1-V193))","v":2.0387359836901098E-2},"$",{"$f":"INDEX('[1]Compact Perf. PC'!$H$379:$X$467,MATCH(Z199,'[1]Compact Perf. PC'!$C$379:$C$467,0),MATCH(Inputs!$C$2,'[1]Compact Perf. PC'!$H$378:$X$378,0))","v":50.173232527734726},5.15,null,null,null,null,null,null,null,"2017+","INC","%",{"$f":"AJ197","v":1.4E-2},"$",{"$f":"AL197","v":87.568251496242709},5.15,null,null,null,null,null,null,null,"2017+","INC","%",{"$f":"1-((1-AX201)/(1-AX193))","v":2.4564994882292801E-2},"$",{"$f":"AZ197","v":154.95277498661324},5.15]
[null,null,null,null,null,"ABS","%",{"$f":"IF(D198<5%, D198*(3.5/10), D198*(5.1/10))","v":0},"$",{"$f":"J200","v":0},"L",null,null,null,null,null,null,null,null,"ABS","%",{"$f":"V198","v":3.9E-2},"$",{"$f":"X193+X200","v":56.612871767769576},"L",null,null,null,null,null,null,null,null,"ABS","%",{"$f":"1-(1-AJ193)*(1-AJ200)","v":2.1888000000000019E-2},"$",{"$f":"AL193+AL200","v":158.40428313662608},"L",null,null,null,null,null,null,null,null,"ABS","%",{"$f":"AX198","v":4.7E-2},"$",{"$f":"AZ193+AZ200","v":198.81071305400349},"L"]
[]
[]
[]
[null,null,"INC - WR",{"$f":"'[1]Compact Perf. PC'!$M$84","v":0},"2012-2016","INC","%",{"$f":"1-((1-H206)/(1-H198))","v":0},"$",{"$f":"INDEX('[1]Compact Perf. PC'!$H$379:$X$467,MATCH(L207,'[1]Compact Perf. PC'!$C$379:$C$467,0),MATCH(Inputs!$C$2,'[1]Compact Perf. PC'!$H$378:$X$378,0))","v":0},1.33,null,null,null,null,null,null,null,"2012-2016","INC","%",0,"$",0,0]
[null,null,"ABS - WR",{"$f":"D205+D198","v":0},null,"ABS","%",{"$f":"IF(D206<5%, D206*(3.5/10), D206*(5.1/10))","v":0},"$",{"$f":"J205","v":0},"L",null,null,null,null,null,null,null,null,"ABS","%",{"$f":"1-((1-V198)*(1-V205))","v":3.9000000000000035E-2},"$",{"$f":"X198+X205","v":6.4396392400348512},"L"]
[null,null,null,null,null,null,"Mass Reduction\n(MR3) - ($/pound) - TBL",null,null,null,null,"MR3",null,null,null,null,null,null,null,null,"Low Roll Resistance Tires 3\n (ROLL3) - No Learning Applied"]
[null,null,null,null,"2017+","INC","%",{"$f":"1-((1-H209)/(1-H201))","v":0},"$",{"$f":"J205","v":0},1.33,null,null,null,null,null,null,null,"2017+","INC","%",0,"$",{"$f":"X205","v":0},0]
[null,null,null,null,null,"ABS","%",{"$f":"IF(D206<5%, D206*(3.5/10), D206*(5.1/10))","v":0},"$",{"$f":"J208","v":0},"L",null,null,null,null,null,null,null,null,"ABS","%",{"$f":"1-((1-V201)*(1-V208))","v":3.9000000000000035E-2},"$",{"$f":"X201+X208","v":56.612871767769576},"L"]
[]
[]
[]
[null,null,"INC - WR",{"$f":"'[1]Compact Perf. PC'!$M$85","v":0},"2012-2016","INC","%",{"$f":"1-((1-H214)/(1-H206))","v":0},"$",{"$f":"INDEX('[1]Compact Perf. PC'!$H$379:$X$467,MATCH(L215,'[1]Compact Perf. PC'!$C$379:$C$467,0),MATCH(Inputs!$C$2,'[1]Compact Perf. PC'!$H$378:$X$378,0))","v":0},1.33]
[null,null,"ABS - WR",{"$f":"D213+D206","v":0},null,"ABS","%",{"$f":"IF(D214<5%, D214*(3.5/10), D214*(5.1/10))","v":0},"$",{"$f":"J213","v":0},"L"]
[null,null,null,null,null,null,"Mass Reduction\n(MR4) - ($/pound) - TBL",null,null,null,null,"MR4"]
[null,null,null,null,"2017+","INC","%",{"$f":"1-((1-H217)/(1-H209))","v":0},"$",{"$f":"J213","v":0},1.33]
[null,null,null,null,null,"ABS","%",{"$f":"IF(D214<5%, D214*(3.5/10), D214*(5.1/10))","v":0},"$",{"$f":"J216","v":0},"L"]
[]
[]
[]
[null,null,"INC - WR",{"$f":"'[1]Compact Perf. PC'!$M$86","v":0},"2012-2016","INC","%",{"$f":"1-((1-H222)/(1-H214))","v":0},"$",{"$f":"INDEX('[1]Compact Perf. PC'!$H$379:$X$467,MATCH(L223,'[1]Compact Perf. PC'!$C$379:$C$467,0),MATCH(Inputs!$C$2,'[1]Compact Perf. PC'!$H$378:$X$378,0))","v":0},1.33]
[null,null,"ABS - WR",{"$f":"D221+D214","v":0},null,"ABS","%",{"$f":"IF(D222<5%, D222*(3.5/10), D222*(5.1/10))","v":0},"$",{"$f":"J221","v":0},"L"]
[null,null,null,null,null,null,"Mass Reduction\n(MR5) - ($/pound) - TBL",null,null,null,null,"MR5"]
[null,null,null,null,"2017+","INC","%",{"$f":"1-((1-H225)/(1-H217))","v":0},"$",{"$f":"J221","v":0},1.33]
[null,null,null,null,null,"ABS","%",{"$f":"IF(D222<5%, D222*(3.5/10), D222*(5.1/10))","v":0},"$",{"$f":"J224","v":0},"L"]

{"sheet":"Midsize PC","index":6,"n_rows":225,"n_cols":173,"rows_kept":225,"cut":false,"hidden":false,"merged":[[5,62,5,66],[5,76,5,80],[5,90,5,94],[6,31,7,31],[6,32,7,32],[6,60,7,60],[6,74,7,74],[6,88,7,88],[0,0,0,172],[1,0,2,0],[3,31,4,31],[3,32,4,32],[3,60,4,60],[3,74,4,74],[3,88,4,88],[23,153,23,157],[24,25,25,25],[24,88,25,88],[24,151,25,151],[13,88,14,88],[15,90,15,94],[16,88,17,88],[21,25,22,25],[21,88,22,88],[21,151,22,151],[29,25,30,25],[29,67,30,67],[29,109,30,109],[29,151,30,151],[31,27,31,31],[31,69,31,73],[31,111,31,115],[23,27,23,31],[23,90,23,94],[39,153,39,157],[40,25,41,25],[40,67,41,67],[40,109,41,109],[40,151,41,151],[31,153,31,157],[32,25,33,25],[32,67,33,67],[32,109,33,109],[32,151,33,151],[37,25,38,25],[37,67,38,67],[37,109,38,109],[37,151,38,151],[45,25,46,25],[45,67,46,67],[45,109,46,109],[45,151,46,151],[47,27,47,31],[47,69,47,73],[47,111,47,115],[39,27,39,31],[39,69,39,73],[39,111,39,115],[47,153,47,157],[48,25,49,25],[48,67,49,67],[48,109,49,109],[48,151,49,151],[53,11,54,11],[53,25,54,25],[53,39,54,39],[53,53,54,53],[53,67,54,67],[53,165,54,165],[55,13,55,17],[55,27,55,31],[55,41,55,45],[55,55,55,59],[55,69,55,73],[55,83,55,87],[55,97,55,101],[55,111,55,115],[55,125,55,129],[53,81,54,81],[53,95,54,95],[53,109,54,109],[53,123,54,123],[53,137,54,137],[53,151,54,151],[55,139,55,143],[55,153,55,157],[55,167,55,171],[56,11,57,11],[56,25,57,25],[56,39,57,39],[56,53,57,53],[56,67,57,67],[56,81,57,81],[56,95,57,95],[56,109,57,109],[56,123,57,123],[56,137,57,137],[56,151,57,151],[56,165,57,165],[61,11,62,11],[61,25,62,25],[61,39,62,39],[61,53,62,53],[61,67,62,67],[61,165,62,165],[63,13,63,17],[63,27,63,31],[63,41,63,45],[63,55,63,59],[63,69,63,73],[63,83,63,87],[63,97,63,101],[63,111,63,115],[63,125,63,129],[61,81,62,81],[61,95,62,95],[61,109,62,109],[61,123,62,123],[61,137,62,137],[61,151,62,151],[63,139,63,143],[63,153,63,157],[63,167,63,171],[64,11,65,11],[64,25,65,25],[64,39,65,39],[64,53,65,53],[64,67,65,67],[64,81,65,81],[64,95,65,95],[64,109,65,109],[64,123,65,123],[64,137,65,137],[64,151,65,151],[64,165,65,165],[69,11,70,11],[69,25,70,25],[69,39,70,39],[69,53,70,53],[69,67,70,67],[69,165,70,165],[71,13,71,17],[71,27,71,31],[71,41,71,45],[71,55,71,59],[71,69,71,73],[71,83,71,87],[71,97,71,101],[71,111,71,115],[71,125,71,129],[69,81,70,81],[69,95,70,95],[69,109,70,109],[69,123,70,123],[69,137,70,137],[69,151,70,151],[71,139,71,143],[71,153,71,157],[77,88,78,88],[77,95,78,95],[77,102,78,102],[77,109,78,109],[71,167,71,171],[72,11,73,11],[72,25,73,25],[72,39,73,39],[72,53,73,53],[72,67,73,67],[72,81,73,81],[72,95,73,95],[72,109,73,109],[72,123,73,123],[72,137,73,137],[72,151,73,151],[72,165,73,165],[77,67,78,67],[77,74,78,74],[79,167,79,171],[80,4,81,4],[80,11,81,11],[80,18,81,18],[80,25,81,25],[80,32,81,32],[80,39,81,39],[77,165,78,165],[80,46,81,46],[80,53,81,53],[80,60,81,60],[80,67,81,67],[80,74,81,74],[80,81,81,81],[80,130,81,130],[80,137,81,137],[80,144,81,144],[77,4,78,4],[77,11,78,11],[77,18,78,18],[77,25,78,25],[77,32,78,32],[80,151,81,151],[80,158,81,158],[77,172,78,172],[79,13,79,17],[79,27,79,31],[79,41,79,45],[79,55,79,59],[79,69,79,73],[79,83,79,87],[79,97,79,101],[79,111,79,115],[77,123,78,123],[77,130,78,130],[77,137,78,137],[77,144,78,144],[77,151,78,151],[77,158,78,158],[77,81,78,81],[79,125,79,129],[79,139,79,143],[79,153,79,157],[77,116,78,116],[77,39,78,39],[77,46,78,46],[77,53,78,53],[77,60,78,60],[80,165,81,165],[80,88,81,88],[80,95,81,95],[80,102,81,102],[80,109,81,109],[80,116,81,116],[80,123,81,123],[85,46,86,46],[85,53,86,53],[85,60,86,60],[85,67,86,67],[85,74,86,74],[85,81,86,81],[85,151,86,151],[85,158,86,158],[85,165,86,165],[85,4,86,4],[85,11,86,11],[85,18,86,18],[85,25,86,25],[85,32,86,32],[85,39,86,39],[85,130,86,130],[85,137,86,137],[85,144,86,144],[85,88,86,88],[85,95,86,95],[85,102,86,102],[85,109,86,109],[85,116,86,116],[85,123,86,123],[87,48,87,52],[87,55,87,59],[87,62,87,66],[87,69,87,73],[87,76,87,80],[87,83,87,87],[87,6,87,10],[87,13,87,17],[87,20,87,24],[87,27,87,31],[87,34,87,38],[87,41,87,45],[87,132,87,136],[87,139,87,143],[87,146,87,150],[87,153,87,157],[87,160,87,164],[87,167,87,171],[87,90,87,94],[87,97,87,101],[87,104,87,108],[87,111,87,115],[87,118,87,122],[87,125,87,129],[88,144,89,144],[88,151,89,151],[88,158,89,158],[88,165,89,165],[88,88,89,88],[88,95,89,95],[88,102,89,102],[88,109,89,109],[88,116,89,116],[88,123,89,123],[97,0,97,38],[100,4,100,11],[100,21,100,23],[100,33,100,38],[102,4,103,4],[102,18,103,18],[102,32,103,32],[88,130,89,130],[88,137,89,137],[88,46,89,46],[88,53,89,53],[88,60,89,60],[88,67,89,67],[88,74,89,74],[88,81,89,81],[88,4,89,4],[88,11,89,11],[88,18,89,18],[88,25,89,25],[88,32,89,32],[88,39,89,39],[110,4,111,4],[110,32,111,32],[112,6,112,10],[112,14,114,16],[112,34,112,38],[113,4,114,4],[113,32,114,32],[104,6,104,10],[104,20,104,24],[104,34,104,38],[105,4,106,4],[105,18,106,18],[105,32,106,32],[110,18,111,18],[112,20,112,24],[113,18,114,18],[126,4,127,4],[126,32,127,32],[128,6,128,10],[128,13,128,17],[128,20,128,24],[128,34,128,38],[118,4,119,4],[118,32,119,32],[120,6,120,10],[120,13,120,17],[120,21,122,23],[120,34,120,38],[121,4,122,4],[121,32,122,32],[136,34,136,38],[137,4,138,4],[137,32,138,32],[142,32,143,32],[144,9,149,10],[144,20,144,24],[144,34,144,38],[145,32,146,32],[129,4,130,4],[129,32,130,32],[134,4,135,4],[134,32,135,32],[136,6,136,10],[136,20,136,24],[185,113,185,116],[185,148,185,151],[188,4,189,4],[188,18,189,18],[188,32,189,32],[188,46,189,46],[150,36,152,37],[152,20,152,24],[160,20,160,24],[168,20,168,24],[176,13,176,17],[176,27,176,31],[190,6,190,10],[190,20,190,24],[190,34,190,38],[190,48,190,52],[190,81,190,85],[191,4,192,4],[191,18,192,18],[191,32,192,32],[191,46,192,46],[191,80,192,80],[198,48,198,52],[199,4,200,4],[199,18,200,18],[199,32,200,32],[199,46,200,46],[200,95,201,95],[196,4,197,4],[196,18,197,18],[196,32,197,32],[196,46,197,46],[198,6,198,10],[198,20,198,24],[198,34,198,38],[200,151,201,151],[204,4,205,4],[204,18,205,18],[204,32,205,32],[206,6,206,10],[206,20,206,24],[200,102,201,102],[200,109,201,109],[200,116,201,116],[200,130,201,130],[200,137,201,137],[200,144,201,144],[215,4,216,4],[220,4,221,4],[222,6,222,10],[223,4,224,4],[207,4,208,4],[207,18,208,18],[207,32,208,32],[209,32,210,32],[212,4,213,4],[214,6,214,10]]}
["Full Engine Technology Decision Tree"]
[]
[null,"START"]
["Gas Engine Type","I4",null,null,null,null,null,null,null,null,null,null,null,null,null,null,null,null,null,null,null,null,null,null,null,null,null,null,null,null,null,null,null,null,null,null,null,null,null,null,null,null,null,null,null,null,null,null,null,null,null,null,null,null,null,null,null,null,null,null,"2012-2016","INC","%",7.0000000000000001E-3,"$",{"$f":"INDEX('[1]Midsize PC'!$H$379:$X$467,MATCH(BP6,'[1]Midsize PC'!$C$379:$C$467,0),MATCH(Inputs!$C$2,'[1]Midsize PC'!$H$378:$X$378,0))","v":3.8637835440209107},10,null,null,null,null,null,null,null,"2012-2016","INC","%",2.5999999999999999E-2,"$",{"$f":"INDEX('[1]Midsize PC'!$H$379:$X$467,MATCH(CD6,'[1]Midsize PC'!$C$379:$C$467,0),MATCH(Inputs!$C$2,'[1]Midsize PC'!$H$378:$X$378,0))*$B$13","v":58.092224089511433},10,null,null,null,null,null,null,null,"2012-2016","INC","%",{"$f":"1-((1-CN5)/(1-BZ5))","v":0},"$",0,"L"]
["Displacement [L]",2.2000000000000002,null,null,null,null,null,null,null,null,null,null,null,null,null,null,null,null,null,null,null,null,null,null,null,null,null,null,null,null,null,null,null,null,null,null,null,null,null,null,null,null,null,null,null,null,null,null,null,null,null,null,null,null,null,null,null,null,null,null,null,"ABS","%",{"$f":"BL4","v":7.0000000000000001E-3},"$",{"$f":"BN4","v":3.8637835440209107},"L",null,null,null,null,null,null,null,null,"ABS","%",{"$f":"1-((1-BL5)*(1-BZ4))","v":3.2818000000000014E-2},"$",{"$f":"BN5+CB4","v":61.956007633532344},"L",null,null,null,null,null,null,null,null,"ABS","%",{"$f":"BZ5","v":3.2818000000000014E-2},"$",{"$f":"CB5","v":61.956007633532344},0]
["Turbocharger","None",null,null,null,null,null,null,null,null,null,null,null,null,null,null,null,null,null,null,null,null,null,null,null,null,null,null,null,null,null,null,null,null,null,null,null,null,null,null,null,null,null,null,null,null,null,null,null,null,null,null,null,null,null,null,null,null,null,null,null,null,"Low-Friction Lubricants 1\n(LUB1) - No Learning Applied",null,null,null,null,"LUB1",null,null,null,null,null,null,null,null,"Engine Friction Reduction 1\n(EFR1) - No Learning Applied",null,null,null,null,"EFR1",null,null,null,null,null,null,null,null,"Low-Friction Lub & Engine Friction\nRedux 2 (LUB2_EFR2) - \nNo Learning Applied",null,null,null,null,"LUB2_EFR2"]
["EGR system","External",null,null,null,null,null,null,null,null,null,null,null,null,null,null,null,null,null,null,null,null,null,null,null,null,null,null,null,null,null,null,null,null,null,null,null,null,null,null,null,null,null,null,null,null,null,null,null,null,null,null,null,null,null,null,null,null,null,null,"2017+","INC","%",{"$f":"BL4","v":7.0000000000000001E-3},"$",{"$f":"BN4","v":3.8637835440209107},10,null,null,null,null,null,null,null,"2017+","INC","%",{"$f":"BZ4","v":2.5999999999999999E-2},"$",{"$f":"CB4","v":58.092224089511433},10,null,null,null,null,null,null,null,"2017+","INC","%",{"$f":"1-((1-CN8)/(1-BZ8))","v":1.2595354338687081E-2},"$",{"$f":"INDEX('[1]Midsize PC'!$H$379:$X$467,MATCH(CR6,'[1]Midsize PC'!$C$379:$C$467,0),MATCH(Inputs!$C$2,'[1]Midsize PC'!$H$378:$X$378,0))*$B$13","v":62.840731829291514},"L"]
["Valvetrain","SOHC/ DOHC/ OHV",null,null,null,null,null,null,null,null,null,null,null,null,null,null,null,null,null,null,null,null,null,null,null,null,null,null,null,null,null,null,null,null,null,null,null,null,null,null,null,null,null,null,null,null,null,null,null,null,null,null,null,null,null,null,null,null,null,null,null,"ABS","%",{"$f":"BL7","v":7.0000000000000001E-3},"$",{"$f":"BN7","v":3.8637835440209107},"L",null,null,null,null,null,null,null,null,"ABS","%",{"$f":"1-((1-BL8)*(1-BZ7))","v":3.2818000000000014E-2},"$",{"$f":"BN8+CB7","v":61.956007633532344},"L",null,null,null,null,null,null,null,null,"ABS","%",4.4999999999999998E-2,"$",{"$f":"CB8+CP7","v":124.79673946282387},33.86]
["After Treatment","3way cat"]
[]
[null,null,null,null,null,null,null,null,null,null,null,null,null,null,null,null,null,null,null,null,null,null,null,null,null,null,null,null,null,null,"SOHC",null,null,null,null,null,null,null,null,null,null,null,null,null,null,null,null,null,null,null,null,null,null,null,null,null,null,null,null,null,null,null,null,null,null,null,null,null,null,null,null,null,null,null,null,null,null,null,null,null,null,null,null,null,null,null,null,null,null,null,null,null,null,"DOHC",null,null,null,null,null,null,null,null,null,null,null,null,null,null,null,null,null,null,null,null,null,null,null,null,null,null,null,null,null,null,null,null,null,null,null,null,null,null,null,null,null,null,null,null,null,null,null,null,null,null,null,null,null,null,null,null,null,null,null,"OHV"]
[]
["Cylinders",{"$f":"IF(B4=\"I4\",4,IF(B4=\"V6\",6,8))","v":4}]
["Cylinder Banks",{"$f":"IF(B4=\"I4\",1,2)","v":1},null,null,null,null,null,null,null,null,null,null,null,null,null,null,null,null,null,null,null,null,null,null,null,null,null,null,null,null,null,null,null,null,null,null,null,null,null,null,null,null,null,null,null,null,null,null,null,null,null,null,null,null,null,null,null,null,null,null,null,null,null,null,null,null,null,null,null,null,null,null,null,null,null,null,null,null,null,null,null,null,null,null,null,null,null,null,"2012-2016","INC","%",{"$f":"CN17","v":2.6178010471204161E-2},"$",{"$f":"INDEX('[1]Midsize PC'!$H$379:$X$467,MATCH(CR16,'[1]Midsize PC'!$C$379:$C$467,0),MATCH(Inputs!$C$2,'[1]Midsize PC'!$H$378:$X$378,0))*$B$14","v":41.549625537527582},10]
[null,null,null,null,null,null,null,null,null,null,null,null,null,null,null,null,null,null,null,null,null,null,null,null,null,null,null,null,null,null,null,null,null,null,null,null,null,null,null,null,null,null,null,null,null,null,null,null,null,null,null,null,null,null,null,null,null,null,null,null,null,null,null,null,null,null,null,null,null,null,null,null,null,null,null,null,null,null,null,null,null,null,null,null,null,null,null,null,null,"ABS","%",{"$f":"1-((1-CN5)*(1-CN14))","v":5.8136900523560242E-2},"$",{"$f":"CP5+CP14","v":103.50563317105993},"L"]
[null,null,null,null,null,null,null,null,null,null,null,null,null,null,null,null,null,null,null,null,null,null,null,null,null,null,null,null,null,null,null,null,null,null,null,null,null,null,null,null,null,null,null,null,null,null,null,null,null,null,null,null,null,null,null,null,null,null,null,null,null,null,null,null,null,null,null,null,null,null,null,null,null,null,null,null,null,null,null,null,null,null,null,null,null,null,null,null,null,null,"Intake Cam Phasing\n(ICP) - TBL",null,null,null,null,"ICP"]
[null,null,null,null,null,null,null,null,null,null,null,null,null,null,null,null,null,null,null,null,null,null,null,null,null,null,null,null,null,null,null,null,null,null,null,null,null,null,null,null,null,null,null,null,null,null,null,null,null,null,null,null,null,null,null,null,null,null,null,null,null,null,null,null,null,null,null,null,null,null,null,null,null,null,null,null,null,null,null,null,null,null,null,null,null,null,null,null,"2017+","INC","%",{"$f":"1-((1-CN18)/(1-CN8))","v":2.6178010471204161E-2},"$",{"$f":"CP14","v":41.549625537527582},10]
[null,null,null,null,null,null,null,null,null,null,null,null,null,null,null,null,null,null,null,null,null,null,null,null,null,null,null,null,null,null,null,null,null,null,null,null,null,null,null,null,null,null,null,null,null,null,null,null,null,null,null,null,null,null,null,null,null,null,null,null,null,null,null,null,null,null,null,null,null,null,null,null,null,null,null,null,null,null,null,null,null,null,null,null,null,null,null,null,null,"ABS","%",7.0000000000000007E-2,"$",{"$f":"CP8+CP17","v":166.34636500035145},"L"]
[]
[]
[]
["Notes: ","(1) All costs shown in $2009",null,null,null,null,null,null,null,null,null,null,null,null,null,null,null,null,null,null,null,null,null,null,null,"2012-2016","INC","%",{"$f":"AC25","v":5.0261780104711939E-2},"$",{"$f":"INDEX('[1]Midsize PC'!$H$379:$X$467,MATCH(AG24,'[1]Midsize PC'!$C$379:$C$467,0),MATCH(Inputs!$C$2,'[1]Midsize PC'!$H$378:$X$378,0))*$B$14","v":41.549625537527582},10,null,null,null,null,null,null,null,null,null,null,null,null,null,null,null,null,null,null,null,null,null,null,null,null,null,null,null,null,null,null,null,null,null,null,null,null,null,null,null,null,null,null,null,null,null,null,null,null,null,null,null,null,null,null,null,null,"2012-2016","INC","%",{"$f":"CN25","v":2.4731182795698858E-2},"$",{"$f":"INDEX('[1]Midsize PC'!$H$379:$X$467,MATCH(CR24,'[1]Midsize PC'!$C$379:$C$467,0),MATCH(Inputs!$C$2,'[1]Midsize PC'!$H$378:$X$378,0))*$B$14","v":38.527853942281702},10]
[null,null,null,null,null,null,null,null,null,null,null,null,null,null,null,null,null,null,null,null,null,null,null,null,null,null,"ABS","%",{"$f":"1-((1-CN5)*(1-AC22))","v":8.1430289005235523E-2},"$",{"$f":"CP5+AE22","v":103.50563317105993},"L",null,null,null,null,null,null,null,null,null,null,null,null,null,null,null,null,null,null,null,null,null,null,null,null,null,null,null,null,null,null,null,null,null,null,null,null,null,null,null,null,null,null,null,null,null,null,null,null,null,null,null,null,null,null,null,null,null,"ABS","%",{"$f":"1-((1-CN15)*(1-CN22))","v":8.1430289005235523E-2},"$",{"$f":"CP15+CP22","v":142.03348711334164},"L"]
[null,null,null,null,null,null,null,null,null,null,null,null,null,null,null,null,null,null,null,null,null,null,null,null,null,null,null,"Coupled Cam Phasing\n(CCPS) - TBL",null,null,null,null,"CCPS",null,null,null,null,null,null,null,null,null,null,null,null,null,null,null,null,null,null,null,null,null,null,null,null,null,null,null,null,null,null,null,null,null,null,null,null,null,null,null,null,null,null,null,null,null,null,null,null,null,null,null,null,null,null,null,null,null,"Dual Cam Phasing\n(DCP) - TBL",null,null,null,null,"DCP"]
[null,null,null,null,null,null,null,null,null,null,null,null,null,null,null,null,null,null,null,null,null,null,null,null,null,"2017+","INC","%",{"$f":"1-((1-AC26)/(1-CN8))","v":5.0261780104711939E-2},"$",{"$f":"AE22","v":41.549625537527582},10,null,null,null,null,null,null,null,null,null,null,null,null,null,null,null,null,null,null,null,null,null,null,null,null,null,null,null,null,null,null,null,null,null,null,null,null,null,null,null,null,null,null,null,null,null,null,null,null,null,null,null,null,null,null,null,null,"2017+","INC","%",{"$f":"1-((1-CN26)/(1-CN18))","v":2.4731182795698858E-2},"$",{"$f":"CP22","v":38.527853942281702},10]
["L",null,null,null,null,null,null,null,null,null,null,null,null,null,null,null,null,null,null,null,null,null,null,null,null,null,"ABS","%",9.2999999999999999E-2,"$",{"$f":"CP8+AE25","v":166.34636500035145},"L",null,null,null,null,null,null,null,null,null,null,null,null,null,null,null,null,null,null,null,null,null,null,null,null,null,null,null,null,null,null,null,null,null,null,null,null,null,null,null,null,null,null,null,null,null,null,null,null,null,null,null,null,null,null,null,null,null,"ABS","%",9.2999999999999999E-2,"$",{"$f":"CP18+CP25","v":204.87421894263315},"L"]
["M"]
["H"]
["VH"]
[null,null,null,null,null,null,null,null,null,null,null,null,null,null,null,null,null,null,null,null,null,null,null,null,null,"2012-2016","INC","%",{"$f":"AC33","v":3.6383682469680267E-2},"$",{"$f":"INDEX('[1]Midsize PC'!$H$379:$X$467,MATCH(AG32,'[1]Midsize PC'!$C$379:$C$467,0),MATCH(Inputs!$C$2,'[1]Midsize PC'!$H$378:$X$378,0))*$B$13","v":141.95784088900945},10,null,null,null,null,null,null,null,null,null,null,null,null,null,null,null,null,null,null,null,null,null,null,null,null,null,null,null,null,null,null,null,null,null,null,null,"2012-2016","INC","%",{"$f":"BS33","v":3.6383682469680267E-2},"$",{"$f":"INDEX('[1]Midsize PC'!$H$379:$X$467,MATCH(BW32,'[1]Midsize PC'!$C$379:$C$467,0),MATCH(Inputs!$C$2,'[1]Midsize PC'!$H$378:$X$378,0))*$B$13","v":141.95784088900945},10,null,null,null,null,null,null,null,null,null,null,null,null,null,null,null,null,null,null,null,null,null,null,null,null,null,null,null,null,null,null,null,null,null,null,null,"2012-2016","INC","%",{"$f":"DI33","v":4.630650496141131E-2},"$",{"$f":"INDEX('[1]Midsize PC'!$H$379:$X$467,MATCH(DM32,'[1]Midsize PC'!$C$379:$C$467,0),MATCH(Inputs!$C$2,'[1]Midsize PC'!$H$378:$X$378,0))*$B$13","v":228.52533855632367},10,null,null,null,null,null,null,null,null,null,null,null,null,null,null,null,null,null,null,null,null,null,null,null,null,null,null,null,null,null,null,null,null,null,null,null,"2012-2016","INC","%",{"$f":"1-((1-EY31)/(1-CN5))","v":3.8443643492124591E-2},"$",{"$f":"INDEX('[1]Midsize PC'!$H$379:$X$467,MATCH(FC32,'[1]Midsize PC'!$C$379:$C$467,0),MATCH(Inputs!$C$2,'[1]Midsize PC'!$H$378:$X$378,0))","v":180.85022482302156},10]
[null,null,null,null,null,null,null,null,null,null,null,null,null,null,null,null,null,null,null,null,null,null,null,null,null,null,"ABS","%",{"$f":"1-((1-AC23)*(1-AC30))","v":0.11485123769633498},"$",{"$f":"AE23+AE30","v":245.46347406006936},"L",null,null,null,null,null,null,null,null,null,null,null,null,null,null,null,null,null,null,null,null,null,null,null,null,null,null,null,null,null,null,null,null,null,null,null,null,"ABS","%",{"$f":"1-((1-CN23)*(1-BS30))","v":0.11485123769633498},"$",{"$f":"CP23+BU30","v":283.99132800235111},"L",null,null,null,null,null,null,null,null,null,null,null,null,null,null,null,null,null,null,null,null,null,null,null,null,null,null,null,null,null,null,null,null,null,null,null,null,"ABS","%",{"$f":"1-((1-CN23)*(1-DI30))","v":0.12396604188481675},"$",{"$f":"CP23+DK30","v":370.55882566966534},"L",null,null,null,null,null,null,null,null,null,null,null,null,null,null,null,null,null,null,null,null,null,null,null,null,null,null,null,null,null,null,null,null,null,null,null,null,"ABS","%",7.0000000000000007E-2,"$",{"$f":"CP5+FA30","v":242.80623245655391},"L"]
[null,null,null,null,null,null,null,null,null,null,null,null,null,null,null,null,null,null,null,null,null,null,null,null,null,null,null,"Discrete VVL\n(DVVLS) - TBL",null,null,null,null,"DVVLS",null,null,null,null,null,null,null,null,null,null,null,null,null,null,null,null,null,null,null,null,null,null,null,null,null,null,null,null,null,null,null,null,null,null,null,null,"Discrete VVL\n(DVVLD) - TBL",null,null,null,null,"DVVLD",null,null,null,null,null,null,null,null,null,null,null,null,null,null,null,null,null,null,null,null,null,null,null,null,null,null,null,null,null,null,null,null,null,null,null,null,"Continuous VVL\n(CVVL) - TBL",null,null,null,null,"CVVL",null,null,null,null,null,null,null,null,null,null,null,null,null,null,null,null,null,null,null,null,null,null,null,null,null,null,null,null,null,null,null,null,null,null,null,null,"Cylinder Deactivation\n(DEACO) - TBL",null,null,null,null,"DEACO"]
[null,null,null,null,null,null,null,null,null,null,null,null,null,null,null,null,null,null,null,null,null,null,null,null,null,"2017+","INC","%",{"$f":"1-((1-AC34)/(1-AC26))","v":3.6383682469680267E-2},"$",{"$f":"AE30","v":141.95784088900945},10,null,null,null,null,null,null,null,null,null,null,null,null,null,null,null,null,null,null,null,null,null,null,null,null,null,null,null,null,null,null,null,null,null,null,null,"2017+","INC","%",{"$f":"1-((1-BS34)/(1-CN26))","v":3.6383682469680267E-2},"$",{"$f":"BU30","v":141.95784088900945},10,null,null,null,null,null,null,null,null,null,null,null,null,null,null,null,null,null,null,null,null,null,null,null,null,null,null,null,null,null,null,null,null,null,null,null,"2017+","INC","%",{"$f":"1-((1-DI34)/(1-CN26))","v":4.630650496141131E-2},"$",{"$f":"DK30","v":228.52533855632367},10,null,null,null,null,null,null,null,null,null,null,null,null,null,null,null,null,null,null,null,null,null,null,null,null,null,null,null,null,null,null,null,null,null,null,null,"2017+","INC","%",{"$f":"1-((1-EY34)/(1-CN8))","v":5.8638743455497355E-2},"$",{"$f":"FA30","v":180.85022482302156},10]
[null,"START",null,null,null,null,null,null,null,null,null,null,null,null,null,null,null,null,null,null,null,null,null,null,null,null,"ABS","%",0.126,"$",{"$f":"AE26+AE33","v":308.3042058893609},"L",null,null,null,null,null,null,null,null,null,null,null,null,null,null,null,null,null,null,null,null,null,null,null,null,null,null,null,null,null,null,null,null,null,null,null,null,"ABS","%",0.126,"$",{"$f":"CP26+BU33","v":346.8320598316426},"L",null,null,null,null,null,null,null,null,null,null,null,null,null,null,null,null,null,null,null,null,null,null,null,null,null,null,null,null,null,null,null,null,null,null,null,null,"ABS","%",0.13500000000000001,"$",{"$f":"CP26+DK33","v":433.39955749895682},"L",null,null,null,null,null,null,null,null,null,null,null,null,null,null,null,null,null,null,null,null,null,null,null,null,null,null,null,null,null,null,null,null,null,null,null,null,"ABS","%",0.10100000000000001,"$",{"$f":"CP8+FA33","v":305.64696428584546},"L"]
["Gas Engine Type","I4"]
["Displacement [L]",2.2000000000000002]
["Turbocharger","None"]
["EGR system","External",null,null,null,null,null,null,null,null,null,null,null,null,null,null,null,null,null,null,null,null,null,null,null,"2012-2016","INC","%",{"$f":"AC41","v":6.8649885583523806E-3},"$",{"$f":"INDEX('[1]Midsize PC'!$H$379:$X$467,MATCH(AG40,'[1]Midsize PC'!$C$379:$C$467,0),MATCH(Inputs!$C$2,'[1]Midsize PC'!$H$378:$X$378,0))","v":28.176910737789065},10,null,null,null,null,null,null,null,null,null,null,null,null,null,null,null,null,null,null,null,null,null,null,null,null,null,null,null,null,null,null,null,null,null,null,null,"2012-2016","INC","%",{"$f":"BS41","v":6.8649885583523806E-3},"$",{"$f":"INDEX('[1]Midsize PC'!$H$379:$X$467,MATCH(BW40,'[1]Midsize PC'!$C$379:$C$467,0),MATCH(Inputs!$C$2,'[1]Midsize PC'!$H$378:$X$378,0))","v":28.176910737789065},10,null,null,null,null,null,null,null,null,null,null,null,null,null,null,null,null,null,null,null,null,null,null,null,null,null,null,null,null,null,null,null,null,null,null,null,"2012-2016","INC","%",{"$f":"DI41","v":0},"$",0,10,null,null,null,null,null,null,null,null,null,null,null,null,null,null,null,null,null,null,null,null,null,null,null,null,null,null,null,null,null,null,null,null,null,null,null,"2012-2016","INC","%",{"$f":"1-((1-EY39)/(1-EY31))","v":2.1505376344085891E-2},"$",{"$f":"INDEX('[1]Midsize PC'!$H$379:$X$467,MATCH(FC40,'[1]Midsize PC'!$C$379:$C$467,0),MATCH(Inputs!$C$2,'[1]Midsize PC'!$H$378:$X$378,0))*$B$14","v":45.204617214323278},10]
["Valvetrain","SOHC/ DOHC/ OHV",null,null,null,null,null,null,null,null,null,null,null,null,null,null,null,null,null,null,null,null,null,null,null,null,"ABS","%",{"$f":"1-((1-AC31)*(1-AC38))","v":0.12092777382198938},"$",{"$f":"AE31+AE38","v":273.64038479785842},"L",null,null,null,null,null,null,null,null,null,null,null,null,null,null,null,null,null,null,null,null,null,null,null,null,null,null,null,null,null,null,null,null,null,null,null,null,"ABS","%",{"$f":"1-((1-BS31)*(1-BS38))","v":0.12092777382198938},"$",{"$f":"BU31+BU38","v":312.16823874014017},"L",null,null,null,null,null,null,null,null,null,null,null,null,null,null,null,null,null,null,null,null,null,null,null,null,null,null,null,null,null,null,null,null,null,null,null,null,"ABS","%",{"$f":"1-((1-DI31)*(1-DI38))","v":0.12396604188481675},"$",{"$f":"DK31+DK38","v":370.55882566966534},"L",null,null,null,null,null,null,null,null,null,null,null,null,null,null,null,null,null,null,null,null,null,null,null,null,null,null,null,null,null,null,null,null,null,null,null,null,"ABS","%",0.09,"$",{"$f":"FA31+FA38","v":288.01084967087718},"L"]
[null,null,null,null,null,null,null,null,null,null,null,null,null,null,null,null,null,null,null,null,null,null,null,null,null,null,null,"Cylinder Deactivation\n(DEACS) - TBL",null,null,null,null,"DEACS",null,null,null,null,null,null,null,null,null,null,null,null,null,null,null,null,null,null,null,null,null,null,null,null,null,null,null,null,null,null,null,null,null,null,null,null,"Cylinder Deactivation\n(DEACD) - TBL",null,null,null,null,"DEACD",null,null,null,null,null,null,null,null,null,null,null,null,null,null,null,null,null,null,null,null,null,null,null,null,null,null,null,null,null,null,null,null,null,null,null,null,"Cylinder Deactivation\n(DEACD) - TBL",null,null,null,null,null,null,null,null,null,null,null,null,null,null,null,null,null,null,null,null,null,null,null,null,null,null,null,null,null,null,null,null,null,null,null,null,null,null,null,null,null,"Coupled Cam Phasing and DVVL\n(VVA) - TBL",null,null,null,null,"VVA"]
[null,null,null,null,null,null,null,null,null,null,null,null,null,null,null,null,null,null,null,null,null,null,null,null,null,"2017+","INC","%",{"$f":"1-((1-AC42)/(1-AC34))","v":6.8649885583523806E-3},"$",{"$f":"AE38","v":28.176910737789065},10,null,null,null,null,null,null,null,null,null,null,null,null,null,null,null,null,null,null,null,null,null,null,null,null,null,null,null,null,null,null,null,null,null,null,null,"2017+","INC","%",{"$f":"1-((1-BS42)/(1-BS34))","v":6.8649885583523806E-3},"$",{"$f":"BU38","v":28.176910737789065},10,null,null,null,null,null,null,null,null,null,null,null,null,null,null,null,null,null,null,null,null,null,null,null,null,null,null,null,null,null,null,null,null,null,null,null,"2017+","INC","%",{"$f":"1-((1-DI42)/(1-DI34))","v":0},"$",{"$f":"DK38","v":0},10,null,null,null,null,null,null,null,null,null,null,null,null,null,null,null,null,null,null,null,null,null,null,null,null,null,null,null,null,null,null,null,null,null,null,null,"2017+","INC","%",{"$f":"1-((1-EY42)/(1-EY34))","v":3.4482758620689724E-2},"$",{"$f":"FA38","v":45.204617214323278},10]
[null,null,null,null,null,null,null,null,null,null,null,null,null,null,null,null,null,null,null,null,null,null,null,null,null,null,"ABS","%",0.13200000000000001,"$",{"$f":"AE34+AE41","v":336.48111662714996},"L",null,null,null,null,null,null,null,null,null,null,null,null,null,null,null,null,null,null,null,null,null,null,null,null,null,null,null,null,null,null,null,null,null,null,null,null,"ABS","%",0.13200000000000001,"$",{"$f":"BU34+BU41","v":375.00897056943165},"L",null,null,null,null,null,null,null,null,null,null,null,null,null,null,null,null,null,null,null,null,null,null,null,null,null,null,null,null,null,null,null,null,null,null,null,null,"ABS","%",{"$f":"DI34","v":0.13500000000000001},"$",{"$f":"DK34+DK41","v":433.39955749895682},"L",null,null,null,null,null,null,null,null,null,null,null,null,null,null,null,null,null,null,null,null,null,null,null,null,null,null,null,null,null,null,null,null,null,null,null,null,"ABS","%",0.13200000000000001,"$",{"$f":"FA34+FA41","v":350.85158150016872},"L"]
[]
[]
[]
[null,null,null,null,null,null,null,null,null,null,null,null,null,null,null,null,null,null,null,null,null,null,null,null,null,"2012-2016","INC","%",{"$f":"AC49","v":1.4976958525345641E-2},"$",{"$f":"INDEX('[1]Midsize PC'!$H$379:$X$467,MATCH(AG48,'[1]Midsize PC'!$C$379:$C$467,0),MATCH(Inputs!$C$2,'[1]Midsize PC'!$H$378:$X$378,0))*$B$13","v":232.9452905107814},10,null,null,null,null,null,null,null,null,null,null,null,null,null,null,null,null,null,null,null,null,null,null,null,null,null,null,null,null,null,null,null,null,null,null,null,"2012-2016","INC","%",{"$f":"BS49","v":1.4976958525345641E-2},"$",{"$f":"INDEX('[1]Midsize PC'!$H$379:$X$467,MATCH(BW48,'[1]Midsize PC'!$C$379:$C$467,0),MATCH(Inputs!$C$2,'[1]Midsize PC'!$H$378:$X$378,0))*$B$13","v":232.9452905107814},10,null,null,null,null,null,null,null,null,null,null,null,null,null,null,null,null,null,null,null,null,null,null,null,null,null,null,null,null,null,null,null,null,null,null,null,"2012-2016","INC","%",{"$f":"DI49","v":1.5028901734104094E-2},"$",{"$f":"INDEX('[1]Midsize PC'!$H$379:$X$467,MATCH(DM48,'[1]Midsize PC'!$C$379:$C$467,0),MATCH(Inputs!$C$2,'[1]Midsize PC'!$H$378:$X$378,0))*$B$13","v":232.9452905107814},10,null,null,null,null,null,null,null,null,null,null,null,null,null,null,null,null,null,null,null,null,null,null,null,null,null,null,null,null,null,null,null,null,null,null,null,"2012-2016","INC","%",{"$f":"1-((1-EY47)/(1-EY39))","v":1.5384615384615441E-2},"$",{"$f":"INDEX('[1]Midsize PC'!$H$379:$X$467,MATCH(FC48,'[1]Midsize PC'!$C$379:$C$467,0),MATCH(Inputs!$C$2,'[1]Midsize PC'!$H$378:$X$378,0))*$B$13","v":232.9452905107814},10]
[null,null,null,null,null,null,null,null,null,null,null,null,null,null,null,null,null,null,null,null,null,null,null,null,null,null,"ABS","%",{"$f":"1-((1-AC39)*(1-AC46))","v":0.1340936020942407},"$",{"$f":"AE39+AE46","v":506.58567530863979},"L",null,null,null,null,null,null,null,null,null,null,null,null,null,null,null,null,null,null,null,null,null,null,null,null,null,null,null,null,null,null,null,null,null,null,null,null,"ABS","%",{"$f":"1-((1-BS39)*(1-BS46))","v":0.1340936020942407},"$",{"$f":"BU39+BU46","v":545.1135292509216},"L",null,null,null,null,null,null,null,null,null,null,null,null,null,null,null,null,null,null,null,null,null,null,null,null,null,null,null,null,null,null,null,null,null,null,null,null,"ABS","%",{"$f":"1-((1-DI39)*(1-DI46))","v":0.13713187015706807},"$",{"$f":"DK39+DK46","v":603.50411618044677},"L",null,null,null,null,null,null,null,null,null,null,null,null,null,null,null,null,null,null,null,null,null,null,null,null,null,null,null,null,null,null,null,null,null,null,null,null,"ABS","%",0.104,"$",{"$f":"FA39+FA46","v":520.95614018165861},"L"]
[null,null,null,null,null,null,null,null,null,null,null,null,null,null,null,null,null,null,null,null,null,null,null,null,null,null,null,"Stoichiometric GDI\n(SGDI) - TBL",null,null,null,null,"SGDI",null,null,null,null,null,null,null,null,null,null,null,null,null,null,null,null,null,null,null,null,null,null,null,null,null,null,null,null,null,null,null,null,null,null,null,null,"Stoichiometric GDI\n(SGDI) - TBL",null,null,null,null,"SGDI",null,null,null,null,null,null,null,null,null,null,null,null,null,null,null,null,null,null,null,null,null,null,null,null,null,null,null,null,null,null,null,null,null,null,null,null,"Stoichiometric GDI\n(SGDI) - TBL",null,null,null,null,"SGDI",null,null,null,null,null,null,null,null,null,null,null,null,null,null,null,null,null,null,null,null,null,null,null,null,null,null,null,null,null,null,null,null,null,null,null,null,"Stoichiometric GDI\n(SGDIO) - TBL",null,null,null,null,"SGDIO"]
[null,null,null,null,null,null,null,null,null,null,null,null,null,null,null,null,null,null,null,null,null,null,null,null,null,"2017+","INC","%",{"$f":"1-((1-AC50)/(1-AC42))","v":1.4976958525345641E-2},"$",{"$f":"AE46","v":232.9452905107814},10,null,null,null,null,null,null,null,null,null,null,null,null,null,null,null,null,null,null,null,null,null,null,null,null,null,null,null,null,null,null,null,null,null,null,null,"2017+","INC","%",{"$f":"1-((1-BS50)/(1-BS42))","v":1.4976958525345641E-2},"$",{"$f":"BU46","v":232.9452905107814},10,null,null,null,null,null,null,null,null,null,null,null,null,null,null,null,null,null,null,null,null,null,null,null,null,null,null,null,null,null,null,null,null,null,null,null,"2017+","INC","%",{"$f":"1-((1-DI50)/(1-DI42))","v":1.5028901734104094E-2},"$",{"$f":"DK46","v":232.9452905107814},10,null,null,null,null,null,null,null,null,null,null,null,null,null,null,null,null,null,null,null,null,null,null,null,null,null,null,null,null,null,null,null,null,null,null,null,"2017+","INC","%",{"$f":"1-((1-EY50)/(1-EY42))","v":1.4976958525345641E-2},"$",{"$f":"FA46","v":232.9452905107814},10]
[null,null,null,null,null,null,null,null,null,null,null,null,null,null,null,null,null,null,null,null,null,null,null,"From SOHC Path",null,null,"ABS","%",0.14499999999999999,"$",{"$f":"AE42+AE49","v":569.42640713793139},"L",null,null,null,null,null,null,null,null,null,null,null,null,null,null,null,null,null,null,null,null,null,null,null,null,null,null,null,null,null,null,null,null,null,"From DOHC w/ DVVLD Path",null,null,"ABS","%",0.14499999999999999,"$",{"$f":"BU42+BU49","v":607.95426108021309},"L",null,null,null,null,null,null,null,null,null,null,null,null,null,null,null,null,null,null,null,null,null,null,null,null,null,null,null,null,null,null,null,null,null,"From DOHC w/ CVVL Path",null,null,"ABS","%",0.14799999999999999,"$",{"$f":"DK42+DK49","v":666.34484800973826},"L",null,null,null,null,null,null,null,null,null,null,null,null,null,null,null,null,null,null,null,null,null,null,null,null,null,null,null,null,null,null,null,null,null,"From OHV w/ CDOHC Path",null,null,"ABS","%",0.14499999999999999,"$",{"$f":"FA42+FA49","v":583.7968720109501},"L"]
[]
[]
[null,null,null,null,null,null,null,null,null,null,null,null,null,null,null,null,null,null,null,null,null,null,null,null,null,null,null,null,null,null,null,null,null,null,null,null,null,null,null,null,null,null,null,null,null,null,null,null,null,null,null,null,null,null,null,null,{"$f":"BE54-$O$54","v":0},null,{"$f":"BG54-$Q$54","v":-10.350943204492637},null,null,null,null,null,null,null,null,null,null,null,{"$f":"BS54-$AC$54","v":0},null,{"$f":"BU54-$AE$54","v":-137.49257962890812},null,null,null,null,null,null,null,null,null,null,null,{"$f":"CG54-$AQ$54","v":0},null,{"$f":"CI54-$AS$54","v":-151.06222004175237},null,null,null,null,null,null,null,null,null,null,null,{"$f":"CU54-$O$54","v":-1.1286783422173041E-2},null,{"$f":"CW54-$Q$54","v":-10.350943204492637},null,null,null,null,null,null,null,null,null,null,null,{"$f":"DI54-$AC$54","v":-3.2575570381352392E-3},null,{"$f":"DK54-$AE$54","v":-137.49257962890812},null,null,null,null,null,null,null,null,null,null,null,{"$f":"DW54-$AQ$54","v":-3.2575570381352392E-3},null,{"$f":"DY54-$AS$54","v":-151.06222004175237},null,null,null,null,null,null,null,null,null,null,null,{"$f":"EK54-$O$54","v":6.0554099294906405E-2},null,{"$f":"EM54-$Q$54","v":-420.06358424991754},null,null,null,null,null,null,null,null,null,null,null,{"$f":"EY54-$AC$54","v":0},null,{"$f":"FA54-$AE$54","v":562.75413569090051},null,null,null,null,null,null,null,null,null,null,null,{"$f":"FM54-$AQ$54","v":0},null,{"$f":"FO54-$AS$54","v":523.98042111588995}]
[null,null,null,null,null,null,null,null,null,null,null,"2012-2016","INC","%",{"$f":"O57","v":8.2883027553628419E-2},"$",{"$f":"INDEX('[1]Midsize PC'!$H$379:$X$467,MATCH(M56,'[1]Midsize PC'!$C$379:$C$467,0),MATCH(Inputs!$C$2,'[1]Midsize PC'!$H$378:$X$378,0))\n+INDEX('[1]Midsize PC'!$H$379:$X$467,MATCH(S56,'[1]Midsize PC'!$C$379:$C$467,0),MATCH(Inputs!$C$2,'[1]Midsize PC'!$H$378:$X$378,0))","v":420.06358424991754},10,null,null,null,null,null,null,null,"2012-2016","INC","%",{"$f":"AC57","v":7.4853801169590617E-2},"$",{"$f":"INDEX('[1]Midsize PC'!$H$379:$X$467,MATCH(AA56,'[1]Midsize PC'!$C$379:$C$467,0),MATCH(Inputs!$C$2,'[1]Midsize PC'!$H$378:$X$378,0))\n+INDEX('[1]Midsize PC'!$H$379:$X$467,MATCH(AG56,'[1]Midsize PC'!$C$379:$C$467,0),MATCH(Inputs!$C$2,'[1]Midsize PC'!$H$378:$X$378,0))","v":-29.267884297748708},10,null,null,null,null,null,null,null,"2012-2016","INC","%",{"$f":"AQ57","v":7.4853801169590617E-2},"$",{"$f":"INDEX('[1]Midsize PC'!$H$379:$X$467,MATCH(AO56,'[1]Midsize PC'!$C$379:$C$467,0),MATCH(Inputs!$C$2,'[1]Midsize PC'!$H$378:$X$378,0))\n+INDEX('[1]Midsize PC'!$H$379:$X$467,MATCH(AU56,'[1]Midsize PC'!$C$379:$C$467,0),MATCH(Inputs!$C$2,'[1]Midsize PC'!$H$378:$X$378,0))","v":523.48084050429873},10,null,null,null,null,null,null,null,"2012-2016","INC","%",{"$f":"BE57","v":8.2883027553628419E-2},"$",{"$f":"INDEX('[1]Subcompact PC'!$H$530:$X$541,MATCH(BC56,'[1]Subcompact PC'!$C$530:$C$541,0),MATCH(Inputs!$C$2,'[1]Subcompact PC'!$H$529:$X$529,0))\n+INDEX('[1]Subcompact PC'!$H$530:$X$541,MATCH(BI56,'[1]Subcompact PC'!$C$530:$C$541,0),MATCH(Inputs!$C$2,'[1]Subcompact PC'!$H$529:$X$529,0))","v":409.7126410454249},10,null,null,null,null,null,null,null,"2012-2016","INC","%",{"$f":"BS57","v":7.4853801169590617E-2},"$",{"$f":"INDEX('[1]Subcompact PC'!$H$530:$X$541,MATCH(BQ56,'[1]Subcompact PC'!$C$530:$C$541,0),MATCH(Inputs!$C$2,'[1]Subcompact PC'!$H$529:$X$529,0))\n+INDEX('[1]Subcompact PC'!$H$530:$X$541,MATCH(BW56,'[1]Subcompact PC'!$C$530:$C$541,0),MATCH(Inputs!$C$2,'[1]Subcompact PC'!$H$529:$X$529,0))","v":-166.76046392665683},10,null,null,null,null,null,null,null,"2012-2016","INC","%",{"$f":"CG57","v":7.4853801169590617E-2},"$",{"$f":"INDEX('[1]Subcompact PC'!$H$530:$X$541,MATCH(CE56,'[1]Subcompact PC'!$C$530:$C$541,0),MATCH(Inputs!$C$2,'[1]Subcompact PC'!$H$529:$X$529,0))\n+INDEX('[1]Subcompact PC'!$H$530:$X$541,MATCH(CK56,'[1]Subcompact PC'!$C$530:$C$541,0),MATCH(Inputs!$C$2,'[1]Subcompact PC'!$H$529:$X$529,0))","v":372.41862046254636},10,null,null,null,null,null,null,null,"2012-2016","INC","%",{"$f":"CU57","v":7.1596244131455378E-2},"$",{"$f":"INDEX('[1]Subcompact PC'!$H$530:$X$541,MATCH(CS56,'[1]Subcompact PC'!$C$530:$C$541,0),MATCH(Inputs!$C$2,'[1]Subcompact PC'!$H$529:$X$529,0))\n+INDEX('[1]Subcompact PC'!$H$530:$X$541,MATCH(CY56,'[1]Subcompact PC'!$C$530:$C$541,0),MATCH(Inputs!$C$2,'[1]Subcompact PC'!$H$529:$X$529,0))","v":409.7126410454249},10,null,null,null,null,null,null,null,"2012-2016","INC","%",{"$f":"DI57","v":7.1596244131455378E-2},"$",{"$f":"INDEX('[1]Subcompact PC'!$H$530:$X$541,MATCH(DG56,'[1]Subcompact PC'!$C$530:$C$541,0),MATCH(Inputs!$C$2,'[1]Subcompact PC'!$H$529:$X$529,0))\n+INDEX('[1]Subcompact PC'!$H$530:$X$541,MATCH(DM56,'[1]Subcompact PC'!$C$530:$C$541,0),MATCH(Inputs!$C$2,'[1]Subcompact PC'!$H$529:$X$529,0))","v":-166.76046392665683},10,null,null,null,null,null,null,null,"2012-2016","INC","%",{"$f":"DW57","v":7.1596244131455378E-2},"$",{"$f":"INDEX('[1]Subcompact PC'!$H$530:$X$541,MATCH(DU56,'[1]Subcompact PC'!$C$530:$C$541,0),MATCH(Inputs!$C$2,'[1]Subcompact PC'!$H$529:$X$529,0))\n+INDEX('[1]Subcompact PC'!$H$530:$X$541,MATCH(EA56,'[1]Subcompact PC'!$C$530:$C$541,0),MATCH(Inputs!$C$2,'[1]Subcompact PC'!$H$529:$X$529,0))","v":372.41862046254636},10,null,null,null,null,null,null,null,"2012-2016","INC","%",{"$f":"EK57","v":0.14343712684853482},"$",{"$f":"INDEX('[1]Subcompact PC'!$H$530:$X$541,MATCH(EI56,'[1]Subcompact PC'!$C$530:$C$541,0),MATCH(Inputs!$C$2,'[1]Subcompact PC'!$H$529:$X$529,0))\n+INDEX('[1]Subcompact PC'!$H$530:$X$541,MATCH(EO56,'[1]Subcompact PC'!$C$530:$C$541,0),MATCH(Inputs!$C$2,'[1]Subcompact PC'!$H$529:$X$529,0))","v":0},10,null,null,null,null,null,null,null,"2012-2016","INC","%",{"$f":"EY57","v":7.4853801169590617E-2},"$",{"$f":"INDEX('[1]Subcompact PC'!$H$530:$X$541,MATCH(EW56,'[1]Subcompact PC'!$C$530:$C$541,0),MATCH(Inputs!$C$2,'[1]Subcompact PC'!$H$529:$X$529,0))\n+INDEX('[1]Subcompact PC'!$H$530:$X$541,MATCH(FC56,'[1]Subcompact PC'!$C$530:$C$541,0),MATCH(Inputs!$C$2,'[1]Subcompact PC'!$H$529:$X$529,0))","v":533.48625139315186},10,{"$f":"INDEX('[1]Subcompact PC'!$H$530:$X$541,MATCH(EW56,'[1]Subcompact PC'!$C$530:$C$541,0),MATCH(Inputs!$C$2,'[1]Subcompact PC'!$H$529:$X$529,0))","v":229.17561542502995},{"$f":"MATCH(EW56,'[1]Subcompact PC'!$C$530:$C$541,0)","v":9},null,null,null,null,null,"2012-2016","INC","%",{"$f":"FM57","v":7.4853801169590617E-2},"$",{"$f":"INDEX('[1]Subcompact PC'!$H$530:$X$541,MATCH(FK56,'[1]Subcompact PC'!$C$530:$C$541,0),MATCH(Inputs!$C$2,'[1]Subcompact PC'!$H$529:$X$529,0))\n+INDEX('[1]Subcompact PC'!$H$530:$X$541,MATCH(FQ56,'[1]Subcompact PC'!$C$530:$C$541,0),MATCH(Inputs!$C$2,'[1]Subcompact PC'!$H$529:$X$529,0))","v":1047.4612616201887},10]
[null,null,null,null,null,null,null,null,null,null,null,null,"ABS","%",{"$f":"1-((1-AC47+AC38)*(1-O54))","v":0.19956654840821175},"$",{"$f":"AE47+Q54","v":926.64925955855733},"L",null,null,null,null,null,null,null,null,"ABS","%",{"$f":"1-((1-AC47)*(1-AC54))","v":0.19890998743455479},"$",{"$f":"AE47+AE54","v":477.31779101089109},"L",null,null,null,null,null,null,null,null,"ABS","%",{"$f":"1-((1-AC47)*(1-AQ54))","v":0.19890998743455479},"$",{"$f":"AE47+AS54","v":1030.0665158129386},"L",null,null,null,null,null,null,null,null,"ABS","%",{"$f":"1-((1-BS47)*(1-BE54))","v":0.20586254593072684},"$",{"$f":"BU47+BG54","v":954.8261702963465},"L",null,null,null,null,null,null,null,null,"ABS","%",{"$f":"1-((1-BS47)*(1-BS54))","v":0.19890998743455479},"$",{"$f":"BU47+BU54","v":378.35306532426478},"L",null,null,null,null,null,null,null,null,"ABS","%",{"$f":"1-((1-BS47)*(1-CG54))","v":0.19890998743455479},"$",{"$f":"BU47+CI54","v":917.53214971346802},"L",null,null,null,null,null,null,null,null,"ABS","%",{"$f":"1-((1-DI47)*(1-CU54))","v":0.19890998743455501},"$",{"$f":"DK47+CW54","v":1013.2167572258717},"L",null,null,null,null,null,null,null,null,"ABS","%",{"$f":"1-((1-DI47)*(1-DI54))","v":0.19890998743455501},"$",{"$f":"DK47+DK54","v":436.74365225378995},"L",null,null,null,null,null,null,null,null,"ABS","%",{"$f":"1-((1-DI47)*(1-DW54))","v":0.19890998743455501},"$",{"$f":"DK47+DY54","v":975.92273664299319},"L",null,null,null,null,null,null,null,null,"ABS","%",{"$f":"1-((1-EY47)*(1-EK54))","v":0.23251966565628723},"$",{"$f":"FA47+EM54","v":520.95614018165861},"L",null,null,null,null,null,null,null,null,"ABS","%",{"$f":"1-((1-EY47)*(1-EY54))","v":0.17106900584795315},"$",{"$f":"FA47+FA54","v":1054.4423915748105},"L",null,null,null,null,null,null,null,null,"ABS","%",{"$f":"1-((1-EY47)*(1-FM54))","v":0.17106900584795315},"$",{"$f":"FA47+FO54","v":1568.4174018018473},"L"]
[null,"INTERMEDIATE",null,null,null,null,null,null,null,null,null,null,"TRBDS1_SD_TB","Turbocharging and Downsizing 1 (TRBDS1_SD) - TBL",null,null,null,null,"TRBDS1_SD_DS",null,null,null,null,null,null,null,"TRBDS1_MD_TB","Turbocharging and Downsizing 1 (TRBDS1_MD) - TBL",null,null,null,null,"TRBDS1_MD_DS",null,null,null,null,null,null,null,"TRBDS1_LD_TB","Turbocharging and Downsizing 1\n(TRBDS1_LD) - TBL",null,null,null,null,"TRBDS1_LD_DS",null,null,null,null,null,null,null,"TRBDS1_SD_TB_D",{"$f":"$N$56","v":"Turbocharging and Downsizing 1 (TRBDS1_SD) - TBL"},null,null,null,null,"TRBDS1_SD_DS_D",null,null,null,null,null,null,null,"TRBDS1_MD_TB_D","Turbocharging and Downsizing 1 (TRBDS1_MD) - TBL",null,null,null,null,"TRBDS1_MD_DS_D",null,null,null,null,null,null,null,"TRBDS1_LD_TB_D",{"$f":"$AP$56","v":"Turbocharging and Downsizing 1\n(TRBDS1_LD) - TBL"},null,null,null,null,"TRBDS1_LD_DS_D",null,null,null,null,null,null,null,"TRBDS1_SD_TB_D",{"$f":"$N$56","v":"Turbocharging and Downsizing 1 (TRBDS1_SD) - TBL"},null,null,null,null,"TRBDS1_SD_DS_D",null,null,null,null,null,null,null,"TRBDS1_MD_TB_D",{"$f":"$AB$56","v":"Turbocharging and Downsizing 1 (TRBDS1_MD) - TBL"},null,null,null,null,"TRBDS1_MD_DS_D",null,null,null,null,null,null,null,"TRBDS1_LD_TB_D",{"$f":"$AP$56","v":"Turbocharging and Downsizing 1\n(TRBDS1_LD) - TBL"},null,null,null,null,"TRBDS1_LD_DS_D",null,null,null,null,null,null,null,"TRBDS1_SD_TB_O",{"$f":"$N$56","v":"Turbocharging and Downsizing 1 (TRBDS1_SD) - TBL"},null,null,null,null,"TRBDS1_SD_DS_O",null,null,null,null,null,null,null,"TRBDS1_MD_TB_O",{"$f":"$AB$56","v":"Turbocharging and Downsizing 1 (TRBDS1_MD) - TBL"},null,null,null,null,"TRBDS1_MD_DS_O",null,null,null,null,null,null,null,"TRBDS1_LD_TB_O",{"$f":"$AP$56","v":"Turbocharging and Downsizing 1\n(TRBDS1_LD) - TBL"},null,null,null,null,"TRBDS1_LD_DS_O"]
["Gas Engine Type","I4",null,null,null,null,null,null,null,null,null,"2017+","INC","%",{"$f":"1-((1-O58-AC41)/(1-AC50))","v":8.2883027553628419E-2},"$",{"$f":"Q54","v":420.06358424991754},10,null,null,null,null,null,null,null,"2017+","INC","%",{"$f":"1-((1-AC58)/(1-AC50))","v":7.4853801169590617E-2},"$",{"$f":"AE54","v":-29.267884297748708},10,null,null,null,null,null,null,null,"2017+","INC","%",{"$f":"1-((1-AQ58)/(1-AC50))","v":7.4853801169590617E-2},"$",{"$f":"AS54","v":523.48084050429873},10,null,null,null,null,null,null,null,"2017+","INC","%",{"$f":"1-((1-BE58-BS41)/(1-BS50))","v":8.2883027553628419E-2},"$",{"$f":"BG54","v":409.7126410454249},10,null,null,null,null,null,null,null,"2017+","INC","%",{"$f":"1-((1-BS58)/(1-BS50))","v":7.4853801169590617E-2},"$",{"$f":"BU54","v":-166.76046392665683},10,null,null,null,null,null,null,null,"2017+","INC","%",{"$f":"1-((1-CG58)/(1-BS50))","v":7.4853801169590617E-2},"$",{"$f":"CI54","v":372.41862046254636},10,null,null,null,null,null,null,null,"2017+","INC","%",{"$f":"1-((1-CU58-DI41)/(1-DI50))","v":7.1596244131455378E-2},"$",{"$f":"CW54","v":409.7126410454249},10,null,null,null,null,null,null,null,"2017+","INC","%",{"$f":"1-((1-DI58)/(1-DI50))","v":7.1596244131455378E-2},"$",{"$f":"DK54","v":-166.76046392665683},10,null,null,null,null,null,null,null,"2017+","INC","%",{"$f":"1-((1-DW58)/(1-DI50))","v":7.1596244131455378E-2},"$",{"$f":"DY54","v":372.41862046254636},10,null,null,null,null,null,null,null,"2017+","INC","%",{"$f":"1-((1-EK58-EY33)/(1-EY50))","v":0.14343712684853482},"$",{"$f":"EM54","v":0},10,null,null,null,null,null,null,null,"2017+","INC","%",{"$f":"1-((1-EY58)/(1-EY50))","v":7.4853801169590617E-2},"$",{"$f":"FA54","v":533.48625139315186},10,null,null,null,null,null,null,null,"2017+","INC","%",{"$f":"1-((1-FM58)/(1-EY50))","v":7.4853801169590617E-2},"$",{"$f":"FO54","v":1047.4612616201887},10]
["Displacement [L]","1.5 to 2.0",null,null,null,null,null,null,null,null,null,null,"ABS","%",0.20899999999999999,"$",{"$f":"AE50+Q57","v":989.48999138784893},"L",null,null,null,null,null,null,null,null,"ABS","%",{"$f":"$O58","v":0.20899999999999999},"$",{"$f":"AE50+AE57","v":540.15852284018274},"L",null,null,null,null,null,null,null,null,"ABS","%",{"$f":"$O58","v":0.20899999999999999},"$",{"$f":"AE50+AS57","v":1092.9072476422302},"L",null,null,null,null,null,null,null,null,"ABS","%",{"$f":"$O58","v":0.20899999999999999},"$",{"$f":"BU50+BG57","v":1017.666902125638},"L",null,null,null,null,null,null,null,null,"ABS","%",{"$f":"$O58","v":0.20899999999999999},"$",{"$f":"BU50+BU57","v":441.19379715355626},"L",null,null,null,null,null,null,null,null,"ABS","%",{"$f":"$AQ58","v":0.20899999999999999},"$",{"$f":"BU50+CI57","v":980.37288154275939},"L",null,null,null,null,null,null,null,null,"ABS","%",{"$f":"$O58","v":0.20899999999999999},"$",{"$f":"DK50+CW57","v":1076.0574890551632},"L",null,null,null,null,null,null,null,null,"ABS","%",{"$f":"$AC58","v":0.20899999999999999},"$",{"$f":"DK50+DK57","v":499.58438408308143},"L",null,null,null,null,null,null,null,null,"ABS","%",{"$f":"$AQ58","v":0.20899999999999999},"$",{"$f":"DK50+DY57","v":1038.7634684722846},"L",null,null,null,null,null,null,null,null,"ABS","%",{"$f":"$O58","v":0.20899999999999999},"$",{"$f":"FA50+EM57","v":583.7968720109501},"L",null,null,null,null,null,null,null,null,"ABS","%",{"$f":"$AC58","v":0.20899999999999999},"$",{"$f":"FA50+FA57","v":1117.2831234041018},"L",null,null,null,null,null,null,null,null,"ABS","%",{"$f":"$AQ58","v":0.20899999999999999},"$",{"$f":"FA50+FO57","v":1631.2581336311387},"L"]
["Turbocharger","FGT",null,null,null,null,null,null,null,null,null,null,null,null,null,null,null,null,null,null,null,null,null,null,null,null,null,null,null,null,null,null,null,null,null,null,null,null,null,null,null,null,null,null,null,null,null,null,null,null,null,null,null,null,null,null,{"$f":"BE57-$O$57","v":0},null,{"$f":"BG57-$Q$57","v":-10.350943204492637},null,null,null,null,null,null,null,null,null,null,null,{"$f":"BS57-$AC$57","v":0},null,{"$f":"BU57-$AE$57","v":-137.49257962890812},null,null,null,null,null,null,null,null,null,null,null,{"$f":"CG57-$AQ$57","v":0},null,{"$f":"CI57-$AS$57","v":-151.06222004175237},null,null,null,null,null,null,null,null,null,null,null,{"$f":"CU57-$O$57","v":-1.1286783422173041E-2},null,{"$f":"CW57-$Q$57","v":-10.350943204492637},null,null,null,null,null,null,null,null,null,null,null,{"$f":"DI57-$AC$57","v":-3.2575570381352392E-3},null,{"$f":"DK57-$AE$57","v":-137.49257962890812},null,null,null,null,null,null,null,null,null,null,null,{"$f":"DW57-$AQ$57","v":-3.2575570381352392E-3},null,{"$f":"DY57-$AS$57","v":-151.06222004175237},null,null,null,null,null,null,null,null,null,null,null,{"$f":"EK57-$O$57","v":6.0554099294906405E-2},null,{"$f":"EM57-$Q$57","v":-420.06358424991754},null,null,null,null,null,null,null,null,null,null,null,{"$f":"EY57-$AC$57","v":0},null,{"$f":"FA57-$AE$57","v":562.75413569090051},null,null,null,null,null,null,null,null,null,null,null,{"$f":"FM57-$AQ$57","v":0},null,{"$f":"FO57-$AS$57","v":523.98042111588995}]
["EGR system","External"]
["Valvetrain","DOHC"]
["After Treatment","3way cat",null,null,null,null,null,null,null,null,null,"2012-2016","INC","%",{"$f":"1-((1-O63)/(1-O55))","v":0},"$",0,0,null,null,null,null,null,null,null,"2012-2016","INC","%",{"$f":"1-((1-AC63)/(1-AC55))","v":0},"$",0,0,null,null,null,null,null,null,null,"2012-2016","INC","%",{"$f":"1-((1-AQ63)/(1-AQ55))","v":0},"$",0,0,null,null,null,null,null,null,null,"2012-2016","INC","%",{"$f":"1-((1-BE63)/(1-BE55))","v":0},"$",{"$f":"$Q$62","v":0},{"$f":"$R$62","v":0},null,null,null,null,null,null,null,"2012-2016","INC","%",{"$f":"1-((1-BS63)/(1-BS55))","v":0},"$",{"$f":"$AE$62","v":0},{"$f":"$AF$62","v":0},null,null,null,null,null,null,null,"2012-2016","INC","%",{"$f":"1-((1-CG63)/(1-CG55))","v":0},"$",{"$f":"$AS$62","v":0},{"$f":"$AT$62","v":0},null,null,null,null,null,null,null,"2012-2016","INC","%",{"$f":"1-((1-CU63)/(1-CU55))","v":0},"$",{"$f":"$Q$62","v":0},{"$f":"$R$62","v":0},null,null,null,null,null,null,null,"2012-2016","INC","%",{"$f":"1-((1-DI63)/(1-DI55))","v":0},"$",{"$f":"$AE$62","v":0},{"$f":"$AF$62","v":0},null,null,null,null,null,null,null,"2012-2016","INC","%",{"$f":"1-((1-DW63)/(1-DW55))","v":0},"$",{"$f":"$AS$62","v":0},{"$f":"$AT$62","v":0},null,null,null,null,null,null,null,"2012-2016","INC","%",{"$f":"$O$62","v":0},"$",{"$f":"$Q$62","v":0},{"$f":"$R$62","v":0},null,null,null,null,null,null,null,"2012-2016","INC","%",{"$f":"1-((1-EY63)/(1-EY55))","v":0},"$",{"$f":"$AE$62","v":0},{"$f":"$AF$62","v":0},null,null,null,null,null,null,null,"2012-2016","INC","%",{"$f":"1-((1-FM63)/(1-FM55))","v":0},"$",{"$f":"$AS$62","v":0},{"$f":"$AT$62","v":0}]
[null,null,null,null,null,null,null,null,null,null,null,null,"ABS","%",{"$f":"O55","v":0.19956654840821175},"$",{"$f":"Q55+Q62","v":926.64925955855733},"L",null,null,null,null,null,null,null,null,"ABS","%",{"$f":"AC55","v":0.19890998743455479},"$",{"$f":"AE55+AE62","v":477.31779101089109},"L",null,null,null,null,null,null,null,null,"ABS","%",{"$f":"AQ55","v":0.19890998743455479},"$",{"$f":"AS55+AS62","v":1030.0665158129386},"L",null,null,null,null,null,null,null,null,"ABS","%",{"$f":"BE55","v":0.20586254593072684},"$",{"$f":"BG55+BG62","v":954.8261702963465},"L",null,null,null,null,null,null,null,null,"ABS","%",{"$f":"BS55","v":0.19890998743455479},"$",{"$f":"BU55+BU62","v":378.35306532426478},"L",null,null,null,null,null,null,null,null,"ABS","%",{"$f":"CG55","v":0.19890998743455479},"$",{"$f":"CI55+CI62","v":917.53214971346802},"L",null,null,null,null,null,null,null,null,"ABS","%",{"$f":"CU55","v":0.19890998743455501},"$",{"$f":"CW55+CW62","v":1013.2167572258717},"L",null,null,null,null,null,null,null,null,"ABS","%",{"$f":"DI55","v":0.19890998743455501},"$",{"$f":"DK55+DK62","v":436.74365225378995},"L",null,null,null,null,null,null,null,null,"ABS","%",{"$f":"DW55","v":0.19890998743455501},"$",{"$f":"DY55+DY62","v":975.92273664299319},"L",null,null,null,null,null,null,null,null,"ABS","%",{"$f":"1-((1-EK55)*(1-EK62))","v":0.23251966565628723},"$",{"$f":"EM55+EM62","v":520.95614018165861},"L",null,null,null,null,null,null,null,null,"ABS","%",{"$f":"EY55","v":0.17106900584795315},"$",{"$f":"FA55+FA62","v":1054.4423915748105},"L",null,null,null,null,null,null,null,null,"ABS","%",{"$f":"FM55","v":0.17106900584795315},"$",{"$f":"FO55+FO62","v":1568.4174018018473},"L"]
[null,null,null,null,null,null,null,null,null,null,null,null,"TRBDS2_SD_TB","Turbocharging and Downsizing 2\n(TRBDS2_SD) - TBL",null,null,null,null,"TRBDS2_SD_DS",null,null,null,null,null,null,null,"TRBDS2_MD_TB","Turbocharging and Downsizing 2\n(TRBDS2_MD) - TBL",null,null,null,null,"TRBDS2_MD_DS",null,null,null,null,null,null,null,"TRBDS2_LD_TB","Turbocharging and Downsizing 2\n(TRBDS2_LD) - TBL",null,null,null,null,"TRBDS2_LD_DS",null,null,null,null,null,null,null,"TRBDS2_SD_TB",{"$f":"$N$64","v":"Turbocharging and Downsizing 2\n(TRBDS2_SD) - TBL"},null,null,null,null,"TRBDS2_SD_DS",null,null,null,null,null,null,null,"TRBDS2_MD_TB",{"$f":"$AB$64","v":"Turbocharging and Downsizing 2\n(TRBDS2_MD) - TBL"},null,null,null,null,"TRBDS2_MD_DS",null,null,null,null,null,null,null,"TRBDS2_LD_TB",{"$f":"$AP$64","v":"Turbocharging and Downsizing 2\n(TRBDS2_LD) - TBL"},null,null,null,null,"TRBDS2_LD_DS",null,null,null,null,null,null,null,"TRBDS2_SD_TB",{"$f":"$N$64","v":"Turbocharging and Downsizing 2\n(TRBDS2_SD) - TBL"},null,null,null,null,"TRBDS2_SD_DS",null,null,null,null,null,null,null,"TRBDS2_MD_TB",{"$f":"$AB$64","v":"Turbocharging and Downsizing 2\n(TRBDS2_MD) - TBL"},null,null,null,null,"TRBDS2_MD_DS",null,null,null,null,null,null,null,"TRBDS2_LD_TB","Cooled EGR 1\n(CEGR1_LD) - TBL",null,null,null,null,"TRBDS2_LD_DS",null,null,null,null,null,null,null,"TRBDS2_SD_TB",{"$f":"$N$64","v":"Turbocharging and Downsizing 2\n(TRBDS2_SD) - TBL"},null,null,null,null,"TRBDS2_SD_DS",null,null,null,null,null,null,null,"TRBDS2_MD_TB",{"$f":"$AB$64","v":"Turbocharging and Downsizing 2\n(TRBDS2_MD) - TBL"},null,null,null,null,"TRBDS2_MD_DS",null,null,null,null,null,null,null,"TRBDS2_LD_TB","Cooled EGR 1\n(CEGR1_LD) - TBL",null,null,null,null,"TRBDS2_LD_DS"]
[null,"INTERMEDIATE",null,null,null,null,null,null,null,null,null,"2017+","INC","%",{"$f":"1-((1-O66)/(1-O58))","v":3.539823008849563E-2},"$",{"$f":"INDEX('[1]Large PC'!$H$379:$X$467,MATCH(M64,'[1]Large PC'!$C$379:$C$467,0),MATCH(Inputs!$C$2,'[1]Large PC'!$H$378:$X$378,0))\n+INDEX('[1]Large PC'!$H$379:$X$467,MATCH(S64,'[1]Large PC'!$C$379:$C$467,0),MATCH(Inputs!$C$2,'[1]Large PC'!$H$378:$X$378,0))","v":19.914246875441577},10,null,null,null,null,null,null,null,"2017+","INC","%",{"$f":"1-((1-AC66)/(1-AC58))","v":3.539823008849563E-2},"$",{"$f":"INDEX('[1]Midsize PC'!$H$379:$X$467,MATCH(AA64,'[1]Midsize PC'!$C$379:$C$467,0),MATCH(Inputs!$C$2,'[1]Midsize PC'!$H$378:$X$378,0))\n+INDEX('[1]Midsize PC'!$H$379:$X$467,MATCH(AG64,'[1]Midsize PC'!$C$379:$C$467,0),MATCH(Inputs!$C$2,'[1]Midsize PC'!$H$378:$X$378,0))","v":247.5936884943545},10,null,null,null,null,null,null,null,"2017+","INC","%",{"$f":"1-((1-AQ66)/(1-AQ58))","v":3.539823008849563E-2},"$",{"$f":"INDEX('[1]Midsize PC'!$H$379:$X$467,MATCH(AO64,'[1]Midsize PC'!$C$379:$C$467,0),MATCH(Inputs!$C$2,'[1]Midsize PC'!$H$378:$X$378,0))\n+INDEX('[1]Midsize PC'!$H$379:$X$467,MATCH(AU64,'[1]Midsize PC'!$C$379:$C$467,0),MATCH(Inputs!$C$2,'[1]Midsize PC'!$H$378:$X$378,0))","v":417.35470758578072},10,null,null,null,null,null,null,null,"2017+","INC","%",{"$f":"1-((1-BE66)/(1-BE58))","v":3.539823008849563E-2},"$",{"$f":"$Q65","v":19.914246875441577},{"$f":"$R$65","v":10},null,null,null,null,null,null,null,"2017+","INC","%",{"$f":"1-((1-BS66)/(1-BS58))","v":3.539823008849563E-2},"$",{"$f":"$AE$65","v":247.5936884943545},{"$f":"$AF$65","v":10},null,null,null,null,null,null,null,"2017+","INC","%",{"$f":"1-((1-CG66)/(1-CG58))","v":3.539823008849563E-2},"$",{"$f":"$AS$65","v":417.35470758578072},{"$f":"$AT$65","v":10},null,null,null,null,null,null,null,"2017+","INC","%",{"$f":"1-((1-CU66)/(1-CU58))","v":3.539823008849563E-2},"$",{"$f":"$Q65","v":19.914246875441577},{"$f":"$R$65","v":10},null,null,null,null,null,null,null,"2017+","INC","%",{"$f":"1-((1-DI66)/(1-DI58))","v":3.539823008849563E-2},"$",{"$f":"$AE$65","v":247.5936884943545},{"$f":"$AF$65","v":10},null,null,null,null,null,null,null,"2017+","INC","%",{"$f":"1-((1-DW66)/(1-DW58))","v":3.539823008849563E-2},"$",{"$f":"$AS$65","v":417.35470758578072},{"$f":"$AT$65","v":10},null,null,null,null,null,null,null,"2017+","INC","%",{"$f":"1-((1-EK66)/(1-EK58))","v":3.539823008849563E-2},"$",{"$f":"$Q65","v":19.914246875441577},{"$f":"$R$65","v":10},null,null,null,null,null,null,null,"2017+","INC","%",{"$f":"1-((1-EY66)/(1-EY58))","v":3.539823008849563E-2},"$",{"$f":"$AE$65","v":247.5936884943545},{"$f":"$AF$65","v":10},null,null,null,null,null,null,null,"2017+","INC","%",{"$f":"1-((1-FM66)/(1-FM58))","v":3.539823008849563E-2},"$",{"$f":"$AS$65","v":417.35470758578072},{"$f":"$AT$65","v":10}]
["Gas Engine Type","I4",null,null,null,null,null,null,null,null,null,null,"ABS","%",0.23699999999999999,"$",{"$f":"Q58+Q65","v":1009.4042382632905},"L",null,null,null,null,null,null,null,null,"ABS","%",{"$f":"$O66","v":0.23699999999999999},"$",{"$f":"AE58+AE65","v":787.75221133453726},"L",null,null,null,null,null,null,null,null,"ABS","%",{"$f":"$O66","v":0.23699999999999999},"$",{"$f":"AS58+AS65","v":1510.2619552280109},"L",null,null,null,null,null,null,null,null,"ABS","%",{"$f":"$O66","v":0.23699999999999999},"$",{"$f":"BG58+BG65","v":1037.5811490010797},"L",null,null,null,null,null,null,null,null,"ABS","%",{"$f":"$O66","v":0.23699999999999999},"$",{"$f":"BU58+BU65","v":688.78748564791078},"L",null,null,null,null,null,null,null,null,"ABS","%",{"$f":"$AQ66","v":0.23699999999999999},"$",{"$f":"CI58+CI65","v":1397.7275891285401},"L",null,null,null,null,null,null,null,null,"ABS","%",{"$f":"$O66","v":0.23699999999999999},"$",{"$f":"CW58+CW65","v":1095.9717359306048},"L",null,null,null,null,null,null,null,null,"ABS","%",{"$f":"$AC66","v":0.23699999999999999},"$",{"$f":"DK58+DK65","v":747.17807257743596},"L",null,null,null,null,null,null,null,null,"ABS","%",{"$f":"$AQ66","v":0.23699999999999999},"$",{"$f":"DY58+DY65","v":1456.1181760580653},"L",null,null,null,null,null,null,null,null,"ABS","%",{"$f":"$O66","v":0.23699999999999999},"$",{"$f":"EM58+EM65","v":603.71111888639166},"L",null,null,null,null,null,null,null,null,"ABS","%",{"$f":"$AC66","v":0.23699999999999999},"$",{"$f":"FA58+FA65","v":1364.8768118984563},"L",null,null,null,null,null,null,null,null,"ABS","%",{"$f":"$AQ66","v":0.23699999999999999},"$",{"$f":"FO58+FO65","v":2048.6128412169192},"L"]
["Displacement [L]",1]
["Turbocharger","FGT"]
["EGR system","External"]
["Valvetrain","DOHC",null,null,null,null,null,null,null,null,null,"2012-2016","INC","%",{"$f":"1-((1-O71)/(1-O63))","v":0},"$",0,0,null,null,null,null,null,null,null,"2012-2016","INC","%",{"$f":"1-((1-AC71)/(1-AC63))","v":0},"$",0,0,null,null,null,null,null,null,null,"2012-2016","INC","%",{"$f":"1-((1-AQ71)/(1-AQ63))","v":0},"$",0,0,null,null,null,null,null,null,null,"2012-2016","INC","%",{"$f":"1-((1-BE71)/(1-BE63))","v":0},"$",{"$f":"$Q$70","v":0},{"$f":"$R$70","v":0},null,null,null,null,null,null,null,"2012-2016","INC","%",{"$f":"1-((1-BS71)/(1-BS63))","v":0},"$",{"$f":"$AE$70","v":0},{"$f":"$AF$70","v":0},null,null,null,null,null,null,null,"2012-2016","INC","%",{"$f":"1-((1-CG71)/(1-CG63))","v":0},"$",{"$f":"$AS$70","v":0},{"$f":"$AT$70","v":0},null,null,null,null,null,null,null,"2012-2016","INC","%",{"$f":"1-((1-CU71)/(1-CU63))","v":0},"$",{"$f":"$Q$70","v":0},{"$f":"$R$70","v":0},null,null,null,null,null,null,null,"2012-2016","INC","%",{"$f":"1-((1-DI71)/(1-DI63))","v":0},"$",{"$f":"$AE$70","v":0},{"$f":"$AF$70","v":0},null,null,null,null,null,null,null,"2012-2016","INC","%",{"$f":"1-((1-DW71)/(1-DW63))","v":0},"$",{"$f":"$AS$70","v":0},{"$f":"$AT$70","v":0},null,null,null,null,null,null,null,"2012-2016","INC","%",{"$f":"1-((1-EK71)/(1-EK63))","v":0},"$",{"$f":"$Q$70","v":0},{"$f":"$R$70","v":0},null,null,null,null,null,null,null,"2012-2016","INC","%",{"$f":"1-((1-EY71)/(1-EY63))","v":0},"$",{"$f":"$AE$70","v":0},{"$f":"$AF$70","v":0},null,null,null,null,null,null,null,"2012-2016","INC","%",{"$f":"1-((1-FM71)/(1-FM63))","v":0},"$",{"$f":"$AS$70","v":0},{"$f":"$AT$70","v":0}]
["After Treatment","3way cat",null,null,null,null,null,null,null,null,null,null,"ABS","%",{"$f":"O63","v":0.19956654840821175},"$",{"$f":"Q63+Q70","v":926.64925955855733},"L",null,null,null,null,null,null,null,null,"ABS","%",{"$f":"AC63","v":0.19890998743455479},"$",{"$f":"AE63+AE70","v":477.31779101089109},"L",null,null,null,null,null,null,null,null,"ABS","%",{"$f":"AQ63","v":0.19890998743455479},"$",{"$f":"AS63+AS70","v":1030.0665158129386},"L",null,null,null,null,null,null,null,null,"ABS","%",{"$f":"BE63","v":0.20586254593072684},"$",{"$f":"BG63+BG70","v":954.8261702963465},"L",null,null,null,null,null,null,null,null,"ABS","%",{"$f":"BS63","v":0.19890998743455479},"$",{"$f":"BU63+BU70","v":378.35306532426478},"L",null,null,null,null,null,null,null,null,"ABS","%",{"$f":"CG63","v":0.19890998743455479},"$",{"$f":"CI63+CI70","v":917.53214971346802},"L",null,null,null,null,null,null,null,null,"ABS","%",{"$f":"CU63","v":0.19890998743455501},"$",{"$f":"CW63+CW70","v":1013.2167572258717},"L",null,null,null,null,null,null,null,null,"ABS","%",{"$f":"DI63","v":0.19890998743455501},"$",{"$f":"DK63+DK70","v":436.74365225378995},"L",null,null,null,null,null,null,null,null,"ABS","%",{"$f":"DW63","v":0.19890998743455501},"$",{"$f":"DY63+DY70","v":975.92273664299319},"L",null,null,null,null,null,null,null,null,"ABS","%",{"$f":"EK63","v":0.23251966565628723},"$",{"$f":"EM63+EM70","v":520.95614018165861},"L",null,null,null,null,null,null,null,null,"ABS","%",{"$f":"EY63","v":0.17106900584795315},"$",{"$f":"FA63+FA70","v":1054.4423915748105},"L",null,null,null,null,null,null,null,null,"ABS","%",{"$f":"FM63","v":0.17106900584795315},"$",{"$f":"FO63+FO70","v":1568.4174018018473},"L"]
[null,null,null,null,null,null,null,null,null,null,null,null,"CEGR1_SD_TB","Cooled EGR 1 \n(CEGR1_SD) - TBL",null,null,null,null,"CEGR1_SD_DS",null,null,null,null,null,null,null,"CEGR1_MD_TB","Cooled EGR 1 \n(CEGR1_MD) - TBL",null,null,null,null,"CEGR1_MD_DS",null,null,null,null,null,null,null,"CEGR1_LD_TB","Cooled EGR 1 \n(CEGR1_LD) - TBL",null,null,null,null,"CEGR1_LD_DS",null,null,null,null,null,null,null,"CEGR1_SD_TB",{"$f":"$N$72","v":"Cooled EGR 1 \n(CEGR1_SD) - TBL"},null,null,null,null,"CEGR1_SD_DS",null,null,null,null,null,null,null,"CEGR1_MD_TB",{"$f":"$AB$72","v":"Cooled EGR 1 \n(CEGR1_MD) - TBL"},null,null,null,null,"CEGR1_MD_DS",null,null,null,null,null,null,null,"CEGR1_LD_TB",{"$f":"$AP$72","v":"Cooled EGR 1 \n(CEGR1_LD) - TBL"},null,null,null,null,"CEGR1_LD_DS",null,null,null,null,null,null,null,"CEGR1_SD_TB",{"$f":"$N$72","v":"Cooled EGR 1 \n(CEGR1_SD) - TBL"},null,null,null,null,"CEGR1_SD_DS",null,null,null,null,null,null,null,"CEGR1_MD_TB",{"$f":"$AB$72","v":"Cooled EGR 1 \n(CEGR1_MD) - TBL"},null,null,null,null,"CEGR1_MD_DS",null,null,null,null,null,null,null,"CEGR1_LD_TB",{"$f":"$AP$72","v":"Cooled EGR 1 \n(CEGR1_LD) - TBL"},null,null,null,null,"CEGR1_LD_DS",null,null,null,null,null,null,null,"CEGR1_SD_TB",{"$f":"$N$72","v":"Cooled EGR 1 \n(CEGR1_SD) - TBL"},null,null,null,null,"CEGR1_SD_DS",null,null,null,null,null,null,null,"CEGR1_MD_TB",{"$f":"$AB$72","v":"Cooled EGR 1 \n(CEGR1_MD) - TBL"},null,null,null,null,"CEGR1_MD_DS",null,null,null,null,null,null,null,"CEGR1_LD_TB",{"$f":"$AP$72","v":"Cooled EGR 1 \n(CEGR1_LD) - TBL"},null,null,null,null,"CEGR1_LD_DS"]
[null,null,null,null,null,null,null,null,null,null,null,"2017+","INC","%",{"$f":"1-((1-O74)/(1-O66))","v":3.5386631716906924E-2},"$",{"$f":"INDEX('[1]Large Perf. PC'!$H$379:$X$467,MATCH(M72,'[1]Large Perf. PC'!$C$379:$C$467,0),MATCH(Inputs!$C$2,'[1]Large Perf. PC'!$H$378:$X$378,0))\n+INDEX('[1]Large Perf. PC'!$H$379:$X$467,MATCH(S72,'[1]Large Perf. PC'!$C$379:$C$467,0),MATCH(Inputs!$C$2,'[1]Large Perf. PC'!$H$378:$X$378,0))","v":285.15466932220613},10,null,null,null,null,null,null,null,"2017+","INC","%",{"$f":"1-((1-AC74)/(1-AC66))","v":3.5386631716906924E-2},"$",{"$f":"INDEX('[1]Midsize PC'!$H$379:$X$467,MATCH(AA72,'[1]Midsize PC'!$C$379:$C$467,0),MATCH(Inputs!$C$2,'[1]Midsize PC'!$H$378:$X$378,0))\n+INDEX('[1]Midsize PC'!$H$379:$X$467,MATCH(AG72,'[1]Midsize PC'!$C$379:$C$467,0),MATCH(Inputs!$C$2,'[1]Midsize PC'!$H$378:$X$378,0))","v":285.15466932220613},10,null,null,null,null,null,null,null,"2017+","INC","%",{"$f":"1-((1-AQ74)/(1-AQ66))","v":3.5386631716906924E-2},"$",{"$f":"INDEX('[1]Midsize PC'!$H$379:$X$467,MATCH(AO72,'[1]Midsize PC'!$C$379:$C$467,0),MATCH(Inputs!$C$2,'[1]Midsize PC'!$H$378:$X$378,0))\n+INDEX('[1]Midsize PC'!$H$379:$X$467,MATCH(AU72,'[1]Midsize PC'!$C$379:$C$467,0),MATCH(Inputs!$C$2,'[1]Midsize PC'!$H$378:$X$378,0))","v":285.15466932220613},10,null,null,null,null,null,null,null,"2017+","INC","%",{"$f":"$O$73","v":3.5386631716906924E-2},"$",{"$f":"$Q$73","v":285.15466932220613},{"$f":"$R$73","v":10},null,null,null,null,null,null,null,"2017+","INC","%",{"$f":"$AC$73","v":3.5386631716906924E-2},"$",{"$f":"$AE$73","v":285.15466932220613},{"$f":"$AF$73","v":10},null,null,null,null,null,null,null,"2017+","INC","%",{"$f":"$AQ$73","v":3.5386631716906924E-2},"$",{"$f":"$AS$73","v":285.15466932220613},{"$f":"$AT$73","v":10},null,null,null,null,null,null,null,"2017+","INC","%",{"$f":"$O$73","v":3.5386631716906924E-2},"$",{"$f":"$Q$73","v":285.15466932220613},{"$f":"$R$73","v":10},null,null,null,null,null,null,null,"2017+","INC","%",{"$f":"$AC$73","v":3.5386631716906924E-2},"$",{"$f":"$AE$73","v":285.15466932220613},{"$f":"$AF$73","v":10},null,null,null,null,null,null,null,"2017+","INC","%",{"$f":"$AQ$73","v":3.5386631716906924E-2},"$",{"$f":"$AS$73","v":285.15466932220613},{"$f":"$AT$73","v":10},null,null,null,null,null,null,null,"2017+","INC","%",{"$f":"$O$73","v":3.5386631716906924E-2},"$",{"$f":"$Q$73","v":285.15466932220613},{"$f":"$R$73","v":10},null,null,null,null,null,null,null,"2017+","INC","%",{"$f":"$AC$73","v":3.5386631716906924E-2},"$",{"$f":"$AE$73","v":285.15466932220613},{"$f":"$AF$73","v":10},null,null,null,null,null,null,null,"2017+","INC","%",{"$f":"$AQ$73","v":3.5386631716906924E-2},"$",{"$f":"$AS$73","v":285.15466932220613},{"$f":"$AT$73","v":10}]
[null,null,null,null,null,null,null,null,null,null,null,null,"ABS","%",0.26400000000000001,"$",{"$f":"Q66+Q73","v":1294.5589075854966},"L",null,null,null,null,null,null,null,null,"ABS","%",{"$f":"O74","v":0.26400000000000001},"$",{"$f":"AE66+AE73","v":1072.9068806567434},"L",null,null,null,null,null,null,null,null,"ABS","%",{"$f":"O74","v":0.26400000000000001},"$",{"$f":"AS66+AS73","v":1795.416624550217},"L",null,null,null,null,null,null,null,null,"ABS","%",{"$f":"1-((1-BE66)*(1-BE73))","v":0.26400000000000001},"$",{"$f":"BG66+BG73","v":1322.7358183232859},"L",null,null,null,null,null,null,null,null,"ABS","%",{"$f":"$O74","v":0.26400000000000001},"$",{"$f":"BU66+BU73","v":973.94215497011692},"L",null,null,null,null,null,null,null,null,"ABS","%",{"$f":"$AQ74","v":0.26400000000000001},"$",{"$f":"CI66+CI73","v":1682.8822584507461},"L",null,null,null,null,null,null,null,null,"ABS","%",{"$f":"$O74","v":0.26400000000000001},"$",{"$f":"CW66+CW73","v":1381.1264052528109},"L",null,null,null,null,null,null,null,null,"ABS","%",{"$f":"$AC74","v":0.26400000000000001},"$",{"$f":"DK66+DK73","v":1032.3327418996421},"L",null,null,null,null,null,null,null,null,"ABS","%",{"$f":"$AQ74","v":0.26400000000000001},"$",{"$f":"DY66+DY73","v":1741.2728453802715},"L",null,null,null,null,null,null,null,null,"ABS","%",{"$f":"$O74","v":0.26400000000000001},"$",{"$f":"EM66+EM73","v":888.86578820859779},"L",null,null,null,null,null,null,null,null,"ABS","%",{"$f":"$AC74","v":0.26400000000000001},"$",{"$f":"FA66+FA73","v":1650.0314812206625},"L",null,null,null,null,null,null,null,null,"ABS","%",{"$f":"$AQ74","v":0.26400000000000001},"$",{"$f":"FO66+FO73","v":2333.7675105391254},"L"]
[]
[]
[]
[null,null,null,null,null,null,null,null,null,null,null,"2012-2016","INC","%",{"$f":"1-((1-O79)/(1-O71))","v":0},"$",0,0,null,null,null,null,null,null,null,"2012-2016","INC","%",{"$f":"1-((1-AC79)/(1-AC71))","v":0},"$",0,0,null,null,null,null,null,null,null,"2012-2016","INC","%",{"$f":"1-((1-AQ79)/(1-AQ71))","v":0},"$",0,0,null,null,null,null,null,null,null,"2012-2016","INC","%",{"$f":"1-((1-BE79)/(1-BE71))","v":0},"$",{"$f":"$Q$78","v":0},{"$f":"$R$78","v":0},null,null,null,null,null,null,null,"2012-2016","INC","%",{"$f":"1-((1-BS79)/(1-BS71))","v":0},"$",{"$f":"$AE$78","v":0},{"$f":"$AF$78","v":0},null,null,null,null,null,null,null,"2012-2016","INC","%",{"$f":"1-((1-CG79)/(1-CG71))","v":0},"$",{"$f":"$AS$78","v":0},{"$f":"$AT$78","v":0},null,null,null,null,null,null,null,"2012-2016","INC","%",{"$f":"1-((1-CU79)/(1-CU71))","v":0},"$",{"$f":"$Q$78","v":0},{"$f":"$R$78","v":0},null,null,null,null,null,null,null,"2012-2016","INC","%",{"$f":"1-((1-DI79)/(1-DI71))","v":0},"$",{"$f":"$AE$78","v":0},{"$f":"$AF$78","v":0},null,null,null,null,null,null,null,"2012-2016","INC","%",{"$f":"1-((1-DW79)/(1-DW71))","v":0},"$",{"$f":"$AS$78","v":0},{"$f":"$AT$78","v":0},null,null,null,null,null,null,null,"2012-2016","INC","%",{"$f":"1-((1-EK79)/(1-EK71))","v":0},"$",{"$f":"$Q$78","v":0},{"$f":"$R$78","v":0},null,null,null,null,null,null,null,"2012-2016","INC","%",{"$f":"1-((1-EY79)/(1-EY71))","v":0},"$",{"$f":"$AE$78","v":0},{"$f":"$AF$78","v":0},null,null,null,null,null,null,null,"2012-2016","INC","%",{"$f":"1-((1-FM79)/(1-FM71))","v":0},"$",{"$f":"$AS$78","v":0},{"$f":"$AT$78","v":0}]
[null,null,null,null,null,null,null,null,null,null,null,null,"ABS","%",{"$f":"O71","v":0.19956654840821175},"$",{"$f":"Q71+Q78","v":926.64925955855733},"L",null,null,null,null,null,null,null,null,"ABS","%",{"$f":"AC71","v":0.19890998743455479},"$",{"$f":"AE71+AE78","v":477.31779101089109},"L",null,null,null,null,null,null,null,null,"ABS","%",{"$f":"AQ71","v":0.19890998743455479},"$",{"$f":"AS71+AS78","v":1030.0665158129386},"L",null,null,null,null,null,null,null,null,"ABS","%",{"$f":"BE71","v":0.20586254593072684},"$",{"$f":"BG71+BG78","v":954.8261702963465},"L",null,null,null,null,null,null,null,null,"ABS","%",{"$f":"BS71","v":0.19890998743455479},"$",{"$f":"BU71+BU78","v":378.35306532426478},"L",null,null,null,null,null,null,null,null,"ABS","%",{"$f":"CG71","v":0.19890998743455479},"$",{"$f":"CI71+CI78","v":917.53214971346802},"L",null,null,null,null,null,null,null,null,"ABS","%",{"$f":"CU71","v":0.19890998743455501},"$",{"$f":"CW71+CW78","v":1013.2167572258717},"L",null,null,null,null,null,null,null,null,"ABS","%",{"$f":"DI71","v":0.19890998743455501},"$",{"$f":"DK71+DK78","v":436.74365225378995},"L",null,null,null,null,null,null,null,null,"ABS","%",{"$f":"DW71","v":0.19890998743455501},"$",{"$f":"DY71+DY78","v":975.92273664299319},"L",null,null,null,null,null,null,null,null,"ABS","%",{"$f":"EK71","v":0.23251966565628723},"$",{"$f":"EM71+EM78","v":520.95614018165861},"L",null,null,null,null,null,null,null,null,"ABS","%",{"$f":"EY71","v":0.17106900584795315},"$",{"$f":"FA71+FA78","v":1054.4423915748105},"L",null,null,null,null,null,null,null,null,"ABS","%",{"$f":"FM71","v":0.17106900584795315},"$",{"$f":"FO71+FO78","v":1568.4174018018473},"L"]
[null,null,null,null,null,null,null,null,null,null,null,null,"CEGR2_SD_TB","Cooled EGR 2\n(CEGR2_SD) - TBL",null,null,null,null,"CEGR2_SD_DS",null,null,null,null,null,null,null,"CEGR2_MD_TB","Cooled EGR 2\n(CEGR2_MD) - TBL",null,null,null,null,"CEGR2_MD_DS",null,null,null,null,null,null,null,"CEGR2_LD_TB","Cooled EGR 2\n(CEGR2_LD) - TBL",null,null,null,null,"CEGR2_LD_DS",null,null,null,null,null,null,null,"CEGR2_SD_TB",{"$f":"$N$80","v":"Cooled EGR 2\n(CEGR2_SD) - TBL"},null,null,null,null,"CEGR2_SD_DS",null,null,null,null,null,null,null,"CEGR2_MD_TB",{"$f":"$AB$80","v":"Cooled EGR 2\n(CEGR2_MD) - TBL"},null,null,null,null,"CEGR2_MD_DS",null,null,null,null,null,null,null,"CEGR2_LD_TB",{"$f":"$AP$80","v":"Cooled EGR 2\n(CEGR2_LD) - TBL"},null,null,null,null,"CEGR2_LD_DS",null,null,null,null,null,null,null,"CEGR2_SD_TB",{"$f":"$N$80","v":"Cooled EGR 2\n(CEGR2_SD) - TBL"},null,null,null,null,"CEGR2_SD_DS",null,null,null,null,null,null,null,"CEGR2_MD_TB",{"$f":"$AB$80","v":"Cooled EGR 2\n(CEGR2_MD) - TBL"},null,null,null,null,"CEGR2_MD_DS",null,null,null,null,null,null,null,"CEGR2_LD_TB",{"$f":"$AP$80","v":"Cooled EGR 2\n(CEGR2_LD) - TBL"},null,null,null,null,"CEGR2_LD_DS",null,null,null,null,null,null,null,"CEGR2_SD_TB",{"$f":"$N$80","v":"Cooled EGR 2\n(CEGR2_SD) - TBL"},null,null,null,null,"CEGR2_SD_DS",null,null,null,null,null,null,null,"CEGR2_MD_TB",{"$f":"$AB$80","v":"Cooled EGR 2\n(CEGR2_MD) - TBL"},null,null,null,null,"CEGR2_MD_DS",null,null,null,null,null,null,null,"CEGR2_LD_TB",{"$f":"$AP$80","v":"Cooled EGR 2\n(CEGR2_LD) - TBL"},null,null,null,null,"CEGR2_LD_DS"]
[null,"STOP",null,null,null,null,null,null,null,null,null,"2017+","INC","%",{"$f":"1-((1-O82)/(1-O74))","v":1.3586956521739135E-2},"$",{"$f":"INDEX('[1]Midsize PC'!$H$379:$X$467,MATCH(M80,'[1]Midsize PC'!$C$379:$C$467,0),MATCH(Inputs!$C$2,'[1]Midsize PC'!$H$378:$X$378,0))\n+INDEX('[1]Midsize PC'!$H$379:$X$467,MATCH(S80,'[1]Midsize PC'!$C$379:$C$467,0),MATCH(Inputs!$C$2,'[1]Midsize PC'!$H$378:$X$378,0))","v":495.18737698870899},10,null,null,null,null,null,null,null,"2017+","INC","%",{"$f":"1-((1-AC82)/(1-AC74))","v":1.3586956521739135E-2},"$",{"$f":"INDEX('[1]Midsize PC'!$H$379:$X$467,MATCH(AA80,'[1]Midsize PC'!$C$379:$C$467,0),MATCH(Inputs!$C$2,'[1]Midsize PC'!$H$378:$X$378,0))\n+INDEX('[1]Midsize PC'!$H$379:$X$467,MATCH(AG80,'[1]Midsize PC'!$C$379:$C$467,0),MATCH(Inputs!$C$2,'[1]Midsize PC'!$H$378:$X$378,0))","v":495.18737698870899},10,null,null,null,null,null,null,null,"2017+","INC","%",{"$f":"1-((1-AQ82)/(1-AQ74))","v":1.3586956521739135E-2},"$",{"$f":"INDEX('[1]Midsize PC'!$H$379:$X$467,MATCH(AO80,'[1]Midsize PC'!$C$379:$C$467,0),MATCH(Inputs!$C$2,'[1]Midsize PC'!$H$378:$X$378,0))\n+INDEX('[1]Midsize PC'!$H$379:$X$467,MATCH(AU80,'[1]Midsize PC'!$C$379:$C$467,0),MATCH(Inputs!$C$2,'[1]Midsize PC'!$H$378:$X$378,0))","v":-296.67298355204559},10,null,null,null,null,null,null,null,"2017+","INC","%",{"$f":"$O$81","v":1.3586956521739135E-2},"$",{"$f":"$Q$81","v":495.18737698870899},{"$f":"$R$81","v":10},null,null,null,null,null,null,null,"2017+","INC","%",{"$f":"$AC$81","v":1.3586956521739135E-2},"$",{"$f":"$AE$81","v":495.18737698870899},{"$f":"$AF$81","v":10},null,null,null,null,null,null,null,"2017+","INC","%",{"$f":"$AQ$81","v":1.3586956521739135E-2},"$",{"$f":"$AS$81","v":-296.67298355204559},{"$f":"$AT$81","v":10},null,null,null,null,null,null,null,"2017+","INC","%",{"$f":"$O$81","v":1.3586956521739135E-2},"$",{"$f":"$Q$81","v":495.18737698870899},{"$f":"$R$81","v":10},null,null,null,null,null,null,null,"2017+","INC","%",{"$f":"$AC$81","v":1.3586956521739135E-2},"$",{"$f":"$AE$81","v":495.18737698870899},{"$f":"$AF$81","v":10},null,null,null,null,null,null,null,"2017+","INC","%",{"$f":"$AQ$81","v":1.3586956521739135E-2},"$",{"$f":"$AS$81","v":-296.67298355204559},{"$f":"$AT$81","v":10},null,null,null,null,null,null,null,"2017+","INC","%",{"$f":"$O$81","v":1.3586956521739135E-2},"$",{"$f":"$Q$81","v":495.18737698870899},{"$f":"$R$81","v":10},null,null,null,null,null,null,null,"2017+","INC","%",{"$f":"$AC$81","v":1.3586956521739135E-2},"$",{"$f":"$AE$81","v":495.18737698870899},{"$f":"$AF$81","v":10},null,null,null,null,null,null,null,"2017+","INC","%",{"$f":"$AQ$81","v":1.3586956521739135E-2},"$",{"$f":"$AS$81","v":-296.67298355204559},{"$f":"$AT$81","v":10}]
["Diesel Engine Type","I4",null,null,null,null,null,null,null,null,null,null,"ABS","%",0.27400000000000002,"$",{"$f":"Q74+Q81","v":1789.7462845742057},"L",null,null,null,null,null,null,null,null,"ABS","%",{"$f":"O82","v":0.27400000000000002},"$",{"$f":"AE74+AE81","v":1568.0942576454524},"L",null,null,null,null,null,null,null,null,"ABS","%",{"$f":"O82","v":0.27400000000000002},"$",{"$f":"AS74+AS81","v":1498.7436409981715},"L",null,null,null,null,null,null,null,null,"ABS","%",{"$f":"1-((1-BE74)*(1-BE81))","v":0.27400000000000002},"$",{"$f":"BG74+BG81","v":1817.923195311995},"L",null,null,null,null,null,null,null,null,"ABS","%",{"$f":"$O82","v":0.27400000000000002},"$",{"$f":"BU74+BU81","v":1469.129531958826},"L",null,null,null,null,null,null,null,null,"ABS","%",{"$f":"$AQ82","v":0.27400000000000002},"$",{"$f":"CI74+CI81","v":1386.2092748987006},"L",null,null,null,null,null,null,null,null,"ABS","%",{"$f":"$O82","v":0.27400000000000002},"$",{"$f":"CW74+CW81","v":1876.3137822415199},"L",null,null,null,null,null,null,null,null,"ABS","%",{"$f":"$AC82","v":0.27400000000000002},"$",{"$f":"DK74+DK81","v":1527.5201188883511},"L",null,null,null,null,null,null,null,null,"ABS","%",{"$f":"$AQ82","v":0.27400000000000002},"$",{"$f":"DY74+DY81","v":1444.599861828226},"L",null,null,null,null,null,null,null,null,"ABS","%",{"$f":"$O82","v":0.27400000000000002},"$",{"$f":"EM74+EM81","v":1384.0531651973067},"L",null,null,null,null,null,null,null,null,"ABS","%",{"$f":"$AC82","v":0.27400000000000002},"$",{"$f":"FA74+FA81","v":2145.2188582093713},"L",null,null,null,null,null,null,null,null,"ABS","%",{"$f":"$AQ82","v":0.27400000000000002},"$",{"$f":"FO74+FO81","v":2037.0945269870799},"L"]
["Displacement [L]","1.5 to 2.0"]
["Turbocharger","VNT"]
["EGR system","cooler+vlv+bypass vlv"]
["FIE","HPCR 1800bar solenoid",null,null,"2012-2016","INC","%",{"$f":"1-((1-H87)/(1-O79))","v":0},"$",0,"L","2012-2016","INC","%",0,"$",0,0,"2012-2016","INC","%",{"$f":"1-((1-V87)/(1-AC79))","v":0},"$",0,"L","2012-2016","INC","%",0,"$",0,0,"2012-2016","INC","%",{"$f":"1-((1-AJ87)/(1-AQ79))","v":0},"$",0,"L","2012-2016","INC","%",0,"$",0,0,"2012-2016","INC","%",{"$f":"1-((1-AX87)/(1-BE79))","v":-7.9280954326652608E-3},"$",0,"L","2012-2016","INC","%",0,"$",0,0,"2012-2016","INC","%",{"$f":"1-((1-BL87)/(1-BS79))","v":0},"$",0,"L","2012-2016","INC","%",0,"$",0,0,"2012-2016","INC","%",{"$f":"1-((1-BZ87)/(1-CG79))","v":0},"$",0,"L","2012-2016","INC","%",0,"$",0,0,"2012-2016","INC","%",{"$f":"1-((1-CN87)/(1-CU79))","v":8.1958452028896289E-4},"$",0,"L","2012-2016","INC","%",0,"$",0,0,"2012-2016","INC","%",{"$f":"1-((1-DB87)/(1-DI79))","v":0},"$",0,"L","2012-2016","INC","%",0,"$",0,0,"2012-2016","INC","%",{"$f":"1-((1-DP87)/(1-DW79))","v":0},"$",0,"L","2012-2016","INC","%",0,"$",0,0,"2012-2016","INC","%",{"$f":"1-((1-ED87)/(1-EK79))","v":-4.293675782097317E-2},"$",0,"L","2012-2016","INC","%",0,"$",0,0,"2012-2016","INC","%",{"$f":"1-((1-ER87)/(1-EY79))","v":3.358660948017933E-2},"$",0,"L","2012-2016","INC","%",0,"$",0,0,"2012-2016","INC","%",{"$f":"1-((1-FF87)/(1-FM79))","v":3.358660948017933E-2},"$",0,"L","2012-2016","INC","%",0,"$",0,0]
["Valvetrain","4-valve DOHC",null,null,null,"ABS","%",{"$f":"O79","v":0.19956654840821175},"$",{"$f":"J86+Q79","v":926.64925955855733},150,null,"ABS","%",{"$f":"1-((1-O79)*(1-O86))","v":0.19956654840821175},"$",{"$f":"Q79+Q86","v":926.64925955855733},"L",null,"ABS","%",{"$f":"AC79","v":0.19890998743455479},"$",{"$f":"X86+AE79","v":477.31779101089109},200,null,"ABS","%",{"$f":"1-((1-AC79)*(1-AC86))","v":0.19890998743455479},"$",{"$f":"AE79+AE86","v":477.31779101089109},"L",null,"ABS","%",{"$f":"AQ79","v":0.19890998743455479},"$",{"$f":"AL86+AS79","v":1030.0665158129386},500,null,"ABS","%",{"$f":"1-((1-AQ79)*(1-AQ86))","v":0.19890998743455479},"$",{"$f":"AS79+AS86","v":1030.0665158129386},"L",null,"ABS","%",{"$f":"$H$87","v":0.19956654840821175},"$",{"$f":"AZ86+BG79","v":954.8261702963465},{"$f":"$K$87","v":150},null,"ABS","%",{"$f":"1-((1-BE79)*(1-BE86))","v":0.20586254593072684},"$",{"$f":"BG79+BG86","v":954.8261702963465},"L",null,"ABS","%",{"$f":"$V$87","v":0.19890998743455479},"$",{"$f":"BN86+BU79","v":378.35306532426478},{"$f":"$Y$87","v":200},null,"ABS","%",{"$f":"1-((1-BS79)*(1-BS86))","v":0.19890998743455479},"$",{"$f":"BU79+BU86","v":378.35306532426478},"L",null,"ABS","%",{"$f":"$AJ$87","v":0.19890998743455479},"$",{"$f":"CB86+CI79","v":917.53214971346802},{"$f":"$AM$87","v":500},null,"ABS","%",{"$f":"1-((1-CG79)*(1-CG86))","v":0.19890998743455479},"$",{"$f":"CI79+CI86","v":917.53214971346802},"L",null,"ABS","%",{"$f":"$H$87","v":0.19956654840821175},"$",{"$f":"CP86+CW79","v":1013.2167572258717},{"$f":"$K$87","v":150},null,"ABS","%",{"$f":"1-((1-CU79)*(1-CU86))","v":0.19890998743455501},"$",{"$f":"CW79+CW86","v":1013.2167572258717},"L",null,"ABS","%",{"$f":"$V$87","v":0.19890998743455479},"$",{"$f":"DD86+DK79","v":436.74365225378995},{"$f":"$Y$87","v":200},null,"ABS","%",{"$f":"1-((1-DI79)*(1-DI86))","v":0.19890998743455501},"$",{"$f":"DK79+DK86","v":436.74365225378995},"L",null,"ABS","%",{"$f":"$AJ$87","v":0.19890998743455479},"$",{"$f":"DR86+DY79","v":975.92273664299319},{"$f":"$AM$87","v":500},null,"ABS","%",{"$f":"1-((1-DW79)*(1-DW86))","v":0.19890998743455501},"$",{"$f":"DY79+DY86","v":975.92273664299319},"L",null,"ABS","%",{"$f":"$H$87","v":0.19956654840821175},"$",{"$f":"EF86+EM79","v":520.95614018165861},{"$f":"$K$87","v":150},null,"ABS","%",{"$f":"1-((1-EK79)*(1-EK86))","v":0.23251966565628723},"$",{"$f":"EM79+EM86","v":520.95614018165861},"L",null,"ABS","%",{"$f":"$V$87","v":0.19890998743455479},"$",{"$f":"ET86+FA79","v":1054.4423915748105},{"$f":"$Y$87","v":200},null,"ABS","%",{"$f":"1-((1-EY79)*(1-EY86))","v":0.17106900584795315},"$",{"$f":"FA79+FA86","v":1054.4423915748105},"L",null,"ABS","%",{"$f":"$AJ$87","v":0.19890998743455479},"$",{"$f":"FH86+FO79","v":1568.4174018018473},{"$f":"$AM$87","v":500},null,"ABS","%",{"$f":"1-((1-FM79)*(1-FM86))","v":0.17106900584795315},"$",{"$f":"FO79+FO86","v":1568.4174018018473},"L"]
["Valvetrain option","N/A",null,null,null,null,"Advanced Diesel\n(ADSL_SD) - TBL",null,null,null,null,"ADSL_SD",null,"To Strong Hybrids",null,null,null,null,null,null,"Advanced Diesel\n(ADSL_MD) - TBL",null,null,null,null,"ADSL_MD",null,"To Strong Hybrids",null,null,null,null,null,null,"Advanced Diesel\n(ADSL_LD) - TBL",null,null,null,null,"ADSL_LD",null,"To Strong Hybrids",null,null,null,null,null,null,"Advanced Diesel\n(ADSL_SD) - TBL",null,null,null,null,"ADSL_SD",null,"To Strong Hybrids",null,null,null,null,null,null,"Advanced Diesel\n(ADSL_MD) - TBL",null,null,null,null,"ADSL_SD",null,"To Strong Hybrids",null,null,null,null,null,null,"Advanced Diesel\n(ADSL_LD) - TBL",null,null,null,null,"ADSL_SD",null,"To Strong Hybrids",null,null,null,null,null,null,"Advanced Diesel\n(ADSL_SD) - TBL",null,null,null,null,"ADSL_SD",null,"To Strong Hybrids",null,null,null,null,null,null,"Advanced Diesel\n(ADSL_MD) - TBL",null,null,null,null,"ADSL_SD",null,"To Strong Hybrids",null,null,null,null,null,null,"Advanced Diesel\n(ADSL_LD) - TBL",null,null,null,null,"ADSL_SD",null,"To Strong Hybrids",null,null,null,null,null,null,"Advanced Diesel\n(ADSL_SD) - TBL",null,null,null,null,"ADSL_SD",null,"To Strong Hybrids",null,null,null,null,null,null,"Advanced Diesel\n(ADSL_MD) - TBL",null,null,null,null,"ADSL_SD",null,"To Strong Hybrids",null,null,null,null,null,null,"Advanced Diesel\n(ADSL_LD) - TBL",null,null,null,null,"ADSL_SD",null,"To Strong Hybrids"]
["After Treatment","DOC+LNT+DPF",null,null,"2017+","INC","%",{"$f":"1-((1-H90)/(1-O82))","v":2.7548209366391241E-2},"$",{"$f":"INDEX('[1]Midsize PC'!$H$379:$X$467,MATCH(L88,'[1]Midsize PC'!$C$379:$C$467,0),MATCH(Inputs!$C$2,'[1]Midsize PC'!$H$378:$X$378,0))","v":911.04083256975923},"L","2017+","INC","%",0,"$",{"$f":"Q86","v":0},0,"2017+","INC","%",{"$f":"1-((1-V90)/(1-AC82))","v":2.7548209366391241E-2},"$",{"$f":"INDEX('[1]Midsize PC'!$H$379:$X$467,MATCH(Z88,'[1]Midsize PC'!$C$379:$C$467,0),MATCH(Inputs!$C$2,'[1]Midsize PC'!$H$378:$X$378,0))","v":927.85441038425756},"L","2017+","INC","%",0,"$",{"$f":"AE86","v":0},0,"2017+","INC","%",{"$f":"1-((1-AJ90)/(1-AQ82))","v":2.7548209366391241E-2},"$",{"$f":"INDEX('[1]Midsize PC'!$H$379:$X$467,MATCH(AN88,'[1]Midsize PC'!$C$379:$C$467,0),MATCH(Inputs!$C$2,'[1]Midsize PC'!$H$378:$X$378,0))","v":1811.581549062259},"L","2017+","INC","%",0,"$",{"$f":"AS86","v":0},0,"2017+","INC","%",{"$f":"1-((1-AX90)/(1-BE82))","v":2.7548209366391241E-2},"$",{"$f":"$J$89","v":911.04083256975923},"L","2017+","INC","%",0,"$",{"$f":"BG86","v":0},0,"2017+","INC","%",{"$f":"1-((1-BL90)/(1-BS82))","v":2.7548209366391241E-2},"$",{"$f":"$X$89","v":927.85441038425756},"L","2017+","INC","%",0,"$",{"$f":"BU86","v":0},0,"2017+","INC","%",{"$f":"1-((1-BZ90)/(1-CG82))","v":2.7548209366391241E-2},"$",{"$f":"$AL$89","v":1811.581549062259},"L","2017+","INC","%",0,"$",{"$f":"CI86","v":0},0,"2017+","INC","%",{"$f":"1-((1-CN90)/(1-CU82))","v":2.7548209366391241E-2},"$",{"$f":"$J$89","v":911.04083256975923},"L","2017+","INC","%",0,"$",{"$f":"CW86","v":0},0,"2017+","INC","%",{"$f":"1-((1-DB90)/(1-DI82))","v":2.7548209366391241E-2},"$",{"$f":"$X$89","v":927.85441038425756},"L","2017+","INC","%",0,"$",{"$f":"DK86","v":0},0,"2017+","INC","%",{"$f":"1-((1-DP90)/(1-DW82))","v":2.7548209366391241E-2},"$",{"$f":"$AL$89","v":1811.581549062259},"L","2017+","INC","%",0,"$",{"$f":"DY86","v":0},0,"2017+","INC","%",{"$f":"1-((1-ED90)/(1-EK82))","v":2.7548209366391241E-2},"$",{"$f":"$J$89","v":911.04083256975923},"L","2017+","INC","%",0,"$",{"$f":"EM86","v":0},0,"2017+","INC","%",{"$f":"1-((1-ER90)/(1-EY82))","v":2.7548209366391241E-2},"$",{"$f":"$X$89","v":927.85441038425756},"L","2017+","INC","%",0,"$",{"$f":"FA86","v":0},0,"2017+","INC","%",{"$f":"1-((1-FF90)/(1-FM82))","v":2.7548209366391241E-2},"$",{"$f":"$AL$89","v":1811.581549062259},"L","2017+","INC","%",0,"$",{"$f":"FO86","v":0},0]
[null,null,null,null,null,"ABS","%",0.29399999999999998,"$",{"$f":"Q82+J89","v":2700.7871171439647},150,null,"ABS","%",{"$f":"1-((1-O82)*(1-O89))","v":0.27400000000000002},"$",{"$f":"Q82+Q89","v":1789.7462845742057},"L",null,"ABS","%",{"$f":"H90","v":0.29399999999999998},"$",{"$f":"AE82+X89","v":2495.94866802971},200,null,"ABS","%",{"$f":"1-((1-AC82)*(1-AC89))","v":0.27400000000000002},"$",{"$f":"AE82+AE89","v":1568.0942576454524},"L",null,"ABS","%",{"$f":"H90","v":0.29399999999999998},"$",{"$f":"AS82+AL89","v":3310.3251900604305},500,null,"ABS","%",{"$f":"1-((1-AQ82)*(1-AQ89))","v":0.27400000000000002},"$",{"$f":"AS82+AS89","v":1498.7436409981715},"L",null,"ABS","%",{"$f":"$H$90","v":0.29399999999999998},"$",{"$f":"$J$90","v":2700.7871171439647},{"$f":"$K$90","v":150},null,"ABS","%",{"$f":"1-((1-BE82)*(1-BE89))","v":0.27400000000000002},"$",{"$f":"BG82+BG89","v":1817.923195311995},"L",null,"ABS","%",{"$f":"$V$90","v":0.29399999999999998},"$",{"$f":"$X$90","v":2495.94866802971},{"$f":"$Y$90","v":200},null,"ABS","%",{"$f":"1-((1-BS82)*(1-BS89))","v":0.27400000000000002},"$",{"$f":"BU82+BU89","v":1469.129531958826},"L",null,"ABS","%",{"$f":"$AJ$90","v":0.29399999999999998},"$",{"$f":"$AL$90","v":3310.3251900604305},{"$f":"$AM$90","v":500},null,"ABS","%",{"$f":"1-((1-CG82)*(1-CG89))","v":0.27400000000000002},"$",{"$f":"CI82+CI89","v":1386.2092748987006},"L",null,"ABS","%",{"$f":"$H$90","v":0.29399999999999998},"$",{"$f":"$J$90","v":2700.7871171439647},{"$f":"$K$90","v":150},null,"ABS","%",{"$f":"1-((1-CU82)*(1-CU89))","v":0.27400000000000002},"$",{"$f":"CW82+CW89","v":1876.3137822415199},"L",null,"ABS","%",{"$f":"$V$90","v":0.29399999999999998},"$",{"$f":"$X$90","v":2495.94866802971},{"$f":"$Y$90","v":200},null,"ABS","%",{"$f":"1-((1-DI82)*(1-DI89))","v":0.27400000000000002},"$",{"$f":"DK82+DK89","v":1527.5201188883511},"L",null,"ABS","%",{"$f":"$AJ$90","v":0.29399999999999998},"$",{"$f":"$AL$90","v":3310.3251900604305},{"$f":"$AM$90","v":500},null,"ABS","%",{"$f":"1-((1-DW82)*(1-DW89))","v":0.27400000000000002},"$",{"$f":"DY82+DY89","v":1444.599861828226},"L",null,"ABS","%",{"$f":"$H$90","v":0.29399999999999998},"$",{"$f":"$J$90","v":2700.7871171439647},{"$f":"$K$90","v":150},null,"ABS","%",{"$f":"1-((1-EK82)*(1-EK89))","v":0.27400000000000002},"$",{"$f":"EM82+EM89","v":1384.0531651973067},"L",null,"ABS","%",{"$f":"$V$90","v":0.29399999999999998},"$",{"$f":"$X$90","v":2495.94866802971},{"$f":"$Y$90","v":200},null,"ABS","%",{"$f":"1-((1-EY82)*(1-EY89))","v":0.27400000000000002},"$",{"$f":"FA82+FA89","v":2145.2188582093713},"L",null,"ABS","%",{"$f":"$AJ$90","v":0.29399999999999998},"$",{"$f":"$AL$90","v":3310.3251900604305},{"$f":"$AM$90","v":500},null,"ABS","%",{"$f":"1-((1-FM82)*(1-FM89))","v":0.27400000000000002},"$",{"$f":"FO82+FO89","v":2037.0945269870799},"L"]
[]
[]
[]
[]
[]
[]
[]
["Expanded Trans/Hybrid Technology Decision Tree"]
[]
[]
[null,null,null,null,"Electrification",null,null,null,null,null,null,null,null,null,null,null,null,null,null,null,null,"Manual Trans",null,null,null,null,null,null,null,null,null,null,null,"Auto Trans"]
[]
[null,"START",null,null,"2012-2016","INC","%",1.2999999999999999E-2,"$",{"$f":"INDEX('[1]Midsize PC'!$H$379:$X$467,MATCH(L105,'[1]Midsize PC'!$C$379:$C$467,0),MATCH(Inputs!$C$2,'[1]Midsize PC'!$H$378:$X$378,0))","v":98.103282519162363},95.93,null,null,null,"START",null,null,null,"2012-2016","INC","%",2.3900000000000001E-2,"$",{"$f":"INDEX('[1]Midsize PC'!$H$379:$X$467,MATCH(Z105,'[1]Midsize PC'!$C$379:$C$467,0),MATCH(Inputs!$C$2,'[1]Midsize PC'!$H$378:$X$378,0))","v":250.31750824336308},225.33,null,null,null,"START",null,null,null,"2012-2016","INC","%",0.03,"$",{"$f":"INDEX('[1]Midsize PC'!$H$379:$X$467,MATCH(AN105,'[1]Midsize PC'!$C$379:$C$467,0),MATCH(Inputs!$C$2,'[1]Midsize PC'!$H$378:$X$378,0))","v":55.807948333210945},54.17]
["Curb Weight (lbs)",3725,null,null,null,"ABS","%",{"$f":"H103","v":1.2999999999999999E-2},"$",{"$f":"J103","v":98.103282519162363},"L",null,null,null,"5-spd",null,null,null,null,"ABS","%",{"$f":"V103","v":2.3900000000000001E-2},"$",{"$f":"X103","v":250.31750824336308},"L",null,null,null,"4/5-spd",null,null,null,null,"ABS","%",{"$f":"AJ103","v":0.03},"$",{"$f":"AL103","v":55.807948333210945},"L"]
["Engine Displacement [L]",2.9,null,null,null,null,"Electric Power\nSteering (EPS) - TBL",null,null,null,null,"EPS",null,null,"Manual",null,null,null,null,null,"6 Speed Man/Imp.\nInternals (6MAN) - TBL",null,null,null,null,"6MAN",null,null,"Auto",null,null,null,null,null,"Imp. Auto Trans Cnrt./\nExternals (IATC) - TBL",null,null,null,null,"IATC"]
["Engine Power (HP)",205,null,null,"2017+","INC","%",{"$f":"H103","v":1.2999999999999999E-2},"$",{"$f":"J103","v":98.103282519162363},{"$f":"K103","v":95.93},null,null,null,null,null,null,null,"2017+","INC","%",2.3900000000000001E-2,"$",{"$f":"X103","v":250.31750824336308},225.33,null,null,null,null,null,null,null,"2017+","INC","%",{"$f":"AJ103","v":0.03},"$",{"$f":"AL103","v":55.807948333210945},54.17]
["Engine Torque (ft-lbf)",206,null,null,null,"ABS","%",{"$f":"H106","v":1.2999999999999999E-2},"$",{"$f":"J106","v":98.103282519162363},"L",null,null,null,null,null,null,null,null,"ABS","%",{"$f":"V106","v":2.3900000000000001E-2},"$",{"$f":"X106","v":250.31750824336308},"L",null,null,null,null,null,null,null,null,"ABS","%",{"$f":"AJ106","v":0.03},"$",{"$f":"AL106","v":55.807948333210945},"L"]
["Footprint (ft2)",47.2]
[]
[]
[null,null,null,null,"2012-2016","INC","%",{"$f":"1-((1-H112)/(1-H104))","v":1.2158054711246202E-2},"$",{"$f":"INDEX('[1]Midsize PC'!$H$379:$X$467,MATCH(L113,'[1]Midsize PC'!$C$379:$C$467,0),MATCH(Inputs!$C$2,'[1]Midsize PC'!$H$378:$X$378,0))","v":79.784981333734891},115.2,null,null,null,null,null,null,null,"2012-2016","INC","%",0,"$",0,100.55,null,null,null,null,null,null,null,"2012-2016","INC","%",{"$f":"1-((1-AJ112)/(1-AJ104))","v":2.0356899890104252E-2},"$",{"$f":"INDEX('[1]Midsize PC'!$H$379:$X$467,MATCH(AN113,'[1]Midsize PC'!$C$379:$C$467,0),MATCH(Inputs!$C$2,'[1]Midsize PC'!$H$378:$X$378,0))","v":-37.91558007744085},100.55]
[null,null,null,null,null,"ABS","%",2.5000000000000001E-2,"$",{"$f":"J104+J111","v":177.88826385289724},"L",null,null,null,null,null,null,null,null,"ABS","%",{"$f":"V104","v":2.3900000000000001E-2},"$",{"$f":"X111+X104","v":250.31750824336308},"L",null,null,null,null,null,null,null,null,"ABS","%",{"$f":"1-((1-6.4%)/(1-1.5%))","v":4.9746192893401098E-2},"$",{"$f":"AL111+AL104","v":17.892368255770094},"L"]
[null,null,null,null,null,null,"Improved Accessories 1\n(IACC1) - TBL",null,null,null,null,"IACC1",null,null,"From Engine Path\n2012-2016 ",null,null,null,null,null,"High Eff. Gearbox \n(Manual) -  (HETRANSM) - TBL",null,null,null,null,"HETRANS",null,null,null,null,null,null,null,null,"6-spd Auto Trans w/Imp\nInternals (NAUTO) - TBL",null,null,null,null,"NAUTO"]
[null,null,null,null,"2017+","INC","%",{"$f":"1-((1-H115)/(1-H107))","v":1.2158054711246202E-2},"$",{"$f":"J111","v":79.784981333734891},{"$f":"K111","v":115.2},null,null,null,null,null,null,null,"2017+","INC","%",{"$f":"1-((1-V115)/(1-V107))","v":4.0805721530451589E-2},"$",{"$f":"INDEX('[1]Midsize PC'!$H$379:$X$467,MATCH(Z113,'[1]Midsize PC'!$C$379:$C$467,0),MATCH(Inputs!$C$2,'[1]Midsize PC'!$H$378:$X$378,0))","v":227.42624881754446},10,null,null,null,null,null,null,null,"2017+","INC","%",{"$f":"1-((1-AJ115)/(1-AJ107))","v":2.0356899890104252E-2},"$",{"$f":"AL111","v":-37.91558007744085},10]
[null,null,null,null,null,"ABS","%",{"$f":"H112","v":2.5000000000000001E-2},"$",{"$f":"J107+J114","v":177.88826385289724},"L",null,null,null,null,null,null,null,null,"ABS","%",{"$f":"1-((1-7.74%)/(1-1.46%))","v":6.3730464785873853E-2},"$",{"$f":"X107+X114","v":477.74375706090757},"L",null,null,null,null,null,null,null,null,"ABS","%",{"$f":"AJ112","v":4.9746192893401098E-2},"$",{"$f":"AL107+AL114","v":17.892368255770094},"L"]
[]
[]
[]
[null,null,null,null,"2012-2016","INC","%",{"$f":"1-((1-H120)/(1-H112))","v":0},"$",0,0,"2012-2016","INC","%",{"$f":"1-((1-O120)/(((1-$O$87)*(1-$H$136)*(1-AJ144))))","v":5.2999201836847809E-2},"$",{"$f":"INDEX('[1]Midsize PC'!$H$379:$X$467,MATCH(M121,'[1]Midsize PC'!$C$379:$C$467,0),MATCH(Inputs!$C$2,'[1]Midsize PC'!$H$378:$X$378,0))\n+INDEX('[1]Midsize PC'!$H$379:$X$467,MATCH(S121,'[1]Midsize PC'!$C$379:$C$467,0),MATCH(Inputs!$C$2,'[1]Midsize PC'!$H$378:$X$378,0))","v":1866.5287199927945},"L",null,null,null,null,null,null,null,null,null,null,null,null,null,null,"2012-2016","INC","%",{"$f":"1-((1-AJ120)/(1-AJ112))","v":4.0598290598290454E-2},"$",{"$f":"INDEX('[1]Midsize PC'!$H$379:$X$467,MATCH(AN121,'[1]Midsize PC'!$C$379:$C$467,0),MATCH(Inputs!$C$2,'[1]Midsize PC'!$H$378:$X$378,0))","v":-79.182210630830212},-10.47]
[null,null,null,null,null,"ABS","%",{"$f":"H112","v":2.5000000000000001E-2},"$",{"$f":"J112+J119","v":177.88826385289724},"L",null,"ABS","%",0.41399999999999998,"$",{"$f":"J136+Q119+Q87+AL144","v":4352.8370922702125},33.86,null,null,null,null,null,null,null,null,null,null,null,null,null,null,null,"ABS","%",{"$f":"1-((1-10.2%)/(1-1.5%))","v":8.8324873096446654E-2},"$",{"$f":"AL119+AL112","v":-61.289842375060118},"L"]
[null,null,null,null,null,null,"Improved Accessories 2\n(IACC2) - TBL",null,null,null,null,"IACC2","SHEV1_B","Strong Hybrid (Powersplit or 2-Mode) (SHEV1) - VBL",null,null,null,null,"SHEV1_NB",null,null,"From Engine Path\n2017+ ",null,null,null,null,null,null,null,null,null,null,null,null,"6-spd Dual Clutch Trans\n(DCT) - TBL",null,null,null,null,"DCT"]
[null,null,null,null,"2017+","INC","%",{"$f":"1-((1-H123)/(1-H115))","v":2.3589743589743639E-2},"$",{"$f":"INDEX('[1]Midsize PC'!$H$379:$X$467,MATCH(L121,'[1]Midsize PC'!$C$379:$C$467,0),MATCH(Inputs!$C$2,'[1]Midsize PC'!$H$378:$X$378,0))","v":50.780571415814975},0,"2017+","INC","%",0,"$",0,"L",null,null,null,null,null,null,null,null,null,null,null,null,null,null,"2017+","INC","%",{"$f":"1-((1-AJ123)/(1-AJ115))","v":4.0598290598290454E-2},"$",{"$f":"AL119","v":-79.182210630830212},{"$f":"AM119","v":-10.47}]
[null,null,null,null,null,"ABS","%",4.8000000000000001E-2,"$",{"$f":"J115+J122","v":228.6688352687122},"L",null,"ABS","%",0,"$",{"$f":"Q116+Q122","v":0},0,null,null,null,null,null,null,null,null,null,null,null,null,null,null,null,"ABS","%",{"$f":"AJ120","v":8.8324873096446654E-2},"$",{"$f":"AL115+AL122","v":-61.289842375060118},"L"]
[]
[]
[]
[null,null,null,null,"2012-2016","INC","%",{"$f":"H130","v":2.1008403361344574E-2},"$",{"$f":"INDEX('[1]Midsize PC'!$H$379:$X$467,MATCH(L129,'[1]Midsize PC'!$C$379:$C$467,0),MATCH(Inputs!$C$2,'[1]Midsize PC'!$H$378:$X$378,0))","v":325.2324815380548},259.67,"2012-2016","INC","%","n/a","$","n/a","L","2012-2016","INC","%",{"$f":"1-((1-V128)/(((1-$O$87)*(1-$H$136)*(1-AJ144))))","v":-0.61604231768455975},"$",0,"L",null,null,null,null,null,null,null,"2012-2016","INC","%",{"$f":"1-((1-AJ128)/(1-AJ120))","v":4.5657015590200523E-2},"$",{"$f":"INDEX('[1]Midsize PC'!$H$379:$X$467,MATCH(AN129,'[1]Midsize PC'!$C$379:$C$467,0),MATCH(Inputs!$C$2,'[1]Midsize PC'!$H$378:$X$378,0))","v":223.31892374342101},0]
[null,null,null,null,null,"ABS","%",{"$f":"H127+H120","v":4.6008403361344576E-2},"$",{"$f":"J120+J127","v":503.12074539095204},"L",null,"ABS","%","n/a","$","n/a",0,null,"ABS","%",0,"$",0,0,null,null,null,null,null,null,null,null,"ABS","%",{"$f":"1-((1-14.3%)/(1-1.5%))","v":0.12994923857868024},"$",{"$f":"AL120+AL127","v":162.02908136836089},"M"]
[null,null,null,null,null,null,"12V Micro Hybrid - Stop-Start\n(MHEV) - TBL",null,null,null,null,"MHEV",null,"SHEV1 --> SHEV2",null,null,null,null,null,"SHEV2_B","Strong Hybrid (P2 Parallel or 2-Mode) (SHEV2) - VBL",null,null,null,null,"SHEV2_NB",null,null,null,null,null,null,null,null,"8-spd Trans (Auto or DCT)\n(8SPD) - TBL",null,null,null,null,"8SPD"]
[null,null,null,null,"2017+","INC","%",{"$f":"1-((1-H131)/(1-H123))","v":2.1008403361344574E-2},"$",{"$f":"J127","v":325.2324815380548},{"$f":"K127","v":259.67},"2017+","INC","%",{"$f":"1-((1-V131)/(1-O120))","v":0.12457337883959052},"$",{"$f":"Q131-Q120","v":1142.8162298036441},"L","2017+","INC","%",{"$f":"1-((1-V131)/(((1-$O$90)*(1-$H$139)*(1-AJ147))))","v":1.1303147327571539E-3},"$",{"$f":"INDEX('[1]Midsize PC'!$H$379:$X$467,MATCH(T129,'[1]Midsize PC'!$C$379:$C$467,0),MATCH(Inputs!$C$2,'[1]Midsize PC'!$H$378:$X$378,0))\n+INDEX('[1]Midsize PC'!$H$379:$X$467,MATCH(Z129,'[1]Midsize PC'!$C$379:$C$467,0),MATCH(Inputs!$C$2,'[1]Midsize PC'!$H$378:$X$378,0))","v":1866.5287199927945},"L",null,null,null,null,null,null,null,"2017+","INC","%",{"$f":"1-((1-AJ131)/(1-AJ123))","v":4.5657015590200523E-2},"$",{"$f":"AL127","v":223.31892374342101},10]
[null,null,null,null,null,"ABS","%",6.8000000000000005E-2,"$",{"$f":"J123+J130","v":553.901316806767},"L",null,"ABS","%",{"$f":"V131","v":0.48699999999999999},"$",{"$f":"X130+J139+Q90+AL147","v":5495.6533220738565},0,null,"ABS","%",0.48699999999999999,"$",{"$f":"X130+J139+Q90+AL147","v":5495.6533220738565},33.86,null,null,null,null,null,null,null,null,"ABS","%",{"$f":"AJ128","v":0.12994923857868024},"$",{"$f":"AL123+AL130","v":162.02908136836089},"L"]
[]
[]
[]
[null,null,null,null,"2012-2016","INC","%",{"$f":"H138","v":6.5450643776823969E-2},"$",{"$f":"INDEX('[1]Large Perf. PC'!$H$379:$X$467,MATCH(F137,'[1]Large Perf. PC'!$C$379:$C$467,0),MATCH(Inputs!$C$2,'[1]Large Perf. PC'!$H$378:$X$378,0))\n+INDEX('[1]Large Perf. PC'!$H$379:$X$467,MATCH(L137,'[1]Large Perf. PC'!$C$379:$C$467,0),MATCH(Inputs!$C$2,'[1]Large Perf. PC'!$H$378:$X$378,0))","v":894.50928595954747},"L",null,null,null,null,null,null,null,"2012-2016","INC","%",{"$f":"1-((1-V136)/(1-V128))","v":0.35},"$",0,"L",null,null,null,null,null,null,null,"2012-2016","INC","%",{"$f":"1-((1-AJ136)/(1-AJ128))","v":0},"$",0,10]
[null,null,null,null,null,"ABS","%",{"$f":"H135+H128","v":0.11145904713816854},"$",{"$f":"J128+J135","v":1397.6300313504994},33.86,null,null,null,null,null,null,null,null,"ABS","%",0.35,"$",{"$f":"X135+X128","v":0},33.86,null,null,null,null,null,null,null,null,"ABS","%",{"$f":"AJ128","v":0.12994923857868024},"$",{"$f":"AL128+AL135","v":162.02908136836089},"L"]
[null,null,null,null,null,"ISG_B","Integrated Starter Generator\n(ISG) - VBL",null,null,null,null,"ISG_NB",null,null,null,null,null,null,null,"PHEV2_B","Plug-in Hybrid - 30 Mile Range  (PHEV1) - VBL",null,null,null,null,"PHEV2_NB",null,null,null,null,null,null,null,null,"High Eff. Gearbox\n(Auto or DCT) -  (HETRANS) - TBL",null,null,null,null,"HETRANS"]
[null,null,null,null,"2017+","INC","%",{"$f":"1-((1-H139)/(1-H131))","v":6.5450643776823969E-2},"$",{"$f":"J135","v":894.50928595954747},"L",null,null,null,null,null,null,null,"2017+","INC","%",0.40649999999999997,"$",{"$f":"INDEX('[1]Midsize PC'!$H$379:$X$467,MATCH(T137,'[1]Midsize PC'!$C$379:$C$467,0),MATCH(Inputs!$C$2,'[1]Midsize PC'!$H$378:$X$378,0))\n+INDEX('[1]Midsize PC'!$H$379:$X$467,MATCH(Z138,'[1]Midsize PC'!$C$379:$C$467,0),MATCH(Inputs!$C$2,'[1]Midsize PC'!$H$378:$X$378,0))\n+INDEX('[1]Midsize PC'!$H$379:$X$467,MATCH(Z139,'[1]Midsize PC'!$C$379:$C$467,0),MATCH(Inputs!$C$2,'[1]Midsize PC'!$H$378:$X$378,0))\n+INDEX('[1]Midsize PC'!$H$379:$X$467,MATCH(Z137,'[1]Midsize PC'!$C$379:$C$467,0),MATCH(Inputs!$C$2,'[1]Midsize PC'!$H$378:$X$378,0))","v":10019.247069132016},"L","PHEV2_C",null,null,null,null,null,null,"2017+","INC","%",{"$f":"1-((1-AJ139)/(1-AJ131))","v":2.6837806301050149E-2},"$",{"$f":"INDEX('[1]Midsize PC'!$H$379:$X$467,MATCH(AN137,'[1]Midsize PC'!$C$379:$C$467,0),MATCH(Inputs!$C$2,'[1]Midsize PC'!$H$378:$X$378,0))","v":227.42624881754446},10]
[null,null,null,null,null,"ABS","%",{"$f":"11.6%+H106","v":0.129},"$",{"$f":"J131+J138","v":1448.4106027663145},33.86,null,null,null,null,null,null,null,null,"ABS","%",{"$f":"1-((1-V131)*(1-V138))","v":0.69553449999999994},"$",{"$f":"X138+X131","v":15514.900391205872},33.86,"CHRG_L",null,null,null,null,null,null,null,"ABS","%",{"$f":"1-((1-16.6%)/(1-1.5%))","v":0.15329949238578677},"$",{"$f":"AL131+AL138","v":389.45533018590538},"L"]
[]
[]
[]
[null,null,null,null,null,null,null,null,null,null,null,null,null,null,null,null,null,null,"2012-2016","INC","%",{"$f":"1-((1-V144)/(1-V136))","v":0},"$",0,"L",null,null,null,null,null,null,null,"2012-2016","INC","%",{"$f":"1-((1-AJ144)/(1-AJ136))","v":0},"$",0,10]
[null,null,null,null,null,null,null,null,null,null,null,null,null,null,null,null,null,null,null,"ABS","%",0.35,"$",{"$f":"X143+X136","v":0},33.86,null,null,null,null,null,null,null,null,"ABS","%",{"$f":"AJ136","v":0.12994923857868024},"$",{"$f":"AL136+AL143","v":162.02908136836089},"L"]
[null,null,null,null,null,null,null,null,null,"To Strong\nHybrid",null,null,null,null,null,null,null,null,null,"PHEV2_B","Plug-in Hybrid - VBL",null,null,null,null,"PHEV2_NB",null,null,null,null,null,null,null,null,"Shift Optimizer\n (SHFTOPT) - TBL",null,null,null,null,"SHFTOPT"]
[null,null,null,null,null,null,null,null,null,null,null,null,null,null,null,null,null,null,"2017+","INC","%",0,"$",0,"L","PHEV2_C",null,null,null,null,null,null,"2017+","INC","%",{"$f":"1-((1-AJ147)/(1-AJ139))","v":4.0767386091126956E-2},"$",{"$f":"INDEX('[1]Midsize PC'!$H$379:$X$467,MATCH(AN145,'[1]Midsize PC'!$C$379:$C$467,0),MATCH(Inputs!$C$2,'[1]Midsize PC'!$H$378:$X$378,0))","v":1.5123845546366708},10]
[null,null,null,null,null,null,null,null,null,null,null,null,null,null,null,null,null,null,null,"ABS","%",{"$f":"1-((1-V139)*(1-V146))","v":0.69553449999999994},"$",{"$f":"X146+X139","v":15514.900391205872},33.86,null,null,null,null,null,null,null,null,"ABS","%",{"$f":"1-((1-20%)/(1-1.5%))","v":0.18781725888324863},"$",{"$f":"AL139+AL146","v":390.96771474054208},"L"]
[]
[]
[]
[null,null,null,null,null,null,null,null,null,null,null,null,null,null,null,null,null,null,"2012-2016","INC","%",{"$f":"1-((1-V152)/(1-V144))","v":0},"$",0,"L",null,null,null,null,null,null,null,null,null,null,null,"To Strong\n     Hybrid"]
[null,null,null,null,null,null,null,null,null,null,null,null,null,null,null,null,null,null,null,"ABS","%",0.35,"$",{"$f":"X151+X144","v":0},33.86]
[null,null,null,null,null,null,null,null,null,null,null,null,null,null,null,null,null,null,null,"EV1_B","Electric Vehicle - Early Adopter \n75 Mile Range - (EV1) - VBL",null,null,null,null,"EV1_NB"]
[null,null,null,null,null,null,null,null,null,null,null,null,null,null,null,null,null,null,"2017+","INC","%",0.68540000000000001,"$",{"$f":"INDEX('[1]Midsize PC'!$H$379:$X$467,MATCH(T153,'[1]Midsize PC'!$C$379:$C$467,0),MATCH(Inputs!$C$2,'[1]Midsize PC'!$H$378:$X$378,0))\n+INDEX('[1]Midsize PC'!$H$379:$X$467,MATCH(Z154,'[1]Midsize PC'!$C$379:$C$467,0),MATCH(Inputs!$C$2,'[1]Midsize PC'!$H$378:$X$378,0))\n+INDEX('[1]Midsize PC'!$H$379:$X$467,MATCH(Z153,'[1]Midsize PC'!$C$379:$C$467,0),MATCH(Inputs!$C$2,'[1]Midsize PC'!$H$378:$X$378,0))","v":2778.5172875327321},"L","EV_C"]
[null,null,null,null,null,null,null,null,null,null,null,null,null,null,null,null,null,null,null,"ABS","%",{"$f":"1-((1-V147)*(1-V154))","v":0.90421515369999994},"$",{"$f":"X154+X147","v":18293.417678738606},33.86]
[]
[]
[]
[null,null,null,null,null,null,null,null,null,null,null,null,null,null,null,null,null,null,"2012-2016","INC","%",{"$f":"1-((1-V160)/(1-V152))","v":0},"$",0,"L"]
[null,null,null,null,null,null,null,null,null,null,null,null,null,null,null,null,null,null,null,"ABS","%",0.35,"$",{"$f":"X159+X152","v":0},33.86]
[null,null,null,null,null,null,null,null,null,null,null,null,null,null,null,null,null,null,null,"EV2_B","Electric Vehicle - Early Adopter \n100 Mile Range - (EV2) - VBL",null,null,null,null,"EV2_NB"]
[null,null,null,null,null,null,null,null,null,null,null,null,null,null,null,null,null,null,"2017+","INC","%",0,"$",0,"L"]
[null,null,null,null,null,null,null,null,null,null,null,null,null,null,null,null,null,null,null,"ABS","%",{"$f":"1-((1-V155)*(1-V162))","v":0.90421515369999994},"$",{"$f":"X162+X155","v":18293.417678738606},33.86]
[]
[]
[]
[null,null,null,null,null,null,null,null,null,null,null,null,null,null,null,null,null,null,"2012-2016","INC","%",{"$f":"1-((1-V168)/(1-V160))","v":0},"$",0,"L"]
[null,null,null,null,null,null,null,null,null,null,null,null,null,null,null,null,null,null,null,"ABS","%",0.35,"$",{"$f":"X167+X160","v":0},33.86]
[null,null,null,null,null,null,null,null,null,null,null,null,null,null,null,null,null,null,null,"EV3_B","Electric Vehicle - Early Adopter \n150 Mile Range - (EV3) - VBL",null,null,null,null,"EV3_NB"]
[null,null,null,null,null,null,null,null,null,null,null,null,null,null,null,null,null,null,"2017+","INC","%",0,"$",0,"L"]
[null,null,null,null,null,null,null,null,null,null,null,null,null,null,null,null,null,null,null,"ABS","%",{"$f":"1-((1-V163)*(1-V170))","v":0.90421515369999994},"$",{"$f":"X170+X163","v":18293.417678738606},33.86]
[]
[]
[]
[null,null,null,null,null,null,null,null,null,null,null,"2012-2016","INC","%",{"$f":"1-((1-O176)/(1-V168))","v":0},"$",0,"L",null,null,null,null,null,null,null,"2012-2016","INC","%",{"$f":"1-((1-AC176)/(1-V168))","v":0},"$",0,"L"]
[null,null,null,null,null,null,null,null,null,null,null,null,"ABS","%",0.35,"$",{"$f":"Q175+X168","v":0},33.86,null,null,null,null,null,null,null,null,"ABS","%",0.35,"$",{"$f":"AE175+X168","v":0},33.86]
[null,null,null,null,null,null,null,null,null,null,null,null,"EV4_B","Electric Vehicle - Mass Market \n150 Mile Range - (EV4) - VBL",null,null,null,null,"EV4_NB",null,null,null,null,null,null,null,"FCV_B","Fuel Cell Vehicle\n(FCV) - VBL",null,null,null,null,"FCV_NB"]
[null,null,null,null,null,null,null,null,null,null,null,"2017+","INC","%",0,"$",{"$f":"INDEX('[1]Midsize PC'!$H$379:$X$467,MATCH(M177,'[1]Midsize PC'!$C$379:$C$467,0),MATCH(Inputs!$C$2,'[1]Midsize PC'!$H$378:$X$378,0))\n+INDEX('[1]Midsize PC'!$H$379:$X$467,MATCH(S177,'[1]Midsize PC'!$C$379:$C$467,0),MATCH(Inputs!$C$2,'[1]Midsize PC'!$H$378:$X$378,0))","v":7770.7532421989581},"L",null,null,null,null,null,null,null,"2017+","INC","%",0,"$",{"$f":"INDEX('[1]Midsize PC'!$H$379:$X$467,MATCH(AA177,'[1]Midsize PC'!$C$379:$C$467,0),MATCH(Inputs!$C$2,'[1]Midsize PC'!$H$378:$X$378,0))\n+INDEX('[1]Midsize PC'!$H$379:$X$467,MATCH(AG177,'[1]Midsize PC'!$C$379:$C$467,0),MATCH(Inputs!$C$2,'[1]Midsize PC'!$H$378:$X$378,0))","v":{"$error":"#N/A"}},"L"]
[null,null,null,null,null,null,null,null,null,null,null,null,"ABS","%",{"$f":"1-((1-V171)*(1-O178))","v":0.90421515369999994},"$",{"$f":"Q178+X171","v":26064.170920937562},33.86,null,null,null,null,null,null,null,null,"ABS","%",{"$f":"1-((1-V171)*(1-AC178))","v":0.90421515369999994},"$",{"$f":"AE178+X171","v":{"$error":"#N/A"}},33.86]
[]
[]
[]
[]
[]
["Vehicle Technology Decision Tree"]
[]
[]
[]
[null,null,"ABS - WR",{"$f":"'[1]Midsize PC'!$M$82","v":1.4999999999999999E-2},"2012-2016","INC","%",{"$f":"IF(D189<5%, D189*(3.5/10), D189*(5.1/10))","v":5.2499999999999995E-3},"$",{"$f":"INDEX('[1]Midsize PC'!$H$379:$X$467,MATCH(L191,'[1]Midsize PC'!$C$379:$C$467,0),MATCH(Inputs!$C$2,'[1]Midsize PC'!$H$378:$X$378,0))","v":6.9721687344265801E-2},1.33,null,null,null,null,null,null,null,"2012-2016","INC","%",1.9E-2,"$",{"$f":"INDEX('[1]Midsize PC'!$H$379:$X$467,MATCH(Z191,'[1]Midsize PC'!$C$379:$C$467,0),MATCH(Inputs!$C$2,'[1]Midsize PC'!$H$378:$X$378,0))","v":6.4396392400348512},5.15,null,null,null,null,null,null,null,"2012-2016","INC","%",8.0000000000000002E-3,"$",{"$f":"INDEX('[1]Midsize PC'!$H$379:$X$467,MATCH(AN191,'[1]Midsize PC'!$C$379:$C$467,0),MATCH(Inputs!$C$2,'[1]Midsize PC'!$H$378:$X$378,0))","v":70.836031640383368},5.15,null,null,null,null,null,null,null,"2012-2016","INC","%",2.3E-2,"$",{"$f":"INDEX('[1]Midsize PC'!$H$379:$X$467,MATCH(BB191,'[1]Midsize PC'!$C$379:$C$467,0),MATCH(Inputs!$C$2,'[1]Midsize PC'!$H$378:$X$378,0))","v":43.857938067390236},5.15]
[null,null,null,null,null,"ABS","%",{"$f":"H189","v":5.2499999999999995E-3},"$",{"$f":"J189","v":6.9721687344265801E-2},"L",null,null,null,null,null,null,null,null,"ABS","%",{"$f":"V189","v":1.9E-2},"$",{"$f":"X189","v":6.4396392400348512},"L",null,null,null,null,null,null,null,null,"ABS","%",{"$f":"AJ189","v":8.0000000000000002E-3},"$",{"$f":"AL189","v":70.836031640383368},"L",null,null,null,null,null,null,null,null,"ABS","%",{"$f":"AX189","v":2.3E-2},"$",{"$f":"AZ189","v":43.857938067390236},"L"]
[null,null,null,null,null,null,"Mass Reduction\n(MR1) - ($/pound) - TBL",null,null,null,null,"MR1",null,null,null,null,null,null,null,null,"Low Roll Resistance Tires 1\n (ROLL1) - No Learning Applied",null,null,null,null,"ROLL1",null,null,null,null,null,null,null,null,"Low Drag Brakes (LDB)\nNo Learning Applied",null,null,null,null,"LDB",null,null,null,null,null,null,null,null,"Aerodynamic Drag Reduction 1\n (AERO1) - No Learming Applied",null,null,null,null,"AERO1"]
[null,null,null,null,"2017+","INC","%",{"$f":"H189","v":5.2499999999999995E-3},"$",{"$f":"J189","v":6.9721687344265801E-2},1.33,null,null,null,null,null,null,null,"2017+","INC","%",{"$f":"V189","v":1.9E-2},"$",{"$f":"X189","v":6.4396392400348512},5.15,null,null,null,null,null,null,null,"2017+","INC","%",{"$f":"AJ189","v":8.0000000000000002E-3},"$",{"$f":"AL189","v":70.836031640383368},5.15,null,null,null,null,null,null,null,"2017+","INC","%",{"$f":"AX189","v":2.3E-2},"$",{"$f":"AZ189","v":43.857938067390236},5.15]
[null,null,null,null,null,"ABS","%",{"$f":"H192","v":5.2499999999999995E-3},"$",{"$f":"J192","v":6.9721687344265801E-2},"L",null,null,null,null,null,null,null,null,"ABS","%",{"$f":"V192","v":1.9E-2},"$",{"$f":"X192","v":6.4396392400348512},"L",null,null,null,null,null,null,null,null,"ABS","%",{"$f":"AJ192","v":8.0000000000000002E-3},"$",{"$f":"AL192","v":70.836031640383368},"L",null,null,null,null,null,null,null,null,"ABS","%",{"$f":"AX192","v":2.3E-2},"$",{"$f":"AZ192","v":43.857938067390236},"L"]
[]
[]
[]
[null,null,"INC - WR",{"$f":"'[1]Midsize PC'!$M$83","v":2.0000000000000004E-2},"2012-2016","INC","%",{"$f":"1-((1-H198)/(1-H190))","v":7.036943955767816E-3},"$",{"$f":"INDEX('[1]Midsize PC'!$H$379:$X$467,MATCH(L199,'[1]Midsize PC'!$C$379:$C$467,0),MATCH(Inputs!$C$2,'[1]Midsize PC'!$H$378:$X$378,0))","v":0.23240562448088598},1.33,null,null,null,null,null,null,null,"2012-2016","INC","%",{"$f":"1-((1-V198)/(1-V190))","v":2.0387359836901098E-2},"$",{"$f":"0","v":0},5.15,null,null,null,null,null,null,null,"2012-2016","INC","%",1.4E-2,"$",{"$f":"INDEX('[1]Midsize PC'!$H$379:$X$467,MATCH(AN199,'[1]Midsize PC'!$C$379:$C$467,0),MATCH(Inputs!$C$2,'[1]Midsize PC'!$H$378:$X$378,0))","v":87.568251496242709},5.15,null,null,null,null,null,null,null,"2012-2016","INC","%",{"$f":"1-((1-AX198)/(1-AX190))","v":2.4564994882292801E-2},"$",{"$f":"INDEX('[1]Midsize PC'!$H$379:$X$467,MATCH(BB199,'[1]Midsize PC'!$C$379:$C$467,0),MATCH(Inputs!$C$2,'[1]Midsize PC'!$H$378:$X$378,0))","v":154.95277498661324},5.15]
[null,null,"ABS - WR",{"$f":"D197+D189","v":3.5000000000000003E-2},null,"ABS","%",{"$f":"IF(D198<5%,D198 D198*(3.5/10), D198*(5.1/10))","v":1.225E-2},"$",{"$f":"J197","v":0.23240562448088598},"L",null,null,null,null,null,null,null,null,"ABS","%",3.9E-2,"$",{"$f":"X190+X197","v":6.4396392400348512},"L",null,null,null,null,null,null,null,null,"ABS","%",{"$f":"1-(1-AJ190)*(1-AJ197)","v":2.1888000000000019E-2},"$",{"$f":"AL190+AL197","v":158.40428313662608},"L",null,null,null,null,null,null,null,null,"ABS","%",4.7E-2,"$",{"$f":"AZ190+AZ197","v":198.81071305400349},"L"]
[null,null,null,null,null,null,"Mass Reduction\n(MR2) - ($/pound) - TBL",null,null,null,null,"MR2",null,null,null,null,null,null,null,null,"Low Roll Resistance Tires 2\n (ROLL2) - No Learning Applied",null,null,null,null,"ROLL2",null,null,null,null,null,null,null,null,"Secondary Axle Discon. (SAXU/SAXL)\nTBL",null,null,null,null,"SAX",null,null,null,null,null,null,null,null,"Aerodynamic Drag Reduction 2\n (AERO2) - No Learming Applied",null,null,null,null,"AERO2"]
[null,null,null,null,"2017+","INC","%",{"$f":"1-((1-H201)/(1-H193))","v":7.036943955767816E-3},"$",{"$f":"J197","v":0.23240562448088598},1.33,null,null,null,null,null,null,null,"2017+","INC","%",{"$f":"1-((1-V201)/(1-V193))","v":2.0387359836901098E-2},"$",{"$f":"INDEX('[1]Midsize PC'!$H$379:$X$467,MATCH(Z199,'[1]Midsize PC'!$C$379:$C$467,0),MATCH(Inputs!$C$2,'[1]Midsize PC'!$H$378:$X$378,0))","v":50.173232527734726},5.15,null,null,null,null,null,null,null,"2017+","INC","%",{"$f":"AJ197","v":1.4E-2},"$",{"$f":"AL197","v":87.568251496242709},5.15,null,null,null,null,null,null,null,"2017+","INC","%",{"$f":"1-((1-AX201)/(1-AX193))","v":2.4564994882292801E-2},"$",{"$f":"AZ197","v":154.95277498661324},5.15]
[null,null,null,null,null,"ABS","%",{"$f":"IF(D198<5%, D198*(3.5/10), D198*(5.1/10))","v":1.225E-2},"$",{"$f":"J200","v":0.23240562448088598},"L",null,null,null,null,null,null,null,null,"ABS","%",{"$f":"V198","v":3.9E-2},"$",{"$f":"X193+X200","v":56.612871767769576},"L",null,null,null,null,null,null,null,null,"ABS","%",{"$f":"1-(1-AJ193)*(1-AJ200)","v":2.1888000000000019E-2},"$",{"$f":"AL193+AL200","v":158.40428313662608},"L",null,null,null,null,null,null,null,null,"ABS","%",{"$f":"AX198","v":4.7E-2},"$",{"$f":"AZ193+AZ200","v":198.81071305400349},"L"]
[]
[]
[]
[null,null,"INC - WR",{"$f":"'[1]Midsize PC'!$M$84","v":0},"2012-2016","INC","%",{"$f":"1-((1-H206)/(1-H198))","v":0},"$",{"$f":"INDEX('[1]Midsize PC'!$H$379:$X$467,MATCH(L207,'[1]Midsize PC'!$C$379:$C$467,0),MATCH(Inputs!$C$2,'[1]Midsize PC'!$H$378:$X$378,0))","v":0},1.33,null,null,null,null,null,null,null,"2012-2016","INC","%",0,"$",0,0]
[null,null,"ABS - WR",{"$f":"D205+D198","v":3.5000000000000003E-2},null,"ABS","%",{"$f":"IF(D206<5%, D206*(3.5/10), D206*(5.1/10))","v":1.225E-2},"$",{"$f":"J205","v":0},"L",null,null,null,null,null,null,null,null,"ABS","%",{"$f":"1-((1-V198)*(1-V205))","v":3.9000000000000035E-2},"$",{"$f":"X198+X205","v":6.4396392400348512},"L"]
[null,null,null,null,null,null,"Mass Reduction\n(MR3) - ($/pound) - TBL",null,null,null,null,"MR3",null,null,null,null,null,null,null,null,"Low Roll Resistance Tires 3\n (ROLL3) - No Learning Applied"]
[null,null,null,null,"2017+","INC","%",{"$f":"1-((1-H209)/(1-H201))","v":0},"$",{"$f":"J205","v":0},1.33,null,null,null,null,null,null,null,"2017+","INC","%",0,"$",{"$f":"X205","v":0},0]
[null,null,null,null,null,"ABS","%",{"$f":"IF(D206<5%, D206*(3.5/10), D206*(5.1/10))","v":1.225E-2},"$",{"$f":"J208","v":0},"L",null,null,null,null,null,null,null,null,"ABS","%",{"$f":"1-((1-V201)*(1-V208))","v":3.9000000000000035E-2},"$",{"$f":"X201+X208","v":56.612871767769576},"L"]
[]
[]
[]
[null,null,"INC - WR",{"$f":"'[1]Midsize PC'!$M$85","v":0},"2012-2016","INC","%",{"$f":"1-((1-H214)/(1-H206))","v":0},"$",{"$f":"INDEX('[1]Midsize PC'!$H$379:$X$467,MATCH(L215,'[1]Midsize PC'!$C$379:$C$467,0),MATCH(Inputs!$C$2,'[1]Midsize PC'!$H$378:$X$378,0))","v":0},1.33]
[null,null,"ABS - WR",{"$f":"D213+D206","v":3.5000000000000003E-2},null,"ABS","%",{"$f":"IF(D214<5%, D214*(3.5/10), D214*(5.1/10))","v":1.225E-2},"$",{"$f":"J213","v":0},"L"]
[null,null,null,null,null,null,"Mass Reduction\n(MR4) - ($/pound) - TBL",null,null,null,null,"MR4"]
[null,null,null,null,"2017+","INC","%",{"$f":"1-((1-H217)/(1-H209))","v":0},"$",{"$f":"J213","v":0},1.33]
[null,null,null,null,null,"ABS","%",{"$f":"IF(D214<5%, D214*(3.5/10), D214*(5.1/10))","v":1.225E-2},"$",{"$f":"J216","v":0},"L"]
[]
[]
[]
[null,null,"INC - WR",{"$f":"'[1]Midsize PC'!$M$86","v":0},"2012-2016","INC","%",{"$f":"1-((1-H222)/(1-H214))","v":0},"$",{"$f":"INDEX('[1]Midsize PC'!$H$379:$X$467,MATCH(L223,'[1]Midsize PC'!$C$379:$C$467,0),MATCH(Inputs!$C$2,'[1]Midsize PC'!$H$378:$X$378,0))","v":0},1.33]
[null,null,"ABS - WR",{"$f":"D221+D214","v":3.5000000000000003E-2},null,"ABS","%",{"$f":"IF(D222<5%, D222*(3.5/10), D222*(5.1/10))","v":1.225E-2},"$",{"$f":"J221","v":0},"L"]
[null,null,null,null,null,null,"Mass Reduction\n(MR5) - ($/pound) - TBL",null,null,null,null,"MR5"]
[null,null,null,null,"2017+","INC","%",{"$f":"1-((1-H225)/(1-H217))","v":0},"$",{"$f":"J221","v":0},1.33]
[null,null,null,null,null,"ABS","%",{"$f":"IF(D222<5%, D222*(3.5/10), D222*(5.1/10))","v":1.225E-2},"$",{"$f":"J224","v":0},"L"]

{"sheet":"Midsize Perf. PC","index":7,"n_rows":225,"n_cols":173,"rows_kept":225,"cut":false,"hidden":false,"merged":[[5,62,5,66],[5,76,5,80],[5,90,5,94],[6,31,7,31],[6,32,7,32],[6,60,7,60],[6,74,7,74],[6,88,7,88],[0,0,0,172],[1,0,2,0],[3,31,4,31],[3,32,4,32],[3,60,4,60],[3,74,4,74],[3,88,4,88],[23,153,23,157],[24,25,25,25],[24,88,25,88],[24,151,25,151],[13,88,14,88],[15,90,15,94],[16,88,17,88],[21,25,22,25],[21,88,22,88],[21,151,22,151],[29,25,30,25],[29,67,30,67],[29,109,30,109],[29,151,30,151],[31,27,31,31],[31,69,31,73],[31,111,31,115],[23,27,23,31],[23,90,23,94],[39,153,39,157],[40,25,41,25],[40,67,41,67],[40,109,41,109],[40,151,41,151],[31,153,31,157],[32,25,33,25],[32,67,33,67],[32,109,33,109],[32,151,33,151],[37,25,38,25],[37,67,38,67],[37,109,38,109],[37,151,38,151],[45,25,46,25],[45,67,46,67],[45,109,46,109],[45,151,46,151],[47,27,47,31],[47,69,47,73],[47,111,47,115],[39,27,39,31],[39,69,39,73],[39,111,39,115],[47,153,47,157],[48,25,49,25],[48,67,49,67],[48,109,49,109],[48,151,49,151],[53,11,54,11],[53,25,54,25],[53,39,54,39],[53,53,54,53],[53,67,54,67],[53,165,54,165],[55,13,55,17],[55,27,55,31],[55,41,55,45],[55,55,55,59],[55,69,55,73],[55,83,55,87],[55,97,55,101],[55,111,55,115],[55,125,55,129],[53,81,54,81],[53,95,54,95],[53,109,54,109],[53,123,54,123],[53,137,54,137],[53,151,54,151],[55,139,55,143],[55,153,55,157],[55,167,55,171],[56,11,57,11],[56,25,57,25],[56,39,57,39],[56,53,57,53],[56,67,57,67],[56,81,57,81],[56,95,57,95],[56,109,57,109],[56,123,57,123],[56,137,57,137],[56,151,57,151],[56,165,57,165],[61,11,62,11],[61,25,62,25],[61,39,62,39],[61,53,62,53],[61,67,62,67],[61,165,62,165],[63,13,63,17],[63,27,63,31],[63,41,63,45],[63,55,63,59],[63,69,63,73],[63,83,63,87],[63,97,63,101],[63,111,63,115],[63,125,63,129],[61,81,62,81],[61,95,62,95],[61,109,62,109],[61,123,62,123],[61,137,62,137],[61,151,62,151],[63,139,63,143],[63,153,63,157],[63,167,63,171],[64,11,65,11],[64,25,65,25],[64,39,65,39],[64,53,65,53],[64,67,65,67],[64,81,65,81],[64,95,65,95],[64,109,65,109],[64,123,65,123],[64,137,65,137],[64,151,65,151],[64,165,65,165],[69,11,70,11],[69,25,70,25],[69,39,70,39],[69,53,70,53],[69,67,70,67],[69,165,70,165],[71,13,71,17],[71,27,71,31],[71,41,71,45],[71,55,71,59],[71,69,71,73],[71,83,71,87],[71,97,71,101],[71,111,71,115],[71,125,71,129],[69,81,70,81],[69,95,70,95],[69,109,70,109],[69,123,70,123],[69,137,70,137],[69,151,70,151],[71,139,71,143],[71,153,71,157],[77,88,78,88],[77,95,78,95],[77,102,78,102],[77,109,78,109],[71,167,71,171],[72,11,73,11],[72,25,73,25],[72,39,73,39],[72,53,73,53],[72,67,73,67],[72,81,73,81],[72,95,73,95],[72,109,73,109],[72,123,73,123],[72,137,73,137],[72,151,73,151],[72,165,73,165],[77,67,78,67],[77,74,78,74],[79,167,79,171],[80,4,81,4],[80,11,81,11],[80,18,81,18],[80,25,81,25],[80,32,81,32],[80,39,81,39],[77,165,78,165],[80,46,81,46],[80,53,81,53],[80,60,81,60],[80,67,81,67],[80,74,81,74],[80,81,81,81],[80,130,81,130],[80,137,81,137],[80,144,81,144],[77,4,78,4],[77,11,78,11],[77,18,78,18],[77,25,78,25],[77,32,78,32],[80,151,81,151],[80,158,81,158],[77,172,78,172],[79,13,79,17],[79,27,79,31],[79,41,79,45],[79,55,79,59],[79,69,79,73],[79,83,79,87],[79,97,79,101],[79,111,79,115],[77,123,78,123],[77,130,78,130],[77,137,78,137],[77,144,78,144],[77,151,78,151],[77,158,78,158],[77,81,78,81],[79,125,79,129],[79,139,79,143],[79,153,79,157],[77,116,78,116],[77,39,78,39],[77,46,78,46],[77,53,78,53],[77,60,78,60],[80,165,81,165],[80,88,81,88],[80,95,81,95],[80,102,81,102],[80,109,81,109],[80,116,81,116],[80,123,81,123],[85,46,86,46],[85,53,86,53],[85,60,86,60],[85,67,86,67],[85,74,86,74],[85,81,86,81],[85,151,86,151],[85,158,86,158],[85,165,86,165],[85,4,86,4],[85,11,86,11],[85,18,86,18],[85,25,86,25],[85,32,86,32],[85,39,86,39],[85,130,86,130],[85,137,86,137],[85,144,86,144],[85,88,86,88],[85,95,86,95],[85,102,86,102],[85,109,86,109],[85,116,86,116],[85,123,86,123],[87,48,87,52],[87,55,87,59],[87,62,87,66],[87,69,87,73],[87,76,87,80],[87,83,87,87],[87,6,87,10],[87,13,87,17],[87,20,87,24],[87,27,87,31],[87,34,87,38],[87,41,87,45],[87,132,87,136],[87,139,87,143],[87,146,87,150],[87,153,87,157],[87,160,87,164],[87,167,87,171],[87,90,87,94],[87,97,87,101],[87,104,87,108],[87,111,87,115],[87,118,87,122],[87,125,87,129],[88,144,89,144],[88,151,89,151],[88,158,89,158],[88,165,89,165],[88,88,89,88],[88,95,89,95],[88,102,89,102],[88,109,89,109],[88,116,89,116],[88,123,89,123],[97,0,97,38],[100,4,100,11],[100,21,100,23],[100,33,100,38],[102,4,103,4],[102,18,103,18],[102,32,103,32],[88,130,89,130],[88,137,89,137],[88,46,89,46],[88,53,89,53],[88,60,89,60],[88,67,89,67],[88,74,89,74],[88,81,89,81],[88,4,89,4],[88,11,89,11],[88,18,89,18],[88,25,89,25],[88,32,89,32],[88,39,89,39],[110,4,111,4],[110,32,111,32],[112,6,112,10],[112,14,114,16],[112,34,112,38],[113,4,114,4],[113,32,114,32],[104,6,104,10],[104,20,104,24],[104,34,104,38],[105,4,106,4],[105,18,106,18],[105,32,106,32],[110,18,111,18],[112,20,112,24],[113,18,114,18],[126,4,127,4],[126,32,127,32],[128,6,128,10],[128,13,128,17],[128,20,128,24],[128,34,128,38],[118,4,119,4],[118,32,119,32],[120,6,120,10],[120,13,120,17],[120,21,122,23],[120,34,120,38],[121,4,122,4],[121,32,122,32],[136,34,136,38],[137,4,138,4],[137,32,138,32],[142,32,143,32],[144,9,149,10],[144,20,144,24],[144,34,144,38],[145,32,146,32],[129,4,130,4],[129,32,130,32],[134,4,135,4],[134,32,135,32],[136,6,136,10],[136,20,136,24],[185,113,185,116],[185,148,185,151],[188,4,189,4],[188,18,189,18],[188,32,189,32],[188,46,189,46],[150,36,152,37],[152,20,152,24],[160,20,160,24],[168,20,168,24],[176,13,176,17],[176,27,176,31],[190,6,190,10],[190,20,190,24],[190,34,190,38],[190,48,190,52],[190,81,190,85],[191,4,192,4],[191,18,192,18],[191,32,192,32],[191,46,192,46],[191,80,192,80],[198,48,198,52],[199,4,200,4],[199,18,200,18],[199,32,200,32],[199,46,200,46],[200,95,201,95],[196,4,197,4],[196,18,197,18],[196,32,197,32],[196,46,197,46],[198,6,198,10],[198,20,198,24],[198,34,198,38],[200,151,201,151],[204,4,205,4],[204,18,205,18],[204,32,205,32],[206,6,206,10],[206,20,206,24],[200,102,201,102],[200,109,201,109],[200,116,201,116],[200,130,201,130],[200,137,201,137],[200,144,201,144],[215,4,216,4],[220,4,221,4],[222,6,222,10],[223,4,224,4],[207,4,208,4],[207,18,208,18],[207,32,208,32],[209,32,210,32],[212,4,213,4],[214,6,214,10]]}
["Full Engine Technology Decision Tree"]
[]
[null,"START"]
["Gas Engine Type","V6",null,null,null,null,null,null,null,null,null,null,null,null,null,null,null,null,null,null,null,null,null,null,null,null,null,null,null,null,null,null,null,null,null,null,null,null,null,null,null,null,null,null,null,null,null,null,null,null,null,null,null,null,null,null,null,null,null,null,"2012-2016","INC","%",7.0000000000000001E-3,"$",{"$f":"INDEX('[1]Midsize Perf. PC'!$H$379:$X$467,MATCH(BP6,'[1]Midsize Perf. PC'!$C$379:$C$467,0),MATCH(Inputs!$C$2,'[1]Midsize Perf. PC'!$H$378:$X$378,0))","v":3.8637835440209107},10,null,null,null,null,null,null,null,"2012-2016","INC","%",2.5999999999999999E-2,"$",{"$f":"INDEX('[1]Midsize Perf. PC'!$H$379:$X$467,MATCH(CD6,'[1]Midsize Perf. PC'!$C$379:$C$467,0),MATCH(Inputs!$C$2,'[1]Midsize Perf. PC'!$H$378:$X$378,0))*$B$13","v":87.138336134267149},10,null,null,null,null,null,null,null,"2012-2016","INC","%",{"$f":"1-((1-CN5)/(1-BZ5))","v":0},"$",0,"L"]
["Displacement [L]",3.5,null,null,null,null,null,null,null,null,null,null,null,null,null,null,null,null,null,null,null,null,null,null,null,null,null,null,null,null,null,null,null,null,null,null,null,null,null,null,null,null,null,null,null,null,null,null,null,null,null,null,null,null,null,null,null,null,null,null,null,"ABS","%",{"$f":"BL4","v":7.0000000000000001E-3},"$",{"$f":"BN4","v":3.8637835440209107},"L",null,null,null,null,null,null,null,null,"ABS","%",{"$f":"1-((1-BL5)*(1-BZ4))","v":3.2818000000000014E-2},"$",{"$f":"BN5+CB4","v":91.002119678288054},"L",null,null,null,null,null,null,null,null,"ABS","%",{"$f":"BZ5","v":3.2818000000000014E-2},"$",{"$f":"CB5","v":91.002119678288054},0]
["Turbocharger","None",null,null,null,null,null,null,null,null,null,null,null,null,null,null,null,null,null,null,null,null,null,null,null,null,null,null,null,null,null,null,null,null,null,null,null,null,null,null,null,null,null,null,null,null,null,null,null,null,null,null,null,null,null,null,null,null,null,null,null,null,"Low-Friction Lubricants 1\n(LUB1) - No Learning Applied",null,null,null,null,"LUB1",null,null,null,null,null,null,null,null,"Engine Friction Reduction 1\n(EFR1) - No Learning Applied",null,null,null,null,"EFR1",null,null,null,null,null,null,null,null,"Low-Friction Lub & Engine Friction\nRedux 2 (LUB2_EFR2) - \nNo Learning Applied",null,null,null,null,"LUB2_EFR2"]
["EGR system","None/internal",null,null,null,null,null,null,null,null,null,null,null,null,null,null,null,null,null,null,null,null,null,null,null,null,null,null,null,null,null,null,null,null,null,null,null,null,null,null,null,null,null,null,null,null,null,null,null,null,null,null,null,null,null,null,null,null,null,null,"2017+","INC","%",{"$f":"BL4","v":7.0000000000000001E-3},"$",{"$f":"BN4","v":3.8637835440209107},10,null,null,null,null,null,null,null,"2017+","INC","%",{"$f":"BZ4","v":2.5999999999999999E-2},"$",{"$f":"CB4","v":87.138336134267149},10,null,null,null,null,null,null,null,"2017+","INC","%",{"$f":"1-((1-CN8)/(1-BZ8))","v":1.2595354338687081E-2},"$",{"$f":"INDEX('[1]Midsize Perf. PC'!$H$379:$X$467,MATCH(CR6,'[1]Midsize Perf. PC'!$C$379:$C$467,0),MATCH(Inputs!$C$2,'[1]Midsize Perf. PC'!$H$378:$X$378,0))*$B$13","v":94.26109774393727},"L"]
["Valvetrain","SOHC/ DOHC/ OHV",null,null,null,null,null,null,null,null,null,null,null,null,null,null,null,null,null,null,null,null,null,null,null,null,null,null,null,null,null,null,null,null,null,null,null,null,null,null,null,null,null,null,null,null,null,null,null,null,null,null,null,null,null,null,null,null,null,null,null,"ABS","%",{"$f":"BL7","v":7.0000000000000001E-3},"$",{"$f":"BN7","v":3.8637835440209107},"L",null,null,null,null,null,null,null,null,"ABS","%",{"$f":"1-((1-BL8)*(1-BZ7))","v":3.2818000000000014E-2},"$",{"$f":"BN8+CB7","v":91.002119678288054},"L",null,null,null,null,null,null,null,null,"ABS","%",4.4999999999999998E-2,"$",{"$f":"CB8+CP7","v":185.26321742222532},33.86]
["After Treatment","3way cat"]
[]
[null,null,null,null,null,null,null,null,null,null,null,null,null,null,null,null,null,null,null,null,null,null,null,null,null,null,null,null,null,null,"SOHC",null,null,null,null,null,null,null,null,null,null,null,null,null,null,null,null,null,null,null,null,null,null,null,null,null,null,null,null,null,null,null,null,null,null,null,null,null,null,null,null,null,null,null,null,null,null,null,null,null,null,null,null,null,null,null,null,null,null,null,null,null,null,"DOHC",null,null,null,null,null,null,null,null,null,null,null,null,null,null,null,null,null,null,null,null,null,null,null,null,null,null,null,null,null,null,null,null,null,null,null,null,null,null,null,null,null,null,null,null,null,null,null,null,null,null,null,null,null,null,null,null,null,null,null,"OHV"]
[]
["Cylinders",{"$f":"IF(B4=\"I4\",4,IF(B4=\"V6\",6,8))","v":6}]
["Cylinder Banks",{"$f":"IF(B4=\"I4\",1,2)","v":2},null,null,null,null,null,null,null,null,null,null,null,null,null,null,null,null,null,null,null,null,null,null,null,null,null,null,null,null,null,null,null,null,null,null,null,null,null,null,null,null,null,null,null,null,null,null,null,null,null,null,null,null,null,null,null,null,null,null,null,null,null,null,null,null,null,null,null,null,null,null,null,null,null,null,null,null,null,null,null,null,null,null,null,null,null,null,"2012-2016","INC","%",{"$f":"CN17","v":2.6178010471204161E-2},"$",{"$f":"INDEX('[1]Midsize Perf. PC'!$H$379:$X$467,MATCH(CR16,'[1]Midsize Perf. PC'!$C$379:$C$467,0),MATCH(Inputs!$C$2,'[1]Midsize Perf. PC'!$H$378:$X$378,0))*$B$14","v":83.099251075055165},10]
[null,null,null,null,null,null,null,null,null,null,null,null,null,null,null,null,null,null,null,null,null,null,null,null,null,null,null,null,null,null,null,null,null,null,null,null,null,null,null,null,null,null,null,null,null,null,null,null,null,null,null,null,null,null,null,null,null,null,null,null,null,null,null,null,null,null,null,null,null,null,null,null,null,null,null,null,null,null,null,null,null,null,null,null,null,null,null,null,null,"ABS","%",{"$f":"1-((1-CN5)*(1-CN14))","v":5.8136900523560242E-2},"$",{"$f":"CP5+CP14","v":174.10137075334322},"L"]
[null,null,null,null,null,null,null,null,null,null,null,null,null,null,null,null,null,null,null,null,null,null,null,null,null,null,null,null,null,null,null,null,null,null,null,null,null,null,null,null,null,null,null,null,null,null,null,null,null,null,null,null,null,null,null,null,null,null,null,null,null,null,null,null,null,null,null,null,null,null,null,null,null,null,null,null,null,null,null,null,null,null,null,null,null,null,null,null,null,null,"Intake Cam Phasing\n(ICP) - TBL",null,null,null,null,"ICP"]
[null,null,null,null,null,null,null,null,null,null,null,null,null,null,null,null,null,null,null,null,null,null,null,null,null,null,null,null,null,null,null,null,null,null,null,null,null,null,null,null,null,null,null,null,null,null,null,null,null,null,null,null,null,null,null,null,null,null,null,null,null,null,null,null,null,null,null,null,null,null,null,null,null,null,null,null,null,null,null,null,null,null,null,null,null,null,null,null,"2017+","INC","%",{"$f":"1-((1-CN18)/(1-CN8))","v":2.6178010471204161E-2},"$",{"$f":"CP14","v":83.099251075055165},10]
[null,null,null,null,null,null,null,null,null,null,null,null,null,null,null,null,null,null,null,null,null,null,null,null,null,null,null,null,null,null,null,null,null,null,null,null,null,null,null,null,null,null,null,null,null,null,null,null,null,null,null,null,null,null,null,null,null,null,null,null,null,null,null,null,null,null,null,null,null,null,null,null,null,null,null,null,null,null,null,null,null,null,null,null,null,null,null,null,null,"ABS","%",7.0000000000000007E-2,"$",{"$f":"CP8+CP17","v":268.36246849728047},"L"]
[]
[]
[]
["Notes: ","(1) All costs shown in $2009",null,null,null,null,null,null,null,null,null,null,null,null,null,null,null,null,null,null,null,null,null,null,null,"2012-2016","INC","%",{"$f":"AC25","v":5.0261780104711939E-2},"$",{"$f":"INDEX('[1]Midsize Perf. PC'!$H$379:$X$467,MATCH(AG24,'[1]Midsize Perf. PC'!$C$379:$C$467,0),MATCH(Inputs!$C$2,'[1]Midsize Perf. PC'!$H$378:$X$378,0))*$B$14","v":83.099251075055165},10,null,null,null,null,null,null,null,null,null,null,null,null,null,null,null,null,null,null,null,null,null,null,null,null,null,null,null,null,null,null,null,null,null,null,null,null,null,null,null,null,null,null,null,null,null,null,null,null,null,null,null,null,null,null,null,null,"2012-2016","INC","%",{"$f":"CN25","v":2.4731182795698858E-2},"$",{"$f":"INDEX('[1]Midsize Perf. PC'!$H$379:$X$467,MATCH(CR24,'[1]Midsize Perf. PC'!$C$379:$C$467,0),MATCH(Inputs!$C$2,'[1]Midsize Perf. PC'!$H$378:$X$378,0))*$B$14","v":77.055707884563404},10]
[null,null,null,null,null,null,null,null,null,null,null,null,null,null,null,null,null,null,null,null,null,null,null,null,null,null,"ABS","%",{"$f":"1-((1-CN5)*(1-AC22))","v":8.1430289005235523E-2},"$",{"$f":"CP5+AE22","v":174.10137075334322},"L",null,null,null,null,null,null,null,null,null,null,null,null,null,null,null,null,null,null,null,null,null,null,null,null,null,null,null,null,null,null,null,null,null,null,null,null,null,null,null,null,null,null,null,null,null,null,null,null,null,null,null,null,null,null,null,null,null,"ABS","%",{"$f":"1-((1-CN15)*(1-CN22))","v":8.1430289005235523E-2},"$",{"$f":"CP15+CP22","v":251.15707863790664},"L"]
[null,null,null,null,null,null,null,null,null,null,null,null,null,null,null,null,null,null,null,null,null,null,null,null,null,null,null,"Coupled Cam Phasing\n(CCPS) - TBL",null,null,null,null,"CCPS",null,null,null,null,null,null,null,null,null,null,null,null,null,null,null,null,null,null,null,null,null,null,null,null,null,null,null,null,null,null,null,null,null,null,null,null,null,null,null,null,null,null,null,null,null,null,null,null,null,null,null,null,null,null,null,null,null,"Dual Cam Phasing\n(DCP) - TBL",null,null,null,null,"DCP"]
[null,null,null,null,null,null,null,null,null,null,null,null,null,null,null,null,null,null,null,null,null,null,null,null,null,"2017+","INC","%",{"$f":"1-((1-AC26)/(1-CN8))","v":5.0261780104711939E-2},"$",{"$f":"AE22","v":83.099251075055165},10,null,null,null,null,null,null,null,null,null,null,null,null,null,null,null,null,null,null,null,null,null,null,null,null,null,null,null,null,null,null,null,null,null,null,null,null,null,null,null,null,null,null,null,null,null,null,null,null,null,null,null,null,null,null,null,null,"2017+","INC","%",{"$f":"1-((1-CN26)/(1-CN18))","v":2.4731182795698858E-2},"$",{"$f":"CP22","v":77.055707884563404},10]
["L",null,null,null,null,null,null,null,null,null,null,null,null,null,null,null,null,null,null,null,null,null,null,null,null,null,"ABS","%",9.2999999999999999E-2,"$",{"$f":"CP8+AE25","v":268.36246849728047},"L",null,null,null,null,null,null,null,null,null,null,null,null,null,null,null,null,null,null,null,null,null,null,null,null,null,null,null,null,null,null,null,null,null,null,null,null,null,null,null,null,null,null,null,null,null,null,null,null,null,null,null,null,null,null,null,null,null,"ABS","%",9.2999999999999999E-2,"$",{"$f":"CP18+CP25","v":345.41817638184386},"L"]
["M"]
["H"]
["VH"]
[null,null,null,null,null,null,null,null,null,null,null,null,null,null,null,null,null,null,null,null,null,null,null,null,null,"2012-2016","INC","%",{"$f":"AC33","v":3.6383682469680267E-2},"$",{"$f":"INDEX('[1]Midsize Perf. PC'!$H$379:$X$467,MATCH(AG32,'[1]Midsize Perf. PC'!$C$379:$C$467,0),MATCH(Inputs!$C$2,'[1]Midsize Perf. PC'!$H$378:$X$378,0))*$B$13","v":212.93676133351417},10,null,null,null,null,null,null,null,null,null,null,null,null,null,null,null,null,null,null,null,null,null,null,null,null,null,null,null,null,null,null,null,null,null,null,null,"2012-2016","INC","%",{"$f":"BS33","v":3.6383682469680267E-2},"$",{"$f":"INDEX('[1]Midsize Perf. PC'!$H$379:$X$467,MATCH(BW32,'[1]Midsize Perf. PC'!$C$379:$C$467,0),MATCH(Inputs!$C$2,'[1]Midsize Perf. PC'!$H$378:$X$378,0))*$B$13","v":212.93676133351417},10,null,null,null,null,null,null,null,null,null,null,null,null,null,null,null,null,null,null,null,null,null,null,null,null,null,null,null,null,null,null,null,null,null,null,null,"2012-2016","INC","%",{"$f":"DI33","v":4.630650496141131E-2},"$",{"$f":"INDEX('[1]Midsize Perf. PC'!$H$379:$X$467,MATCH(DM32,'[1]Midsize Perf. PC'!$C$379:$C$467,0),MATCH(Inputs!$C$2,'[1]Midsize Perf. PC'!$H$378:$X$378,0))*$B$13","v":342.78800783448548},10,null,null,null,null,null,null,null,null,null,null,null,null,null,null,null,null,null,null,null,null,null,null,null,null,null,null,null,null,null,null,null,null,null,null,null,"2012-2016","INC","%",{"$f":"1-((1-EY31)/(1-CN5))","v":3.8443643492124591E-2},"$",{"$f":"INDEX('[1]Midsize Perf. PC'!$H$379:$X$467,MATCH(FC32,'[1]Midsize Perf. PC'!$C$379:$C$467,0),MATCH(Inputs!$C$2,'[1]Midsize Perf. PC'!$H$378:$X$378,0))","v":180.85022482302156},10]
[null,null,null,null,null,null,null,null,null,null,null,null,null,null,null,null,null,null,null,null,null,null,null,null,null,null,"ABS","%",{"$f":"1-((1-AC23)*(1-AC30))","v":0.11485123769633498},"$",{"$f":"AE23+AE30","v":387.03813208685739},"L",null,null,null,null,null,null,null,null,null,null,null,null,null,null,null,null,null,null,null,null,null,null,null,null,null,null,null,null,null,null,null,null,null,null,null,null,"ABS","%",{"$f":"1-((1-CN23)*(1-BS30))","v":0.11485123769633498},"$",{"$f":"CP23+BU30","v":464.09383997142083},"L",null,null,null,null,null,null,null,null,null,null,null,null,null,null,null,null,null,null,null,null,null,null,null,null,null,null,null,null,null,null,null,null,null,null,null,null,"ABS","%",{"$f":"1-((1-CN23)*(1-DI30))","v":0.12396604188481675},"$",{"$f":"CP23+DK30","v":593.94508647239218},"L",null,null,null,null,null,null,null,null,null,null,null,null,null,null,null,null,null,null,null,null,null,null,null,null,null,null,null,null,null,null,null,null,null,null,null,null,"ABS","%",7.0000000000000007E-2,"$",{"$f":"CP5+FA30","v":271.85234450130963},"L"]
[null,null,null,null,null,null,null,null,null,null,null,null,null,null,null,null,null,null,null,null,null,null,null,null,null,null,null,"Discrete VVL\n(DVVLS) - TBL",null,null,null,null,"DVVLS",null,null,null,null,null,null,null,null,null,null,null,null,null,null,null,null,null,null,null,null,null,null,null,null,null,null,null,null,null,null,null,null,null,null,null,null,"Discrete VVL\n(DVVLD) - TBL",null,null,null,null,"DVVLD",null,null,null,null,null,null,null,null,null,null,null,null,null,null,null,null,null,null,null,null,null,null,null,null,null,null,null,null,null,null,null,null,null,null,null,null,"Continuous VVL\n(CVVL) - TBL",null,null,null,null,"CVVL",null,null,null,null,null,null,null,null,null,null,null,null,null,null,null,null,null,null,null,null,null,null,null,null,null,null,null,null,null,null,null,null,null,null,null,null,"Cylinder Deactivation\n(DEACO) - TBL",null,null,null,null,"DEACO"]
[null,null,null,null,null,null,null,null,null,null,null,null,null,null,null,null,null,null,null,null,null,null,null,null,null,"2017+","INC","%",{"$f":"1-((1-AC34)/(1-AC26))","v":3.6383682469680267E-2},"$",{"$f":"AE30","v":212.93676133351417},10,null,null,null,null,null,null,null,null,null,null,null,null,null,null,null,null,null,null,null,null,null,null,null,null,null,null,null,null,null,null,null,null,null,null,null,"2017+","INC","%",{"$f":"1-((1-BS34)/(1-CN26))","v":3.6383682469680267E-2},"$",{"$f":"BU30","v":212.93676133351417},10,null,null,null,null,null,null,null,null,null,null,null,null,null,null,null,null,null,null,null,null,null,null,null,null,null,null,null,null,null,null,null,null,null,null,null,"2017+","INC","%",{"$f":"1-((1-DI34)/(1-CN26))","v":4.630650496141131E-2},"$",{"$f":"DK30","v":342.78800783448548},10,null,null,null,null,null,null,null,null,null,null,null,null,null,null,null,null,null,null,null,null,null,null,null,null,null,null,null,null,null,null,null,null,null,null,null,"2017+","INC","%",{"$f":"1-((1-EY34)/(1-CN8))","v":5.8638743455497355E-2},"$",{"$f":"FA30","v":180.85022482302156},10]
[null,"START",null,null,null,null,null,null,null,null,null,null,null,null,null,null,null,null,null,null,null,null,null,null,null,null,"ABS","%",0.126,"$",{"$f":"AE26+AE33","v":481.29922983079462},"L",null,null,null,null,null,null,null,null,null,null,null,null,null,null,null,null,null,null,null,null,null,null,null,null,null,null,null,null,null,null,null,null,null,null,null,null,"ABS","%",0.126,"$",{"$f":"CP26+BU33","v":558.35493771535801},"L",null,null,null,null,null,null,null,null,null,null,null,null,null,null,null,null,null,null,null,null,null,null,null,null,null,null,null,null,null,null,null,null,null,null,null,null,"ABS","%",0.13500000000000001,"$",{"$f":"CP26+DK33","v":688.20618421632935},"L",null,null,null,null,null,null,null,null,null,null,null,null,null,null,null,null,null,null,null,null,null,null,null,null,null,null,null,null,null,null,null,null,null,null,null,null,"ABS","%",0.10100000000000001,"$",{"$f":"CP8+FA33","v":366.11344224524692},"L"]
["Gas Engine Type","I4"]
["Displacement [L]",2.2000000000000002]
["Turbocharger","None"]
["EGR system","External",null,null,null,null,null,null,null,null,null,null,null,null,null,null,null,null,null,null,null,null,null,null,null,"2012-2016","INC","%",{"$f":"AC41","v":6.8649885583523806E-3},"$",{"$f":"INDEX('[1]Midsize Perf. PC'!$H$379:$X$467,MATCH(AG40,'[1]Midsize Perf. PC'!$C$379:$C$467,0),MATCH(Inputs!$C$2,'[1]Midsize Perf. PC'!$H$378:$X$378,0))","v":28.176910737789065},10,null,null,null,null,null,null,null,null,null,null,null,null,null,null,null,null,null,null,null,null,null,null,null,null,null,null,null,null,null,null,null,null,null,null,null,"2012-2016","INC","%",{"$f":"BS41","v":6.8649885583523806E-3},"$",{"$f":"INDEX('[1]Midsize Perf. PC'!$H$379:$X$467,MATCH(BW40,'[1]Midsize Perf. PC'!$C$379:$C$467,0),MATCH(Inputs!$C$2,'[1]Midsize Perf. PC'!$H$378:$X$378,0))","v":28.176910737789065},10,null,null,null,null,null,null,null,null,null,null,null,null,null,null,null,null,null,null,null,null,null,null,null,null,null,null,null,null,null,null,null,null,null,null,null,"2012-2016","INC","%",{"$f":"DI41","v":0},"$",0,10,null,null,null,null,null,null,null,null,null,null,null,null,null,null,null,null,null,null,null,null,null,null,null,null,null,null,null,null,null,null,null,null,null,null,null,"2012-2016","INC","%",{"$f":"1-((1-EY39)/(1-EY31))","v":2.1505376344085891E-2},"$",{"$f":"INDEX('[1]Midsize Perf. PC'!$H$379:$X$467,MATCH(FC40,'[1]Midsize Perf. PC'!$C$379:$C$467,0),MATCH(Inputs!$C$2,'[1]Midsize Perf. PC'!$H$378:$X$378,0))*$B$14","v":90.409234428646556},10]
["Valvetrain","SOHC/ DOHC/ OHV",null,null,null,null,null,null,null,null,null,null,null,null,null,null,null,null,null,null,null,null,null,null,null,null,"ABS","%",{"$f":"1-((1-AC31)*(1-AC38))","v":0.12092777382198938},"$",{"$f":"AE31+AE38","v":415.21504282464645},"L",null,null,null,null,null,null,null,null,null,null,null,null,null,null,null,null,null,null,null,null,null,null,null,null,null,null,null,null,null,null,null,null,null,null,null,null,"ABS","%",{"$f":"1-((1-BS31)*(1-BS38))","v":0.12092777382198938},"$",{"$f":"BU31+BU38","v":492.27075070920989},"L",null,null,null,null,null,null,null,null,null,null,null,null,null,null,null,null,null,null,null,null,null,null,null,null,null,null,null,null,null,null,null,null,null,null,null,null,"ABS","%",{"$f":"1-((1-DI31)*(1-DI38))","v":0.12396604188481675},"$",{"$f":"DK31+DK38","v":593.94508647239218},"L",null,null,null,null,null,null,null,null,null,null,null,null,null,null,null,null,null,null,null,null,null,null,null,null,null,null,null,null,null,null,null,null,null,null,null,null,"ABS","%",0.09,"$",{"$f":"FA31+FA38","v":362.26157892995616},"L"]
[null,null,null,null,null,null,null,null,null,null,null,null,null,null,null,null,null,null,null,null,null,null,null,null,null,null,null,"Cylinder Deactivation\n(DEACS) - TBL",null,null,null,null,"DEACS",null,null,null,null,null,null,null,null,null,null,null,null,null,null,null,null,null,null,null,null,null,null,null,null,null,null,null,null,null,null,null,null,null,null,null,null,"Cylinder Deactivation\n(DEACD) - TBL",null,null,null,null,"DEACD",null,null,null,null,null,null,null,null,null,null,null,null,null,null,null,null,null,null,null,null,null,null,null,null,null,null,null,null,null,null,null,null,null,null,null,null,"Cylinder Deactivation\n(DEACD) - TBL",null,null,null,null,null,null,null,null,null,null,null,null,null,null,null,null,null,null,null,null,null,null,null,null,null,null,null,null,null,null,null,null,null,null,null,null,null,null,null,null,null,"Coupled Cam Phasing and DVVL\n(VVA) - TBL",null,null,null,null,"VVA"]
[null,null,null,null,null,null,null,null,null,null,null,null,null,null,null,null,null,null,null,null,null,null,null,null,null,"2017+","INC","%",{"$f":"1-((1-AC42)/(1-AC34))","v":6.8649885583523806E-3},"$",{"$f":"AE38","v":28.176910737789065},10,null,null,null,null,null,null,null,null,null,null,null,null,null,null,null,null,null,null,null,null,null,null,null,null,null,null,null,null,null,null,null,null,null,null,null,"2017+","INC","%",{"$f":"1-((1-BS42)/(1-BS34))","v":6.8649885583523806E-3},"$",{"$f":"BU38","v":28.176910737789065},10,null,null,null,null,null,null,null,null,null,null,null,null,null,null,null,null,null,null,null,null,null,null,null,null,null,null,null,null,null,null,null,null,null,null,null,"2017+","INC","%",{"$f":"1-((1-DI42)/(1-DI34))","v":0},"$",{"$f":"DK38","v":0},10,null,null,null,null,null,null,null,null,null,null,null,null,null,null,null,null,null,null,null,null,null,null,null,null,null,null,null,null,null,null,null,null,null,null,null,"2017+","INC","%",{"$f":"1-((1-EY42)/(1-EY34))","v":3.4482758620689724E-2},"$",{"$f":"FA38","v":90.409234428646556},10]
[null,null,null,null,null,null,null,null,null,null,null,null,null,null,null,null,null,null,null,null,null,null,null,null,null,null,"ABS","%",0.13200000000000001,"$",{"$f":"AE34+AE41","v":509.47614056858367},"L",null,null,null,null,null,null,null,null,null,null,null,null,null,null,null,null,null,null,null,null,null,null,null,null,null,null,null,null,null,null,null,null,null,null,null,null,"ABS","%",0.13200000000000001,"$",{"$f":"BU34+BU41","v":586.53184845314706},"L",null,null,null,null,null,null,null,null,null,null,null,null,null,null,null,null,null,null,null,null,null,null,null,null,null,null,null,null,null,null,null,null,null,null,null,null,"ABS","%",{"$f":"DI34","v":0.13500000000000001},"$",{"$f":"DK34+DK41","v":688.20618421632935},"L",null,null,null,null,null,null,null,null,null,null,null,null,null,null,null,null,null,null,null,null,null,null,null,null,null,null,null,null,null,null,null,null,null,null,null,null,"ABS","%",0.13200000000000001,"$",{"$f":"FA34+FA41","v":456.52267667389344},"L"]
[]
[]
[]
[null,null,null,null,null,null,null,null,null,null,null,null,null,null,null,null,null,null,null,null,null,null,null,null,null,"2012-2016","INC","%",{"$f":"AC49","v":1.4976958525345641E-2},"$",{"$f":"INDEX('[1]Midsize Perf. PC'!$H$379:$X$467,MATCH(AG48,'[1]Midsize Perf. PC'!$C$379:$C$467,0),MATCH(Inputs!$C$2,'[1]Midsize Perf. PC'!$H$378:$X$378,0))*$B$13","v":349.41793576617209},10,null,null,null,null,null,null,null,null,null,null,null,null,null,null,null,null,null,null,null,null,null,null,null,null,null,null,null,null,null,null,null,null,null,null,null,"2012-2016","INC","%",{"$f":"BS49","v":1.4976958525345641E-2},"$",{"$f":"INDEX('[1]Midsize Perf. PC'!$H$379:$X$467,MATCH(BW48,'[1]Midsize Perf. PC'!$C$379:$C$467,0),MATCH(Inputs!$C$2,'[1]Midsize Perf. PC'!$H$378:$X$378,0))*$B$13","v":349.41793576617209},10,null,null,null,null,null,null,null,null,null,null,null,null,null,null,null,null,null,null,null,null,null,null,null,null,null,null,null,null,null,null,null,null,null,null,null,"2012-2016","INC","%",{"$f":"DI49","v":1.5028901734104094E-2},"$",{"$f":"INDEX('[1]Midsize Perf. PC'!$H$379:$X$467,MATCH(DM48,'[1]Midsize Perf. PC'!$C$379:$C$467,0),MATCH(Inputs!$C$2,'[1]Midsize Perf. PC'!$H$378:$X$378,0))*$B$13","v":349.41793576617209},10,null,null,null,null,null,null,null,null,null,null,null,null,null,null,null,null,null,null,null,null,null,null,null,null,null,null,null,null,null,null,null,null,null,null,null,"2012-2016","INC","%",{"$f":"1-((1-EY47)/(1-EY39))","v":1.5384615384615441E-2},"$",{"$f":"INDEX('[1]Midsize Perf. PC'!$H$379:$X$467,MATCH(FC48,'[1]Midsize Perf. PC'!$C$379:$C$467,0),MATCH(Inputs!$C$2,'[1]Midsize Perf. PC'!$H$378:$X$378,0))*$B$13","v":349.41793576617209},10]
[null,null,null,null,null,null,null,null,null,null,null,null,null,null,null,null,null,null,null,null,null,null,null,null,null,null,"ABS","%",{"$f":"1-((1-AC39)*(1-AC46))","v":0.1340936020942407},"$",{"$f":"AE39+AE46","v":764.63297859081854},"L",null,null,null,null,null,null,null,null,null,null,null,null,null,null,null,null,null,null,null,null,null,null,null,null,null,null,null,null,null,null,null,null,null,null,null,null,"ABS","%",{"$f":"1-((1-BS39)*(1-BS46))","v":0.1340936020942407},"$",{"$f":"BU39+BU46","v":841.68868647538193},"L",null,null,null,null,null,null,null,null,null,null,null,null,null,null,null,null,null,null,null,null,null,null,null,null,null,null,null,null,null,null,null,null,null,null,null,null,"ABS","%",{"$f":"1-((1-DI39)*(1-DI46))","v":0.13713187015706807},"$",{"$f":"DK39+DK46","v":943.36302223856433},"L",null,null,null,null,null,null,null,null,null,null,null,null,null,null,null,null,null,null,null,null,null,null,null,null,null,null,null,null,null,null,null,null,null,null,null,null,"ABS","%",0.104,"$",{"$f":"FA39+FA46","v":711.67951469612831},"L"]
[null,null,null,null,null,null,null,null,null,null,null,null,null,null,null,null,null,null,null,null,null,null,null,null,null,null,null,"Stoichiometric GDI\n(SGDI) - TBL",null,null,null,null,"SGDI",null,null,null,null,null,null,null,null,null,null,null,null,null,null,null,null,null,null,null,null,null,null,null,null,null,null,null,null,null,null,null,null,null,null,null,null,"Stoichiometric GDI\n(SGDI) - TBL",null,null,null,null,"SGDI",null,null,null,null,null,null,null,null,null,null,null,null,null,null,null,null,null,null,null,null,null,null,null,null,null,null,null,null,null,null,null,null,null,null,null,null,"Stoichiometric GDI\n(SGDI) - TBL",null,null,null,null,"SGDI",null,null,null,null,null,null,null,null,null,null,null,null,null,null,null,null,null,null,null,null,null,null,null,null,null,null,null,null,null,null,null,null,null,null,null,null,"Stoichiometric GDI\n(SGDIO) - TBL",null,null,null,null,"SGDIO"]
[null,null,null,null,null,null,null,null,null,null,null,null,null,null,null,null,null,null,null,null,null,null,null,null,null,"2017+","INC","%",{"$f":"1-((1-AC50)/(1-AC42))","v":1.4976958525345641E-2},"$",{"$f":"AE46","v":349.41793576617209},10,null,null,null,null,null,null,null,null,null,null,null,null,null,null,null,null,null,null,null,null,null,null,null,null,null,null,null,null,null,null,null,null,null,null,null,"2017+","INC","%",{"$f":"1-((1-BS50)/(1-BS42))","v":1.4976958525345641E-2},"$",{"$f":"BU46","v":349.41793576617209},10,null,null,null,null,null,null,null,null,null,null,null,null,null,null,null,null,null,null,null,null,null,null,null,null,null,null,null,null,null,null,null,null,null,null,null,"2017+","INC","%",{"$f":"1-((1-DI50)/(1-DI42))","v":1.5028901734104094E-2},"$",{"$f":"DK46","v":349.41793576617209},10,null,null,null,null,null,null,null,null,null,null,null,null,null,null,null,null,null,null,null,null,null,null,null,null,null,null,null,null,null,null,null,null,null,null,null,"2017+","INC","%",{"$f":"1-((1-EY50)/(1-EY42))","v":1.4976958525345641E-2},"$",{"$f":"FA46","v":349.41793576617209},10]
[null,null,null,null,null,null,null,null,null,null,null,null,null,null,null,null,null,null,null,null,null,null,null,"From SOHC Path",null,null,"ABS","%",0.14499999999999999,"$",{"$f":"AE42+AE49","v":858.89407633475571},"L",null,null,null,null,null,null,null,null,null,null,null,null,null,null,null,null,null,null,null,null,null,null,null,null,null,null,null,null,null,null,null,null,null,"From DOHC w/ DVVLD Path",null,null,"ABS","%",0.14499999999999999,"$",{"$f":"BU42+BU49","v":935.9497842193191},"L",null,null,null,null,null,null,null,null,null,null,null,null,null,null,null,null,null,null,null,null,null,null,null,null,null,null,null,null,null,null,null,null,null,"From DOHC w/ CVVL Path",null,null,"ABS","%",0.14799999999999999,"$",{"$f":"DK42+DK49","v":1037.6241199825015},"L",null,null,null,null,null,null,null,null,null,null,null,null,null,null,null,null,null,null,null,null,null,null,null,null,null,null,null,null,null,null,null,null,null,"From OHV w/ CDOHC Path",null,null,"ABS","%",0.14499999999999999,"$",{"$f":"FA42+FA49","v":805.94061244006548},"L"]
[]
[]
[null,null,null,null,null,null,null,null,null,null,null,null,null,null,null,null,null,null,null,null,null,null,null,null,null,null,null,null,null,null,null,null,null,null,null,null,null,null,null,null,null,null,null,null,null,null,null,null,null,null,null,null,null,null,null,null,{"$f":"BE54-$O$54","v":0},null,{"$f":"BG54-$Q$54","v":-10.350943204492637},null,null,null,null,null,null,null,null,null,null,null,{"$f":"BS54-$AC$54","v":0},null,{"$f":"BU54-$AE$54","v":-137.49257962890812},null,null,null,null,null,null,null,null,null,null,null,{"$f":"CG54-$AQ$54","v":0},null,{"$f":"CI54-$AS$54","v":-151.06222004175237},null,null,null,null,null,null,null,null,null,null,null,{"$f":"CU54-$O$54","v":-1.1286783422173041E-2},null,{"$f":"CW54-$Q$54","v":-10.350943204492637},null,null,null,null,null,null,null,null,null,null,null,{"$f":"DI54-$AC$54","v":-3.2575570381352392E-3},null,{"$f":"DK54-$AE$54","v":-137.49257962890812},null,null,null,null,null,null,null,null,null,null,null,{"$f":"DW54-$AQ$54","v":-3.2575570381352392E-3},null,{"$f":"DY54-$AS$54","v":-151.06222004175237},null,null,null,null,null,null,null,null,null,null,null,{"$f":"EK54-$O$54","v":6.0554099294906405E-2},null,{"$f":"EM54-$Q$54","v":-420.06358424991754},null,null,null,null,null,null,null,null,null,null,null,{"$f":"EY54-$AC$54","v":0},null,{"$f":"FA54-$AE$54","v":562.75413569090051},null,null,null,null,null,null,null,null,null,null,null,{"$f":"FM54-$AQ$54","v":0},null,{"$f":"FO54-$AS$54","v":523.98042111588995}]
[null,null,null,null,null,null,null,null,null,null,null,"2012-2016","INC","%",{"$f":"O57","v":8.2883027553628419E-2},"$",{"$f":"INDEX('[1]Midsize Perf. PC'!$H$379:$X$467,MATCH(M56,'[1]Midsize Perf. PC'!$C$379:$C$467,0),MATCH(Inputs!$C$2,'[1]Midsize Perf. PC'!$H$378:$X$378,0))\n+INDEX('[1]Midsize Perf. PC'!$H$379:$X$467,MATCH(S56,'[1]Midsize Perf. PC'!$C$379:$C$467,0),MATCH(Inputs!$C$2,'[1]Midsize Perf. PC'!$H$378:$X$378,0))","v":420.06358424991754},10,null,null,null,null,null,null,null,"2012-2016","INC","%",{"$f":"AC57","v":7.4853801169590617E-2},"$",{"$f":"INDEX('[1]Midsize Perf. PC'!$H$379:$X$467,MATCH(AA56,'[1]Midsize Perf. PC'!$C$379:$C$467,0),MATCH(Inputs!$C$2,'[1]Midsize Perf. PC'!$H$378:$X$378,0))\n+INDEX('[1]Midsize Perf. PC'!$H$379:$X$467,MATCH(AG56,'[1]Midsize Perf. PC'!$C$379:$C$467,0),MATCH(Inputs!$C$2,'[1]Midsize Perf. PC'!$H$378:$X$378,0))","v":-29.267884297748708},10,null,null,null,null,null,null,null,"2012-2016","INC","%",{"$f":"AQ57","v":7.4853801169590617E-2},"$",{"$f":"INDEX('[1]Midsize Perf. PC'!$H$379:$X$467,MATCH(AO56,'[1]Midsize Perf. PC'!$C$379:$C$467,0),MATCH(Inputs!$C$2,'[1]Midsize Perf. PC'!$H$378:$X$378,0))\n+INDEX('[1]Midsize Perf. PC'!$H$379:$X$467,MATCH(AU56,'[1]Midsize Perf. PC'!$C$379:$C$467,0),MATCH(Inputs!$C$2,'[1]Midsize Perf. PC'!$H$378:$X$378,0))","v":523.48084050429873},10,null,null,null,null,null,null,null,"2012-2016","INC","%",{"$f":"BE57","v":8.2883027553628419E-2},"$",{"$f":"INDEX('[1]Subcompact PC'!$H$530:$X$541,MATCH(BC56,'[1]Subcompact PC'!$C$530:$C$541,0),MATCH(Inputs!$C$2,'[1]Subcompact PC'!$H$529:$X$529,0))\n+INDEX('[1]Subcompact PC'!$H$530:$X$541,MATCH(BI56,'[1]Subcompact PC'!$C$530:$C$541,0),MATCH(Inputs!$C$2,'[1]Subcompact PC'!$H$529:$X$529,0))","v":409.7126410454249},10,null,null,null,null,null,null,null,"2012-2016","INC","%",{"$f":"BS57","v":7.4853801169590617E-2},"$",{"$f":"INDEX('[1]Subcompact PC'!$H$530:$X$541,MATCH(BQ56,'[1]Subcompact PC'!$C$530:$C$541,0),MATCH(Inputs!$C$2,'[1]Subcompact PC'!$H$529:$X$529,0))\n+INDEX('[1]Subcompact PC'!$H$530:$X$541,MATCH(BW56,'[1]Subcompact PC'!$C$530:$C$541,0),MATCH(Inputs!$C$2,'[1]Subcompact PC'!$H$529:$X$529,0))","v":-166.76046392665683},10,null,null,null,null,null,null,null,"2012-2016","INC","%",{"$f":"CG57","v":7.4853801169590617E-2},"$",{"$f":"INDEX('[1]Subcompact PC'!$H$530:$X$541,MATCH(CE56,'[1]Subcompact PC'!$C$530:$C$541,0),MATCH(Inputs!$C$2,'[1]Subcompact PC'!$H$529:$X$529,0))\n+INDEX('[1]Subcompact PC'!$H$530:$X$541,MATCH(CK56,'[1]Subcompact PC'!$C$530:$C$541,0),MATCH(Inputs!$C$2,'[1]Subcompact PC'!$H$529:$X$529,0))","v":372.41862046254636},10,null,null,null,null,null,null,null,"2012-2016","INC","%",{"$f":"CU57","v":7.1596244131455378E-2},"$",{"$f":"INDEX('[1]Subcompact PC'!$H$530:$X$541,MATCH(CS56,'[1]Subcompact PC'!$C$530:$C$541,0),MATCH(Inputs!$C$2,'[1]Subcompact PC'!$H$529:$X$529,0))\n+INDEX('[1]Subcompact PC'!$H$530:$X$541,MATCH(CY56,'[1]Subcompact PC'!$C$530:$C$541,0),MATCH(Inputs!$C$2,'[1]Subcompact PC'!$H$529:$X$529,0))","v":409.7126410454249},10,null,null,null,null,null,null,null,"2012-2016","INC","%",{"$f":"DI57","v":7.1596244131455378E-2},"$",{"$f":"INDEX('[1]Subcompact PC'!$H$530:$X$541,MATCH(DG56,'[1]Subcompact PC'!$C$530:$C$541,0),MATCH(Inputs!$C$2,'[1]Subcompact PC'!$H$529:$X$529,0))\n+INDEX('[1]Subcompact PC'!$H$530:$X$541,MATCH(DM56,'[1]Subcompact PC'!$C$530:$C$541,0),MATCH(Inputs!$C$2,'[1]Subcompact PC'!$H$529:$X$529,0))","v":-166.76046392665683},10,null,null,null,null,null,null,null,"2012-2016","INC","%",{"$f":"DW57","v":7.1596244131455378E-2},"$",{"$f":"INDEX('[1]Subcompact PC'!$H$530:$X$541,MATCH(DU56,'[1]Subcompact PC'!$C$530:$C$541,0),MATCH(Inputs!$C$2,'[1]Subcompact PC'!$H$529:$X$529,0))\n+INDEX('[1]Subcompact PC'!$H$530:$X$541,MATCH(EA56,'[1]Subcompact PC'!$C$530:$C$541,0),MATCH(Inputs!$C$2,'[1]Subcompact PC'!$H$529:$X$529,0))","v":372.41862046254636},10,null,null,null,null,null,null,null,"2012-2016","INC","%",{"$f":"EK57","v":0.14343712684853482},"$",{"$f":"INDEX('[1]Subcompact PC'!$H$530:$X$541,MATCH(EI56,'[1]Subcompact PC'!$C$530:$C$541,0),MATCH(Inputs!$C$2,'[1]Subcompact PC'!$H$529:$X$529,0))\n+INDEX('[1]Subcompact PC'!$H$530:$X$541,MATCH(EO56,'[1]Subcompact PC'!$C$530:$C$541,0),MATCH(Inputs!$C$2,'[1]Subcompact PC'!$H$529:$X$529,0))","v":0},10,null,null,null,null,null,null,null,"2012-2016","INC","%",{"$f":"EY57","v":7.4853801169590617E-2},"$",{"$f":"INDEX('[1]Subcompact PC'!$H$530:$X$541,MATCH(EW56,'[1]Subcompact PC'!$C$530:$C$541,0),MATCH(Inputs!$C$2,'[1]Subcompact PC'!$H$529:$X$529,0))\n+INDEX('[1]Subcompact PC'!$H$530:$X$541,MATCH(FC56,'[1]Subcompact PC'!$C$530:$C$541,0),MATCH(Inputs!$C$2,'[1]Subcompact PC'!$H$529:$X$529,0))","v":533.48625139315186},10,{"$f":"INDEX('[1]Subcompact PC'!$H$530:$X$541,MATCH(EW56,'[1]Subcompact PC'!$C$530:$C$541,0),MATCH(Inputs!$C$2,'[1]Subcompact PC'!$H$529:$X$529,0))","v":229.17561542502995},{"$f":"MATCH(EW56,'[1]Subcompact PC'!$C$530:$C$541,0)","v":9},null,null,null,null,null,"2012-2016","INC","%",{"$f":"FM57","v":7.4853801169590617E-2},"$",{"$f":"INDEX('[1]Subcompact PC'!$H$530:$X$541,MATCH(FK56,'[1]Subcompact PC'!$C$530:$C$541,0),MATCH(Inputs!$C$2,'[1]Subcompact PC'!$H$529:$X$529,0))\n+INDEX('[1]Subcompact PC'!$H$530:$X$541,MATCH(FQ56,'[1]Subcompact PC'!$C$530:$C$541,0),MATCH(Inputs!$C$2,'[1]Subcompact PC'!$H$529:$X$529,0))","v":1047.4612616201887},10]
[null,null,null,null,null,null,null,null,null,null,null,null,"ABS","%",{"$f":"1-((1-AC47+AC38)*(1-O54))","v":0.19956654840821175},"$",{"$f":"AE47+Q54","v":1184.6965628407361},"L",null,null,null,null,null,null,null,null,"ABS","%",{"$f":"1-((1-AC47)*(1-AC54))","v":0.19890998743455479},"$",{"$f":"AE47+AE54","v":735.36509429306989},"L",null,null,null,null,null,null,null,null,"ABS","%",{"$f":"1-((1-AC47)*(1-AQ54))","v":0.19890998743455479},"$",{"$f":"AE47+AS54","v":1288.1138190951174},"L",null,null,null,null,null,null,null,null,"ABS","%",{"$f":"1-((1-BS47)*(1-BE54))","v":0.20586254593072684},"$",{"$f":"BU47+BG54","v":1251.4013275208067},"L",null,null,null,null,null,null,null,null,"ABS","%",{"$f":"1-((1-BS47)*(1-BS54))","v":0.19890998743455479},"$",{"$f":"BU47+BU54","v":674.9282225487251},"L",null,null,null,null,null,null,null,null,"ABS","%",{"$f":"1-((1-BS47)*(1-CG54))","v":0.19890998743455479},"$",{"$f":"BU47+CI54","v":1214.1073069379283},"L",null,null,null,null,null,null,null,null,"ABS","%",{"$f":"1-((1-DI47)*(1-CU54))","v":0.19890998743455501},"$",{"$f":"DK47+CW54","v":1353.0756632839893},"L",null,null,null,null,null,null,null,null,"ABS","%",{"$f":"1-((1-DI47)*(1-DI54))","v":0.19890998743455501},"$",{"$f":"DK47+DK54","v":776.6025583119075},"L",null,null,null,null,null,null,null,null,"ABS","%",{"$f":"1-((1-DI47)*(1-DW54))","v":0.19890998743455501},"$",{"$f":"DK47+DY54","v":1315.7816427011107},"L",null,null,null,null,null,null,null,null,"ABS","%",{"$f":"1-((1-EY47)*(1-EK54))","v":0.23251966565628723},"$",{"$f":"FA47+EM54","v":711.67951469612831},"L",null,null,null,null,null,null,null,null,"ABS","%",{"$f":"1-((1-EY47)*(1-EY54))","v":0.17106900584795315},"$",{"$f":"FA47+FA54","v":1245.1657660892802},"L",null,null,null,null,null,null,null,null,"ABS","%",{"$f":"1-((1-EY47)*(1-FM54))","v":0.17106900584795315},"$",{"$f":"FA47+FO54","v":1759.140776316317},"L"]
[null,"INTERMEDIATE",null,null,null,null,null,null,null,null,null,null,"TRBDS1_SD_TB","Turbocharging and Downsizing 1 (TRBDS1_SD) - TBL",null,null,null,null,"TRBDS1_SD_DS",null,null,null,null,null,null,null,"TRBDS1_MD_TB","Turbocharging and Downsizing 1 (TRBDS1_MD) - TBL",null,null,null,null,"TRBDS1_MD_DS",null,null,null,null,null,null,null,"TRBDS1_LD_TB","Turbocharging and Downsizing 1\n(TRBDS1_LD) - TBL",null,null,null,null,"TRBDS1_LD_DS",null,null,null,null,null,null,null,"TRBDS1_SD_TB_D",{"$f":"$N$56","v":"Turbocharging and Downsizing 1 (TRBDS1_SD) - TBL"},null,null,null,null,"TRBDS1_SD_DS_D",null,null,null,null,null,null,null,"TRBDS1_MD_TB_D","Turbocharging and Downsizing 1 (TRBDS1_MD) - TBL",null,null,null,null,"TRBDS1_MD_DS_D",null,null,null,null,null,null,null,"TRBDS1_LD_TB_D",{"$f":"$AP$56","v":"Turbocharging and Downsizing 1\n(TRBDS1_LD) - TBL"},null,null,null,null,"TRBDS1_LD_DS_D",null,null,null,null,null,null,null,"TRBDS1_SD_TB_D",{"$f":"$N$56","v":"Turbocharging and Downsizing 1 (TRBDS1_SD) - TBL"},null,null,null,null,"TRBDS1_SD_DS_D",null,null,null,null,null,null,null,"TRBDS1_MD_TB_D",{"$f":"$AB$56","v":"Turbocharging and Downsizing 1 (TRBDS1_MD) - TBL"},null,null,null,null,"TRBDS1_MD_DS_D",null,null,null,null,null,null,null,"TRBDS1_LD_TB_D",{"$f":"$AP$56","v":"Turbocharging and Downsizing 1\n(TRBDS1_LD) - TBL"},null,null,null,null,"TRBDS1_LD_DS_D",null,null,null,null,null,null,null,"TRBDS1_SD_TB_O",{"$f":"$N$56","v":"Turbocharging and Downsizing 1 (TRBDS1_SD) - TBL"},null,null,null,null,"TRBDS1_SD_DS_O",null,null,null,null,null,null,null,"TRBDS1_MD_TB_O",{"$f":"$AB$56","v":"Turbocharging and Downsizing 1 (TRBDS1_MD) - TBL"},null,null,null,null,"TRBDS1_MD_DS_O",null,null,null,null,null,null,null,"TRBDS1_LD_TB_O",{"$f":"$AP$56","v":"Turbocharging and Downsizing 1\n(TRBDS1_LD) - TBL"},null,null,null,null,"TRBDS1_LD_DS_O"]
["Gas Engine Type","I4",null,null,null,null,null,null,null,null,null,"2017+","INC","%",{"$f":"1-((1-O58-AC41)/(1-AC50))","v":8.2883027553628419E-2},"$",{"$f":"Q54","v":420.06358424991754},10,null,null,null,null,null,null,null,"2017+","INC","%",{"$f":"1-((1-AC58)/(1-AC50))","v":7.4853801169590617E-2},"$",{"$f":"AE54","v":-29.267884297748708},10,null,null,null,null,null,null,null,"2017+","INC","%",{"$f":"1-((1-AQ58)/(1-AC50))","v":7.4853801169590617E-2},"$",{"$f":"AS54","v":523.48084050429873},10,null,null,null,null,null,null,null,"2017+","INC","%",{"$f":"1-((1-BE58-BS41)/(1-BS50))","v":8.2883027553628419E-2},"$",{"$f":"BG54","v":409.7126410454249},10,null,null,null,null,null,null,null,"2017+","INC","%",{"$f":"1-((1-BS58)/(1-BS50))","v":7.4853801169590617E-2},"$",{"$f":"BU54","v":-166.76046392665683},10,null,null,null,null,null,null,null,"2017+","INC","%",{"$f":"1-((1-CG58)/(1-BS50))","v":7.4853801169590617E-2},"$",{"$f":"CI54","v":372.41862046254636},10,null,null,null,null,null,null,null,"2017+","INC","%",{"$f":"1-((1-CU58-DI41)/(1-DI50))","v":7.1596244131455378E-2},"$",{"$f":"CW54","v":409.7126410454249},10,null,null,null,null,null,null,null,"2017+","INC","%",{"$f":"1-((1-DI58)/(1-DI50))","v":7.1596244131455378E-2},"$",{"$f":"DK54","v":-166.76046392665683},10,null,null,null,null,null,null,null,"2017+","INC","%",{"$f":"1-((1-DW58)/(1-DI50))","v":7.1596244131455378E-2},"$",{"$f":"DY54","v":372.41862046254636},10,null,null,null,null,null,null,null,"2017+","INC","%",{"$f":"1-((1-EK58-EY33)/(1-EY50))","v":0.14343712684853482},"$",{"$f":"EM54","v":0},10,null,null,null,null,null,null,null,"2017+","INC","%",{"$f":"1-((1-EY58)/(1-EY50))","v":7.4853801169590617E-2},"$",{"$f":"FA54","v":533.48625139315186},10,null,null,null,null,null,null,null,"2017+","INC","%",{"$f":"1-((1-FM58)/(1-EY50))","v":7.4853801169590617E-2},"$",{"$f":"FO54","v":1047.4612616201887},10]
["Displacement [L]","1.5 to 2.0",null,null,null,null,null,null,null,null,null,null,"ABS","%",0.20899999999999999,"$",{"$f":"AE50+Q57","v":1278.9576605846732},"L",null,null,null,null,null,null,null,null,"ABS","%",{"$f":"$O58","v":0.20899999999999999},"$",{"$f":"AE50+AE57","v":829.62619203700706},"L",null,null,null,null,null,null,null,null,"ABS","%",{"$f":"$O58","v":0.20899999999999999},"$",{"$f":"AE50+AS57","v":1382.3749168390545},"L",null,null,null,null,null,null,null,null,"ABS","%",{"$f":"$O58","v":0.20899999999999999},"$",{"$f":"BU50+BG57","v":1345.6624252647439},"L",null,null,null,null,null,null,null,null,"ABS","%",{"$f":"$O58","v":0.20899999999999999},"$",{"$f":"BU50+BU57","v":769.18932029266227},"L",null,null,null,null,null,null,null,null,"ABS","%",{"$f":"$AQ58","v":0.20899999999999999},"$",{"$f":"BU50+CI57","v":1308.3684046818655},"L",null,null,null,null,null,null,null,null,"ABS","%",{"$f":"$O58","v":0.20899999999999999},"$",{"$f":"DK50+CW57","v":1447.3367610279265},"L",null,null,null,null,null,null,null,null,"ABS","%",{"$f":"$AC58","v":0.20899999999999999},"$",{"$f":"DK50+DK57","v":870.86365605584467},"L",null,null,null,null,null,null,null,null,"ABS","%",{"$f":"$AQ58","v":0.20899999999999999},"$",{"$f":"DK50+DY57","v":1410.0427404450479},"L",null,null,null,null,null,null,null,null,"ABS","%",{"$f":"$O58","v":0.20899999999999999},"$",{"$f":"FA50+EM57","v":805.94061244006548},"L",null,null,null,null,null,null,null,null,"ABS","%",{"$f":"$AC58","v":0.20899999999999999},"$",{"$f":"FA50+FA57","v":1339.4268638332173},"L",null,null,null,null,null,null,null,null,"ABS","%",{"$f":"$AQ58","v":0.20899999999999999},"$",{"$f":"FA50+FO57","v":1853.4018740602542},"L"]
["Turbocharger","FGT",null,null,null,null,null,null,null,null,null,null,null,null,null,null,null,null,null,null,null,null,null,null,null,null,null,null,null,null,null,null,null,null,null,null,null,null,null,null,null,null,null,null,null,null,null,null,null,null,null,null,null,null,null,null,{"$f":"BE57-$O$57","v":0},null,{"$f":"BG57-$Q$57","v":-10.350943204492637},null,null,null,null,null,null,null,null,null,null,null,{"$f":"BS57-$AC$57","v":0},null,{"$f":"BU57-$AE$57","v":-137.49257962890812},null,null,null,null,null,null,null,null,null,null,null,{"$f":"CG57-$AQ$57","v":0},null,{"$f":"CI57-$AS$57","v":-151.06222004175237},null,null,null,null,null,null,null,null,null,null,null,{"$f":"CU57-$O$57","v":-1.1286783422173041E-2},null,{"$f":"CW57-$Q$57","v":-10.350943204492637},null,null,null,null,null,null,null,null,null,null,null,{"$f":"DI57-$AC$57","v":-3.2575570381352392E-3},null,{"$f":"DK57-$AE$57","v":-137.49257962890812},null,null,null,null,null,null,null,null,null,null,null,{"$f":"DW57-$AQ$57","v":-3.2575570381352392E-3},null,{"$f":"DY57-$AS$57","v":-151.06222004175237},null,null,null,null,null,null,null,null,null,null,null,{"$f":"EK57-$O$57","v":6.0554099294906405E-2},null,{"$f":"EM57-$Q$57","v":-420.06358424991754},null,null,null,null,null,null,null,null,null,null,null,{"$f":"EY57-$AC$57","v":0},null,{"$f":"FA57-$AE$57","v":562.75413569090051},null,null,null,null,null,null,null,null,null,null,null,{"$f":"FM57-$AQ$57","v":0},null,{"$f":"FO57-$AS$57","v":523.98042111588995}]
["EGR system","External"]
["Valvetrain","DOHC"]
["After Treatment","3way cat",null,null,null,null,null,null,null,null,null,"2012-2016","INC","%",{"$f":"1-((1-O63)/(1-O55))","v":0},"$",0,0,null,null,null,null,null,null,null,"2012-2016","INC","%",{"$f":"1-((1-AC63)/(1-AC55))","v":0},"$",0,0,null,null,null,null,null,null,null,"2012-2016","INC","%",{"$f":"1-((1-AQ63)/(1-AQ55))","v":0},"$",0,0,null,null,null,null,null,null,null,"2012-2016","INC","%",{"$f":"1-((1-BE63)/(1-BE55))","v":0},"$",{"$f":"$Q$62","v":0},{"$f":"$R$62","v":0},null,null,null,null,null,null,null,"2012-2016","INC","%",{"$f":"1-((1-BS63)/(1-BS55))","v":0},"$",{"$f":"$AE$62","v":0},{"$f":"$AF$62","v":0},null,null,null,null,null,null,null,"2012-2016","INC","%",{"$f":"1-((1-CG63)/(1-CG55))","v":0},"$",{"$f":"$AS$62","v":0},{"$f":"$AT$62","v":0},null,null,null,null,null,null,null,"2012-2016","INC","%",{"$f":"1-((1-CU63)/(1-CU55))","v":0},"$",{"$f":"$Q$62","v":0},{"$f":"$R$62","v":0},null,null,null,null,null,null,null,"2012-2016","INC","%",{"$f":"1-((1-DI63)/(1-DI55))","v":0},"$",{"$f":"$AE$62","v":0},{"$f":"$AF$62","v":0},null,null,null,null,null,null,null,"2012-2016","INC","%",{"$f":"1-((1-DW63)/(1-DW55))","v":0},"$",{"$f":"$AS$62","v":0},{"$f":"$AT$62","v":0},null,null,null,null,null,null,null,"2012-2016","INC","%",{"$f":"$O$62","v":0},"$",{"$f":"$Q$62","v":0},{"$f":"$R$62","v":0},null,null,null,null,null,null,null,"2012-2016","INC","%",{"$f":"1-((1-EY63)/(1-EY55))","v":0},"$",{"$f":"$AE$62","v":0},{"$f":"$AF$62","v":0},null,null,null,null,null,null,null,"2012-2016","INC","%",{"$f":"1-((1-FM63)/(1-FM55))","v":0},"$",{"$f":"$AS$62","v":0},{"$f":"$AT$62","v":0}]
[null,null,null,null,null,null,null,null,null,null,null,null,"ABS","%",{"$f":"O55","v":0.19956654840821175},"$",{"$f":"Q55+Q62","v":1184.6965628407361},"L",null,null,null,null,null,null,null,null,"ABS","%",{"$f":"AC55","v":0.19890998743455479},"$",{"$f":"AE55+AE62","v":735.36509429306989},"L",null,null,null,null,null,null,null,null,"ABS","%",{"$f":"AQ55","v":0.19890998743455479},"$",{"$f":"AS55+AS62","v":1288.1138190951174},"L",null,null,null,null,null,null,null,null,"ABS","%",{"$f":"BE55","v":0.20586254593072684},"$",{"$f":"BG55+BG62","v":1251.4013275208067},"L",null,null,null,null,null,null,null,null,"ABS","%",{"$f":"BS55","v":0.19890998743455479},"$",{"$f":"BU55+BU62","v":674.9282225487251},"L",null,null,null,null,null,null,null,null,"ABS","%",{"$f":"CG55","v":0.19890998743455479},"$",{"$f":"CI55+CI62","v":1214.1073069379283},"L",null,null,null,null,null,null,null,null,"ABS","%",{"$f":"CU55","v":0.19890998743455501},"$",{"$f":"CW55+CW62","v":1353.0756632839893},"L",null,null,null,null,null,null,null,null,"ABS","%",{"$f":"DI55","v":0.19890998743455501},"$",{"$f":"DK55+DK62","v":776.6025583119075},"L",null,null,null,null,null,null,null,null,"ABS","%",{"$f":"DW55","v":0.19890998743455501},"$",{"$f":"DY55+DY62","v":1315.7816427011107},"L",null,null,null,null,null,null,null,null,"ABS","%",{"$f":"1-((1-EK55)*(1-EK62))","v":0.23251966565628723},"$",{"$f":"EM55+EM62","v":711.67951469612831},"L",null,null,null,null,null,null,null,null,"ABS","%",{"$f":"EY55","v":0.17106900584795315},"$",{"$f":"FA55+FA62","v":1245.1657660892802},"L",null,null,null,null,null,null,null,null,"ABS","%",{"$f":"FM55","v":0.17106900584795315},"$",{"$f":"FO55+FO62","v":1759.140776316317},"L"]
[null,null,null,null,null,null,null,null,null,null,null,null,"TRBDS2_SD_TB","Turbocharging and Downsizing 2\n(TRBDS2_SD) - TBL",null,null,null,null,"TRBDS2_SD_DS",null,null,null,null,null,null,null,"TRBDS2_MD_TB","Turbocharging and Downsizing 2\n(TRBDS2_MD) - TBL",null,null,null,null,"TRBDS2_MD_DS",null,null,null,null,null,null,null,"TRBDS2_LD_TB","Turbocharging and Downsizing 2\n(TRBDS2_LD) - TBL",null,null,null,null,"TRBDS2_LD_DS",null,null,null,null,null,null,null,"TRBDS2_SD_TB",{"$f":"$N$64","v":"Turbocharging and Downsizing 2\n(TRBDS2_SD) - TBL"},null,null,null,null,"TRBDS2_SD_DS",null,null,null,null,null,null,null,"TRBDS2_MD_TB",{"$f":"$AB$64","v":"Turbocharging and Downsizing 2\n(TRBDS2_MD) - TBL"},null,null,null,null,"TRBDS2_MD_DS",null,null,null,null,null,null,null,"TRBDS2_LD_TB",{"$f":"$AP$64","v":"Turbocharging and Downsizing 2\n(TRBDS2_LD) - TBL"},null,null,null,null,"TRBDS2_LD_DS",null,null,null,null,null,null,null,"TRBDS2_SD_TB",{"$f":"$N$64","v":"Turbocharging and Downsizing 2\n(TRBDS2_SD) - TBL"},null,null,null,null,"TRBDS2_SD_DS",null,null,null,null,null,null,null,"TRBDS2_MD_TB",{"$f":"$AB$64","v":"Turbocharging and Downsizing 2\n(TRBDS2_MD) - TBL"},null,null,null,null,"TRBDS2_MD_DS",null,null,null,null,null,null,null,"TRBDS2_LD_TB","Cooled EGR 1\n(CEGR1_LD) - TBL",null,null,null,null,"TRBDS2_LD_DS",null,null,null,null,null,null,null,"TRBDS2_SD_TB",{"$f":"$N$64","v":"Turbocharging and Downsizing 2\n(TRBDS2_SD) - TBL"},null,null,null,null,"TRBDS2_SD_DS",null,null,null,null,null,null,null,"TRBDS2_MD_TB",{"$f":"$AB$64","v":"Turbocharging and Downsizing 2\n(TRBDS2_MD) - TBL"},null,null,null,null,"TRBDS2_MD_DS",null,null,null,null,null,null,null,"TRBDS2_LD_TB","Cooled EGR 1\n(CEGR1_LD) - TBL",null,null,null,null,"TRBDS2_LD_DS"]
[null,"INTERMEDIATE",null,null,null,null,null,null,null,null,null,"2017+","INC","%",{"$f":"1-((1-O66)/(1-O58))","v":3.539823008849563E-2},"$",{"$f":"INDEX('[1]Large PC'!$H$379:$X$467,MATCH(M64,'[1]Large PC'!$C$379:$C$467,0),MATCH(Inputs!$C$2,'[1]Large PC'!$H$378:$X$378,0))\n+INDEX('[1]Large PC'!$H$379:$X$467,MATCH(S64,'[1]Large PC'!$C$379:$C$467,0),MATCH(Inputs!$C$2,'[1]Large PC'!$H$378:$X$378,0))","v":19.914246875441577},10,null,null,null,null,null,null,null,"2017+","INC","%",{"$f":"1-((1-AC66)/(1-AC58))","v":3.539823008849563E-2},"$",{"$f":"INDEX('[1]Midsize Perf. PC'!$H$379:$X$467,MATCH(AA64,'[1]Midsize Perf. PC'!$C$379:$C$467,0),MATCH(Inputs!$C$2,'[1]Midsize Perf. PC'!$H$378:$X$378,0))\n+INDEX('[1]Midsize Perf. PC'!$H$379:$X$467,MATCH(AG64,'[1]Midsize Perf. PC'!$C$379:$C$467,0),MATCH(Inputs!$C$2,'[1]Midsize Perf. PC'!$H$378:$X$378,0))","v":247.5936884943545},10,null,null,null,null,null,null,null,"2017+","INC","%",{"$f":"1-((1-AQ66)/(1-AQ58))","v":3.539823008849563E-2},"$",{"$f":"INDEX('[1]Midsize Perf. PC'!$H$379:$X$467,MATCH(AO64,'[1]Midsize Perf. PC'!$C$379:$C$467,0),MATCH(Inputs!$C$2,'[1]Midsize Perf. PC'!$H$378:$X$378,0))\n+INDEX('[1]Midsize Perf. PC'!$H$379:$X$467,MATCH(AU64,'[1]Midsize Perf. PC'!$C$379:$C$467,0),MATCH(Inputs!$C$2,'[1]Midsize Perf. PC'!$H$378:$X$378,0))","v":417.35470758578072},10,null,null,null,null,null,null,null,"2017+","INC","%",{"$f":"1-((1-BE66)/(1-BE58))","v":3.539823008849563E-2},"$",{"$f":"$Q65","v":19.914246875441577},{"$f":"$R$65","v":10},null,null,null,null,null,null,null,"2017+","INC","%",{"$f":"1-((1-BS66)/(1-BS58))","v":3.539823008849563E-2},"$",{"$f":"$AE$65","v":247.5936884943545},{"$f":"$AF$65","v":10},null,null,null,null,null,null,null,"2017+","INC","%",{"$f":"1-((1-CG66)/(1-CG58))","v":3.539823008849563E-2},"$",{"$f":"$AS$65","v":417.35470758578072},{"$f":"$AT$65","v":10},null,null,null,null,null,null,null,"2017+","INC","%",{"$f":"1-((1-CU66)/(1-CU58))","v":3.539823008849563E-2},"$",{"$f":"$Q65","v":19.914246875441577},{"$f":"$R$65","v":10},null,null,null,null,null,null,null,"2017+","INC","%",{"$f":"1-((1-DI66)/(1-DI58))","v":3.539823008849563E-2},"$",{"$f":"$AE$65","v":247.5936884943545},{"$f":"$AF$65","v":10},null,null,null,null,null,null,null,"2017+","INC","%",{"$f":"1-((1-DW66)/(1-DW58))","v":3.539823008849563E-2},"$",{"$f":"$AS$65","v":417.35470758578072},{"$f":"$AT$65","v":10},null,null,null,null,null,null,null,"2017+","INC","%",{"$f":"1-((1-EK66)/(1-EK58))","v":3.539823008849563E-2},"$",{"$f":"$Q65","v":19.914246875441577},{"$f":"$R$65","v":10},null,null,null,null,null,null,null,"2017+","INC","%",{"$f":"1-((1-EY66)/(1-EY58))","v":3.539823008849563E-2},"$",{"$f":"$AE$65","v":247.5936884943545},{"$f":"$AF$65","v":10},null,null,null,null,null,null,null,"2017+","INC","%",{"$f":"1-((1-FM66)/(1-FM58))","v":3.539823008849563E-2},"$",{"$f":"$AS$65","v":417.35470758578072},{"$f":"$AT$65","v":10}]
["Gas Engine Type","I4",null,null,null,null,null,null,null,null,null,null,"ABS","%",0.23699999999999999,"$",{"$f":"Q58+Q65","v":1298.8719074601149},"L",null,null,null,null,null,null,null,null,"ABS","%",{"$f":"$O66","v":0.23699999999999999},"$",{"$f":"AE58+AE65","v":1077.2198805313615},"L",null,null,null,null,null,null,null,null,"ABS","%",{"$f":"$O66","v":0.23699999999999999},"$",{"$f":"AS58+AS65","v":1799.7296244248353},"L",null,null,null,null,null,null,null,null,"ABS","%",{"$f":"$O66","v":0.23699999999999999},"$",{"$f":"BG58+BG65","v":1365.5766721401856},"L",null,null,null,null,null,null,null,null,"ABS","%",{"$f":"$O66","v":0.23699999999999999},"$",{"$f":"BU58+BU65","v":1016.7830087870168},"L",null,null,null,null,null,null,null,null,"ABS","%",{"$f":"$AQ66","v":0.23699999999999999},"$",{"$f":"CI58+CI65","v":1725.7231122676462},"L",null,null,null,null,null,null,null,null,"ABS","%",{"$f":"$O66","v":0.23699999999999999},"$",{"$f":"CW58+CW65","v":1467.2510079033682},"L",null,null,null,null,null,null,null,null,"ABS","%",{"$f":"$AC66","v":0.23699999999999999},"$",{"$f":"DK58+DK65","v":1118.4573445501992},"L",null,null,null,null,null,null,null,null,"ABS","%",{"$f":"$AQ66","v":0.23699999999999999},"$",{"$f":"DY58+DY65","v":1827.3974480308286},"L",null,null,null,null,null,null,null,null,"ABS","%",{"$f":"$O66","v":0.23699999999999999},"$",{"$f":"EM58+EM65","v":825.85485931550704},"L",null,null,null,null,null,null,null,null,"ABS","%",{"$f":"$AC66","v":0.23699999999999999},"$",{"$f":"FA58+FA65","v":1587.0205523275717},"L",null,null,null,null,null,null,null,null,"ABS","%",{"$f":"$AQ66","v":0.23699999999999999},"$",{"$f":"FO58+FO65","v":2270.7565816460346},"L"]
["Displacement [L]",1]
["Turbocharger","FGT"]
["EGR system","External"]
["Valvetrain","DOHC",null,null,null,null,null,null,null,null,null,"2012-2016","INC","%",{"$f":"1-((1-O71)/(1-O63))","v":0},"$",0,0,null,null,null,null,null,null,null,"2012-2016","INC","%",{"$f":"1-((1-AC71)/(1-AC63))","v":0},"$",0,0,null,null,null,null,null,null,null,"2012-2016","INC","%",{"$f":"1-((1-AQ71)/(1-AQ63))","v":0},"$",0,0,null,null,null,null,null,null,null,"2012-2016","INC","%",{"$f":"1-((1-BE71)/(1-BE63))","v":0},"$",{"$f":"$Q$70","v":0},{"$f":"$R$70","v":0},null,null,null,null,null,null,null,"2012-2016","INC","%",{"$f":"1-((1-BS71)/(1-BS63))","v":0},"$",{"$f":"$AE$70","v":0},{"$f":"$AF$70","v":0},null,null,null,null,null,null,null,"2012-2016","INC","%",{"$f":"1-((1-CG71)/(1-CG63))","v":0},"$",{"$f":"$AS$70","v":0},{"$f":"$AT$70","v":0},null,null,null,null,null,null,null,"2012-2016","INC","%",{"$f":"1-((1-CU71)/(1-CU63))","v":0},"$",{"$f":"$Q$70","v":0},{"$f":"$R$70","v":0},null,null,null,null,null,null,null,"2012-2016","INC","%",{"$f":"1-((1-DI71)/(1-DI63))","v":0},"$",{"$f":"$AE$70","v":0},{"$f":"$AF$70","v":0},null,null,null,null,null,null,null,"2012-2016","INC","%",{"$f":"1-((1-DW71)/(1-DW63))","v":0},"$",{"$f":"$AS$70","v":0},{"$f":"$AT$70","v":0},null,null,null,null,null,null,null,"2012-2016","INC","%",{"$f":"1-((1-EK71)/(1-EK63))","v":0},"$",{"$f":"$Q$70","v":0},{"$f":"$R$70","v":0},null,null,null,null,null,null,null,"2012-2016","INC","%",{"$f":"1-((1-EY71)/(1-EY63))","v":0},"$",{"$f":"$AE$70","v":0},{"$f":"$AF$70","v":0},null,null,null,null,null,null,null,"2012-2016","INC","%",{"$f":"1-((1-FM71)/(1-FM63))","v":0},"$",{"$f":"$AS$70","v":0},{"$f":"$AT$70","v":0}]
["After Treatment","3way cat",null,null,null,null,null,null,null,null,null,null,"ABS","%",{"$f":"O63","v":0.19956654840821175},"$",{"$f":"Q63+Q70","v":1184.6965628407361},"L",null,null,null,null,null,null,null,null,"ABS","%",{"$f":"AC63","v":0.19890998743455479},"$",{"$f":"AE63+AE70","v":735.36509429306989},"L",null,null,null,null,null,null,null,null,"ABS","%",{"$f":"AQ63","v":0.19890998743455479},"$",{"$f":"AS63+AS70","v":1288.1138190951174},"L",null,null,null,null,null,null,null,null,"ABS","%",{"$f":"BE63","v":0.20586254593072684},"$",{"$f":"BG63+BG70","v":1251.4013275208067},"L",null,null,null,null,null,null,null,null,"ABS","%",{"$f":"BS63","v":0.19890998743455479},"$",{"$f":"BU63+BU70","v":674.9282225487251},"L",null,null,null,null,null,null,null,null,"ABS","%",{"$f":"CG63","v":0.19890998743455479},"$",{"$f":"CI63+CI70","v":1214.1073069379283},"L",null,null,null,null,null,null,null,null,"ABS","%",{"$f":"CU63","v":0.19890998743455501},"$",{"$f":"CW63+CW70","v":1353.0756632839893},"L",null,null,null,null,null,null,null,null,"ABS","%",{"$f":"DI63","v":0.19890998743455501},"$",{"$f":"DK63+DK70","v":776.6025583119075},"L",null,null,null,null,null,null,null,null,"ABS","%",{"$f":"DW63","v":0.19890998743455501},"$",{"$f":"DY63+DY70","v":1315.7816427011107},"L",null,null,null,null,null,null,null,null,"ABS","%",{"$f":"EK63","v":0.23251966565628723},"$",{"$f":"EM63+EM70","v":711.67951469612831},"L",null,null,null,null,null,null,null,null,"ABS","%",{"$f":"EY63","v":0.17106900584795315},"$",{"$f":"FA63+FA70","v":1245.1657660892802},"L",null,null,null,null,null,null,null,null,"ABS","%",{"$f":"FM63","v":0.17106900584795315},"$",{"$f":"FO63+FO70","v":1759.140776316317},"L"]
[null,null,null,null,null,null,null,null,null,null,null,null,"CEGR1_SD_TB","Cooled EGR 1 \n(CEGR1_SD) - TBL",null,null,null,null,"CEGR1_SD_DS",null,null,null,null,null,null,null,"CEGR1_MD_TB","Cooled EGR 1 \n(CEGR1_MD) - TBL",null,null,null,null,"CEGR1_MD_DS",null,null,null,null,null,null,null,"CEGR1_LD_TB","Cooled EGR 1 \n(CEGR1_LD) - TBL",null,null,null,null,"CEGR1_LD_DS",null,null,null,null,null,null,null,"CEGR1_SD_TB",{"$f":"$N$72","v":"Cooled EGR 1 \n(CEGR1_SD) - TBL"},null,null,null,null,"CEGR1_SD_DS",null,null,null,null,null,null,null,"CEGR1_MD_TB",{"$f":"$AB$72","v":"Cooled EGR 1 \n(CEGR1_MD) - TBL"},null,null,null,null,"CEGR1_MD_DS",null,null,null,null,null,null,null,"CEGR1_LD_TB",{"$f":"$AP$72","v":"Cooled EGR 1 \n(CEGR1_LD) - TBL"},null,null,null,null,"CEGR1_LD_DS",null,null,null,null,null,null,null,"CEGR1_SD_TB",{"$f":"$N$72","v":"Cooled EGR 1 \n(CEGR1_SD) - TBL"},null,null,null,null,"CEGR1_SD_DS",null,null,null,null,null,null,null,"CEGR1_MD_TB",{"$f":"$AB$72","v":"Cooled EGR 1 \n(CEGR1_MD) - TBL"},null,null,null,null,"CEGR1_MD_DS",null,null,null,null,null,null,null,"CEGR1_LD_TB",{"$f":"$AP$72","v":"Cooled EGR 1 \n(CEGR1_LD) - TBL"},null,null,null,null,"CEGR1_LD_DS",null,null,null,null,null,null,null,"CEGR1_SD_TB",{"$f":"$N$72","v":"Cooled EGR 1 \n(CEGR1_SD) - TBL"},null,null,null,null,"CEGR1_SD_DS",null,null,null,null,null,null,null,"CEGR1_MD_TB",{"$f":"$AB$72","v":"Cooled EGR 1 \n(CEGR1_MD) - TBL"},null,null,null,null,"CEGR1_MD_DS",null,null,null,null,null,null,null,"CEGR1_LD_TB",{"$f":"$AP$72","v":"Cooled EGR 1 \n(CEGR1_LD) - TBL"},null,null,null,null,"CEGR1_LD_DS"]
[null,null,null,null,null,null,null,null,null,null,null,"2017+","INC","%",{"$f":"1-((1-O74)/(1-O66))","v":3.5386631716906924E-2},"$",{"$f":"INDEX('[1]Large Perf. PC'!$H$379:$X$467,MATCH(M72,'[1]Large Perf. PC'!$C$379:$C$467,0),MATCH(Inputs!$C$2,'[1]Large Perf. PC'!$H$378:$X$378,0))\n+INDEX('[1]Large Perf. PC'!$H$379:$X$467,MATCH(S72,'[1]Large Perf. PC'!$C$379:$C$467,0),MATCH(Inputs!$C$2,'[1]Large Perf. PC'!$H$378:$X$378,0))","v":285.15466932220613},10,null,null,null,null,null,null,null,"2017+","INC","%",{"$f":"1-((1-AC74)/(1-AC66))","v":3.5386631716906924E-2},"$",{"$f":"INDEX('[1]Midsize Perf. PC'!$H$379:$X$467,MATCH(AA72,'[1]Midsize Perf. PC'!$C$379:$C$467,0),MATCH(Inputs!$C$2,'[1]Midsize Perf. PC'!$H$378:$X$378,0))\n+INDEX('[1]Midsize Perf. PC'!$H$379:$X$467,MATCH(AG72,'[1]Midsize Perf. PC'!$C$379:$C$467,0),MATCH(Inputs!$C$2,'[1]Midsize Perf. PC'!$H$378:$X$378,0))","v":285.15466932220613},10,null,null,null,null,null,null,null,"2017+","INC","%",{"$f":"1-((1-AQ74)/(1-AQ66))","v":3.5386631716906924E-2},"$",{"$f":"INDEX('[1]Midsize Perf. PC'!$H$379:$X$467,MATCH(AO72,'[1]Midsize Perf. PC'!$C$379:$C$467,0),MATCH(Inputs!$C$2,'[1]Midsize Perf. PC'!$H$378:$X$378,0))\n+INDEX('[1]Midsize Perf. PC'!$H$379:$X$467,MATCH(AU72,'[1]Midsize Perf. PC'!$C$379:$C$467,0),MATCH(Inputs!$C$2,'[1]Midsize Perf. PC'!$H$378:$X$378,0))","v":285.15466932220613},10,null,null,null,null,null,null,null,"2017+","INC","%",{"$f":"$O$73","v":3.5386631716906924E-2},"$",{"$f":"$Q$73","v":285.15466932220613},{"$f":"$R$73","v":10},null,null,null,null,null,null,null,"2017+","INC","%",{"$f":"$AC$73","v":3.5386631716906924E-2},"$",{"$f":"$AE$73","v":285.15466932220613},{"$f":"$AF$73","v":10},null,null,null,null,null,null,null,"2017+","INC","%",{"$f":"$AQ$73","v":3.5386631716906924E-2},"$",{"$f":"$AS$73","v":285.15466932220613},{"$f":"$AT$73","v":10},null,null,null,null,null,null,null,"2017+","INC","%",{"$f":"$O$73","v":3.5386631716906924E-2},"$",{"$f":"$Q$73","v":285.15466932220613},{"$f":"$R$73","v":10},null,null,null,null,null,null,null,"2017+","INC","%",{"$f":"$AC$73","v":3.5386631716906924E-2},"$",{"$f":"$AE$73","v":285.15466932220613},{"$f":"$AF$73","v":10},null,null,null,null,null,null,null,"2017+","INC","%",{"$f":"$AQ$73","v":3.5386631716906924E-2},"$",{"$f":"$AS$73","v":285.15466932220613},{"$f":"$AT$73","v":10},null,null,null,null,null,null,null,"2017+","INC","%",{"$f":"$O$73","v":3.5386631716906924E-2},"$",{"$f":"$Q$73","v":285.15466932220613},{"$f":"$R$73","v":10},null,null,null,null,null,null,null,"2017+","INC","%",{"$f":"$AC$73","v":3.5386631716906924E-2},"$",{"$f":"$AE$73","v":285.15466932220613},{"$f":"$AF$73","v":10},null,null,null,null,null,null,null,"2017+","INC","%",{"$f":"$AQ$73","v":3.5386631716906924E-2},"$",{"$f":"$AS$73","v":285.15466932220613},{"$f":"$AT$73","v":10}]
[null,null,null,null,null,null,null,null,null,null,null,null,"ABS","%",0.26400000000000001,"$",{"$f":"Q66+Q73","v":1584.0265767823212},"L",null,null,null,null,null,null,null,null,"ABS","%",{"$f":"O74","v":0.26400000000000001},"$",{"$f":"AE66+AE73","v":1362.3745498535677},"L",null,null,null,null,null,null,null,null,"ABS","%",{"$f":"O74","v":0.26400000000000001},"$",{"$f":"AS66+AS73","v":2084.8842937470413},"L",null,null,null,null,null,null,null,null,"ABS","%",{"$f":"1-((1-BE66)*(1-BE73))","v":0.26400000000000001},"$",{"$f":"BG66+BG73","v":1650.7313414623918},"L",null,null,null,null,null,null,null,null,"ABS","%",{"$f":"$O74","v":0.26400000000000001},"$",{"$f":"BU66+BU73","v":1301.9376781092228},"L",null,null,null,null,null,null,null,null,"ABS","%",{"$f":"$AQ74","v":0.26400000000000001},"$",{"$f":"CI66+CI73","v":2010.8777815898525},"L",null,null,null,null,null,null,null,null,"ABS","%",{"$f":"$O74","v":0.26400000000000001},"$",{"$f":"CW66+CW73","v":1752.4056772255744},"L",null,null,null,null,null,null,null,null,"ABS","%",{"$f":"$AC74","v":0.26400000000000001},"$",{"$f":"DK66+DK73","v":1403.6120138724054},"L",null,null,null,null,null,null,null,null,"ABS","%",{"$f":"$AQ74","v":0.26400000000000001},"$",{"$f":"DY66+DY73","v":2112.5521173530346},"L",null,null,null,null,null,null,null,null,"ABS","%",{"$f":"$O74","v":0.26400000000000001},"$",{"$f":"EM66+EM73","v":1111.0095286377132},"L",null,null,null,null,null,null,null,null,"ABS","%",{"$f":"$AC74","v":0.26400000000000001},"$",{"$f":"FA66+FA73","v":1872.175221649778},"L",null,null,null,null,null,null,null,null,"ABS","%",{"$f":"$AQ74","v":0.26400000000000001},"$",{"$f":"FO66+FO73","v":2555.9112509682409},"L"]
[]
[]
[]
[null,null,null,null,null,null,null,null,null,null,null,"2012-2016","INC","%",{"$f":"1-((1-O79)/(1-O71))","v":0},"$",0,0,null,null,null,null,null,null,null,"2012-2016","INC","%",{"$f":"1-((1-AC79)/(1-AC71))","v":0},"$",0,0,null,null,null,null,null,null,null,"2012-2016","INC","%",{"$f":"1-((1-AQ79)/(1-AQ71))","v":0},"$",0,0,null,null,null,null,null,null,null,"2012-2016","INC","%",{"$f":"1-((1-BE79)/(1-BE71))","v":0},"$",{"$f":"$Q$78","v":0},{"$f":"$R$78","v":0},null,null,null,null,null,null,null,"2012-2016","INC","%",{"$f":"1-((1-BS79)/(1-BS71))","v":0},"$",{"$f":"$AE$78","v":0},{"$f":"$AF$78","v":0},null,null,null,null,null,null,null,"2012-2016","INC","%",{"$f":"1-((1-CG79)/(1-CG71))","v":0},"$",{"$f":"$AS$78","v":0},{"$f":"$AT$78","v":0},null,null,null,null,null,null,null,"2012-2016","INC","%",{"$f":"1-((1-CU79)/(1-CU71))","v":0},"$",{"$f":"$Q$78","v":0},{"$f":"$R$78","v":0},null,null,null,null,null,null,null,"2012-2016","INC","%",{"$f":"1-((1-DI79)/(1-DI71))","v":0},"$",{"$f":"$AE$78","v":0},{"$f":"$AF$78","v":0},null,null,null,null,null,null,null,"2012-2016","INC","%",{"$f":"1-((1-DW79)/(1-DW71))","v":0},"$",{"$f":"$AS$78","v":0},{"$f":"$AT$78","v":0},null,null,null,null,null,null,null,"2012-2016","INC","%",{"$f":"1-((1-EK79)/(1-EK71))","v":0},"$",{"$f":"$Q$78","v":0},{"$f":"$R$78","v":0},null,null,null,null,null,null,null,"2012-2016","INC","%",{"$f":"1-((1-EY79)/(1-EY71))","v":0},"$",{"$f":"$AE$78","v":0},{"$f":"$AF$78","v":0},null,null,null,null,null,null,null,"2012-2016","INC","%",{"$f":"1-((1-FM79)/(1-FM71))","v":0},"$",{"$f":"$AS$78","v":0},{"$f":"$AT$78","v":0}]
[null,null,null,null,null,null,null,null,null,null,null,null,"ABS","%",{"$f":"O71","v":0.19956654840821175},"$",{"$f":"Q71+Q78","v":1184.6965628407361},"L",null,null,null,null,null,null,null,null,"ABS","%",{"$f":"AC71","v":0.19890998743455479},"$",{"$f":"AE71+AE78","v":735.36509429306989},"L",null,null,null,null,null,null,null,null,"ABS","%",{"$f":"AQ71","v":0.19890998743455479},"$",{"$f":"AS71+AS78","v":1288.1138190951174},"L",null,null,null,null,null,null,null,null,"ABS","%",{"$f":"BE71","v":0.20586254593072684},"$",{"$f":"BG71+BG78","v":1251.4013275208067},"L",null,null,null,null,null,null,null,null,"ABS","%",{"$f":"BS71","v":0.19890998743455479},"$",{"$f":"BU71+BU78","v":674.9282225487251},"L",null,null,null,null,null,null,null,null,"ABS","%",{"$f":"CG71","v":0.19890998743455479},"$",{"$f":"CI71+CI78","v":1214.1073069379283},"L",null,null,null,null,null,null,null,null,"ABS","%",{"$f":"CU71","v":0.19890998743455501},"$",{"$f":"CW71+CW78","v":1353.0756632839893},"L",null,null,null,null,null,null,null,null,"ABS","%",{"$f":"DI71","v":0.19890998743455501},"$",{"$f":"DK71+DK78","v":776.6025583119075},"L",null,null,null,null,null,null,null,null,"ABS","%",{"$f":"DW71","v":0.19890998743455501},"$",{"$f":"DY71+DY78","v":1315.7816427011107},"L",null,null,null,null,null,null,null,null,"ABS","%",{"$f":"EK71","v":0.23251966565628723},"$",{"$f":"EM71+EM78","v":711.67951469612831},"L",null,null,null,null,null,null,null,null,"ABS","%",{"$f":"EY71","v":0.17106900584795315},"$",{"$f":"FA71+FA78","v":1245.1657660892802},"L",null,null,null,null,null,null,null,null,"ABS","%",{"$f":"FM71","v":0.17106900584795315},"$",{"$f":"FO71+FO78","v":1759.140776316317},"L"]
[null,null,null,null,null,null,null,null,null,null,null,null,"CEGR2_SD_TB","Cooled EGR 2\n(CEGR2_SD) - TBL",null,null,null,null,"CEGR2_SD_DS",null,null,null,null,null,null,null,"CEGR2_MD_TB","Cooled EGR 2\n(CEGR2_MD) - TBL",null,null,null,null,"CEGR2_MD_DS",null,null,null,null,null,null,null,"CEGR2_LD_TB","Cooled EGR 2\n(CEGR2_LD) - TBL",null,null,null,null,"CEGR2_LD_DS",null,null,null,null,null,null,null,"CEGR2_SD_TB",{"$f":"$N$80","v":"Cooled EGR 2\n(CEGR2_SD) - TBL"},null,null,null,null,"CEGR2_SD_DS",null,null,null,null,null,null,null,"CEGR2_MD_TB",{"$f":"$AB$80","v":"Cooled EGR 2\n(CEGR2_MD) - TBL"},null,null,null,null,"CEGR2_MD_DS",null,null,null,null,null,null,null,"CEGR2_LD_TB",{"$f":"$AP$80","v":"Cooled EGR 2\n(CEGR2_LD) - TBL"},null,null,null,null,"CEGR2_LD_DS",null,null,null,null,null,null,null,"CEGR2_SD_TB",{"$f":"$N$80","v":"Cooled EGR 2\n(CEGR2_SD) - TBL"},null,null,null,null,"CEGR2_SD_DS",null,null,null,null,null,null,null,"CEGR2_MD_TB",{"$f":"$AB$80","v":"Cooled EGR 2\n(CEGR2_MD) - TBL"},null,null,null,null,"CEGR2_MD_DS",null,null,null,null,null,null,null,"CEGR2_LD_TB",{"$f":"$AP$80","v":"Cooled EGR 2\n(CEGR2_LD) - TBL"},null,null,null,null,"CEGR2_LD_DS",null,null,null,null,null,null,null,"CEGR2_SD_TB",{"$f":"$N$80","v":"Cooled EGR 2\n(CEGR2_SD) - TBL"},null,null,null,null,"CEGR2_SD_DS",null,null,null,null,null,null,null,"CEGR2_MD_TB",{"$f":"$AB$80","v":"Cooled EGR 2\n(CEGR2_MD) - TBL"},null,null,null,null,"CEGR2_MD_DS",null,null,null,null,null,null,null,"CEGR2_LD_TB",{"$f":"$AP$80","v":"Cooled EGR 2\n(CEGR2_LD) - TBL"},null,null,null,null,"CEGR2_LD_DS"]
[null,"STOP",null,null,null,null,null,null,null,null,null,"2017+","INC","%",{"$f":"1-((1-O82)/(1-O74))","v":1.3586956521739135E-2},"$",{"$f":"INDEX('[1]Midsize Perf. PC'!$H$379:$X$467,MATCH(M80,'[1]Midsize Perf. PC'!$C$379:$C$467,0),MATCH(Inputs!$C$2,'[1]Midsize Perf. PC'!$H$378:$X$378,0))\n+INDEX('[1]Midsize Perf. PC'!$H$379:$X$467,MATCH(S80,'[1]Midsize Perf. PC'!$C$379:$C$467,0),MATCH(Inputs!$C$2,'[1]Midsize Perf. PC'!$H$378:$X$378,0))","v":495.18737698870899},10,null,null,null,null,null,null,null,"2017+","INC","%",{"$f":"1-((1-AC82)/(1-AC74))","v":1.3586956521739135E-2},"$",{"$f":"INDEX('[1]Midsize Perf. PC'!$H$379:$X$467,MATCH(AA80,'[1]Midsize Perf. PC'!$C$379:$C$467,0),MATCH(Inputs!$C$2,'[1]Midsize Perf. PC'!$H$378:$X$378,0))\n+INDEX('[1]Midsize Perf. PC'!$H$379:$X$467,MATCH(AG80,'[1]Midsize Perf. PC'!$C$379:$C$467,0),MATCH(Inputs!$C$2,'[1]Midsize Perf. PC'!$H$378:$X$378,0))","v":495.18737698870899},10,null,null,null,null,null,null,null,"2017+","INC","%",{"$f":"1-((1-AQ82)/(1-AQ74))","v":1.3586956521739135E-2},"$",{"$f":"INDEX('[1]Midsize Perf. PC'!$H$379:$X$467,MATCH(AO80,'[1]Midsize Perf. PC'!$C$379:$C$467,0),MATCH(Inputs!$C$2,'[1]Midsize Perf. PC'!$H$378:$X$378,0))\n+INDEX('[1]Midsize Perf. PC'!$H$379:$X$467,MATCH(AU80,'[1]Midsize Perf. PC'!$C$379:$C$467,0),MATCH(Inputs!$C$2,'[1]Midsize Perf. PC'!$H$378:$X$378,0))","v":-296.67298355204559},10,null,null,null,null,null,null,null,"2017+","INC","%",{"$f":"$O$81","v":1.3586956521739135E-2},"$",{"$f":"$Q$81","v":495.18737698870899},{"$f":"$R$81","v":10},null,null,null,null,null,null,null,"2017+","INC","%",{"$f":"$AC$81","v":1.3586956521739135E-2},"$",{"$f":"$AE$81","v":495.18737698870899},{"$f":"$AF$81","v":10},null,null,null,null,null,null,null,"2017+","INC","%",{"$f":"$AQ$81","v":1.3586956521739135E-2},"$",{"$f":"$AS$81","v":-296.67298355204559},{"$f":"$AT$81","v":10},null,null,null,null,null,null,null,"2017+","INC","%",{"$f":"$O$81","v":1.3586956521739135E-2},"$",{"$f":"$Q$81","v":495.18737698870899},{"$f":"$R$81","v":10},null,null,null,null,null,null,null,"2017+","INC","%",{"$f":"$AC$81","v":1.3586956521739135E-2},"$",{"$f":"$AE$81","v":495.18737698870899},{"$f":"$AF$81","v":10},null,null,null,null,null,null,null,"2017+","INC","%",{"$f":"$AQ$81","v":1.3586956521739135E-2},"$",{"$f":"$AS$81","v":-296.67298355204559},{"$f":"$AT$81","v":10},null,null,null,null,null,null,null,"2017+","INC","%",{"$f":"$O$81","v":1.3586956521739135E-2},"$",{"$f":"$Q$81","v":495.18737698870899},{"$f":"$R$81","v":10},null,null,null,null,null,null,null,"2017+","INC","%",{"$f":"$AC$81","v":1.3586956521739135E-2},"$",{"$f":"$AE$81","v":495.18737698870899},{"$f":"$AF$81","v":10},null,null,null,null,null,null,null,"2017+","INC","%",{"$f":"$AQ$81","v":1.3586956521739135E-2},"$",{"$f":"$AS$81","v":-296.67298355204559},{"$f":"$AT$81","v":10}]
["Diesel Engine Type","I4",null,null,null,null,null,null,null,null,null,null,"ABS","%",0.27400000000000002,"$",{"$f":"Q74+Q81","v":2079.21395377103},"L",null,null,null,null,null,null,null,null,"ABS","%",{"$f":"O82","v":0.27400000000000002},"$",{"$f":"AE74+AE81","v":1857.5619268422768},"L",null,null,null,null,null,null,null,null,"ABS","%",{"$f":"O82","v":0.27400000000000002},"$",{"$f":"AS74+AS81","v":1788.2113101949958},"L",null,null,null,null,null,null,null,null,"ABS","%",{"$f":"1-((1-BE74)*(1-BE81))","v":0.27400000000000002},"$",{"$f":"BG74+BG81","v":2145.9187184511006},"L",null,null,null,null,null,null,null,null,"ABS","%",{"$f":"$O82","v":0.27400000000000002},"$",{"$f":"BU74+BU81","v":1797.1250550979319},"L",null,null,null,null,null,null,null,null,"ABS","%",{"$f":"$AQ82","v":0.27400000000000002},"$",{"$f":"CI74+CI81","v":1714.204798037807},"L",null,null,null,null,null,null,null,null,"ABS","%",{"$f":"$O82","v":0.27400000000000002},"$",{"$f":"CW74+CW81","v":2247.5930542142833},"L",null,null,null,null,null,null,null,null,"ABS","%",{"$f":"$AC82","v":0.27400000000000002},"$",{"$f":"DK74+DK81","v":1898.7993908611145},"L",null,null,null,null,null,null,null,null,"ABS","%",{"$f":"$AQ82","v":0.27400000000000002},"$",{"$f":"DY74+DY81","v":1815.8791338009892},"L",null,null,null,null,null,null,null,null,"ABS","%",{"$f":"$O82","v":0.27400000000000002},"$",{"$f":"EM74+EM81","v":1606.1969056264222},"L",null,null,null,null,null,null,null,null,"ABS","%",{"$f":"$AC82","v":0.27400000000000002},"$",{"$f":"FA74+FA81","v":2367.3625986384868},"L",null,null,null,null,null,null,null,null,"ABS","%",{"$f":"$AQ82","v":0.27400000000000002},"$",{"$f":"FO74+FO81","v":2259.2382674161954},"L"]
["Displacement [L]","1.5 to 2.0"]
["Turbocharger","VNT"]
["EGR system","cooler+vlv+bypass vlv"]
["FIE","HPCR 1800bar solenoid",null,null,"2012-2016","INC","%",{"$f":"1-((1-H87)/(1-O79))","v":0},"$",0,"L","2012-2016","INC","%",0,"$",0,0,"2012-2016","INC","%",{"$f":"1-((1-V87)/(1-AC79))","v":0},"$",0,"L","2012-2016","INC","%",0,"$",0,0,"2012-2016","INC","%",{"$f":"1-((1-AJ87)/(1-AQ79))","v":0},"$",0,"L","2012-2016","INC","%",0,"$",0,0,"2012-2016","INC","%",{"$f":"1-((1-AX87)/(1-BE79))","v":-7.9280954326652608E-3},"$",0,"L","2012-2016","INC","%",0,"$",0,0,"2012-2016","INC","%",{"$f":"1-((1-BL87)/(1-BS79))","v":0},"$",0,"L","2012-2016","INC","%",0,"$",0,0,"2012-2016","INC","%",{"$f":"1-((1-BZ87)/(1-CG79))","v":0},"$",0,"L","2012-2016","INC","%",0,"$",0,0,"2012-2016","INC","%",{"$f":"1-((1-CN87)/(1-CU79))","v":8.1958452028896289E-4},"$",0,"L","2012-2016","INC","%",0,"$",0,0,"2012-2016","INC","%",{"$f":"1-((1-DB87)/(1-DI79))","v":0},"$",0,"L","2012-2016","INC","%",0,"$",0,0,"2012-2016","INC","%",{"$f":"1-((1-DP87)/(1-DW79))","v":0},"$",0,"L","2012-2016","INC","%",0,"$",0,0,"2012-2016","INC","%",{"$f":"1-((1-ED87)/(1-EK79))","v":-4.293675782097317E-2},"$",0,"L","2012-2016","INC","%",0,"$",0,0,"2012-2016","INC","%",{"$f":"1-((1-ER87)/(1-EY79))","v":3.358660948017933E-2},"$",0,"L","2012-2016","INC","%",0,"$",0,0,"2012-2016","INC","%",{"$f":"1-((1-FF87)/(1-FM79))","v":3.358660948017933E-2},"$",0,"L","2012-2016","INC","%",0,"$",0,0]
["Valvetrain","4-valve DOHC",null,null,null,"ABS","%",{"$f":"O79","v":0.19956654840821175},"$",{"$f":"J86+Q79","v":1184.6965628407361},150,null,"ABS","%",{"$f":"1-((1-O79)*(1-O86))","v":0.19956654840821175},"$",{"$f":"Q79+Q86","v":1184.6965628407361},"L",null,"ABS","%",{"$f":"AC79","v":0.19890998743455479},"$",{"$f":"X86+AE79","v":735.36509429306989},200,null,"ABS","%",{"$f":"1-((1-AC79)*(1-AC86))","v":0.19890998743455479},"$",{"$f":"AE79+AE86","v":735.36509429306989},"L",null,"ABS","%",{"$f":"AQ79","v":0.19890998743455479},"$",{"$f":"AL86+AS79","v":1288.1138190951174},500,null,"ABS","%",{"$f":"1-((1-AQ79)*(1-AQ86))","v":0.19890998743455479},"$",{"$f":"AS79+AS86","v":1288.1138190951174},"L",null,"ABS","%",{"$f":"$H$87","v":0.19956654840821175},"$",{"$f":"AZ86+BG79","v":1251.4013275208067},{"$f":"$K$87","v":150},null,"ABS","%",{"$f":"1-((1-BE79)*(1-BE86))","v":0.20586254593072684},"$",{"$f":"BG79+BG86","v":1251.4013275208067},"L",null,"ABS","%",{"$f":"$V$87","v":0.19890998743455479},"$",{"$f":"BN86+BU79","v":674.9282225487251},{"$f":"$Y$87","v":200},null,"ABS","%",{"$f":"1-((1-BS79)*(1-BS86))","v":0.19890998743455479},"$",{"$f":"BU79+BU86","v":674.9282225487251},"L",null,"ABS","%",{"$f":"$AJ$87","v":0.19890998743455479},"$",{"$f":"CB86+CI79","v":1214.1073069379283},{"$f":"$AM$87","v":500},null,"ABS","%",{"$f":"1-((1-CG79)*(1-CG86))","v":0.19890998743455479},"$",{"$f":"CI79+CI86","v":1214.1073069379283},"L",null,"ABS","%",{"$f":"$H$87","v":0.19956654840821175},"$",{"$f":"CP86+CW79","v":1353.0756632839893},{"$f":"$K$87","v":150},null,"ABS","%",{"$f":"1-((1-CU79)*(1-CU86))","v":0.19890998743455501},"$",{"$f":"CW79+CW86","v":1353.0756632839893},"L",null,"ABS","%",{"$f":"$V$87","v":0.19890998743455479},"$",{"$f":"DD86+DK79","v":776.6025583119075},{"$f":"$Y$87","v":200},null,"ABS","%",{"$f":"1-((1-DI79)*(1-DI86))","v":0.19890998743455501},"$",{"$f":"DK79+DK86","v":776.6025583119075},"L",null,"ABS","%",{"$f":"$AJ$87","v":0.19890998743455479},"$",{"$f":"DR86+DY79","v":1315.7816427011107},{"$f":"$AM$87","v":500},null,"ABS","%",{"$f":"1-((1-DW79)*(1-DW86))","v":0.19890998743455501},"$",{"$f":"DY79+DY86","v":1315.7816427011107},"L",null,"ABS","%",{"$f":"$H$87","v":0.19956654840821175},"$",{"$f":"EF86+EM79","v":711.67951469612831},{"$f":"$K$87","v":150},null,"ABS","%",{"$f":"1-((1-EK79)*(1-EK86))","v":0.23251966565628723},"$",{"$f":"EM79+EM86","v":711.67951469612831},"L",null,"ABS","%",{"$f":"$V$87","v":0.19890998743455479},"$",{"$f":"ET86+FA79","v":1245.1657660892802},{"$f":"$Y$87","v":200},null,"ABS","%",{"$f":"1-((1-EY79)*(1-EY86))","v":0.17106900584795315},"$",{"$f":"FA79+FA86","v":1245.1657660892802},"L",null,"ABS","%",{"$f":"$AJ$87","v":0.19890998743455479},"$",{"$f":"FH86+FO79","v":1759.140776316317},{"$f":"$AM$87","v":500},null,"ABS","%",{"$f":"1-((1-FM79)*(1-FM86))","v":0.17106900584795315},"$",{"$f":"FO79+FO86","v":1759.140776316317},"L"]
["Valvetrain option","N/A",null,null,null,null,"Advanced Diesel\n(ADSL_SD) - TBL",null,null,null,null,"ADSL_SD",null,"To Strong Hybrids",null,null,null,null,null,null,"Advanced Diesel\n(ADSL_MD) - TBL",null,null,null,null,"ADSL_MD",null,"To Strong Hybrids",null,null,null,null,null,null,"Advanced Diesel\n(ADSL_LD) - TBL",null,null,null,null,"ADSL_LD",null,"To Strong Hybrids",null,null,null,null,null,null,"Advanced Diesel\n(ADSL_SD) - TBL",null,null,null,null,"ADSL_SD",null,"To Strong Hybrids",null,null,null,null,null,null,"Advanced Diesel\n(ADSL_MD) - TBL",null,null,null,null,"ADSL_SD",null,"To Strong Hybrids",null,null,null,null,null,null,"Advanced Diesel\n(ADSL_LD) - TBL",null,null,null,null,"ADSL_SD",null,"To Strong Hybrids",null,null,null,null,null,null,"Advanced Diesel\n(ADSL_SD) - TBL",null,null,null,null,"ADSL_SD",null,"To Strong Hybrids",null,null,null,null,null,null,"Advanced Diesel\n(ADSL_MD) - TBL",null,null,null,null,"ADSL_SD",null,"To Strong Hybrids",null,null,null,null,null,null,"Advanced Diesel\n(ADSL_LD) - TBL",null,null,null,null,"ADSL_SD",null,"To Strong Hybrids",null,null,null,null,null,null,"Advanced Diesel\n(ADSL_SD) - TBL",null,null,null,null,"ADSL_SD",null,"To Strong Hybrids",null,null,null,null,null,null,"Advanced Diesel\n(ADSL_MD) - TBL",null,null,null,null,"ADSL_SD",null,"To Strong Hybrids",null,null,null,null,null,null,"Advanced Diesel\n(ADSL_LD) - TBL",null,null,null,null,"ADSL_SD",null,"To Strong Hybrids"]
["After Treatment","DOC+LNT+DPF",null,null,"2017+","INC","%",{"$f":"1-((1-H90)/(1-O82))","v":2.7548209366391241E-2},"$",{"$f":"INDEX('[1]Midsize Perf. PC'!$H$379:$X$467,MATCH(L88,'[1]Midsize Perf. PC'!$C$379:$C$467,0),MATCH(Inputs!$C$2,'[1]Midsize Perf. PC'!$H$378:$X$378,0))","v":911.04083256975923},"L","2017+","INC","%",0,"$",{"$f":"Q86","v":0},0,"2017+","INC","%",{"$f":"1-((1-V90)/(1-AC82))","v":2.7548209366391241E-2},"$",{"$f":"INDEX('[1]Midsize Perf. PC'!$H$379:$X$467,MATCH(Z88,'[1]Midsize Perf. PC'!$C$379:$C$467,0),MATCH(Inputs!$C$2,'[1]Midsize Perf. PC'!$H$378:$X$378,0))","v":927.85441038425756},"L","2017+","INC","%",0,"$",{"$f":"AE86","v":0},0,"2017+","INC","%",{"$f":"1-((1-AJ90)/(1-AQ82))","v":2.7548209366391241E-2},"$",{"$f":"INDEX('[1]Midsize Perf. PC'!$H$379:$X$467,MATCH(AN88,'[1]Midsize Perf. PC'!$C$379:$C$467,0),MATCH(Inputs!$C$2,'[1]Midsize Perf. PC'!$H$378:$X$378,0))","v":1811.581549062259},"L","2017+","INC","%",0,"$",{"$f":"AS86","v":0},0,"2017+","INC","%",{"$f":"1-((1-AX90)/(1-BE82))","v":2.7548209366391241E-2},"$",{"$f":"$J$89","v":911.04083256975923},"L","2017+","INC","%",0,"$",{"$f":"BG86","v":0},0,"2017+","INC","%",{"$f":"1-((1-BL90)/(1-BS82))","v":2.7548209366391241E-2},"$",{"$f":"$X$89","v":927.85441038425756},"L","2017+","INC","%",0,"$",{"$f":"BU86","v":0},0,"2017+","INC","%",{"$f":"1-((1-BZ90)/(1-CG82))","v":2.7548209366391241E-2},"$",{"$f":"$AL$89","v":1811.581549062259},"L","2017+","INC","%",0,"$",{"$f":"CI86","v":0},0,"2017+","INC","%",{"$f":"1-((1-CN90)/(1-CU82))","v":2.7548209366391241E-2},"$",{"$f":"$J$89","v":911.04083256975923},"L","2017+","INC","%",0,"$",{"$f":"CW86","v":0},0,"2017+","INC","%",{"$f":"1-((1-DB90)/(1-DI82))","v":2.7548209366391241E-2},"$",{"$f":"$X$89","v":927.85441038425756},"L","2017+","INC","%",0,"$",{"$f":"DK86","v":0},0,"2017+","INC","%",{"$f":"1-((1-DP90)/(1-DW82))","v":2.7548209366391241E-2},"$",{"$f":"$AL$89","v":1811.581549062259},"L","2017+","INC","%",0,"$",{"$f":"DY86","v":0},0,"2017+","INC","%",{"$f":"1-((1-ED90)/(1-EK82))","v":2.7548209366391241E-2},"$",{"$f":"$J$89","v":911.04083256975923},"L","2017+","INC","%",0,"$",{"$f":"EM86","v":0},0,"2017+","INC","%",{"$f":"1-((1-ER90)/(1-EY82))","v":2.7548209366391241E-2},"$",{"$f":"$X$89","v":927.85441038425756},"L","2017+","INC","%",0,"$",{"$f":"FA86","v":0},0,"2017+","INC","%",{"$f":"1-((1-FF90)/(1-FM82))","v":2.7548209366391241E-2},"$",{"$f":"$AL$89","v":1811.581549062259},"L","2017+","INC","%",0,"$",{"$f":"FO86","v":0},0]
[null,null,null,null,null,"ABS","%",0.29399999999999998,"$",{"$f":"Q82+J89","v":2990.254786340789},150,null,"ABS","%",{"$f":"1-((1-O82)*(1-O89))","v":0.27400000000000002},"$",{"$f":"Q82+Q89","v":2079.21395377103},"L",null,"ABS","%",{"$f":"H90","v":0.29399999999999998},"$",{"$f":"AE82+X89","v":2785.4163372265343},200,null,"ABS","%",{"$f":"1-((1-AC82)*(1-AC89))","v":0.27400000000000002},"$",{"$f":"AE82+AE89","v":1857.5619268422768},"L",null,"ABS","%",{"$f":"H90","v":0.29399999999999998},"$",{"$f":"AS82+AL89","v":3599.7928592572548},500,null,"ABS","%",{"$f":"1-((1-AQ82)*(1-AQ89))","v":0.27400000000000002},"$",{"$f":"AS82+AS89","v":1788.2113101949958},"L",null,"ABS","%",{"$f":"$H$90","v":0.29399999999999998},"$",{"$f":"$J$90","v":2990.254786340789},{"$f":"$K$90","v":150},null,"ABS","%",{"$f":"1-((1-BE82)*(1-BE89))","v":0.27400000000000002},"$",{"$f":"BG82+BG89","v":2145.9187184511006},"L",null,"ABS","%",{"$f":"$V$90","v":0.29399999999999998},"$",{"$f":"$X$90","v":2785.4163372265343},{"$f":"$Y$90","v":200},null,"ABS","%",{"$f":"1-((1-BS82)*(1-BS89))","v":0.27400000000000002},"$",{"$f":"BU82+BU89","v":1797.1250550979319},"L",null,"ABS","%",{"$f":"$AJ$90","v":0.29399999999999998},"$",{"$f":"$AL$90","v":3599.7928592572548},{"$f":"$AM$90","v":500},null,"ABS","%",{"$f":"1-((1-CG82)*(1-CG89))","v":0.27400000000000002},"$",{"$f":"CI82+CI89","v":1714.204798037807},"L",null,"ABS","%",{"$f":"$H$90","v":0.29399999999999998},"$",{"$f":"$J$90","v":2990.254786340789},{"$f":"$K$90","v":150},null,"ABS","%",{"$f":"1-((1-CU82)*(1-CU89))","v":0.27400000000000002},"$",{"$f":"CW82+CW89","v":2247.5930542142833},"L",null,"ABS","%",{"$f":"$V$90","v":0.29399999999999998},"$",{"$f":"$X$90","v":2785.4163372265343},{"$f":"$Y$90","v":200},null,"ABS","%",{"$f":"1-((1-DI82)*(1-DI89))","v":0.27400000000000002},"$",{"$f":"DK82+DK89","v":1898.7993908611145},"L",null,"ABS","%",{"$f":"$AJ$90","v":0.29399999999999998},"$",{"$f":"$AL$90","v":3599.7928592572548},{"$f":"$AM$90","v":500},null,"ABS","%",{"$f":"1-((1-DW82)*(1-DW89))","v":0.27400000000000002},"$",{"$f":"DY82+DY89","v":1815.8791338009892},"L",null,"ABS","%",{"$f":"$H$90","v":0.29399999999999998},"$",{"$f":"$J$90","v":2990.254786340789},{"$f":"$K$90","v":150},null,"ABS","%",{"$f":"1-((1-EK82)*(1-EK89))","v":0.27400000000000002},"$",{"$f":"EM82+EM89","v":1606.1969056264222},"L",null,"ABS","%",{"$f":"$V$90","v":0.29399999999999998},"$",{"$f":"$X$90","v":2785.4163372265343},{"$f":"$Y$90","v":200},null,"ABS","%",{"$f":"1-((1-EY82)*(1-EY89))","v":0.27400000000000002},"$",{"$f":"FA82+FA89","v":2367.3625986384868},"L",null,"ABS","%",{"$f":"$AJ$90","v":0.29399999999999998},"$",{"$f":"$AL$90","v":3599.7928592572548},{"$f":"$AM$90","v":500},null,"ABS","%",{"$f":"1-((1-FM82)*(1-FM89))","v":0.27400000000000002},"$",{"$f":"FO82+FO89","v":2259.2382674161954},"L"]
[]
[]
[]
[]
[]
[]
[]
["Expanded Trans/Hybrid Technology Decision Tree"]
[]
[]
[null,null,null,null,"Electrification",null,null,null,null,null,null,null,null,null,null,null,null,null,null,null,null,"Manual Trans",null,null,null,null,null,null,null,null,null,null,null,"Auto Trans"]
[]
[null,"START",null,null,"2012-2016","INC","%",1.2999999999999999E-2,"$",{"$f":"INDEX('[1]Midsize Perf. PC'!$H$379:$X$467,MATCH(L105,'[1]Midsize Perf. PC'!$C$379:$C$467,0),MATCH(Inputs!$C$2,'[1]Midsize Perf. PC'!$H$378:$X$378,0))","v":98.103282519162363},95.93,null,null,null,"START",null,null,null,"2012-2016","INC","%",2.3900000000000001E-2,"$",{"$f":"INDEX('[1]Midsize Perf. PC'!$H$379:$X$467,MATCH(Z105,'[1]Midsize Perf. PC'!$C$379:$C$467,0),MATCH(Inputs!$C$2,'[1]Midsize Perf. PC'!$H$378:$X$378,0))","v":250.31750824336308},225.33,null,null,null,"START",null,null,null,"2012-2016","INC","%",0.03,"$",{"$f":"INDEX('[1]Midsize Perf. PC'!$H$379:$X$467,MATCH(AN105,'[1]Midsize Perf. PC'!$C$379:$C$467,0),MATCH(Inputs!$C$2,'[1]Midsize Perf. PC'!$H$378:$X$378,0))","v":55.807948333210945},54.17]
["Curb Weight (lbs)",3822,null,null,null,"ABS","%",{"$f":"H103","v":1.2999999999999999E-2},"$",{"$f":"J103","v":98.103282519162363},"L",null,null,null,"5-spd",null,null,null,null,"ABS","%",{"$f":"V103","v":2.3900000000000001E-2},"$",{"$f":"X103","v":250.31750824336308},"L",null,null,null,"4/5-spd",null,null,null,null,"ABS","%",{"$f":"AJ103","v":0.03},"$",{"$f":"AL103","v":55.807948333210945},"L"]
["Engine Displacement [L]",3.9,null,null,null,null,"Electric Power\nSteering (EPS) - TBL",null,null,null,null,"EPS",null,null,"Manual",null,null,null,null,null,"6 Speed Man/Imp.\nInternals (6MAN) - TBL",null,null,null,null,"6MAN",null,null,"Auto",null,null,null,null,null,"Imp. Auto Trans Cnrt./\nExternals (IATC) - TBL",null,null,null,null,"IATC"]
["Engine Power (HP)",337,null,null,"2017+","INC","%",{"$f":"H103","v":1.2999999999999999E-2},"$",{"$f":"J103","v":98.103282519162363},{"$f":"K103","v":95.93},null,null,null,null,null,null,null,"2017+","INC","%",2.3900000000000001E-2,"$",{"$f":"X103","v":250.31750824336308},225.33,null,null,null,null,null,null,null,"2017+","INC","%",{"$f":"AJ103","v":0.03},"$",{"$f":"AL103","v":55.807948333210945},54.17]
["Engine Torque (ft-lbf)",318,null,null,null,"ABS","%",{"$f":"H106","v":1.2999999999999999E-2},"$",{"$f":"J106","v":98.103282519162363},"L",null,null,null,null,null,null,null,null,"ABS","%",{"$f":"V106","v":2.3900000000000001E-2},"$",{"$f":"X106","v":250.31750824336308},"L",null,null,null,null,null,null,null,null,"ABS","%",{"$f":"AJ106","v":0.03},"$",{"$f":"AL106","v":55.807948333210945},"L"]
["Footprint (ft2)",47.3]
[]
[]
[null,null,null,null,"2012-2016","INC","%",{"$f":"1-((1-H112)/(1-H104))","v":1.2158054711246202E-2},"$",{"$f":"INDEX('[1]Midsize Perf. PC'!$H$379:$X$467,MATCH(L113,'[1]Midsize Perf. PC'!$C$379:$C$467,0),MATCH(Inputs!$C$2,'[1]Midsize Perf. PC'!$H$378:$X$378,0))","v":79.784981333734891},115.2,null,null,null,null,null,null,null,"2012-2016","INC","%",0,"$",0,100.55,null,null,null,null,null,null,null,"2012-2016","INC","%",{"$f":"1-((1-AJ112)/(1-AJ104))","v":2.0356899890104252E-2},"$",{"$f":"INDEX('[1]Midsize Perf. PC'!$H$379:$X$467,MATCH(AN113,'[1]Midsize Perf. PC'!$C$379:$C$467,0),MATCH(Inputs!$C$2,'[1]Midsize Perf. PC'!$H$378:$X$378,0))","v":-37.91558007744085},100.55]
[null,null,null,null,null,"ABS","%",2.5000000000000001E-2,"$",{"$f":"J104+J111","v":177.88826385289724},"L",null,null,null,null,null,null,null,null,"ABS","%",{"$f":"V104","v":2.3900000000000001E-2},"$",{"$f":"X111+X104","v":250.31750824336308},"L",null,null,null,null,null,null,null,null,"ABS","%",{"$f":"1-((1-6.4%)/(1-1.5%))","v":4.9746192893401098E-2},"$",{"$f":"AL111+AL104","v":17.892368255770094},"L"]
[null,null,null,null,null,null,"Improved Accessories 1\n(IACC1) - TBL",null,null,null,null,"IACC1",null,null,"From Engine Path\n2012-2016 ",null,null,null,null,null,"High Eff. Gearbox \n(Manual) -  (HETRANSM) - TBL",null,null,null,null,"HETRANS",null,null,null,null,null,null,null,null,"6-spd Auto Trans w/Imp\nInternals (NAUTO) - TBL",null,null,null,null,"NAUTO"]
[null,null,null,null,"2017+","INC","%",{"$f":"1-((1-H115)/(1-H107))","v":1.2158054711246202E-2},"$",{"$f":"J111","v":79.784981333734891},{"$f":"K111","v":115.2},null,null,null,null,null,null,null,"2017+","INC","%",{"$f":"1-((1-V115)/(1-V107))","v":4.0805721530451589E-2},"$",{"$f":"INDEX('[1]Midsize Perf. PC'!$H$379:$X$467,MATCH(Z113,'[1]Midsize Perf. PC'!$C$379:$C$467,0),MATCH(Inputs!$C$2,'[1]Midsize Perf. PC'!$H$378:$X$378,0))","v":227.42624881754446},10,null,null,null,null,null,null,null,"2017+","INC","%",{"$f":"1-((1-AJ115)/(1-AJ107))","v":2.0356899890104252E-2},"$",{"$f":"AL111","v":-37.91558007744085},10]
[null,null,null,null,null,"ABS","%",{"$f":"H112","v":2.5000000000000001E-2},"$",{"$f":"J107+J114","v":177.88826385289724},"L",null,null,null,null,null,null,null,null,"ABS","%",{"$f":"1-((1-7.74%)/(1-1.46%))","v":6.3730464785873853E-2},"$",{"$f":"X107+X114","v":477.74375706090757},"L",null,null,null,null,null,null,null,null,"ABS","%",{"$f":"AJ112","v":4.9746192893401098E-2},"$",{"$f":"AL107+AL114","v":17.892368255770094},"L"]
[]
[]
[]
[null,null,null,null,"2012-2016","INC","%",{"$f":"1-((1-H120)/(1-H112))","v":0},"$",0,0,"2012-2016","INC","%",{"$f":"1-((1-O120)/(((1-$O$87)*(1-$H$136)*(1-AJ144))))","v":5.2999201836847809E-2},"$",{"$f":"INDEX('[1]Midsize Perf. PC'!$H$379:$X$467,MATCH(M121,'[1]Midsize Perf. PC'!$C$379:$C$467,0),MATCH(Inputs!$C$2,'[1]Midsize Perf. PC'!$H$378:$X$378,0))\n+INDEX('[1]Midsize Perf. PC'!$H$379:$X$467,MATCH(S121,'[1]Midsize Perf. PC'!$C$379:$C$467,0),MATCH(Inputs!$C$2,'[1]Midsize Perf. PC'!$H$378:$X$378,0))","v":1866.5287199927945},"L",null,null,null,null,null,null,null,null,null,null,null,null,null,null,"2012-2016","INC","%",{"$f":"1-((1-AJ120)/(1-AJ112))","v":4.0598290598290454E-2},"$",{"$f":"INDEX('[1]Midsize Perf. PC'!$H$379:$X$467,MATCH(AN121,'[1]Midsize Perf. PC'!$C$379:$C$467,0),MATCH(Inputs!$C$2,'[1]Midsize Perf. PC'!$H$378:$X$378,0))","v":-79.182210630830212},-10.47]
[null,null,null,null,null,"ABS","%",{"$f":"H112","v":2.5000000000000001E-2},"$",{"$f":"J112+J119","v":177.88826385289724},"L",null,"ABS","%",0.41399999999999998,"$",{"$f":"J136+Q119+AE87+AL144","v":4161.5529270047246},33.86,null,null,null,null,null,null,null,null,null,null,null,null,null,null,null,"ABS","%",{"$f":"1-((1-10.2%)/(1-1.5%))","v":8.8324873096446654E-2},"$",{"$f":"AL119+AL112","v":-61.289842375060118},"L"]
[null,null,null,null,null,null,"Improved Accessories 2\n(IACC2) - TBL",null,null,null,null,"IACC2","SHEV1_B","Strong Hybrid (Powersplit or 2-Mode) (SHEV1) - VBL",null,null,null,null,"SHEV1_NB",null,null,"From Engine Path\n2017+ ",null,null,null,null,null,null,null,null,null,null,null,null,"6-spd Dual Clutch Trans\n(DCT) - TBL",null,null,null,null,"DCT"]
[null,null,null,null,"2017+","INC","%",{"$f":"1-((1-H123)/(1-H115))","v":2.3589743589743639E-2},"$",{"$f":"INDEX('[1]Midsize Perf. PC'!$H$379:$X$467,MATCH(L121,'[1]Midsize Perf. PC'!$C$379:$C$467,0),MATCH(Inputs!$C$2,'[1]Midsize Perf. PC'!$H$378:$X$378,0))","v":50.780571415814975},0,"2017+","INC","%",0,"$",0,"L",null,null,null,null,null,null,null,null,null,null,null,null,null,null,"2017+","INC","%",{"$f":"1-((1-AJ123)/(1-AJ115))","v":4.0598290598290454E-2},"$",{"$f":"AL119","v":-79.182210630830212},{"$f":"AM119","v":-10.47}]
[null,null,null,null,null,"ABS","%",4.8000000000000001E-2,"$",{"$f":"J115+J122","v":228.6688352687122},"L",null,"ABS","%",0,"$",{"$f":"Q116+Q122","v":0},0,null,null,null,null,null,null,null,null,null,null,null,null,null,null,null,"ABS","%",{"$f":"AJ120","v":8.8324873096446654E-2},"$",{"$f":"AL115+AL122","v":-61.289842375060118},"L"]
[]
[]
[]
[null,null,null,null,"2012-2016","INC","%",{"$f":"H130","v":2.1008403361344574E-2},"$",{"$f":"INDEX('[1]Midsize Perf. PC'!$H$379:$X$467,MATCH(L129,'[1]Midsize Perf. PC'!$C$379:$C$467,0),MATCH(Inputs!$C$2,'[1]Midsize Perf. PC'!$H$378:$X$378,0))","v":325.2324815380548},259.67,"2012-2016","INC","%","n/a","$","n/a","L","2012-2016","INC","%",{"$f":"1-((1-V128)/(((1-$O$87)*(1-$H$136)*(1-AJ144))))","v":-0.61604231768455975},"$",0,"L",null,null,null,null,null,null,null,"2012-2016","INC","%",{"$f":"1-((1-AJ128)/(1-AJ120))","v":4.5657015590200523E-2},"$",{"$f":"INDEX('[1]Midsize Perf. PC'!$H$379:$X$467,MATCH(AN129,'[1]Midsize Perf. PC'!$C$379:$C$467,0),MATCH(Inputs!$C$2,'[1]Midsize Perf. PC'!$H$378:$X$378,0))","v":223.31892374342101},0]
[null,null,null,null,null,"ABS","%",{"$f":"H127+H120","v":4.6008403361344576E-2},"$",{"$f":"J120+J127","v":503.12074539095204},"L",null,"ABS","%","n/a","$","n/a",0,null,"ABS","%",0,"$",0,0,null,null,null,null,null,null,null,null,"ABS","%",{"$f":"1-((1-14.3%)/(1-1.5%))","v":0.12994923857868024},"$",{"$f":"AL120+AL127","v":162.02908136836089},"M"]
[null,null,null,null,null,null,"12V Micro Hybrid - Stop-Start\n(MHEV) - TBL",null,null,null,null,"MHEV",null,"SHEV1 --> SHEV2",null,null,null,null,null,"SHEV2_B","Strong Hybrid (P2 Parallel or 2-Mode) (SHEV2) - VBL",null,null,null,null,"SHEV2_NB",null,null,null,null,null,null,null,null,"8-spd Trans (Auto or DCT)\n(8SPD) - TBL",null,null,null,null,"8SPD"]
[null,null,null,null,"2017+","INC","%",{"$f":"1-((1-H131)/(1-H123))","v":2.1008403361344574E-2},"$",{"$f":"J127","v":325.2324815380548},{"$f":"K127","v":259.67},"2017+","INC","%",{"$f":"1-((1-V131)/(1-O120))","v":0.12457337883959052},"$",{"$f":"Q131-Q120","v":1623.5680642659563},"L","2017+","INC","%",{"$f":"1-((1-V131)/(((1-$O$90)*(1-$H$139)*(1-AJ147))))","v":1.1303147327571539E-3},"$",{"$f":"INDEX('[1]Midsize Perf. PC'!$H$379:$X$467,MATCH(T129,'[1]Midsize Perf. PC'!$C$379:$C$467,0),MATCH(Inputs!$C$2,'[1]Midsize Perf. PC'!$H$378:$X$378,0))\n+INDEX('[1]Midsize Perf. PC'!$H$379:$X$467,MATCH(Z129,'[1]Midsize Perf. PC'!$C$379:$C$467,0),MATCH(Inputs!$C$2,'[1]Midsize Perf. PC'!$H$378:$X$378,0))","v":1866.5287199927945},"L",null,null,null,null,null,null,null,"2017+","INC","%",{"$f":"1-((1-AJ131)/(1-AJ123))","v":4.5657015590200523E-2},"$",{"$f":"AL127","v":223.31892374342101},10]
[null,null,null,null,null,"ABS","%",6.8000000000000005E-2,"$",{"$f":"J123+J130","v":553.901316806767},"L",null,"ABS","%",{"$f":"V131","v":0.48699999999999999},"$",{"$f":"X130+J139+Q90+AL147","v":5785.1209912706809},0,null,"ABS","%",0.48699999999999999,"$",{"$f":"X130+J139+AE90+AL147","v":5563.4689643419279},33.86,null,null,null,null,null,null,null,null,"ABS","%",{"$f":"AJ128","v":0.12994923857868024},"$",{"$f":"AL123+AL130","v":162.02908136836089},"L"]
[]
[]
[]
[null,null,null,null,"2012-2016","INC","%",{"$f":"H138","v":6.5450643776823969E-2},"$",{"$f":"INDEX('[1]Large Perf. PC'!$H$379:$X$467,MATCH(F137,'[1]Large Perf. PC'!$C$379:$C$467,0),MATCH(Inputs!$C$2,'[1]Large Perf. PC'!$H$378:$X$378,0))\n+INDEX('[1]Large Perf. PC'!$H$379:$X$467,MATCH(L137,'[1]Large Perf. PC'!$C$379:$C$467,0),MATCH(Inputs!$C$2,'[1]Large Perf. PC'!$H$378:$X$378,0))","v":894.50928595954747},"L",null,null,null,null,null,null,null,"2012-2016","INC","%",{"$f":"1-((1-V136)/(1-V128))","v":0.35},"$",0,"L",null,null,null,null,null,null,null,"2012-2016","INC","%",{"$f":"1-((1-AJ136)/(1-AJ128))","v":0},"$",0,10]
[null,null,null,null,null,"ABS","%",{"$f":"H135+H128","v":0.11145904713816854},"$",{"$f":"J128+J135","v":1397.6300313504994},33.86,null,null,null,null,null,null,null,null,"ABS","%",0.35,"$",{"$f":"X135+X128","v":0},33.86,null,null,null,null,null,null,null,null,"ABS","%",{"$f":"AJ128","v":0.12994923857868024},"$",{"$f":"AL128+AL135","v":162.02908136836089},"L"]
[null,null,null,null,null,"ISG_B","Integrated Starter Generator\n(ISG) - VBL",null,null,null,null,"ISG_NB",null,null,null,null,null,null,null,"PHEV2_B","Plug-in Hybrid - 30 Mile Range  (PHEV1) - VBL",null,null,null,null,"PHEV2_NB",null,null,null,null,null,null,null,null,"High Eff. Gearbox\n(Auto or DCT) -  (HETRANS) - TBL",null,null,null,null,"HETRANS"]
[null,null,null,null,"2017+","INC","%",{"$f":"1-((1-H139)/(1-H131))","v":6.5450643776823969E-2},"$",{"$f":"J135","v":894.50928595954747},"L",null,null,null,null,null,null,null,"2017+","INC","%",0.40649999999999997,"$",{"$f":"INDEX('[1]Midsize Perf. PC'!$H$379:$X$467,MATCH(T137,'[1]Midsize Perf. PC'!$C$379:$C$467,0),MATCH(Inputs!$C$2,'[1]Midsize Perf. PC'!$H$378:$X$378,0))\n+INDEX('[1]Midsize Perf. PC'!$H$379:$X$467,MATCH(Z138,'[1]Midsize Perf. PC'!$C$379:$C$467,0),MATCH(Inputs!$C$2,'[1]Midsize Perf. PC'!$H$378:$X$378,0))\n+INDEX('[1]Midsize Perf. PC'!$H$379:$X$467,MATCH(Z139,'[1]Midsize Perf. PC'!$C$379:$C$467,0),MATCH(Inputs!$C$2,'[1]Midsize Perf. PC'!$H$378:$X$378,0))\n+INDEX('[1]Midsize Perf. PC'!$H$379:$X$467,MATCH(Z137,'[1]Midsize Perf. PC'!$C$379:$C$467,0),MATCH(Inputs!$C$2,'[1]Midsize Perf. PC'!$H$378:$X$378,0))","v":10019.247069132016},"L","PHEV2_C",null,null,null,null,null,null,"2017+","INC","%",{"$f":"1-((1-AJ139)/(1-AJ131))","v":2.6837806301050149E-2},"$",{"$f":"INDEX('[1]Midsize Perf. PC'!$H$379:$X$467,MATCH(AN137,'[1]Midsize Perf. PC'!$C$379:$C$467,0),MATCH(Inputs!$C$2,'[1]Midsize Perf. PC'!$H$378:$X$378,0))","v":227.42624881754446},10]
[null,null,null,null,null,"ABS","%",{"$f":"11.6%+H106","v":0.129},"$",{"$f":"J131+J138","v":1448.4106027663145},33.86,null,null,null,null,null,null,null,null,"ABS","%",{"$f":"1-((1-V131)*(1-V138))","v":0.69553449999999994},"$",{"$f":"X138+X131","v":15582.716033473944},33.86,"CHRG_L",null,null,null,null,null,null,null,"ABS","%",{"$f":"1-((1-16.6%)/(1-1.5%))","v":0.15329949238578677},"$",{"$f":"AL131+AL138","v":389.45533018590538},"L"]
[]
[]
[]
[null,null,null,null,null,null,null,null,null,null,null,null,null,null,null,null,null,null,"2012-2016","INC","%",{"$f":"1-((1-V144)/(1-V136))","v":0},"$",0,"L",null,null,null,null,null,null,null,"2012-2016","INC","%",{"$f":"1-((1-AJ144)/(1-AJ136))","v":0},"$",0,10]
[null,null,null,null,null,null,null,null,null,null,null,null,null,null,null,null,null,null,null,"ABS","%",0.35,"$",{"$f":"X143+X136","v":0},33.86,null,null,null,null,null,null,null,null,"ABS","%",{"$f":"AJ136","v":0.12994923857868024},"$",{"$f":"AL136+AL143","v":162.02908136836089},"L"]
[null,null,null,null,null,null,null,null,null,"To Strong\nHybrid",null,null,null,null,null,null,null,null,null,"PHEV2_B","Plug-in Hybrid - VBL",null,null,null,null,"PHEV2_NB",null,null,null,null,null,null,null,null,"Shift Optimizer\n (SHFTOPT) - TBL",null,null,null,null,"SHFTOPT"]
[null,null,null,null,null,null,null,null,null,null,null,null,null,null,null,null,null,null,"2017+","INC","%",0,"$",0,"L","PHEV2_C",null,null,null,null,null,null,"2017+","INC","%",{"$f":"1-((1-AJ147)/(1-AJ139))","v":4.0767386091126956E-2},"$",{"$f":"INDEX('[1]Midsize Perf. PC'!$H$379:$X$467,MATCH(AN145,'[1]Midsize Perf. PC'!$C$379:$C$467,0),MATCH(Inputs!$C$2,'[1]Midsize Perf. PC'!$H$378:$X$378,0))","v":1.5123845546366708},10]
[null,null,null,null,null,null,null,null,null,null,null,null,null,null,null,null,null,null,null,"ABS","%",{"$f":"1-((1-V139)*(1-V146))","v":0.69553449999999994},"$",{"$f":"X146+X139","v":15582.716033473944},33.86,null,null,null,null,null,null,null,null,"ABS","%",{"$f":"1-((1-20%)/(1-1.5%))","v":0.18781725888324863},"$",{"$f":"AL139+AL146","v":390.96771474054208},"L"]
[]
[]
[]
[null,null,null,null,null,null,null,null,null,null,null,null,null,null,null,null,null,null,"2012-2016","INC","%",{"$f":"1-((1-V152)/(1-V144))","v":0},"$",0,"L",null,null,null,null,null,null,null,null,null,null,null,"To Strong\n     Hybrid"]
[null,null,null,null,null,null,null,null,null,null,null,null,null,null,null,null,null,null,null,"ABS","%",0.35,"$",{"$f":"X151+X144","v":0},33.86]
[null,null,null,null,null,null,null,null,null,null,null,null,null,null,null,null,null,null,null,"EV1_B","Electric Vehicle - Early Adopter \n75 Mile Range - (EV1) - VBL",null,null,null,null,"EV1_NB"]
[null,null,null,null,null,null,null,null,null,null,null,null,null,null,null,null,null,null,"2017+","INC","%",0.68540000000000001,"$",{"$f":"INDEX('[1]Midsize Perf. PC'!$H$379:$X$467,MATCH(T153,'[1]Midsize Perf. PC'!$C$379:$C$467,0),MATCH(Inputs!$C$2,'[1]Midsize Perf. PC'!$H$378:$X$378,0))\n+INDEX('[1]Midsize Perf. PC'!$H$379:$X$467,MATCH(Z154,'[1]Midsize Perf. PC'!$C$379:$C$467,0),MATCH(Inputs!$C$2,'[1]Midsize Perf. PC'!$H$378:$X$378,0))\n+INDEX('[1]Midsize Perf. PC'!$H$379:$X$467,MATCH(Z153,'[1]Midsize Perf. PC'!$C$379:$C$467,0),MATCH(Inputs!$C$2,'[1]Midsize Perf. PC'!$H$378:$X$378,0))","v":2778.5172875327321},"L","EV_C"]
[null,null,null,null,null,null,null,null,null,null,null,null,null,null,null,null,null,null,null,"ABS","%",{"$f":"1-((1-V147)*(1-V154))","v":0.90421515369999994},"$",{"$f":"X154+X147","v":18361.233321006675},33.86]
[]
[]
[]
[null,null,null,null,null,null,null,null,null,null,null,null,null,null,null,null,null,null,"2012-2016","INC","%",{"$f":"1-((1-V160)/(1-V152))","v":0},"$",0,"L"]
[null,null,null,null,null,null,null,null,null,null,null,null,null,null,null,null,null,null,null,"ABS","%",0.35,"$",{"$f":"X159+X152","v":0},33.86]
[null,null,null,null,null,null,null,null,null,null,null,null,null,null,null,null,null,null,null,"EV2_B","Electric Vehicle - Early Adopter \n100 Mile Range - (EV2) - VBL",null,null,null,null,"EV2_NB"]
[null,null,null,null,null,null,null,null,null,null,null,null,null,null,null,null,null,null,"2017+","INC","%",0,"$",0,"L"]
[null,null,null,null,null,null,null,null,null,null,null,null,null,null,null,null,null,null,null,"ABS","%",{"$f":"1-((1-V155)*(1-V162))","v":0.90421515369999994},"$",{"$f":"X162+X155","v":18361.233321006675},33.86]
[]
[]
[]
[null,null,null,null,null,null,null,null,null,null,null,null,null,null,null,null,null,null,"2012-2016","INC","%",{"$f":"1-((1-V168)/(1-V160))","v":0},"$",0,"L"]
[null,null,null,null,null,null,null,null,null,null,null,null,null,null,null,null,null,null,null,"ABS","%",0.35,"$",{"$f":"X167+X160","v":0},33.86]
[null,null,null,null,null,null,null,null,null,null,null,null,null,null,null,null,null,null,null,"EV3_B","Electric Vehicle - Early Adopter \n150 Mile Range - (EV3) - VBL",null,null,null,null,"EV3_NB"]
[null,null,null,null,null,null,null,null,null,null,null,null,null,null,null,null,null,null,"2017+","INC","%",0,"$",0,"L"]
[null,null,null,null,null,null,null,null,null,null,null,null,null,null,null,null,null,null,null,"ABS","%",{"$f":"1-((1-V163)*(1-V170))","v":0.90421515369999994},"$",{"$f":"X170+X163","v":18361.233321006675},33.86]
[]
[]
[]
[null,null,null,null,null,null,null,null,null,null,null,"2012-2016","INC","%",{"$f":"1-((1-O176)/(1-V168))","v":0},"$",0,"L",null,null,null,null,null,null,null,"2012-2016","INC","%",{"$f":"1-((1-AC176)/(1-V168))","v":0},"$",0,"L"]
[null,null,null,null,null,null,null,null,null,null,null,null,"ABS","%",0.35,"$",{"$f":"Q175+X168","v":0},33.86,null,null,null,null,null,null,null,null,"ABS","%",0.35,"$",{"$f":"AE175+X168","v":0},33.86]
[null,null,null,null,null,null,null,null,null,null,null,null,"EV4_B","Electric Vehicle - Mass Market \n150 Mile Range - (EV4) - VBL",null,null,null,null,"EV4_NB",null,null,null,null,null,null,null,"FCV_B","Fuel Cell Vehicle\n(FCV) - VBL",null,null,null,null,"FCV_NB"]
[null,null,null,null,null,null,null,null,null,null,null,"2017+","INC","%",0,"$",{"$f":"INDEX('[1]Midsize Perf. PC'!$H$379:$X$467,MATCH(M177,'[1]Midsize Perf. PC'!$C$379:$C$467,0),MATCH(Inputs!$C$2,'[1]Midsize Perf. PC'!$H$378:$X$378,0))\n+INDEX('[1]Midsize Perf. PC'!$H$379:$X$467,MATCH(S177,'[1]Midsize Perf. PC'!$C$379:$C$467,0),MATCH(Inputs!$C$2,'[1]Midsize Perf. PC'!$H$378:$X$378,0))","v":7770.7532421989581},"L",null,null,null,null,null,null,null,"2017+","INC","%",0,"$",{"$f":"INDEX('[1]Midsize Perf. PC'!$H$379:$X$467,MATCH(AA177,'[1]Midsize Perf. PC'!$C$379:$C$467,0),MATCH(Inputs!$C$2,'[1]Midsize Perf. PC'!$H$378:$X$378,0))\n+INDEX('[1]Midsize Perf. PC'!$H$379:$X$467,MATCH(AG177,'[1]Midsize Perf. PC'!$C$379:$C$467,0),MATCH(Inputs!$C$2,'[1]Midsize Perf. PC'!$H$378:$X$378,0))","v":{"$error":"#N/A"}},"L"]
[null,null,null,null,null,null,null,null,null,null,null,null,"ABS","%",{"$f":"1-((1-V171)*(1-O178))","v":0.90421515369999994},"$",{"$f":"Q178+X171","v":26131.986563205632},33.86,null,null,null,null,null,null,null,null,"ABS","%",{"$f":"1-((1-V171)*(1-AC178))","v":0.90421515369999994},"$",{"$f":"AE178+X171","v":{"$error":"#N/A"}},33.86]
[]
[]
[]
[]
[]
["Vehicle Technology Decision Tree"]
[]
[]
[]
[null,null,"ABS - WR",{"$f":"'[1]Midsize Perf. PC'!$M$82","v":1.4999999999999999E-2},"2012-2016","INC","%",{"$f":"IF(D189<5%, D189*(3.5/10), D189*(5.1/10))","v":5.2499999999999995E-3},"$",{"$f":"INDEX('[1]Midsize Perf. PC'!$H$379:$X$467,MATCH(L191,'[1]Midsize Perf. PC'!$C$379:$C$467,0),MATCH(Inputs!$C$2,'[1]Midsize Perf. PC'!$H$378:$X$378,0))","v":6.9721687344265801E-2},1.33,null,null,null,null,null,null,null,"2012-2016","INC","%",1.9E-2,"$",{"$f":"INDEX('[1]Midsize Perf. PC'!$H$379:$X$467,MATCH(Z191,'[1]Midsize Perf. PC'!$C$379:$C$467,0),MATCH(Inputs!$C$2,'[1]Midsize Perf. PC'!$H$378:$X$378,0))","v":6.4396392400348512},5.15,null,null,null,null,null,null,null,"2012-2016","INC","%",8.0000000000000002E-3,"$",{"$f":"INDEX('[1]Midsize Perf. PC'!$H$379:$X$467,MATCH(AN191,'[1]Midsize Perf. PC'!$C$379:$C$467,0),MATCH(Inputs!$C$2,'[1]Midsize Perf. PC'!$H$378:$X$378,0))","v":70.836031640383368},5.15,null,null,null,null,null,null,null,"2012-2016","INC","%",2.3E-2,"$",{"$f":"INDEX('[1]Midsize Perf. PC'!$H$379:$X$467,MATCH(BB191,'[1]Midsize Perf. PC'!$C$379:$C$467,0),MATCH(Inputs!$C$2,'[1]Midsize Perf. PC'!$H$378:$X$378,0))","v":43.857938067390236},5.15]
[null,null,null,null,null,"ABS","%",{"$f":"H189","v":5.2499999999999995E-3},"$",{"$f":"J189","v":6.9721687344265801E-2},"L",null,null,null,null,null,null,null,null,"ABS","%",{"$f":"V189","v":1.9E-2},"$",{"$f":"X189","v":6.4396392400348512},"L",null,null,null,null,null,null,null,null,"ABS","%",{"$f":"AJ189","v":8.0000000000000002E-3},"$",{"$f":"AL189","v":70.836031640383368},"L",null,null,null,null,null,null,null,null,"ABS","%",{"$f":"AX189","v":2.3E-2},"$",{"$f":"AZ189","v":43.857938067390236},"L"]
[null,null,null,null,null,null,"Mass Reduction\n(MR1) - ($/pound) - TBL",null,null,null,null,"MR1",null,null,null,null,null,null,null,null,"Low Roll Resistance Tires 1\n (ROLL1) - No Learning Applied",null,null,null,null,"ROLL1",null,null,null,null,null,null,null,null,"Low Drag Brakes (LDB)\nNo Learning Applied",null,null,null,null,"LDB",null,null,null,null,null,null,null,null,"Aerodynamic Drag Reduction 1\n (AERO1) - No Learming Applied",null,null,null,null,"AERO1"]
[null,null,null,null,"2017+","INC","%",{"$f":"H189","v":5.2499999999999995E-3},"$",{"$f":"J189","v":6.9721687344265801E-2},1.33,null,null,null,null,null,null,null,"2017+","INC","%",{"$f":"V189","v":1.9E-2},"$",{"$f":"X189","v":6.4396392400348512},5.15,null,null,null,null,null,null,null,"2017+","INC","%",{"$f":"AJ189","v":8.0000000000000002E-3},"$",{"$f":"AL189","v":70.836031640383368},5.15,null,null,null,null,null,null,null,"2017+","INC","%",{"$f":"AX189","v":2.3E-2},"$",{"$f":"AZ189","v":43.857938067390236},5.15]
[null,null,null,null,null,"ABS","%",{"$f":"H192","v":5.2499999999999995E-3},"$",{"$f":"J192","v":6.9721687344265801E-2},"L",null,null,null,null,null,null,null,null,"ABS","%",{"$f":"V192","v":1.9E-2},"$",{"$f":"X192","v":6.4396392400348512},"L",null,null,null,null,null,null,null,null,"ABS","%",{"$f":"AJ192","v":8.0000000000000002E-3},"$",{"$f":"AL192","v":70.836031640383368},"L",null,null,null,null,null,null,null,null,"ABS","%",{"$f":"AX192","v":2.3E-2},"$",{"$f":"AZ192","v":43.857938067390236},"L"]
[]
[]
[]
[null,null,"INC - WR",{"$f":"'[1]Midsize Perf. PC'!$M$83","v":2.0000000000000004E-2},"2012-2016","INC","%",{"$f":"1-((1-H198)/(1-H190))","v":7.036943955767816E-3},"$",{"$f":"INDEX('[1]Midsize Perf. PC'!$H$379:$X$467,MATCH(L199,'[1]Midsize Perf. PC'!$C$379:$C$467,0),MATCH(Inputs!$C$2,'[1]Midsize Perf. PC'!$H$378:$X$378,0))","v":0.23240562448088598},1.33,null,null,null,null,null,null,null,"2012-2016","INC","%",{"$f":"1-((1-V198)/(1-V190))","v":2.0387359836901098E-2},"$",{"$f":"0","v":0},5.15,null,null,null,null,null,null,null,"2012-2016","INC","%",1.4E-2,"$",{"$f":"INDEX('[1]Midsize Perf. PC'!$H$379:$X$467,MATCH(AN199,'[1]Midsize Perf. PC'!$C$379:$C$467,0),MATCH(Inputs!$C$2,'[1]Midsize Perf. PC'!$H$378:$X$378,0))","v":87.568251496242709},5.15,null,null,null,null,null,null,null,"2012-2016","INC","%",{"$f":"1-((1-AX198)/(1-AX190))","v":2.4564994882292801E-2},"$",{"$f":"INDEX('[1]Midsize Perf. PC'!$H$379:$X$467,MATCH(BB199,'[1]Midsize Perf. PC'!$C$379:$C$467,0),MATCH(Inputs!$C$2,'[1]Midsize Perf. PC'!$H$378:$X$378,0))","v":154.95277498661324},5.15]
[null,null,"ABS - WR",{"$f":"D197+D189","v":3.5000000000000003E-2},null,"ABS","%",{"$f":"IF(D198<5%,D198 D198*(3.5/10), D198*(5.1/10))","v":1.225E-2},"$",{"$f":"J197","v":0.23240562448088598},"L",null,null,null,null,null,null,null,null,"ABS","%",3.9E-2,"$",{"$f":"X190+X197","v":6.4396392400348512},"L",null,null,null,null,null,null,null,null,"ABS","%",{"$f":"1-(1-AJ190)*(1-AJ197)","v":2.1888000000000019E-2},"$",{"$f":"AL190+AL197","v":158.40428313662608},"L",null,null,null,null,null,null,null,null,"ABS","%",4.7E-2,"$",{"$f":"AZ190+AZ197","v":198.81071305400349},"L"]
[null,null,null,null,null,null,"Mass Reduction\n(MR2) - ($/pound) - TBL",null,null,null,null,"MR2",null,null,null,null,null,null,null,null,"Low Roll Resistance Tires 2\n (ROLL2) - No Learning Applied",null,null,null,null,"ROLL2",null,null,null,null,null,null,null,null,"Secondary Axle Discon. (SAXU/SAXL)\nTBL",null,null,null,null,"SAX",null,null,null,null,null,null,null,null,"Aerodynamic Drag Reduction 2\n (AERO2) - No Learming Applied",null,null,null,null,"AERO2"]
[null,null,null,null,"2017+","INC","%",{"$f":"1-((1-H201)/(1-H193))","v":7.036943955767816E-3},"$",{"$f":"J197","v":0.23240562448088598},1.33,null,null,null,null,null,null,null,"2017+","INC","%",{"$f":"1-((1-V201)/(1-V193))","v":2.0387359836901098E-2},"$",{"$f":"INDEX('[1]Midsize Perf. PC'!$H$379:$X$467,MATCH(Z199,'[1]Midsize Perf. PC'!$C$379:$C$467,0),MATCH(Inputs!$C$2,'[1]Midsize Perf. PC'!$H$378:$X$378,0))","v":50.173232527734726},5.15,null,null,null,null,null,null,null,"2017+","INC","%",{"$f":"AJ197","v":1.4E-2},"$",{"$f":"AL197","v":87.568251496242709},5.15,null,null,null,null,null,null,null,"2017+","INC","%",{"$f":"1-((1-AX201)/(1-AX193))","v":2.4564994882292801E-2},"$",{"$f":"AZ197","v":154.95277498661324},5.15]
[null,null,null,null,null,"ABS","%",{"$f":"IF(D198<5%, D198*(3.5/10), D198*(5.1/10))","v":1.225E-2},"$",{"$f":"J200","v":0.23240562448088598},"L",null,null,null,null,null,null,null,null,"ABS","%",{"$f":"V198","v":3.9E-2},"$",{"$f":"X193+X200","v":56.612871767769576},"L",null,null,null,null,null,null,null,null,"ABS","%",{"$f":"1-(1-AJ193)*(1-AJ200)","v":2.1888000000000019E-2},"$",{"$f":"AL193+AL200","v":158.40428313662608},"L",null,null,null,null,null,null,null,null,"ABS","%",{"$f":"AX198","v":4.7E-2},"$",{"$f":"AZ193+AZ200","v":198.81071305400349},"L"]
[]
[]
[]
[null,null,"INC - WR",{"$f":"'[1]Midsize Perf. PC'!$M$84","v":0},"2012-2016","INC","%",{"$f":"1-((1-H206)/(1-H198))","v":0},"$",{"$f":"INDEX('[1]Midsize Perf. PC'!$H$379:$X$467,MATCH(L207,'[1]Midsize Perf. PC'!$C$379:$C$467,0),MATCH(Inputs!$C$2,'[1]Midsize Perf. PC'!$H$378:$X$378,0))","v":0},1.33,null,null,null,null,null,null,null,"2012-2016","INC","%",0,"$",0,0]
[null,null,"ABS - WR",{"$f":"D205+D198","v":3.5000000000000003E-2},null,"ABS","%",{"$f":"IF(D206<5%, D206*(3.5/10), D206*(5.1/10))","v":1.225E-2},"$",{"$f":"J205","v":0},"L",null,null,null,null,null,null,null,null,"ABS","%",{"$f":"1-((1-V198)*(1-V205))","v":3.9000000000000035E-2},"$",{"$f":"X198+X205","v":6.4396392400348512},"L"]
[null,null,null,null,null,null,"Mass Reduction\n(MR3) - ($/pound) - TBL",null,null,null,null,"MR3",null,null,null,null,null,null,null,null,"Low Roll Resistance Tires 3\n (ROLL3) - No Learning Applied"]
[null,null,null,null,"2017+","INC","%",{"$f":"1-((1-H209)/(1-H201))","v":0},"$",{"$f":"J205","v":0},1.33,null,null,null,null,null,null,null,"2017+","INC","%",0,"$",{"$f":"X205","v":0},0]
[null,null,null,null,null,"ABS","%",{"$f":"IF(D206<5%, D206*(3.5/10), D206*(5.1/10))","v":1.225E-2},"$",{"$f":"J208","v":0},"L",null,null,null,null,null,null,null,null,"ABS","%",{"$f":"1-((1-V201)*(1-V208))","v":3.9000000000000035E-2},"$",{"$f":"X201+X208","v":56.612871767769576},"L"]
[]
[]
[]
[null,null,"INC - WR",{"$f":"'[1]Midsize Perf. PC'!$M$85","v":0},"2012-2016","INC","%",{"$f":"1-((1-H214)/(1-H206))","v":0},"$",{"$f":"INDEX('[1]Midsize Perf. PC'!$H$379:$X$467,MATCH(L215,'[1]Midsize Perf. PC'!$C$379:$C$467,0),MATCH(Inputs!$C$2,'[1]Midsize Perf. PC'!$H$378:$X$378,0))","v":0},1.33]
[null,null,"ABS - WR",{"$f":"D213+D206","v":3.5000000000000003E-2},null,"ABS","%",{"$f":"IF(D214<5%, D214*(3.5/10), D214*(5.1/10))","v":1.225E-2},"$",{"$f":"J213","v":0},"L"]
[null,null,null,null,null,null,"Mass Reduction\n(MR4) - ($/pound) - TBL",null,null,null,null,"MR4"]
[null,null,null,null,"2017+","INC","%",{"$f":"1-((1-H217)/(1-H209))","v":0},"$",{"$f":"J213","v":0},1.33]
[null,null,null,null,null,"ABS","%",{"$f":"IF(D214<5%, D214*(3.5/10), D214*(5.1/10))","v":1.225E-2},"$",{"$f":"J216","v":0},"L"]
[]
[]
[]
[null,null,"INC - WR",{"$f":"'[1]Midsize Perf. PC'!$M$86","v":0},"2012-2016","INC","%",{"$f":"1-((1-H222)/(1-H214))","v":0},"$",{"$f":"INDEX('[1]Midsize Perf. PC'!$H$379:$X$467,MATCH(L223,'[1]Midsize Perf. PC'!$C$379:$C$467,0),MATCH(Inputs!$C$2,'[1]Midsize Perf. PC'!$H$378:$X$378,0))","v":0},1.33]
[null,null,"ABS - WR",{"$f":"D221+D214","v":3.5000000000000003E-2},null,"ABS","%",{"$f":"IF(D222<5%, D222*(3.5/10), D222*(5.1/10))","v":1.225E-2},"$",{"$f":"J221","v":0},"L"]
[null,null,null,null,null,null,"Mass Reduction\n(MR5) - ($/pound) - TBL",null,null,null,null,"MR5"]
[null,null,null,null,"2017+","INC","%",{"$f":"1-((1-H225)/(1-H217))","v":0},"$",{"$f":"J221","v":0},1.33]
[null,null,null,null,null,"ABS","%",{"$f":"IF(D222<5%, D222*(3.5/10), D222*(5.1/10))","v":1.225E-2},"$",{"$f":"J224","v":0},"L"]

{"sheet":"Large PC","index":8,"n_rows":225,"n_cols":173,"rows_kept":225,"cut":false,"hidden":false,"merged":[[5,62,5,66],[5,76,5,80],[5,90,5,94],[6,31,7,31],[6,32,7,32],[6,60,7,60],[6,74,7,74],[6,88,7,88],[0,0,0,172],[1,0,2,0],[3,31,4,31],[3,32,4,32],[3,60,4,60],[3,74,4,74],[3,88,4,88],[23,153,23,157],[24,25,25,25],[24,88,25,88],[24,151,25,151],[13,88,14,88],[15,90,15,94],[16,88,17,88],[21,25,22,25],[21,88,22,88],[21,151,22,151],[29,25,30,25],[29,67,30,67],[29,109,30,109],[29,151,30,151],[31,27,31,31],[31,69,31,73],[31,111,31,115],[23,27,23,31],[23,90,23,94],[39,153,39,157],[40,25,41,25],[40,67,41,67],[40,109,41,109],[40,151,41,151],[31,153,31,157],[32,25,33,25],[32,67,33,67],[32,109,33,109],[32,151,33,151],[37,25,38,25],[37,67,38,67],[37,109,38,109],[37,151,38,151],[45,25,46,25],[45,67,46,67],[45,109,46,109],[45,151,46,151],[47,27,47,31],[47,69,47,73],[47,111,47,115],[39,27,39,31],[39,69,39,73],[39,111,39,115],[47,153,47,157],[48,25,49,25],[48,67,49,67],[48,109,49,109],[48,151,49,151],[53,11,54,11],[53,25,54,25],[53,39,54,39],[53,53,54,53],[53,67,54,67],[53,165,54,165],[55,13,55,17],[55,27,55,31],[55,41,55,45],[55,55,55,59],[55,69,55,73],[55,83,55,87],[55,97,55,101],[55,111,55,115],[55,125,55,129],[53,81,54,81],[53,95,54,95],[53,109,54,109],[53,123,54,123],[53,137,54,137],[53,151,54,151],[55,139,55,143],[55,153,55,157],[55,167,55,171],[56,11,57,11],[56,25,57,25],[56,39,57,39],[56,53,57,53],[56,67,57,67],[56,81,57,81],[56,95,57,95],[56,109,57,109],[56,123,57,123],[56,137,57,137],[56,151,57,151],[56,165,57,165],[61,11,62,11],[61,25,62,25],[61,39,62,39],[61,53,62,53],[61,67,62,67],[61,165,62,165],[63,13,63,17],[63,27,63,31],[63,41,63,45],[63,55,63,59],[63,69,63,73],[63,83,63,87],[63,97,63,101],[63,111,63,115],[63,125,63,129],[61,81,62,81],[61,95,62,95],[61,109,62,109],[61,123,62,123],[61,137,62,137],[61,151,62,151],[63,139,63,143],[63,153,63,157],[63,167,63,171],[64,11,65,11],[64,25,65,25],[64,39,65,39],[64,53,65,53],[64,67,65,67],[64,81,65,81],[64,95,65,95],[64,109,65,109],[64,123,65,123],[64,137,65,137],[64,151,65,151],[64,165,65,165],[69,11,70,11],[69,25,70,25],[69,39,70,39],[69,53,70,53],[69,67,70,67],[69,165,70,165],[71,13,71,17],[71,27,71,31],[71,41,71,45],[71,55,71,59],[71,69,71,73],[71,83,71,87],[71,97,71,101],[71,111,71,115],[71,125,71,129],[69,81,70,81],[69,95,70,95],[69,109,70,109],[69,123,70,123],[69,137,70,137],[69,151,70,151],[71,139,71,143],[71,153,71,157],[77,88,78,88],[77,95,78,95],[77,102,78,102],[77,109,78,109],[71,167,71,171],[72,11,73,11],[72,25,73,25],[72,39,73,39],[72,53,73,53],[72,67,73,67],[72,81,73,81],[72,95,73,95],[72,109,73,109],[72,123,73,123],[72,137,73,137],[72,151,73,151],[72,165,73,165],[77,67,78,67],[77,74,78,74],[79,167,79,171],[80,4,81,4],[80,11,81,11],[80,18,81,18],[80,25,81,25],[80,32,81,32],[80,39,81,39],[77,165,78,165],[80,46,81,46],[80,53,81,53],[80,60,81,60],[80,67,81,67],[80,74,81,74],[80,81,81,81],[80,130,81,130],[80,137,81,137],[80,144,81,144],[77,4,78,4],[77,11,78,11],[77,18,78,18],[77,25,78,25],[77,32,78,32],[80,151,81,151],[80,158,81,158],[77,172,78,172],[79,13,79,17],[79,27,79,31],[79,41,79,45],[79,55,79,59],[79,69,79,73],[79,83,79,87],[79,97,79,101],[79,111,79,115],[77,123,78,123],[77,130,78,130],[77,137,78,137],[77,144,78,144],[77,151,78,151],[77,158,78,158],[77,81,78,81],[79,125,79,129],[79,139,79,143],[79,153,79,157],[77,116,78,116],[77,39,78,39],[77,46,78,46],[77,53,78,53],[77,60,78,60],[80,165,81,165],[80,88,81,88],[80,95,81,95],[80,102,81,102],[80,109,81,109],[80,116,81,116],[80,123,81,123],[85,46,86,46],[85,53,86,53],[85,60,86,60],[85,67,86,67],[85,74,86,74],[85,81,86,81],[85,151,86,151],[85,158,86,158],[85,165,86,165],[85,4,86,4],[85,11,86,11],[85,18,86,18],[85,25,86,25],[85,32,86,32],[85,39,86,39],[85,130,86,130],[85,137,86,137],[85,144,86,144],[85,88,86,88],[85,95,86,95],[85,102,86,102],[85,109,86,109],[85,116,86,116],[85,123,86,123],[87,48,87,52],[87,55,87,59],[87,62,87,66],[87,69,87,73],[87,76,87,80],[87,83,87,87],[87,6,87,10],[87,13,87,17],[87,20,87,24],[87,27,87,31],[87,34,87,38],[87,41,87,45],[87,132,87,136],[87,139,87,143],[87,146,87,150],[87,153,87,157],[87,160,87,164],[87,167,87,171],[87,90,87,94],[87,97,87,101],[87,104,87,108],[87,111,87,115],[87,118,87,122],[87,125,87,129],[88,144,89,144],[88,151,89,151],[88,158,89,158],[88,165,89,165],[88,88,89,88],[88,95,89,95],[88,102,89,102],[88,109,89,109],[88,116,89,116],[88,123,89,123],[97,0,97,38],[100,4,100,11],[100,21,100,23],[100,33,100,38],[102,4,103,4],[102,18,103,18],[102,32,103,32],[88,130,89,130],[88,137,89,137],[88,46,89,46],[88,53,89,53],[88,60,89,60],[88,67,89,67],[88,74,89,74],[88,81,89,81],[88,4,89,4],[88,11,89,11],[88,18,89,18],[88,25,89,25],[88,32,89,32],[88,39,89,39],[110,4,111,4],[110,32,111,32],[112,6,112,10],[112,14,114,16],[112,34,112,38],[113,4,114,4],[113,32,114,32],[104,6,104,10],[104,20,104,24],[104,34,104,38],[105,4,106,4],[105,18,106,18],[105,32,106,32],[110,18,111,18],[112,20,112,24],[113,18,114,18],[126,4,127,4],[126,32,127,32],[128,6,128,10],[128,13,128,17],[128,20,128,24],[128,34,128,38],[118,4,119,4],[118,32,119,32],[120,6,120,10],[120,13,120,17],[120,21,122,23],[120,34,120,38],[121,4,122,4],[121,32,122,32],[136,34,136,38],[137,4,138,4],[137,32,138,32],[142,32,143,32],[144,9,149,10],[144,20,144,24],[144,34,144,38],[145,32,146,32],[129,4,130,4],[129,32,130,32],[134,4,135,4],[134,32,135,32],[136,6,136,10],[136,20,136,24],[185,113,185,116],[185,148,185,151],[188,4,189,4],[188,18,189,18],[188,32,189,32],[188,46,189,46],[150,36,152,37],[152,20,152,24],[160,20,160,24],[168,20,168,24],[176,13,176,17],[176,27,176,31],[190,6,190,10],[190,20,190,24],[190,34,190,38],[190,48,190,52],[190,81,190,85],[191,4,192,4],[191,18,192,18],[191,32,192,32],[191,46,192,46],[191,80,192,80],[198,48,198,52],[199,4,200,4],[199,18,200,18],[199,32,200,32],[199,46,200,46],[200,95,201,95],[196,4,197,4],[196,18,197,18],[196,32,197,32],[196,46,197,46],[198,6,198,10],[198,20,198,24],[198,34,198,38],[200,151,201,151],[204,4,205,4],[204,18,205,18],[204,32,205,32],[206,6,206,10],[206,20,206,24],[200,102,201,102],[200,109,201,109],[200,116,201,116],[200,130,201,130],[200,137,201,137],[200,144,201,144],[215,4,216,4],[220,4,221,4],[222,6,222,10],[223,4,224,4],[207,4,208,4],[207,18,208,18],[207,32,208,32],[209,32,210,32],[212,4,213,4],[214,6,214,10]]}
["Full Engine Technology Decision Tree"]
[]
[null,"START"]
["Gas Engine Type","V6",null,null,null,null,null,null,null,null,null,null,null,null,null,null,null,null,null,null,null,null,null,null,null,null,null,null,null,null,null,null,null,null,null,null,null,null,null,null,null,null,null,null,null,null,null,null,null,null,null,null,null,null,null,null,null,null,null,null,"2012-2016","INC","%",8.0000000000000002E-3,"$",{"$f":"INDEX('[1]Large PC'!$H$379:$X$467,MATCH(BP6,'[1]Large PC'!$C$379:$C$467,0),MATCH(Inputs!$C$2,'[1]Large PC'!$H$378:$X$378,0))","v":3.8637835440209107},10,null,null,null,null,null,null,null,"2012-2016","INC","%",2.7E-2,"$",{"$f":"INDEX('[1]Large PC'!$H$379:$X$467,MATCH(CD6,'[1]Large PC'!$C$379:$C$467,0),MATCH(Inputs!$C$2,'[1]Large PC'!$H$378:$X$378,0))*$B$13","v":87.138336134267149},10,null,null,null,null,null,null,null,"2012-2016","INC","%",{"$f":"1-((1-CN5)/(1-BZ5))","v":0},"$",0,"L"]
["Displacement [L]",3.5,null,null,null,null,null,null,null,null,null,null,null,null,null,null,null,null,null,null,null,null,null,null,null,null,null,null,null,null,null,null,null,null,null,null,null,null,null,null,null,null,null,null,null,null,null,null,null,null,null,null,null,null,null,null,null,null,null,null,null,"ABS","%",{"$f":"BL4","v":8.0000000000000002E-3},"$",{"$f":"BN4","v":3.8637835440209107},"L",null,null,null,null,null,null,null,null,"ABS","%",{"$f":"1-((1-BL5)*(1-BZ4))","v":3.4784000000000037E-2},"$",{"$f":"BN5+CB4","v":91.002119678288054},"L",null,null,null,null,null,null,null,null,"ABS","%",{"$f":"BZ5","v":3.4784000000000037E-2},"$",{"$f":"CB5","v":91.002119678288054},0]
["Turbocharger","None",null,null,null,null,null,null,null,null,null,null,null,null,null,null,null,null,null,null,null,null,null,null,null,null,null,null,null,null,null,null,null,null,null,null,null,null,null,null,null,null,null,null,null,null,null,null,null,null,null,null,null,null,null,null,null,null,null,null,null,null,"Low-Friction Lubricants 1\n(LUB1) - No Learning Applied",null,null,null,null,"LUB1",null,null,null,null,null,null,null,null,"Engine Friction Reduction 1\n(EFR1) - No Learning Applied",null,null,null,null,"EFR1",null,null,null,null,null,null,null,null,"Low-Friction Lub & Engine Friction\nRedux 2 (LUB2_EFR2) - \nNo Learning Applied",null,null,null,null,"LUB2_EFR2"]
["EGR system","None/internal",null,null,null,null,null,null,null,null,null,null,null,null,null,null,null,null,null,null,null,null,null,null,null,null,null,null,null,null,null,null,null,null,null,null,null,null,null,null,null,null,null,null,null,null,null,null,null,null,null,null,null,null,null,null,null,null,null,null,"2017+","INC","%",{"$f":"BL4","v":8.0000000000000002E-3},"$",{"$f":"BN4","v":3.8637835440209107},10,null,null,null,null,null,null,null,"2017+","INC","%",{"$f":"BZ4","v":2.7E-2},"$",{"$f":"CB4","v":87.138336134267149},10,null,null,null,null,null,null,null,"2017+","INC","%",{"$f":"1-((1-CN8)/(1-BZ8))","v":1.3692271988860583E-2},"$",{"$f":"INDEX('[1]Large PC'!$H$379:$X$467,MATCH(CR6,'[1]Large PC'!$C$379:$C$467,0),MATCH(Inputs!$C$2,'[1]Large PC'!$H$378:$X$378,0))*$B$13","v":94.26109774393727},"L"]
["Valvetrain","SOHC/ DOHC/ OHV",null,null,null,null,null,null,null,null,null,null,null,null,null,null,null,null,null,null,null,null,null,null,null,null,null,null,null,null,null,null,null,null,null,null,null,null,null,null,null,null,null,null,null,null,null,null,null,null,null,null,null,null,null,null,null,null,null,null,null,"ABS","%",{"$f":"BL7","v":8.0000000000000002E-3},"$",{"$f":"BN7","v":3.8637835440209107},"L",null,null,null,null,null,null,null,null,"ABS","%",{"$f":"1-((1-BL8)*(1-BZ7))","v":3.4784000000000037E-2},"$",{"$f":"BN8+CB7","v":91.002119678288054},"L",null,null,null,null,null,null,null,null,"ABS","%",4.8000000000000001E-2,"$",{"$f":"CB8+CP7","v":185.26321742222532},33.86]
["After Treatment","3way cat"]
[]
[null,null,null,null,null,null,null,null,null,null,null,null,null,null,null,null,null,null,null,null,null,null,null,null,null,null,null,null,null,null,"SOHC",null,null,null,null,null,null,null,null,null,null,null,null,null,null,null,null,null,null,null,null,null,null,null,null,null,null,null,null,null,null,null,null,null,null,null,null,null,null,null,null,null,null,null,null,null,null,null,null,null,null,null,null,null,null,null,null,null,null,null,null,null,null,"DOHC",null,null,null,null,null,null,null,null,null,null,null,null,null,null,null,null,null,null,null,null,null,null,null,null,null,null,null,null,null,null,null,null,null,null,null,null,null,null,null,null,null,null,null,null,null,null,null,null,null,null,null,null,null,null,null,null,null,null,null,"OHV"]
[]
["Cylinders",{"$f":"IF(B4=\"I4\",4,IF(B4=\"V6\",6,8))","v":6}]
["Cylinder Banks",{"$f":"IF(B4=\"I4\",1,2)","v":2},null,null,null,null,null,null,null,null,null,null,null,null,null,null,null,null,null,null,null,null,null,null,null,null,null,null,null,null,null,null,null,null,null,null,null,null,null,null,null,null,null,null,null,null,null,null,null,null,null,null,null,null,null,null,null,null,null,null,null,null,null,null,null,null,null,null,null,null,null,null,null,null,null,null,null,null,null,null,null,null,null,null,null,null,null,null,"2012-2016","INC","%",{"$f":"CN17","v":2.7310924369747802E-2},"$",{"$f":"INDEX('[1]Large PC'!$H$379:$X$467,MATCH(CR16,'[1]Large PC'!$C$379:$C$467,0),MATCH(Inputs!$C$2,'[1]Large PC'!$H$378:$X$378,0))*$B$14","v":83.099251075055165},10]
[null,null,null,null,null,null,null,null,null,null,null,null,null,null,null,null,null,null,null,null,null,null,null,null,null,null,null,null,null,null,null,null,null,null,null,null,null,null,null,null,null,null,null,null,null,null,null,null,null,null,null,null,null,null,null,null,null,null,null,null,null,null,null,null,null,null,null,null,null,null,null,null,null,null,null,null,null,null,null,null,null,null,null,null,null,null,null,null,null,"ABS","%",{"$f":"1-((1-CN5)*(1-CN14))","v":6.1144941176470513E-2},"$",{"$f":"CP5+CP14","v":174.10137075334322},"L"]
[null,null,null,null,null,null,null,null,null,null,null,null,null,null,null,null,null,null,null,null,null,null,null,null,null,null,null,null,null,null,null,null,null,null,null,null,null,null,null,null,null,null,null,null,null,null,null,null,null,null,null,null,null,null,null,null,null,null,null,null,null,null,null,null,null,null,null,null,null,null,null,null,null,null,null,null,null,null,null,null,null,null,null,null,null,null,null,null,null,null,"Intake Cam Phasing\n(ICP) - TBL",null,null,null,null,"ICP"]
[null,null,null,null,null,null,null,null,null,null,null,null,null,null,null,null,null,null,null,null,null,null,null,null,null,null,null,null,null,null,null,null,null,null,null,null,null,null,null,null,null,null,null,null,null,null,null,null,null,null,null,null,null,null,null,null,null,null,null,null,null,null,null,null,null,null,null,null,null,null,null,null,null,null,null,null,null,null,null,null,null,null,null,null,null,null,null,null,"2017+","INC","%",{"$f":"1-((1-CN18)/(1-CN8))","v":2.7310924369747802E-2},"$",{"$f":"CP14","v":83.099251075055165},10]
[null,null,null,null,null,null,null,null,null,null,null,null,null,null,null,null,null,null,null,null,null,null,null,null,null,null,null,null,null,null,null,null,null,null,null,null,null,null,null,null,null,null,null,null,null,null,null,null,null,null,null,null,null,null,null,null,null,null,null,null,null,null,null,null,null,null,null,null,null,null,null,null,null,null,null,null,null,null,null,null,null,null,null,null,null,null,null,null,null,"ABS","%",7.3999999999999996E-2,"$",{"$f":"CP8+CP17","v":268.36246849728047},"L"]
[]
[]
[]
["Notes: ","(1) All costs shown in $2009",null,null,null,null,null,null,null,null,null,null,null,null,null,null,null,null,null,null,null,null,null,null,null,"2012-2016","INC","%",{"$f":"AC25","v":5.3571428571428492E-2},"$",{"$f":"INDEX('[1]Large PC'!$H$379:$X$467,MATCH(AG24,'[1]Large PC'!$C$379:$C$467,0),MATCH(Inputs!$C$2,'[1]Large PC'!$H$378:$X$378,0))*$B$14","v":83.099251075055165},10,null,null,null,null,null,null,null,null,null,null,null,null,null,null,null,null,null,null,null,null,null,null,null,null,null,null,null,null,null,null,null,null,null,null,null,null,null,null,null,null,null,null,null,null,null,null,null,null,null,null,null,null,null,null,null,null,"2012-2016","INC","%",{"$f":"CN25","v":2.6997840172786169E-2},"$",{"$f":"INDEX('[1]Large PC'!$H$379:$X$467,MATCH(CR24,'[1]Large PC'!$C$379:$C$467,0),MATCH(Inputs!$C$2,'[1]Large PC'!$H$378:$X$378,0))*$B$14","v":77.055707884563404},10]
[null,null,null,null,null,null,null,null,null,null,null,null,null,null,null,null,null,null,null,null,null,null,null,null,null,null,"ABS","%",{"$f":"1-((1-CN5)*(1-AC22))","v":8.6492000000000013E-2},"$",{"$f":"CP5+AE22","v":174.10137075334322},"L",null,null,null,null,null,null,null,null,null,null,null,null,null,null,null,null,null,null,null,null,null,null,null,null,null,null,null,null,null,null,null,null,null,null,null,null,null,null,null,null,null,null,null,null,null,null,null,null,null,null,null,null,null,null,null,null,null,"ABS","%",{"$f":"1-((1-CN15)*(1-CN22))","v":8.6491999999999902E-2},"$",{"$f":"CP15+CP22","v":251.15707863790664},"L"]
[null,null,null,null,null,null,null,null,null,null,null,null,null,null,null,null,null,null,null,null,null,null,null,null,null,null,null,"Coupled Cam Phasing\n(CCPS) - TBL",null,null,null,null,"CCPS",null,null,null,null,null,null,null,null,null,null,null,null,null,null,null,null,null,null,null,null,null,null,null,null,null,null,null,null,null,null,null,null,null,null,null,null,null,null,null,null,null,null,null,null,null,null,null,null,null,null,null,null,null,null,null,null,null,"Dual Cam Phasing\n(DCP) - TBL",null,null,null,null,"DCP"]
[null,null,null,null,null,null,null,null,null,null,null,null,null,null,null,null,null,null,null,null,null,null,null,null,null,"2017+","INC","%",{"$f":"1-((1-AC26)/(1-CN8))","v":5.3571428571428492E-2},"$",{"$f":"AE22","v":83.099251075055165},10,null,null,null,null,null,null,null,null,null,null,null,null,null,null,null,null,null,null,null,null,null,null,null,null,null,null,null,null,null,null,null,null,null,null,null,null,null,null,null,null,null,null,null,null,null,null,null,null,null,null,null,null,null,null,null,null,"2017+","INC","%",{"$f":"1-((1-CN26)/(1-CN18))","v":2.6997840172786169E-2},"$",{"$f":"CP22","v":77.055707884563404},10]
["L",null,null,null,null,null,null,null,null,null,null,null,null,null,null,null,null,null,null,null,null,null,null,null,null,null,"ABS","%",9.9000000000000005E-2,"$",{"$f":"CP8+AE25","v":268.36246849728047},"L",null,null,null,null,null,null,null,null,null,null,null,null,null,null,null,null,null,null,null,null,null,null,null,null,null,null,null,null,null,null,null,null,null,null,null,null,null,null,null,null,null,null,null,null,null,null,null,null,null,null,null,null,null,null,null,null,null,"ABS","%",9.9000000000000005E-2,"$",{"$f":"CP18+CP25","v":345.41817638184386},"L"]
["M"]
["H"]
["VH"]
[null,null,null,null,null,null,null,null,null,null,null,null,null,null,null,null,null,null,null,null,null,null,null,null,null,"2012-2016","INC","%",{"$f":"AC33","v":3.8845726970033301E-2},"$",{"$f":"INDEX('[1]Large PC'!$H$379:$X$467,MATCH(AG32,'[1]Large PC'!$C$379:$C$467,0),MATCH(Inputs!$C$2,'[1]Large PC'!$H$378:$X$378,0))*$B$13","v":212.93676133351417},10,null,null,null,null,null,null,null,null,null,null,null,null,null,null,null,null,null,null,null,null,null,null,null,null,null,null,null,null,null,null,null,null,null,null,null,"2012-2016","INC","%",{"$f":"BS33","v":3.8845726970033301E-2},"$",{"$f":"INDEX('[1]Large PC'!$H$379:$X$467,MATCH(BW32,'[1]Large PC'!$C$379:$C$467,0),MATCH(Inputs!$C$2,'[1]Large PC'!$H$378:$X$378,0))*$B$13","v":212.93676133351417},10,null,null,null,null,null,null,null,null,null,null,null,null,null,null,null,null,null,null,null,null,null,null,null,null,null,null,null,null,null,null,null,null,null,null,null,"2012-2016","INC","%",{"$f":"DI33","v":4.883462819089901E-2},"$",{"$f":"INDEX('[1]Large PC'!$H$379:$X$467,MATCH(DM32,'[1]Large PC'!$C$379:$C$467,0),MATCH(Inputs!$C$2,'[1]Large PC'!$H$378:$X$378,0))*$B$13","v":342.78800783448548},10,null,null,null,null,null,null,null,null,null,null,null,null,null,null,null,null,null,null,null,null,null,null,null,null,null,null,null,null,null,null,null,null,null,null,null,"2012-2016","INC","%",{"$f":"1-((1-EY31)/(1-CN5))","v":3.64850976361768E-2},"$",{"$f":"INDEX('[1]Large PC'!$H$379:$X$467,MATCH(FC32,'[1]Large PC'!$C$379:$C$467,0),MATCH(Inputs!$C$2,'[1]Large PC'!$H$378:$X$378,0))","v":180.85022482302156},10]
[null,null,null,null,null,null,null,null,null,null,null,null,null,null,null,null,null,null,null,null,null,null,null,null,null,null,"ABS","%",{"$f":"1-((1-AC23)*(1-AC30))","v":0.12197788235294116},"$",{"$f":"AE23+AE30","v":387.03813208685739},"L",null,null,null,null,null,null,null,null,null,null,null,null,null,null,null,null,null,null,null,null,null,null,null,null,null,null,null,null,null,null,null,null,null,null,null,null,"ABS","%",{"$f":"1-((1-CN23)*(1-BS30))","v":0.12197788235294105},"$",{"$f":"CP23+BU30","v":464.09383997142083},"L",null,null,null,null,null,null,null,null,null,null,null,null,null,null,null,null,null,null,null,null,null,null,null,null,null,null,null,null,null,null,null,null,null,null,null,null,"ABS","%",{"$f":"1-((1-CN23)*(1-DI30))","v":0.13110282352941172},"$",{"$f":"CP23+DK30","v":593.94508647239218},"L",null,null,null,null,null,null,null,null,null,null,null,null,null,null,null,null,null,null,null,null,null,null,null,null,null,null,null,null,null,null,null,null,null,null,null,null,"ABS","%",7.0000000000000007E-2,"$",{"$f":"CP5+FA30","v":271.85234450130963},"L"]
[null,null,null,null,null,null,null,null,null,null,null,null,null,null,null,null,null,null,null,null,null,null,null,null,null,null,null,"Discrete VVL\n(DVVLS) - TBL",null,null,null,null,"DVVLS",null,null,null,null,null,null,null,null,null,null,null,null,null,null,null,null,null,null,null,null,null,null,null,null,null,null,null,null,null,null,null,null,null,null,null,null,"Discrete VVL\n(DVVLD) - TBL",null,null,null,null,"DVVLD",null,null,null,null,null,null,null,null,null,null,null,null,null,null,null,null,null,null,null,null,null,null,null,null,null,null,null,null,null,null,null,null,null,null,null,null,"Continuous VVL\n(CVVL) - TBL",null,null,null,null,"CVVL",null,null,null,null,null,null,null,null,null,null,null,null,null,null,null,null,null,null,null,null,null,null,null,null,null,null,null,null,null,null,null,null,null,null,null,null,"Cylinder Deactivation\n(DEACO) - TBL",null,null,null,null,"DEACO"]
[null,null,null,null,null,null,null,null,null,null,null,null,null,null,null,null,null,null,null,null,null,null,null,null,null,"2017+","INC","%",{"$f":"1-((1-AC34)/(1-AC26))","v":3.8845726970033301E-2},"$",{"$f":"AE30","v":212.93676133351417},10,null,null,null,null,null,null,null,null,null,null,null,null,null,null,null,null,null,null,null,null,null,null,null,null,null,null,null,null,null,null,null,null,null,null,null,"2017+","INC","%",{"$f":"1-((1-BS34)/(1-CN26))","v":3.8845726970033301E-2},"$",{"$f":"BU30","v":212.93676133351417},10,null,null,null,null,null,null,null,null,null,null,null,null,null,null,null,null,null,null,null,null,null,null,null,null,null,null,null,null,null,null,null,null,null,null,null,"2017+","INC","%",{"$f":"1-((1-DI34)/(1-CN26))","v":4.883462819089901E-2},"$",{"$f":"DK30","v":342.78800783448548},10,null,null,null,null,null,null,null,null,null,null,null,null,null,null,null,null,null,null,null,null,null,null,null,null,null,null,null,null,null,null,null,null,null,null,null,"2017+","INC","%",{"$f":"1-((1-EY34)/(1-CN8))","v":6.3025210084033501E-2},"$",{"$f":"FA30","v":180.85022482302156},10]
[null,"START",null,null,null,null,null,null,null,null,null,null,null,null,null,null,null,null,null,null,null,null,null,null,null,null,"ABS","%",0.13400000000000001,"$",{"$f":"AE26+AE33","v":481.29922983079462},"L",null,null,null,null,null,null,null,null,null,null,null,null,null,null,null,null,null,null,null,null,null,null,null,null,null,null,null,null,null,null,null,null,null,null,null,null,"ABS","%",0.13400000000000001,"$",{"$f":"CP26+BU33","v":558.35493771535801},"L",null,null,null,null,null,null,null,null,null,null,null,null,null,null,null,null,null,null,null,null,null,null,null,null,null,null,null,null,null,null,null,null,null,null,null,null,"ABS","%",0.14299999999999999,"$",{"$f":"CP26+DK33","v":688.20618421632935},"L",null,null,null,null,null,null,null,null,null,null,null,null,null,null,null,null,null,null,null,null,null,null,null,null,null,null,null,null,null,null,null,null,null,null,null,null,"ABS","%",0.108,"$",{"$f":"CP8+FA33","v":366.11344224524692},"L"]
["Gas Engine Type","I4"]
["Displacement [L]",2.2000000000000002]
["Turbocharger","None"]
["EGR system","External",null,null,null,null,null,null,null,null,null,null,null,null,null,null,null,null,null,null,null,null,null,null,null,"2012-2016","INC","%",{"$f":"AC41","v":6.9284064665127154E-3},"$",{"$f":"INDEX('[1]Large PC'!$H$379:$X$467,MATCH(AG40,'[1]Large PC'!$C$379:$C$467,0),MATCH(Inputs!$C$2,'[1]Large PC'!$H$378:$X$378,0))","v":28.176910737789065},10,null,null,null,null,null,null,null,null,null,null,null,null,null,null,null,null,null,null,null,null,null,null,null,null,null,null,null,null,null,null,null,null,null,null,null,"2012-2016","INC","%",{"$f":"BS41","v":6.9284064665127154E-3},"$",{"$f":"INDEX('[1]Large PC'!$H$379:$X$467,MATCH(BW40,'[1]Large PC'!$C$379:$C$467,0),MATCH(Inputs!$C$2,'[1]Large PC'!$H$378:$X$378,0))","v":28.176910737789065},10,null,null,null,null,null,null,null,null,null,null,null,null,null,null,null,null,null,null,null,null,null,null,null,null,null,null,null,null,null,null,null,null,null,null,null,"2012-2016","INC","%",{"$f":"DI41","v":0},"$",0,10,null,null,null,null,null,null,null,null,null,null,null,null,null,null,null,null,null,null,null,null,null,null,null,null,null,null,null,null,null,null,null,null,null,null,null,"2012-2016","INC","%",{"$f":"1-((1-EY39)/(1-EY31))","v":2.1505376344085891E-2},"$",{"$f":"INDEX('[1]Large PC'!$H$379:$X$467,MATCH(FC40,'[1]Large PC'!$C$379:$C$467,0),MATCH(Inputs!$C$2,'[1]Large PC'!$H$378:$X$378,0))*$B$14","v":90.409234428646556},10]
["Valvetrain","SOHC/ DOHC/ OHV",null,null,null,null,null,null,null,null,null,null,null,null,null,null,null,null,null,null,null,null,null,null,null,null,"ABS","%",{"$f":"1-((1-AC31)*(1-AC38))","v":0.12806117647058823},"$",{"$f":"AE31+AE38","v":415.21504282464645},"L",null,null,null,null,null,null,null,null,null,null,null,null,null,null,null,null,null,null,null,null,null,null,null,null,null,null,null,null,null,null,null,null,null,null,null,null,"ABS","%",{"$f":"1-((1-BS31)*(1-BS38))","v":0.12806117647058812},"$",{"$f":"BU31+BU38","v":492.27075070920989},"L",null,null,null,null,null,null,null,null,null,null,null,null,null,null,null,null,null,null,null,null,null,null,null,null,null,null,null,null,null,null,null,null,null,null,null,null,"ABS","%",{"$f":"1-((1-DI31)*(1-DI38))","v":0.13110282352941172},"$",{"$f":"DK31+DK38","v":593.94508647239218},"L",null,null,null,null,null,null,null,null,null,null,null,null,null,null,null,null,null,null,null,null,null,null,null,null,null,null,null,null,null,null,null,null,null,null,null,null,"ABS","%",0.09,"$",{"$f":"FA31+FA38","v":362.26157892995616},"L"]
[null,null,null,null,null,null,null,null,null,null,null,null,null,null,null,null,null,null,null,null,null,null,null,null,null,null,null,"Cylinder Deactivation\n(DEACS) - TBL",null,null,null,null,"DEACS",null,null,null,null,null,null,null,null,null,null,null,null,null,null,null,null,null,null,null,null,null,null,null,null,null,null,null,null,null,null,null,null,null,null,null,null,"Cylinder Deactivation\n(DEACD) - TBL",null,null,null,null,"DEACD",null,null,null,null,null,null,null,null,null,null,null,null,null,null,null,null,null,null,null,null,null,null,null,null,null,null,null,null,null,null,null,null,null,null,null,null,"Cylinder Deactivation\n(DEACD) - TBL",null,null,null,null,null,null,null,null,null,null,null,null,null,null,null,null,null,null,null,null,null,null,null,null,null,null,null,null,null,null,null,null,null,null,null,null,null,null,null,null,null,"Coupled Cam Phasing and DVVL\n(VVA) - TBL",null,null,null,null,"VVA"]
[null,null,null,null,null,null,null,null,null,null,null,null,null,null,null,null,null,null,null,null,null,null,null,null,null,"2017+","INC","%",{"$f":"1-((1-AC42)/(1-AC34))","v":6.9284064665127154E-3},"$",{"$f":"AE38","v":28.176910737789065},10,null,null,null,null,null,null,null,null,null,null,null,null,null,null,null,null,null,null,null,null,null,null,null,null,null,null,null,null,null,null,null,null,null,null,null,"2017+","INC","%",{"$f":"1-((1-BS42)/(1-BS34))","v":6.9284064665127154E-3},"$",{"$f":"BU38","v":28.176910737789065},10,null,null,null,null,null,null,null,null,null,null,null,null,null,null,null,null,null,null,null,null,null,null,null,null,null,null,null,null,null,null,null,null,null,null,null,"2017+","INC","%",{"$f":"1-((1-DI42)/(1-DI34))","v":0},"$",{"$f":"DK38","v":0},10,null,null,null,null,null,null,null,null,null,null,null,null,null,null,null,null,null,null,null,null,null,null,null,null,null,null,null,null,null,null,null,null,null,null,null,"2017+","INC","%",{"$f":"1-((1-EY42)/(1-EY34))","v":3.5874439461883401E-2},"$",{"$f":"FA38","v":90.409234428646556},10]
[null,null,null,null,null,null,null,null,null,null,null,null,null,null,null,null,null,null,null,null,null,null,null,null,null,null,"ABS","%",0.14000000000000001,"$",{"$f":"AE34+AE41","v":509.47614056858367},"L",null,null,null,null,null,null,null,null,null,null,null,null,null,null,null,null,null,null,null,null,null,null,null,null,null,null,null,null,null,null,null,null,null,null,null,null,"ABS","%",0.14000000000000001,"$",{"$f":"BU34+BU41","v":586.53184845314706},"L",null,null,null,null,null,null,null,null,null,null,null,null,null,null,null,null,null,null,null,null,null,null,null,null,null,null,null,null,null,null,null,null,null,null,null,null,"ABS","%",{"$f":"DI34","v":0.14299999999999999},"$",{"$f":"DK34+DK41","v":688.20618421632935},"L",null,null,null,null,null,null,null,null,null,null,null,null,null,null,null,null,null,null,null,null,null,null,null,null,null,null,null,null,null,null,null,null,null,null,null,null,"ABS","%",0.14000000000000001,"$",{"$f":"FA34+FA41","v":456.52267667389344},"L"]
[]
[]
[]
[null,null,null,null,null,null,null,null,null,null,null,null,null,null,null,null,null,null,null,null,null,null,null,null,null,"2012-2016","INC","%",{"$f":"AC49","v":1.5116279069767424E-2},"$",{"$f":"INDEX('[1]Large PC'!$H$379:$X$467,MATCH(AG48,'[1]Large PC'!$C$379:$C$467,0),MATCH(Inputs!$C$2,'[1]Large PC'!$H$378:$X$378,0))*$B$13","v":349.41793576617209},10,null,null,null,null,null,null,null,null,null,null,null,null,null,null,null,null,null,null,null,null,null,null,null,null,null,null,null,null,null,null,null,null,null,null,null,"2012-2016","INC","%",{"$f":"BS49","v":1.5116279069767424E-2},"$",{"$f":"INDEX('[1]Large PC'!$H$379:$X$467,MATCH(BW48,'[1]Large PC'!$C$379:$C$467,0),MATCH(Inputs!$C$2,'[1]Large PC'!$H$378:$X$378,0))*$B$13","v":349.41793576617209},10,null,null,null,null,null,null,null,null,null,null,null,null,null,null,null,null,null,null,null,null,null,null,null,null,null,null,null,null,null,null,null,null,null,null,null,"2012-2016","INC","%",{"$f":"DI49","v":1.5169194865811031E-2},"$",{"$f":"INDEX('[1]Large PC'!$H$379:$X$467,MATCH(DM48,'[1]Large PC'!$C$379:$C$467,0),MATCH(Inputs!$C$2,'[1]Large PC'!$H$378:$X$378,0))*$B$13","v":349.41793576617209},10,null,null,null,null,null,null,null,null,null,null,null,null,null,null,null,null,null,null,null,null,null,null,null,null,null,null,null,null,null,null,null,null,null,null,null,"2012-2016","INC","%",{"$f":"1-((1-EY47)/(1-EY39))","v":1.5384615384615441E-2},"$",{"$f":"INDEX('[1]Large PC'!$H$379:$X$467,MATCH(FC48,'[1]Large PC'!$C$379:$C$467,0),MATCH(Inputs!$C$2,'[1]Large PC'!$H$378:$X$378,0))*$B$13","v":349.41793576617209},10]
[null,null,null,null,null,null,null,null,null,null,null,null,null,null,null,null,null,null,null,null,null,null,null,null,null,null,"ABS","%",{"$f":"1-((1-AC39)*(1-AC46))","v":0.14124164705882347},"$",{"$f":"AE39+AE46","v":764.63297859081854},"L",null,null,null,null,null,null,null,null,null,null,null,null,null,null,null,null,null,null,null,null,null,null,null,null,null,null,null,null,null,null,null,null,null,null,null,null,"ABS","%",{"$f":"1-((1-BS39)*(1-BS46))","v":0.14124164705882336},"$",{"$f":"BU39+BU46","v":841.68868647538193},"L",null,null,null,null,null,null,null,null,null,null,null,null,null,null,null,null,null,null,null,null,null,null,null,null,null,null,null,null,null,null,null,null,null,null,null,null,"ABS","%",{"$f":"1-((1-DI39)*(1-DI46))","v":0.14428329411764707},"$",{"$f":"DK39+DK46","v":943.36302223856433},"L",null,null,null,null,null,null,null,null,null,null,null,null,null,null,null,null,null,null,null,null,null,null,null,null,null,null,null,null,null,null,null,null,null,null,null,null,"ABS","%",0.104,"$",{"$f":"FA39+FA46","v":711.67951469612831},"L"]
[null,null,null,null,null,null,null,null,null,null,null,null,null,null,null,null,null,null,null,null,null,null,null,null,null,null,null,"Stoichiometric GDI\n(SGDI) - TBL",null,null,null,null,"SGDI",null,null,null,null,null,null,null,null,null,null,null,null,null,null,null,null,null,null,null,null,null,null,null,null,null,null,null,null,null,null,null,null,null,null,null,null,"Stoichiometric GDI\n(SGDI) - TBL",null,null,null,null,"SGDI",null,null,null,null,null,null,null,null,null,null,null,null,null,null,null,null,null,null,null,null,null,null,null,null,null,null,null,null,null,null,null,null,null,null,null,null,"Stoichiometric GDI\n(SGDI) - TBL",null,null,null,null,"SGDI",null,null,null,null,null,null,null,null,null,null,null,null,null,null,null,null,null,null,null,null,null,null,null,null,null,null,null,null,null,null,null,null,null,null,null,null,"Stoichiometric GDI\n(SGDIO) - TBL",null,null,null,null,"SGDIO"]
[null,null,null,null,null,null,null,null,null,null,null,null,null,null,null,null,null,null,null,null,null,null,null,null,null,"2017+","INC","%",{"$f":"1-((1-AC50)/(1-AC42))","v":1.5116279069767424E-2},"$",{"$f":"AE46","v":349.41793576617209},10,null,null,null,null,null,null,null,null,null,null,null,null,null,null,null,null,null,null,null,null,null,null,null,null,null,null,null,null,null,null,null,null,null,null,null,"2017+","INC","%",{"$f":"1-((1-BS50)/(1-BS42))","v":1.5116279069767424E-2},"$",{"$f":"BU46","v":349.41793576617209},10,null,null,null,null,null,null,null,null,null,null,null,null,null,null,null,null,null,null,null,null,null,null,null,null,null,null,null,null,null,null,null,null,null,null,null,"2017+","INC","%",{"$f":"1-((1-DI50)/(1-DI42))","v":1.5169194865811031E-2},"$",{"$f":"DK46","v":349.41793576617209},10,null,null,null,null,null,null,null,null,null,null,null,null,null,null,null,null,null,null,null,null,null,null,null,null,null,null,null,null,null,null,null,null,null,null,null,"2017+","INC","%",{"$f":"1-((1-EY50)/(1-EY42))","v":1.5116279069767424E-2},"$",{"$f":"FA46","v":349.41793576617209},10]
[null,null,null,null,null,null,null,null,null,null,null,null,null,null,null,null,null,null,null,null,null,null,null,"From SOHC Path",null,null,"ABS","%",0.153,"$",{"$f":"AE42+AE49","v":858.89407633475571},"L",null,null,null,null,null,null,null,null,null,null,null,null,null,null,null,null,null,null,null,null,null,null,null,null,null,null,null,null,null,null,null,null,null,"From DOHC w/ DVVLD Path",null,null,"ABS","%",0.153,"$",{"$f":"BU42+BU49","v":935.9497842193191},"L",null,null,null,null,null,null,null,null,null,null,null,null,null,null,null,null,null,null,null,null,null,null,null,null,null,null,null,null,null,null,null,null,null,"From DOHC w/ CVVL Path",null,null,"ABS","%",0.156,"$",{"$f":"DK42+DK49","v":1037.6241199825015},"L",null,null,null,null,null,null,null,null,null,null,null,null,null,null,null,null,null,null,null,null,null,null,null,null,null,null,null,null,null,null,null,null,null,"From OHV w/ CDOHC Path",null,null,"ABS","%",0.153,"$",{"$f":"FA42+FA49","v":805.94061244006548},"L"]
[]
[]
[null,null,null,null,null,null,null,null,null,null,null,null,null,null,null,null,null,null,null,null,null,null,null,null,null,null,null,null,null,null,null,null,null,null,null,null,null,null,null,null,null,null,null,null,null,null,null,null,null,null,null,null,null,null,null,null,{"$f":"BE54-$O$54","v":0},null,{"$f":"BG54-$Q$54","v":-10.350943204492637},null,null,null,null,null,null,null,null,null,null,null,{"$f":"BS54-$AC$54","v":0},null,{"$f":"BU54-$AE$54","v":-137.49257962890812},null,null,null,null,null,null,null,null,null,null,null,{"$f":"CG54-$AQ$54","v":0},null,{"$f":"CI54-$AS$54","v":-151.06222004175237},null,null,null,null,null,null,null,null,null,null,null,{"$f":"CU54-$O$54","v":-1.1457464955399788E-2},null,{"$f":"CW54-$Q$54","v":-10.350943204492637},null,null,null,null,null,null,null,null,null,null,null,{"$f":"DI54-$AC$54","v":-3.2775281590446959E-3},null,{"$f":"DK54-$AE$54","v":-137.49257962890812},null,null,null,null,null,null,null,null,null,null,null,{"$f":"DW54-$AQ$54","v":-3.2775281590446959E-3},null,{"$f":"DY54-$AS$54","v":-151.06222004175237},null,null,null,null,null,null,null,null,null,null,null,{"$f":"EK54-$O$54","v":6.6229992464605369E-2},null,{"$f":"EM54-$Q$54","v":-420.06358424991754},null,null,null,null,null,null,null,null,null,null,null,{"$f":"EY54-$AC$54","v":0},null,{"$f":"FA54-$AE$54","v":562.75413569090051},null,null,null,null,null,null,null,null,null,null,null,{"$f":"FM54-$AQ$54","v":0},null,{"$f":"FO54-$AS$54","v":523.98042111588995}]
[null,null,null,null,null,null,null,null,null,null,null,"2012-2016","INC","%",{"$f":"O57","v":8.6102014718432929E-2},"$",{"$f":"INDEX('[1]Large PC'!$H$379:$X$467,MATCH(M56,'[1]Large PC'!$C$379:$C$467,0),MATCH(Inputs!$C$2,'[1]Large PC'!$H$378:$X$378,0))\n+INDEX('[1]Large PC'!$H$379:$X$467,MATCH(S56,'[1]Large PC'!$C$379:$C$467,0),MATCH(Inputs!$C$2,'[1]Large PC'!$H$378:$X$378,0))","v":420.06358424991754},10,null,null,null,null,null,null,null,"2012-2016","INC","%",{"$f":"AC57","v":7.7922077922077837E-2},"$",{"$f":"INDEX('[1]Large PC'!$H$379:$X$467,MATCH(AA56,'[1]Large PC'!$C$379:$C$467,0),MATCH(Inputs!$C$2,'[1]Large PC'!$H$378:$X$378,0))\n+INDEX('[1]Large PC'!$H$379:$X$467,MATCH(AG56,'[1]Large PC'!$C$379:$C$467,0),MATCH(Inputs!$C$2,'[1]Large PC'!$H$378:$X$378,0))","v":-29.267884297748708},10,null,null,null,null,null,null,null,"2012-2016","INC","%",{"$f":"AQ57","v":7.7922077922077837E-2},"$",{"$f":"INDEX('[1]Large PC'!$H$379:$X$467,MATCH(AO56,'[1]Large PC'!$C$379:$C$467,0),MATCH(Inputs!$C$2,'[1]Large PC'!$H$378:$X$378,0))\n+INDEX('[1]Large PC'!$H$379:$X$467,MATCH(AU56,'[1]Large PC'!$C$379:$C$467,0),MATCH(Inputs!$C$2,'[1]Large PC'!$H$378:$X$378,0))","v":523.48084050429873},10,null,null,null,null,null,null,null,"2012-2016","INC","%",{"$f":"BE57","v":8.6102014718432929E-2},"$",{"$f":"INDEX('[1]Subcompact PC'!$H$530:$X$541,MATCH(BC56,'[1]Subcompact PC'!$C$530:$C$541,0),MATCH(Inputs!$C$2,'[1]Subcompact PC'!$H$529:$X$529,0))\n+INDEX('[1]Subcompact PC'!$H$530:$X$541,MATCH(BI56,'[1]Subcompact PC'!$C$530:$C$541,0),MATCH(Inputs!$C$2,'[1]Subcompact PC'!$H$529:$X$529,0))","v":409.7126410454249},10,null,null,null,null,null,null,null,"2012-2016","INC","%",{"$f":"BS57","v":7.7922077922077837E-2},"$",{"$f":"INDEX('[1]Subcompact PC'!$H$530:$X$541,MATCH(BQ56,'[1]Subcompact PC'!$C$530:$C$541,0),MATCH(Inputs!$C$2,'[1]Subcompact PC'!$H$529:$X$529,0))\n+INDEX('[1]Subcompact PC'!$H$530:$X$541,MATCH(BW56,'[1]Subcompact PC'!$C$530:$C$541,0),MATCH(Inputs!$C$2,'[1]Subcompact PC'!$H$529:$X$529,0))","v":-166.76046392665683},10,null,null,null,null,null,null,null,"2012-2016","INC","%",{"$f":"CG57","v":7.7922077922077837E-2},"$",{"$f":"INDEX('[1]Subcompact PC'!$H$530:$X$541,MATCH(CE56,'[1]Subcompact PC'!$C$530:$C$541,0),MATCH(Inputs!$C$2,'[1]Subcompact PC'!$H$529:$X$529,0))\n+INDEX('[1]Subcompact PC'!$H$530:$X$541,MATCH(CK56,'[1]Subcompact PC'!$C$530:$C$541,0),MATCH(Inputs!$C$2,'[1]Subcompact PC'!$H$529:$X$529,0))","v":372.41862046254636},10,null,null,null,null,null,null,null,"2012-2016","INC","%",{"$f":"CU57","v":7.4644549763033141E-2},"$",{"$f":"INDEX('[1]Subcompact PC'!$H$530:$X$541,MATCH(CS56,'[1]Subcompact PC'!$C$530:$C$541,0),MATCH(Inputs!$C$2,'[1]Subcompact PC'!$H$529:$X$529,0))\n+INDEX('[1]Subcompact PC'!$H$530:$X$541,MATCH(CY56,'[1]Subcompact PC'!$C$530:$C$541,0),MATCH(Inputs!$C$2,'[1]Subcompact PC'!$H$529:$X$529,0))","v":409.7126410454249},10,null,null,null,null,null,null,null,"2012-2016","INC","%",{"$f":"DI57","v":7.4644549763033141E-2},"$",{"$f":"INDEX('[1]Subcompact PC'!$H$530:$X$541,MATCH(DG56,'[1]Subcompact PC'!$C$530:$C$541,0),MATCH(Inputs!$C$2,'[1]Subcompact PC'!$H$529:$X$529,0))\n+INDEX('[1]Subcompact PC'!$H$530:$X$541,MATCH(DM56,'[1]Subcompact PC'!$C$530:$C$541,0),MATCH(Inputs!$C$2,'[1]Subcompact PC'!$H$529:$X$529,0))","v":-166.76046392665683},10,null,null,null,null,null,null,null,"2012-2016","INC","%",{"$f":"DW57","v":7.4644549763033141E-2},"$",{"$f":"INDEX('[1]Subcompact PC'!$H$530:$X$541,MATCH(DU56,'[1]Subcompact PC'!$C$530:$C$541,0),MATCH(Inputs!$C$2,'[1]Subcompact PC'!$H$529:$X$529,0))\n+INDEX('[1]Subcompact PC'!$H$530:$X$541,MATCH(EA56,'[1]Subcompact PC'!$C$530:$C$541,0),MATCH(Inputs!$C$2,'[1]Subcompact PC'!$H$529:$X$529,0))","v":372.41862046254636},10,null,null,null,null,null,null,null,"2012-2016","INC","%",{"$f":"EK57","v":0.1523320071830383},"$",{"$f":"INDEX('[1]Subcompact PC'!$H$530:$X$541,MATCH(EI56,'[1]Subcompact PC'!$C$530:$C$541,0),MATCH(Inputs!$C$2,'[1]Subcompact PC'!$H$529:$X$529,0))\n+INDEX('[1]Subcompact PC'!$H$530:$X$541,MATCH(EO56,'[1]Subcompact PC'!$C$530:$C$541,0),MATCH(Inputs!$C$2,'[1]Subcompact PC'!$H$529:$X$529,0))","v":0},10,null,null,null,null,null,null,null,"2012-2016","INC","%",{"$f":"EY57","v":7.7922077922077837E-2},"$",{"$f":"INDEX('[1]Subcompact PC'!$H$530:$X$541,MATCH(EW56,'[1]Subcompact PC'!$C$530:$C$541,0),MATCH(Inputs!$C$2,'[1]Subcompact PC'!$H$529:$X$529,0))\n+INDEX('[1]Subcompact PC'!$H$530:$X$541,MATCH(FC56,'[1]Subcompact PC'!$C$530:$C$541,0),MATCH(Inputs!$C$2,'[1]Subcompact PC'!$H$529:$X$529,0))","v":533.48625139315186},10,{"$f":"INDEX('[1]Subcompact PC'!$H$530:$X$541,MATCH(EW56,'[1]Subcompact PC'!$C$530:$C$541,0),MATCH(Inputs!$C$2,'[1]Subcompact PC'!$H$529:$X$529,0))","v":229.17561542502995},{"$f":"MATCH(EW56,'[1]Subcompact PC'!$C$530:$C$541,0)","v":9},null,null,null,null,null,"2012-2016","INC","%",{"$f":"FM57","v":7.7922077922077837E-2},"$",{"$f":"INDEX('[1]Subcompact PC'!$H$530:$X$541,MATCH(FK56,'[1]Subcompact PC'!$C$530:$C$541,0),MATCH(Inputs!$C$2,'[1]Subcompact PC'!$H$529:$X$529,0))\n+INDEX('[1]Subcompact PC'!$H$530:$X$541,MATCH(FQ56,'[1]Subcompact PC'!$C$530:$C$541,0),MATCH(Inputs!$C$2,'[1]Subcompact PC'!$H$529:$X$529,0))","v":1047.4612616201887},10]
[null,null,null,null,null,null,null,null,null,null,null,null,"ABS","%",{"$f":"1-((1-AC47+AC38)*(1-O54))","v":0.20885061469238408},"$",{"$f":"AE47+Q54","v":1184.6965628407361},"L",null,null,null,null,null,null,null,null,"ABS","%",{"$f":"1-((1-AC47)*(1-AC54))","v":0.20815788235294108},"$",{"$f":"AE47+AE54","v":735.36509429306989},"L",null,null,null,null,null,null,null,null,"ABS","%",{"$f":"1-((1-AC47)*(1-AQ54))","v":0.20815788235294108},"$",{"$f":"AE47+AS54","v":1288.1138190951174},"L",null,null,null,null,null,null,null,null,"ABS","%",{"$f":"1-((1-BS47)*(1-BE54))","v":0.21518247140334179},"$",{"$f":"BU47+BG54","v":1251.4013275208067},"L",null,null,null,null,null,null,null,null,"ABS","%",{"$f":"1-((1-BS47)*(1-BS54))","v":0.20815788235294097},"$",{"$f":"BU47+BU54","v":674.9282225487251},"L",null,null,null,null,null,null,null,null,"ABS","%",{"$f":"1-((1-BS47)*(1-CG54))","v":0.20815788235294097},"$",{"$f":"BU47+CI54","v":1214.1073069379283},"L",null,null,null,null,null,null,null,null,"ABS","%",{"$f":"1-((1-DI47)*(1-CU54))","v":0.20815788235294119},"$",{"$f":"DK47+CW54","v":1353.0756632839893},"L",null,null,null,null,null,null,null,null,"ABS","%",{"$f":"1-((1-DI47)*(1-DI54))","v":0.20815788235294119},"$",{"$f":"DK47+DK54","v":776.6025583119075},"L",null,null,null,null,null,null,null,null,"ABS","%",{"$f":"1-((1-DI47)*(1-DW54))","v":0.20815788235294119},"$",{"$f":"DK47+DY54","v":1315.7816427011107},"L",null,null,null,null,null,null,null,null,"ABS","%",{"$f":"1-((1-EY47)*(1-EK54))","v":0.24048947843600232},"$",{"$f":"FA47+EM54","v":711.67951469612831},"L",null,null,null,null,null,null,null,null,"ABS","%",{"$f":"1-((1-EY47)*(1-EY54))","v":0.17381818181818176},"$",{"$f":"FA47+FA54","v":1245.1657660892802},"L",null,null,null,null,null,null,null,null,"ABS","%",{"$f":"1-((1-EY47)*(1-FM54))","v":0.17381818181818176},"$",{"$f":"FA47+FO54","v":1759.140776316317},"L"]
[null,"INTERMEDIATE",null,null,null,null,null,null,null,null,null,null,"TRBDS1_SD_TB","Turbocharging and Downsizing 1 (TRBDS1_SD) - TBL",null,null,null,null,"TRBDS1_SD_DS",null,null,null,null,null,null,null,"TRBDS1_MD_TB","Turbocharging and Downsizing 1 (TRBDS1_MD) - TBL",null,null,null,null,"TRBDS1_MD_DS",null,null,null,null,null,null,null,"TRBDS1_LD_TB","Turbocharging and Downsizing 1\n(TRBDS1_LD) - TBL",null,null,null,null,"TRBDS1_LD_DS",null,null,null,null,null,null,null,"TRBDS1_SD_TB_D",{"$f":"$N$56","v":"Turbocharging and Downsizing 1 (TRBDS1_SD) - TBL"},null,null,null,null,"TRBDS1_SD_DS_D",null,null,null,null,null,null,null,"TRBDS1_MD_TB_D","Turbocharging and Downsizing 1 (TRBDS1_MD) - TBL",null,null,null,null,"TRBDS1_MD_DS_D",null,null,null,null,null,null,null,"TRBDS1_LD_TB_D",{"$f":"$AP$56","v":"Turbocharging and Downsizing 1\n(TRBDS1_LD) - TBL"},null,null,null,null,"TRBDS1_LD_DS_D",null,null,null,null,null,null,null,"TRBDS1_SD_TB_D",{"$f":"$N$56","v":"Turbocharging and Downsizing 1 (TRBDS1_SD) - TBL"},null,null,null,null,"TRBDS1_SD_DS_D",null,null,null,null,null,null,null,"TRBDS1_MD_TB_D",{"$f":"$AB$56","v":"Turbocharging and Downsizing 1 (TRBDS1_MD) - TBL"},null,null,null,null,"TRBDS1_MD_DS_D",null,null,null,null,null,null,null,"TRBDS1_LD_TB_D",{"$f":"$AP$56","v":"Turbocharging and Downsizing 1\n(TRBDS1_LD) - TBL"},null,null,null,null,"TRBDS1_LD_DS_D",null,null,null,null,null,null,null,"TRBDS1_SD_TB_O",{"$f":"$N$56","v":"Turbocharging and Downsizing 1 (TRBDS1_SD) - TBL"},null,null,null,null,"TRBDS1_SD_DS_O",null,null,null,null,null,null,null,"TRBDS1_MD_TB_O",{"$f":"$AB$56","v":"Turbocharging and Downsizing 1 (TRBDS1_MD) - TBL"},null,null,null,null,"TRBDS1_MD_DS_O",null,null,null,null,null,null,null,"TRBDS1_LD_TB_O",{"$f":"$AP$56","v":"Turbocharging and Downsizing 1\n(TRBDS1_LD) - TBL"},null,null,null,null,"TRBDS1_LD_DS_O"]
["Gas Engine Type","I4",null,null,null,null,null,null,null,null,null,"2017+","INC","%",{"$f":"1-((1-O58-AC41)/(1-AC50))","v":8.6102014718432929E-2},"$",{"$f":"Q54","v":420.06358424991754},10,null,null,null,null,null,null,null,"2017+","INC","%",{"$f":"1-((1-AC58)/(1-AC50))","v":7.7922077922077837E-2},"$",{"$f":"AE54","v":-29.267884297748708},10,null,null,null,null,null,null,null,"2017+","INC","%",{"$f":"1-((1-AQ58)/(1-AC50))","v":7.7922077922077837E-2},"$",{"$f":"AS54","v":523.48084050429873},10,null,null,null,null,null,null,null,"2017+","INC","%",{"$f":"1-((1-BE58-BS41)/(1-BS50))","v":8.6102014718432929E-2},"$",{"$f":"BG54","v":409.7126410454249},10,null,null,null,null,null,null,null,"2017+","INC","%",{"$f":"1-((1-BS58)/(1-BS50))","v":7.7922077922077837E-2},"$",{"$f":"BU54","v":-166.76046392665683},10,null,null,null,null,null,null,null,"2017+","INC","%",{"$f":"1-((1-CG58)/(1-BS50))","v":7.7922077922077837E-2},"$",{"$f":"CI54","v":372.41862046254636},10,null,null,null,null,null,null,null,"2017+","INC","%",{"$f":"1-((1-CU58-DI41)/(1-DI50))","v":7.4644549763033141E-2},"$",{"$f":"CW54","v":409.7126410454249},10,null,null,null,null,null,null,null,"2017+","INC","%",{"$f":"1-((1-DI58)/(1-DI50))","v":7.4644549763033141E-2},"$",{"$f":"DK54","v":-166.76046392665683},10,null,null,null,null,null,null,null,"2017+","INC","%",{"$f":"1-((1-DW58)/(1-DI50))","v":7.4644549763033141E-2},"$",{"$f":"DY54","v":372.41862046254636},10,null,null,null,null,null,null,null,"2017+","INC","%",{"$f":"1-((1-EK58-EY33)/(1-EY50))","v":0.1523320071830383},"$",{"$f":"EM54","v":0},10,null,null,null,null,null,null,null,"2017+","INC","%",{"$f":"1-((1-EY58)/(1-EY50))","v":7.7922077922077837E-2},"$",{"$f":"FA54","v":533.48625139315186},10,null,null,null,null,null,null,null,"2017+","INC","%",{"$f":"1-((1-FM58)/(1-EY50))","v":7.7922077922077837E-2},"$",{"$f":"FO54","v":1047.4612616201887},10]
["Displacement [L]","1.5 to 2.0",null,null,null,null,null,null,null,null,null,null,"ABS","%",0.219,"$",{"$f":"AE50+Q57","v":1278.9576605846732},"L",null,null,null,null,null,null,null,null,"ABS","%",{"$f":"$O58","v":0.219},"$",{"$f":"AE50+AE57","v":829.62619203700706},"L",null,null,null,null,null,null,null,null,"ABS","%",{"$f":"$O58","v":0.219},"$",{"$f":"AE50+AS57","v":1382.3749168390545},"L",null,null,null,null,null,null,null,null,"ABS","%",{"$f":"$O58","v":0.219},"$",{"$f":"BU50+BG57","v":1345.6624252647439},"L",null,null,null,null,null,null,null,null,"ABS","%",{"$f":"$O58","v":0.219},"$",{"$f":"BU50+BU57","v":769.18932029266227},"L",null,null,null,null,null,null,null,null,"ABS","%",{"$f":"$AQ58","v":0.219},"$",{"$f":"BU50+CI57","v":1308.3684046818655},"L",null,null,null,null,null,null,null,null,"ABS","%",{"$f":"$O58","v":0.219},"$",{"$f":"DK50+CW57","v":1447.3367610279265},"L",null,null,null,null,null,null,null,null,"ABS","%",{"$f":"$AC58","v":0.219},"$",{"$f":"DK50+DK57","v":870.86365605584467},"L",null,null,null,null,null,null,null,null,"ABS","%",{"$f":"$AQ58","v":0.219},"$",{"$f":"DK50+DY57","v":1410.0427404450479},"L",null,null,null,null,null,null,null,null,"ABS","%",{"$f":"$O58","v":0.219},"$",{"$f":"FA50+EM57","v":805.94061244006548},"L",null,null,null,null,null,null,null,null,"ABS","%",{"$f":"$AC58","v":0.219},"$",{"$f":"FA50+FA57","v":1339.4268638332173},"L",null,null,null,null,null,null,null,null,"ABS","%",{"$f":"$AQ58","v":0.219},"$",{"$f":"FA50+FO57","v":1853.4018740602542},"L"]
["Turbocharger","FGT",null,null,null,null,null,null,null,null,null,null,null,null,null,null,null,null,null,null,null,null,null,null,null,null,null,null,null,null,null,null,null,null,null,null,null,null,null,null,null,null,null,null,null,null,null,null,null,null,null,null,null,null,null,null,{"$f":"BE57-$O$57","v":0},null,{"$f":"BG57-$Q$57","v":-10.350943204492637},null,null,null,null,null,null,null,null,null,null,null,{"$f":"BS57-$AC$57","v":0},null,{"$f":"BU57-$AE$57","v":-137.49257962890812},null,null,null,null,null,null,null,null,null,null,null,{"$f":"CG57-$AQ$57","v":0},null,{"$f":"CI57-$AS$57","v":-151.06222004175237},null,null,null,null,null,null,null,null,null,null,null,{"$f":"CU57-$O$57","v":-1.1457464955399788E-2},null,{"$f":"CW57-$Q$57","v":-10.350943204492637},null,null,null,null,null,null,null,null,null,null,null,{"$f":"DI57-$AC$57","v":-3.2775281590446959E-3},null,{"$f":"DK57-$AE$57","v":-137.49257962890812},null,null,null,null,null,null,null,null,null,null,null,{"$f":"DW57-$AQ$57","v":-3.2775281590446959E-3},null,{"$f":"DY57-$AS$57","v":-151.06222004175237},null,null,null,null,null,null,null,null,null,null,null,{"$f":"EK57-$O$57","v":6.6229992464605369E-2},null,{"$f":"EM57-$Q$57","v":-420.06358424991754},null,null,null,null,null,null,null,null,null,null,null,{"$f":"EY57-$AC$57","v":0},null,{"$f":"FA57-$AE$57","v":562.75413569090051},null,null,null,null,null,null,null,null,null,null,null,{"$f":"FM57-$AQ$57","v":0},null,{"$f":"FO57-$AS$57","v":523.98042111588995}]
["EGR system","External"]
["Valvetrain","DOHC"]
["After Treatment","3way cat",null,null,null,null,null,null,null,null,null,"2012-2016","INC","%",{"$f":"1-((1-O63)/(1-O55))","v":0},"$",0,0,null,null,null,null,null,null,null,"2012-2016","INC","%",{"$f":"1-((1-AC63)/(1-AC55))","v":0},"$",0,0,null,null,null,null,null,null,null,"2012-2016","INC","%",{"$f":"1-((1-AQ63)/(1-AQ55))","v":0},"$",0,0,null,null,null,null,null,null,null,"2012-2016","INC","%",{"$f":"1-((1-BE63)/(1-BE55))","v":0},"$",{"$f":"$Q$62","v":0},{"$f":"$R$62","v":0},null,null,null,null,null,null,null,"2012-2016","INC","%",{"$f":"1-((1-BS63)/(1-BS55))","v":0},"$",{"$f":"$AE$62","v":0},{"$f":"$AF$62","v":0},null,null,null,null,null,null,null,"2012-2016","INC","%",{"$f":"1-((1-CG63)/(1-CG55))","v":0},"$",{"$f":"$AS$62","v":0},{"$f":"$AT$62","v":0},null,null,null,null,null,null,null,"2012-2016","INC","%",{"$f":"1-((1-CU63)/(1-CU55))","v":0},"$",{"$f":"$Q$62","v":0},{"$f":"$R$62","v":0},null,null,null,null,null,null,null,"2012-2016","INC","%",{"$f":"1-((1-DI63)/(1-DI55))","v":0},"$",{"$f":"$AE$62","v":0},{"$f":"$AF$62","v":0},null,null,null,null,null,null,null,"2012-2016","INC","%",{"$f":"1-((1-DW63)/(1-DW55))","v":0},"$",{"$f":"$AS$62","v":0},{"$f":"$AT$62","v":0},null,null,null,null,null,null,null,"2012-2016","INC","%",{"$f":"$O$62","v":0},"$",{"$f":"$Q$62","v":0},{"$f":"$R$62","v":0},null,null,null,null,null,null,null,"2012-2016","INC","%",{"$f":"1-((1-EY63)/(1-EY55))","v":0},"$",{"$f":"$AE$62","v":0},{"$f":"$AF$62","v":0},null,null,null,null,null,null,null,"2012-2016","INC","%",{"$f":"1-((1-FM63)/(1-FM55))","v":0},"$",{"$f":"$AS$62","v":0},{"$f":"$AT$62","v":0}]
[null,null,null,null,null,null,null,null,null,null,null,null,"ABS","%",{"$f":"O55","v":0.20885061469238408},"$",{"$f":"Q55+Q62","v":1184.6965628407361},"L",null,null,null,null,null,null,null,null,"ABS","%",{"$f":"AC55","v":0.20815788235294108},"$",{"$f":"AE55+AE62","v":735.36509429306989},"L",null,null,null,null,null,null,null,null,"ABS","%",{"$f":"AQ55","v":0.20815788235294108},"$",{"$f":"AS55+AS62","v":1288.1138190951174},"L",null,null,null,null,null,null,null,null,"ABS","%",{"$f":"BE55","v":0.21518247140334179},"$",{"$f":"BG55+BG62","v":1251.4013275208067},"L",null,null,null,null,null,null,null,null,"ABS","%",{"$f":"BS55","v":0.20815788235294097},"$",{"$f":"BU55+BU62","v":674.9282225487251},"L",null,null,null,null,null,null,null,null,"ABS","%",{"$f":"CG55","v":0.20815788235294097},"$",{"$f":"CI55+CI62","v":1214.1073069379283},"L",null,null,null,null,null,null,null,null,"ABS","%",{"$f":"CU55","v":0.20815788235294119},"$",{"$f":"CW55+CW62","v":1353.0756632839893},"L",null,null,null,null,null,null,null,null,"ABS","%",{"$f":"DI55","v":0.20815788235294119},"$",{"$f":"DK55+DK62","v":776.6025583119075},"L",null,null,null,null,null,null,null,null,"ABS","%",{"$f":"DW55","v":0.20815788235294119},"$",{"$f":"DY55+DY62","v":1315.7816427011107},"L",null,null,null,null,null,null,null,null,"ABS","%",{"$f":"1-((1-EK55)*(1-EK62))","v":0.24048947843600232},"$",{"$f":"EM55+EM62","v":711.67951469612831},"L",null,null,null,null,null,null,null,null,"ABS","%",{"$f":"EY55","v":0.17381818181818176},"$",{"$f":"FA55+FA62","v":1245.1657660892802},"L",null,null,null,null,null,null,null,null,"ABS","%",{"$f":"FM55","v":0.17381818181818176},"$",{"$f":"FO55+FO62","v":1759.140776316317},"L"]
[null,null,null,null,null,null,null,null,null,null,null,null,"TRBDS2_SD_TB","Turbocharging and Downsizing 2\n(TRBDS2_SD) - TBL",null,null,null,null,"TRBDS2_SD_DS",null,null,null,null,null,null,null,"TRBDS2_MD_TB","Turbocharging and Downsizing 2\n(TRBDS2_MD) - TBL",null,null,null,null,"TRBDS2_MD_DS",null,null,null,null,null,null,null,"TRBDS2_LD_TB","Turbocharging and Downsizing 2\n(TRBDS2_LD) - TBL",null,null,null,null,"TRBDS2_LD_DS",null,null,null,null,null,null,null,"TRBDS2_SD_TB",{"$f":"$N$64","v":"Turbocharging and Downsizing 2\n(TRBDS2_SD) - TBL"},null,null,null,null,"TRBDS2_SD_DS",null,null,null,null,null,null,null,"TRBDS2_MD_TB",{"$f":"$AB$64","v":"Turbocharging and Downsizing 2\n(TRBDS2_MD) - TBL"},null,null,null,null,"TRBDS2_MD_DS",null,null,null,null,null,null,null,"TRBDS2_LD_TB",{"$f":"$AP$64","v":"Turbocharging and Downsizing 2\n(TRBDS2_LD) - TBL"},null,null,null,null,"TRBDS2_LD_DS",null,null,null,null,null,null,null,"TRBDS2_SD_TB",{"$f":"$N$64","v":"Turbocharging and Downsizing 2\n(TRBDS2_SD) - TBL"},null,null,null,null,"TRBDS2_SD_DS",null,null,null,null,null,null,null,"TRBDS2_MD_TB",{"$f":"$AB$64","v":"Turbocharging and Downsizing 2\n(TRBDS2_MD) - TBL"},null,null,null,null,"TRBDS2_MD_DS",null,null,null,null,null,null,null,"TRBDS2_LD_TB","Cooled EGR 1\n(CEGR1_LD) - TBL",null,null,null,null,"TRBDS2_LD_DS",null,null,null,null,null,null,null,"TRBDS2_SD_TB",{"$f":"$N$64","v":"Turbocharging and Downsizing 2\n(TRBDS2_SD) - TBL"},null,null,null,null,"TRBDS2_SD_DS",null,null,null,null,null,null,null,"TRBDS2_MD_TB",{"$f":"$AB$64","v":"Turbocharging and Downsizing 2\n(TRBDS2_MD) - TBL"},null,null,null,null,"TRBDS2_MD_DS",null,null,null,null,null,null,null,"TRBDS2_LD_TB","Cooled EGR 1\n(CEGR1_LD) - TBL",null,null,null,null,"TRBDS2_LD_DS"]
[null,"INTERMEDIATE",null,null,null,null,null,null,null,null,null,"2017+","INC","%",{"$f":"1-((1-O66)/(1-O58))","v":3.7131882202304789E-2},"$",{"$f":"INDEX('[1]Large PC'!$H$379:$X$467,MATCH(M64,'[1]Large PC'!$C$379:$C$467,0),MATCH(Inputs!$C$2,'[1]Large PC'!$H$378:$X$378,0))\n+INDEX('[1]Large PC'!$H$379:$X$467,MATCH(S64,'[1]Large PC'!$C$379:$C$467,0),MATCH(Inputs!$C$2,'[1]Large PC'!$H$378:$X$378,0))","v":19.914246875441577},10,null,null,null,null,null,null,null,"2017+","INC","%",{"$f":"1-((1-AC66)/(1-AC58))","v":3.7131882202304789E-2},"$",{"$f":"INDEX('[1]Large PC'!$H$379:$X$467,MATCH(AA64,'[1]Large PC'!$C$379:$C$467,0),MATCH(Inputs!$C$2,'[1]Large PC'!$H$378:$X$378,0))\n+INDEX('[1]Large PC'!$H$379:$X$467,MATCH(AG64,'[1]Large PC'!$C$379:$C$467,0),MATCH(Inputs!$C$2,'[1]Large PC'!$H$378:$X$378,0))","v":247.5936884943545},10,null,null,null,null,null,null,null,"2017+","INC","%",{"$f":"1-((1-AQ66)/(1-AQ58))","v":3.7131882202304789E-2},"$",{"$f":"INDEX('[1]Large PC'!$H$379:$X$467,MATCH(AO64,'[1]Large PC'!$C$379:$C$467,0),MATCH(Inputs!$C$2,'[1]Large PC'!$H$378:$X$378,0))\n+INDEX('[1]Large PC'!$H$379:$X$467,MATCH(AU64,'[1]Large PC'!$C$379:$C$467,0),MATCH(Inputs!$C$2,'[1]Large PC'!$H$378:$X$378,0))","v":417.35470758578072},10,null,null,null,null,null,null,null,"2017+","INC","%",{"$f":"1-((1-BE66)/(1-BE58))","v":3.7131882202304789E-2},"$",{"$f":"$Q65","v":19.914246875441577},{"$f":"$R$65","v":10},null,null,null,null,null,null,null,"2017+","INC","%",{"$f":"1-((1-BS66)/(1-BS58))","v":3.7131882202304789E-2},"$",{"$f":"$AE$65","v":247.5936884943545},{"$f":"$AF$65","v":10},null,null,null,null,null,null,null,"2017+","INC","%",{"$f":"1-((1-CG66)/(1-CG58))","v":3.7131882202304789E-2},"$",{"$f":"$AS$65","v":417.35470758578072},{"$f":"$AT$65","v":10},null,null,null,null,null,null,null,"2017+","INC","%",{"$f":"1-((1-CU66)/(1-CU58))","v":3.7131882202304789E-2},"$",{"$f":"$Q65","v":19.914246875441577},{"$f":"$R$65","v":10},null,null,null,null,null,null,null,"2017+","INC","%",{"$f":"1-((1-DI66)/(1-DI58))","v":3.7131882202304789E-2},"$",{"$f":"$AE$65","v":247.5936884943545},{"$f":"$AF$65","v":10},null,null,null,null,null,null,null,"2017+","INC","%",{"$f":"1-((1-DW66)/(1-DW58))","v":3.7131882202304789E-2},"$",{"$f":"$AS$65","v":417.35470758578072},{"$f":"$AT$65","v":10},null,null,null,null,null,null,null,"2017+","INC","%",{"$f":"1-((1-EK66)/(1-EK58))","v":3.7131882202304789E-2},"$",{"$f":"$Q65","v":19.914246875441577},{"$f":"$R$65","v":10},null,null,null,null,null,null,null,"2017+","INC","%",{"$f":"1-((1-EY66)/(1-EY58))","v":3.7131882202304789E-2},"$",{"$f":"$AE$65","v":247.5936884943545},{"$f":"$AF$65","v":10},null,null,null,null,null,null,null,"2017+","INC","%",{"$f":"1-((1-FM66)/(1-FM58))","v":3.7131882202304789E-2},"$",{"$f":"$AS$65","v":417.35470758578072},{"$f":"$AT$65","v":10}]
["Gas Engine Type","I4",null,null,null,null,null,null,null,null,null,null,"ABS","%",0.248,"$",{"$f":"Q58+Q65","v":1298.8719074601149},"L",null,null,null,null,null,null,null,null,"ABS","%",{"$f":"$O66","v":0.248},"$",{"$f":"AE58+AE65","v":1077.2198805313615},"L",null,null,null,null,null,null,null,null,"ABS","%",{"$f":"$O66","v":0.248},"$",{"$f":"AS58+AS65","v":1799.7296244248353},"L",null,null,null,null,null,null,null,null,"ABS","%",{"$f":"$O66","v":0.248},"$",{"$f":"BG58+BG65","v":1365.5766721401856},"L",null,null,null,null,null,null,null,null,"ABS","%",{"$f":"$O66","v":0.248},"$",{"$f":"BU58+BU65","v":1016.7830087870168},"L",null,null,null,null,null,null,null,null,"ABS","%",{"$f":"$AQ66","v":0.248},"$",{"$f":"CI58+CI65","v":1725.7231122676462},"L",null,null,null,null,null,null,null,null,"ABS","%",{"$f":"$O66","v":0.248},"$",{"$f":"CW58+CW65","v":1467.2510079033682},"L",null,null,null,null,null,null,null,null,"ABS","%",{"$f":"$AC66","v":0.248},"$",{"$f":"DK58+DK65","v":1118.4573445501992},"L",null,null,null,null,null,null,null,null,"ABS","%",{"$f":"$AQ66","v":0.248},"$",{"$f":"DY58+DY65","v":1827.3974480308286},"L",null,null,null,null,null,null,null,null,"ABS","%",{"$f":"$O66","v":0.248},"$",{"$f":"EM58+EM65","v":825.85485931550704},"L",null,null,null,null,null,null,null,null,"ABS","%",{"$f":"$AC66","v":0.248},"$",{"$f":"FA58+FA65","v":1587.0205523275717},"L",null,null,null,null,null,null,null,null,"ABS","%",{"$f":"$AQ66","v":0.248},"$",{"$f":"FO58+FO65","v":2270.7565816460346},"L"]
["Displacement [L]",1]
["Turbocharger","FGT"]
["EGR system","External"]
["Valvetrain","DOHC",null,null,null,null,null,null,null,null,null,"2012-2016","INC","%",{"$f":"1-((1-O71)/(1-O63))","v":0},"$",0,0,null,null,null,null,null,null,null,"2012-2016","INC","%",{"$f":"1-((1-AC71)/(1-AC63))","v":0},"$",0,0,null,null,null,null,null,null,null,"2012-2016","INC","%",{"$f":"1-((1-AQ71)/(1-AQ63))","v":0},"$",0,0,null,null,null,null,null,null,null,"2012-2016","INC","%",{"$f":"1-((1-BE71)/(1-BE63))","v":0},"$",{"$f":"$Q$70","v":0},{"$f":"$R$70","v":0},null,null,null,null,null,null,null,"2012-2016","INC","%",{"$f":"1-((1-BS71)/(1-BS63))","v":0},"$",{"$f":"$AE$70","v":0},{"$f":"$AF$70","v":0},null,null,null,null,null,null,null,"2012-2016","INC","%",{"$f":"1-((1-CG71)/(1-CG63))","v":0},"$",{"$f":"$AS$70","v":0},{"$f":"$AT$70","v":0},null,null,null,null,null,null,null,"2012-2016","INC","%",{"$f":"1-((1-CU71)/(1-CU63))","v":0},"$",{"$f":"$Q$70","v":0},{"$f":"$R$70","v":0},null,null,null,null,null,null,null,"2012-2016","INC","%",{"$f":"1-((1-DI71)/(1-DI63))","v":0},"$",{"$f":"$AE$70","v":0},{"$f":"$AF$70","v":0},null,null,null,null,null,null,null,"2012-2016","INC","%",{"$f":"1-((1-DW71)/(1-DW63))","v":0},"$",{"$f":"$AS$70","v":0},{"$f":"$AT$70","v":0},null,null,null,null,null,null,null,"2012-2016","INC","%",{"$f":"1-((1-EK71)/(1-EK63))","v":0},"$",{"$f":"$Q$70","v":0},{"$f":"$R$70","v":0},null,null,null,null,null,null,null,"2012-2016","INC","%",{"$f":"1-((1-EY71)/(1-EY63))","v":0},"$",{"$f":"$AE$70","v":0},{"$f":"$AF$70","v":0},null,null,null,null,null,null,null,"2012-2016","INC","%",{"$f":"1-((1-FM71)/(1-FM63))","v":0},"$",{"$f":"$AS$70","v":0},{"$f":"$AT$70","v":0}]
["After Treatment","3way cat",null,null,null,null,null,null,null,null,null,null,"ABS","%",{"$f":"O63","v":0.20885061469238408},"$",{"$f":"Q63+Q70","v":1184.6965628407361},"L",null,null,null,null,null,null,null,null,"ABS","%",{"$f":"AC63","v":0.20815788235294108},"$",{"$f":"AE63+AE70","v":735.36509429306989},"L",null,null,null,null,null,null,null,null,"ABS","%",{"$f":"AQ63","v":0.20815788235294108},"$",{"$f":"AS63+AS70","v":1288.1138190951174},"L",null,null,null,null,null,null,null,null,"ABS","%",{"$f":"BE63","v":0.21518247140334179},"$",{"$f":"BG63+BG70","v":1251.4013275208067},"L",null,null,null,null,null,null,null,null,"ABS","%",{"$f":"BS63","v":0.20815788235294097},"$",{"$f":"BU63+BU70","v":674.9282225487251},"L",null,null,null,null,null,null,null,null,"ABS","%",{"$f":"CG63","v":0.20815788235294097},"$",{"$f":"CI63+CI70","v":1214.1073069379283},"L",null,null,null,null,null,null,null,null,"ABS","%",{"$f":"CU63","v":0.20815788235294119},"$",{"$f":"CW63+CW70","v":1353.0756632839893},"L",null,null,null,null,null,null,null,null,"ABS","%",{"$f":"DI63","v":0.20815788235294119},"$",{"$f":"DK63+DK70","v":776.6025583119075},"L",null,null,null,null,null,null,null,null,"ABS","%",{"$f":"DW63","v":0.20815788235294119},"$",{"$f":"DY63+DY70","v":1315.7816427011107},"L",null,null,null,null,null,null,null,null,"ABS","%",{"$f":"EK63","v":0.24048947843600232},"$",{"$f":"EM63+EM70","v":711.67951469612831},"L",null,null,null,null,null,null,null,null,"ABS","%",{"$f":"EY63","v":0.17381818181818176},"$",{"$f":"FA63+FA70","v":1245.1657660892802},"L",null,null,null,null,null,null,null,null,"ABS","%",{"$f":"FM63","v":0.17381818181818176},"$",{"$f":"FO63+FO70","v":1759.140776316317},"L"]
[null,null,null,null,null,null,null,null,null,null,null,null,"CEGR1_SD_TB","Cooled EGR 1 \n(CEGR1_SD) - TBL",null,null,null,null,"CEGR1_SD_DS",null,null,null,null,null,null,null,"CEGR1_MD_TB","Cooled EGR 1 \n(CEGR1_MD) - TBL",null,null,null,null,"CEGR1_MD_DS",null,null,null,null,null,null,null,"CEGR1_LD_TB","Cooled EGR 1 \n(CEGR1_LD) - TBL",null,null,null,null,"CEGR1_LD_DS",null,null,null,null,null,null,null,"CEGR1_SD_TB",{"$f":"$N$72","v":"Cooled EGR 1 \n(CEGR1_SD) - TBL"},null,null,null,null,"CEGR1_SD_DS",null,null,null,null,null,null,null,"CEGR1_MD_TB",{"$f":"$AB$72","v":"Cooled EGR 1 \n(CEGR1_MD) - TBL"},null,null,null,null,"CEGR1_MD_DS",null,null,null,null,null,null,null,"CEGR1_LD_TB",{"$f":"$AP$72","v":"Cooled EGR 1 \n(CEGR1_LD) - TBL"},null,null,null,null,"CEGR1_LD_DS",null,null,null,null,null,null,null,"CEGR1_SD_TB",{"$f":"$N$72","v":"Cooled EGR 1 \n(CEGR1_SD) - TBL"},null,null,null,null,"CEGR1_SD_DS",null,null,null,null,null,null,null,"CEGR1_MD_TB",{"$f":"$AB$72","v":"Cooled EGR 1 \n(CEGR1_MD) - TBL"},null,null,null,null,"CEGR1_MD_DS",null,null,null,null,null,null,null,"CEGR1_LD_TB",{"$f":"$AP$72","v":"Cooled EGR 1 \n(CEGR1_LD) - TBL"},null,null,null,null,"CEGR1_LD_DS",null,null,null,null,null,null,null,"CEGR1_SD_TB",{"$f":"$N$72","v":"Cooled EGR 1 \n(CEGR1_SD) - TBL"},null,null,null,null,"CEGR1_SD_DS",null,null,null,null,null,null,null,"CEGR1_MD_TB",{"$f":"$AB$72","v":"Cooled EGR 1 \n(CEGR1_MD) - TBL"},null,null,null,null,"CEGR1_MD_DS",null,null,null,null,null,null,null,"CEGR1_LD_TB",{"$f":"$AP$72","v":"Cooled EGR 1 \n(CEGR1_LD) - TBL"},null,null,null,null,"CEGR1_LD_DS"]
[null,null,null,null,null,null,null,null,null,null,null,"2017+","INC","%",{"$f":"1-((1-O74)/(1-O66))","v":3.4574468085106447E-2},"$",{"$f":"INDEX('[1]Large Perf. PC'!$H$379:$X$467,MATCH(M72,'[1]Large Perf. PC'!$C$379:$C$467,0),MATCH(Inputs!$C$2,'[1]Large Perf. PC'!$H$378:$X$378,0))\n+INDEX('[1]Large Perf. PC'!$H$379:$X$467,MATCH(S72,'[1]Large Perf. PC'!$C$379:$C$467,0),MATCH(Inputs!$C$2,'[1]Large Perf. PC'!$H$378:$X$378,0))","v":285.15466932220613},10,null,null,null,null,null,null,null,"2017+","INC","%",{"$f":"1-((1-AC74)/(1-AC66))","v":3.4574468085106447E-2},"$",{"$f":"INDEX('[1]Large PC'!$H$379:$X$467,MATCH(AA72,'[1]Large PC'!$C$379:$C$467,0),MATCH(Inputs!$C$2,'[1]Large PC'!$H$378:$X$378,0))\n+INDEX('[1]Large PC'!$H$379:$X$467,MATCH(AG72,'[1]Large PC'!$C$379:$C$467,0),MATCH(Inputs!$C$2,'[1]Large PC'!$H$378:$X$378,0))","v":285.15466932220613},10,null,null,null,null,null,null,null,"2017+","INC","%",{"$f":"1-((1-AQ74)/(1-AQ66))","v":3.4574468085106447E-2},"$",{"$f":"INDEX('[1]Large PC'!$H$379:$X$467,MATCH(AO72,'[1]Large PC'!$C$379:$C$467,0),MATCH(Inputs!$C$2,'[1]Large PC'!$H$378:$X$378,0))\n+INDEX('[1]Large PC'!$H$379:$X$467,MATCH(AU72,'[1]Large PC'!$C$379:$C$467,0),MATCH(Inputs!$C$2,'[1]Large PC'!$H$378:$X$378,0))","v":285.15466932220613},10,null,null,null,null,null,null,null,"2017+","INC","%",{"$f":"$O$73","v":3.4574468085106447E-2},"$",{"$f":"$Q$73","v":285.15466932220613},{"$f":"$R$73","v":10},null,null,null,null,null,null,null,"2017+","INC","%",{"$f":"$AC$73","v":3.4574468085106447E-2},"$",{"$f":"$AE$73","v":285.15466932220613},{"$f":"$AF$73","v":10},null,null,null,null,null,null,null,"2017+","INC","%",{"$f":"$AQ$73","v":3.4574468085106447E-2},"$",{"$f":"$AS$73","v":285.15466932220613},{"$f":"$AT$73","v":10},null,null,null,null,null,null,null,"2017+","INC","%",{"$f":"$O$73","v":3.4574468085106447E-2},"$",{"$f":"$Q$73","v":285.15466932220613},{"$f":"$R$73","v":10},null,null,null,null,null,null,null,"2017+","INC","%",{"$f":"$AC$73","v":3.4574468085106447E-2},"$",{"$f":"$AE$73","v":285.15466932220613},{"$f":"$AF$73","v":10},null,null,null,null,null,null,null,"2017+","INC","%",{"$f":"$AQ$73","v":3.4574468085106447E-2},"$",{"$f":"$AS$73","v":285.15466932220613},{"$f":"$AT$73","v":10},null,null,null,null,null,null,null,"2017+","INC","%",{"$f":"$O$73","v":3.4574468085106447E-2},"$",{"$f":"$Q$73","v":285.15466932220613},{"$f":"$R$73","v":10},null,null,null,null,null,null,null,"2017+","INC","%",{"$f":"$AC$73","v":3.4574468085106447E-2},"$",{"$f":"$AE$73","v":285.15466932220613},{"$f":"$AF$73","v":10},null,null,null,null,null,null,null,"2017+","INC","%",{"$f":"$AQ$73","v":3.4574468085106447E-2},"$",{"$f":"$AS$73","v":285.15466932220613},{"$f":"$AT$73","v":10}]
[null,null,null,null,null,null,null,null,null,null,null,null,"ABS","%",0.27400000000000002,"$",{"$f":"Q66+Q73","v":1584.0265767823212},"L",null,null,null,null,null,null,null,null,"ABS","%",{"$f":"O74","v":0.27400000000000002},"$",{"$f":"AE66+AE73","v":1362.3745498535677},"L",null,null,null,null,null,null,null,null,"ABS","%",{"$f":"O74","v":0.27400000000000002},"$",{"$f":"AS66+AS73","v":2084.8842937470413},"L",null,null,null,null,null,null,null,null,"ABS","%",{"$f":"1-((1-BE66)*(1-BE73))","v":0.27400000000000002},"$",{"$f":"BG66+BG73","v":1650.7313414623918},"L",null,null,null,null,null,null,null,null,"ABS","%",{"$f":"$O74","v":0.27400000000000002},"$",{"$f":"BU66+BU73","v":1301.9376781092228},"L",null,null,null,null,null,null,null,null,"ABS","%",{"$f":"$AQ74","v":0.27400000000000002},"$",{"$f":"CI66+CI73","v":2010.8777815898525},"L",null,null,null,null,null,null,null,null,"ABS","%",{"$f":"$O74","v":0.27400000000000002},"$",{"$f":"CW66+CW73","v":1752.4056772255744},"L",null,null,null,null,null,null,null,null,"ABS","%",{"$f":"$AC74","v":0.27400000000000002},"$",{"$f":"DK66+DK73","v":1403.6120138724054},"L",null,null,null,null,null,null,null,null,"ABS","%",{"$f":"$AQ74","v":0.27400000000000002},"$",{"$f":"DY66+DY73","v":2112.5521173530346},"L",null,null,null,null,null,null,null,null,"ABS","%",{"$f":"$O74","v":0.27400000000000002},"$",{"$f":"EM66+EM73","v":1111.0095286377132},"L",null,null,null,null,null,null,null,null,"ABS","%",{"$f":"$AC74","v":0.27400000000000002},"$",{"$f":"FA66+FA73","v":1872.175221649778},"L",null,null,null,null,null,null,null,null,"ABS","%",{"$f":"$AQ74","v":0.27400000000000002},"$",{"$f":"FO66+FO73","v":2555.9112509682409},"L"]
[]
[]
[]
[null,null,null,null,null,null,null,null,null,null,null,"2012-2016","INC","%",{"$f":"1-((1-O79)/(1-O71))","v":0},"$",0,0,null,null,null,null,null,null,null,"2012-2016","INC","%",{"$f":"1-((1-AC79)/(1-AC71))","v":0},"$",0,0,null,null,null,null,null,null,null,"2012-2016","INC","%",{"$f":"1-((1-AQ79)/(1-AQ71))","v":0},"$",0,0,null,null,null,null,null,null,null,"2012-2016","INC","%",{"$f":"1-((1-BE79)/(1-BE71))","v":0},"$",{"$f":"$Q$78","v":0},{"$f":"$R$78","v":0},null,null,null,null,null,null,null,"2012-2016","INC","%",{"$f":"1-((1-BS79)/(1-BS71))","v":0},"$",{"$f":"$AE$78","v":0},{"$f":"$AF$78","v":0},null,null,null,null,null,null,null,"2012-2016","INC","%",{"$f":"1-((1-CG79)/(1-CG71))","v":0},"$",{"$f":"$AS$78","v":0},{"$f":"$AT$78","v":0},null,null,null,null,null,null,null,"2012-2016","INC","%",{"$f":"1-((1-CU79)/(1-CU71))","v":0},"$",{"$f":"$Q$78","v":0},{"$f":"$R$78","v":0},null,null,null,null,null,null,null,"2012-2016","INC","%",{"$f":"1-((1-DI79)/(1-DI71))","v":0},"$",{"$f":"$AE$78","v":0},{"$f":"$AF$78","v":0},null,null,null,null,null,null,null,"2012-2016","INC","%",{"$f":"1-((1-DW79)/(1-DW71))","v":0},"$",{"$f":"$AS$78","v":0},{"$f":"$AT$78","v":0},null,null,null,null,null,null,null,"2012-2016","INC","%",{"$f":"1-((1-EK79)/(1-EK71))","v":0},"$",{"$f":"$Q$78","v":0},{"$f":"$R$78","v":0},null,null,null,null,null,null,null,"2012-2016","INC","%",{"$f":"1-((1-EY79)/(1-EY71))","v":0},"$",{"$f":"$AE$78","v":0},{"$f":"$AF$78","v":0},null,null,null,null,null,null,null,"2012-2016","INC","%",{"$f":"1-((1-FM79)/(1-FM71))","v":0},"$",{"$f":"$AS$78","v":0},{"$f":"$AT$78","v":0}]
[null,null,null,null,null,null,null,null,null,null,null,null,"ABS","%",{"$f":"O71","v":0.20885061469238408},"$",{"$f":"Q71+Q78","v":1184.6965628407361},"L",null,null,null,null,null,null,null,null,"ABS","%",{"$f":"AC71","v":0.20815788235294108},"$",{"$f":"AE71+AE78","v":735.36509429306989},"L",null,null,null,null,null,null,null,null,"ABS","%",{"$f":"AQ71","v":0.20815788235294108},"$",{"$f":"AS71+AS78","v":1288.1138190951174},"L",null,null,null,null,null,null,null,null,"ABS","%",{"$f":"BE71","v":0.21518247140334179},"$",{"$f":"BG71+BG78","v":1251.4013275208067},"L",null,null,null,null,null,null,null,null,"ABS","%",{"$f":"BS71","v":0.20815788235294097},"$",{"$f":"BU71+BU78","v":674.9282225487251},"L",null,null,null,null,null,null,null,null,"ABS","%",{"$f":"CG71","v":0.20815788235294097},"$",{"$f":"CI71+CI78","v":1214.1073069379283},"L",null,null,null,null,null,null,null,null,"ABS","%",{"$f":"CU71","v":0.20815788235294119},"$",{"$f":"CW71+CW78","v":1353.0756632839893},"L",null,null,null,null,null,null,null,null,"ABS","%",{"$f":"DI71","v":0.20815788235294119},"$",{"$f":"DK71+DK78","v":776.6025583119075},"L",null,null,null,null,null,null,null,null,"ABS","%",{"$f":"DW71","v":0.20815788235294119},"$",{"$f":"DY71+DY78","v":1315.7816427011107},"L",null,null,null,null,null,null,null,null,"ABS","%",{"$f":"EK71","v":0.24048947843600232},"$",{"$f":"EM71+EM78","v":711.67951469612831},"L",null,null,null,null,null,null,null,null,"ABS","%",{"$f":"EY71","v":0.17381818181818176},"$",{"$f":"FA71+FA78","v":1245.1657660892802},"L",null,null,null,null,null,null,null,null,"ABS","%",{"$f":"FM71","v":0.17381818181818176},"$",{"$f":"FO71+FO78","v":1759.140776316317},"L"]
[null,null,null,null,null,null,null,null,null,null,null,null,"CEGR2_SD_TB","Cooled EGR 2\n(CEGR2_SD) - TBL",null,null,null,null,"CEGR2_SD_DS",null,null,null,null,null,null,null,"CEGR2_MD_TB","Cooled EGR 2\n(CEGR2_MD) - TBL",null,null,null,null,"CEGR2_MD_DS",null,null,null,null,null,null,null,"CEGR2_LD_TB","Cooled EGR 2\n(CEGR2_LD) - TBL",null,null,null,null,"CEGR2_LD_DS",null,null,null,null,null,null,null,"CEGR2_SD_TB",{"$f":"$N$80","v":"Cooled EGR 2\n(CEGR2_SD) - TBL"},null,null,null,null,"CEGR2_SD_DS",null,null,null,null,null,null,null,"CEGR2_MD_TB",{"$f":"$AB$80","v":"Cooled EGR 2\n(CEGR2_MD) - TBL"},null,null,null,null,"CEGR2_MD_DS",null,null,null,null,null,null,null,"CEGR2_LD_TB",{"$f":"$AP$80","v":"Cooled EGR 2\n(CEGR2_LD) - TBL"},null,null,null,null,"CEGR2_LD_DS",null,null,null,null,null,null,null,"CEGR2_SD_TB",{"$f":"$N$80","v":"Cooled EGR 2\n(CEGR2_SD) - TBL"},null,null,null,null,"CEGR2_SD_DS",null,null,null,null,null,null,null,"CEGR2_MD_TB",{"$f":"$AB$80","v":"Cooled EGR 2\n(CEGR2_MD) - TBL"},null,null,null,null,"CEGR2_MD_DS",null,null,null,null,null,null,null,"CEGR2_LD_TB",{"$f":"$AP$80","v":"Cooled EGR 2\n(CEGR2_LD) - TBL"},null,null,null,null,"CEGR2_LD_DS",null,null,null,null,null,null,null,"CEGR2_SD_TB",{"$f":"$N$80","v":"Cooled EGR 2\n(CEGR2_SD) - TBL"},null,null,null,null,"CEGR2_SD_DS",null,null,null,null,null,null,null,"CEGR2_MD_TB",{"$f":"$AB$80","v":"Cooled EGR 2\n(CEGR2_MD) - TBL"},null,null,null,null,"CEGR2_MD_DS",null,null,null,null,null,null,null,"CEGR2_LD_TB",{"$f":"$AP$80","v":"Cooled EGR 2\n(CEGR2_LD) - TBL"},null,null,null,null,"CEGR2_LD_DS"]
[null,"STOP",null,null,null,null,null,null,null,null,null,"2017+","INC","%",{"$f":"1-((1-O82)/(1-O74))","v":1.377410468319562E-2},"$",{"$f":"INDEX('[1]Large PC'!$H$379:$X$467,MATCH(M80,'[1]Large PC'!$C$379:$C$467,0),MATCH(Inputs!$C$2,'[1]Large PC'!$H$378:$X$378,0))\n+INDEX('[1]Large PC'!$H$379:$X$467,MATCH(S80,'[1]Large PC'!$C$379:$C$467,0),MATCH(Inputs!$C$2,'[1]Large PC'!$H$378:$X$378,0))","v":495.18737698870899},10,null,null,null,null,null,null,null,"2017+","INC","%",{"$f":"1-((1-AC82)/(1-AC74))","v":1.377410468319562E-2},"$",{"$f":"INDEX('[1]Large PC'!$H$379:$X$467,MATCH(AA80,'[1]Large PC'!$C$379:$C$467,0),MATCH(Inputs!$C$2,'[1]Large PC'!$H$378:$X$378,0))\n+INDEX('[1]Large PC'!$H$379:$X$467,MATCH(AG80,'[1]Large PC'!$C$379:$C$467,0),MATCH(Inputs!$C$2,'[1]Large PC'!$H$378:$X$378,0))","v":495.18737698870899},10,null,null,null,null,null,null,null,"2017+","INC","%",{"$f":"1-((1-AQ82)/(1-AQ74))","v":1.377410468319562E-2},"$",{"$f":"INDEX('[1]Large PC'!$H$379:$X$467,MATCH(AO80,'[1]Large PC'!$C$379:$C$467,0),MATCH(Inputs!$C$2,'[1]Large PC'!$H$378:$X$378,0))\n+INDEX('[1]Large PC'!$H$379:$X$467,MATCH(AU80,'[1]Large PC'!$C$379:$C$467,0),MATCH(Inputs!$C$2,'[1]Large PC'!$H$378:$X$378,0))","v":-296.67298355204559},10,null,null,null,null,null,null,null,"2017+","INC","%",{"$f":"$O$81","v":1.377410468319562E-2},"$",{"$f":"$Q$81","v":495.18737698870899},{"$f":"$R$81","v":10},null,null,null,null,null,null,null,"2017+","INC","%",{"$f":"$AC$81","v":1.377410468319562E-2},"$",{"$f":"$AE$81","v":495.18737698870899},{"$f":"$AF$81","v":10},null,null,null,null,null,null,null,"2017+","INC","%",{"$f":"$AQ$81","v":1.377410468319562E-2},"$",{"$f":"$AS$81","v":-296.67298355204559},{"$f":"$AT$81","v":10},null,null,null,null,null,null,null,"2017+","INC","%",{"$f":"$O$81","v":1.377410468319562E-2},"$",{"$f":"$Q$81","v":495.18737698870899},{"$f":"$R$81","v":10},null,null,null,null,null,null,null,"2017+","INC","%",{"$f":"$AC$81","v":1.377410468319562E-2},"$",{"$f":"$AE$81","v":495.18737698870899},{"$f":"$AF$81","v":10},null,null,null,null,null,null,null,"2017+","INC","%",{"$f":"$AQ$81","v":1.377410468319562E-2},"$",{"$f":"$AS$81","v":-296.67298355204559},{"$f":"$AT$81","v":10},null,null,null,null,null,null,null,"2017+","INC","%",{"$f":"$O$81","v":1.377410468319562E-2},"$",{"$f":"$Q$81","v":495.18737698870899},{"$f":"$R$81","v":10},null,null,null,null,null,null,null,"2017+","INC","%",{"$f":"$AC$81","v":1.377410468319562E-2},"$",{"$f":"$AE$81","v":495.18737698870899},{"$f":"$AF$81","v":10},null,null,null,null,null,null,null,"2017+","INC","%",{"$f":"$AQ$81","v":1.377410468319562E-2},"$",{"$f":"$AS$81","v":-296.67298355204559},{"$f":"$AT$81","v":10}]
["Diesel Engine Type","I4",null,null,null,null,null,null,null,null,null,null,"ABS","%",0.28399999999999997,"$",{"$f":"Q74+Q81","v":2079.21395377103},"L",null,null,null,null,null,null,null,null,"ABS","%",{"$f":"O82","v":0.28399999999999997},"$",{"$f":"AE74+AE81","v":1857.5619268422768},"L",null,null,null,null,null,null,null,null,"ABS","%",{"$f":"O82","v":0.28399999999999997},"$",{"$f":"AS74+AS81","v":1788.2113101949958},"L",null,null,null,null,null,null,null,null,"ABS","%",{"$f":"1-((1-BE74)*(1-BE81))","v":0.28400000000000003},"$",{"$f":"BG74+BG81","v":2145.9187184511006},"L",null,null,null,null,null,null,null,null,"ABS","%",{"$f":"$O82","v":0.28399999999999997},"$",{"$f":"BU74+BU81","v":1797.1250550979319},"L",null,null,null,null,null,null,null,null,"ABS","%",{"$f":"$AQ82","v":0.28399999999999997},"$",{"$f":"CI74+CI81","v":1714.204798037807},"L",null,null,null,null,null,null,null,null,"ABS","%",{"$f":"$O82","v":0.28399999999999997},"$",{"$f":"CW74+CW81","v":2247.5930542142833},"L",null,null,null,null,null,null,null,null,"ABS","%",{"$f":"$AC82","v":0.28399999999999997},"$",{"$f":"DK74+DK81","v":1898.7993908611145},"L",null,null,null,null,null,null,null,null,"ABS","%",{"$f":"$AQ82","v":0.28399999999999997},"$",{"$f":"DY74+DY81","v":1815.8791338009892},"L",null,null,null,null,null,null,null,null,"ABS","%",{"$f":"$O82","v":0.28399999999999997},"$",{"$f":"EM74+EM81","v":1606.1969056264222},"L",null,null,null,null,null,null,null,null,"ABS","%",{"$f":"$AC82","v":0.28399999999999997},"$",{"$f":"FA74+FA81","v":2367.3625986384868},"L",null,null,null,null,null,null,null,null,"ABS","%",{"$f":"$AQ82","v":0.28399999999999997},"$",{"$f":"FO74+FO81","v":2259.2382674161954},"L"]
["Displacement [L]","1.5 to 2.0"]
["Turbocharger","VNT"]
["EGR system","cooler+vlv+bypass vlv"]
["FIE","HPCR 1800bar solenoid",null,null,"2012-2016","INC","%",{"$f":"1-((1-H87)/(1-O79))","v":0},"$",0,"L","2012-2016","INC","%",0,"$",0,0,"2012-2016","INC","%",{"$f":"1-((1-V87)/(1-AC79))","v":0},"$",0,"L","2012-2016","INC","%",0,"$",0,0,"2012-2016","INC","%",{"$f":"1-((1-AJ87)/(1-AQ79))","v":0},"$",0,"L","2012-2016","INC","%",0,"$",0,0,"2012-2016","INC","%",{"$f":"1-((1-AX87)/(1-BE79))","v":-8.0679348768875059E-3},"$",0,"L","2012-2016","INC","%",0,"$",0,0,"2012-2016","INC","%",{"$f":"1-((1-BL87)/(1-BS79))","v":0},"$",0,"L","2012-2016","INC","%",0,"$",0,0,"2012-2016","INC","%",{"$f":"1-((1-BZ87)/(1-CG79))","v":0},"$",0,"L","2012-2016","INC","%",0,"$",0,0,"2012-2016","INC","%",{"$f":"1-((1-CN87)/(1-CU79))","v":8.7483644025065921E-4},"$",0,"L","2012-2016","INC","%",0,"$",0,0,"2012-2016","INC","%",{"$f":"1-((1-DB87)/(1-DI79))","v":0},"$",0,"L","2012-2016","INC","%",0,"$",0,0,"2012-2016","INC","%",{"$f":"1-((1-DP87)/(1-DW79))","v":0},"$",0,"L","2012-2016","INC","%",0,"$",0,0,"2012-2016","INC","%",{"$f":"1-((1-ED87)/(1-EK79))","v":-4.1656913031918208E-2},"$",0,"L","2012-2016","INC","%",0,"$",0,0,"2012-2016","INC","%",{"$f":"1-((1-ER87)/(1-EY79))","v":4.156433823529404E-2},"$",0,"L","2012-2016","INC","%",0,"$",0,0,"2012-2016","INC","%",{"$f":"1-((1-FF87)/(1-FM79))","v":4.156433823529404E-2},"$",0,"L","2012-2016","INC","%",0,"$",0,0]
["Valvetrain","4-valve DOHC",null,null,null,"ABS","%",{"$f":"O79","v":0.20885061469238408},"$",{"$f":"J86+Q79","v":1184.6965628407361},150,null,"ABS","%",{"$f":"1-((1-O79)*(1-O86))","v":0.20885061469238408},"$",{"$f":"Q79+Q86","v":1184.6965628407361},"L",null,"ABS","%",{"$f":"AC79","v":0.20815788235294108},"$",{"$f":"X86+AE79","v":735.36509429306989},200,null,"ABS","%",{"$f":"1-((1-AC79)*(1-AC86))","v":0.20815788235294108},"$",{"$f":"AE79+AE86","v":735.36509429306989},"L",null,"ABS","%",{"$f":"AQ79","v":0.20815788235294108},"$",{"$f":"AL86+AS79","v":1288.1138190951174},500,null,"ABS","%",{"$f":"1-((1-AQ79)*(1-AQ86))","v":0.20815788235294108},"$",{"$f":"AS79+AS86","v":1288.1138190951174},"L",null,"ABS","%",{"$f":"$H$87","v":0.20885061469238408},"$",{"$f":"AZ86+BG79","v":1251.4013275208067},{"$f":"$K$87","v":150},null,"ABS","%",{"$f":"1-((1-BE79)*(1-BE86))","v":0.21518247140334179},"$",{"$f":"BG79+BG86","v":1251.4013275208067},"L",null,"ABS","%",{"$f":"$V$87","v":0.20815788235294108},"$",{"$f":"BN86+BU79","v":674.9282225487251},{"$f":"$Y$87","v":200},null,"ABS","%",{"$f":"1-((1-BS79)*(1-BS86))","v":0.20815788235294097},"$",{"$f":"BU79+BU86","v":674.9282225487251},"L",null,"ABS","%",{"$f":"$AJ$87","v":0.20815788235294108},"$",{"$f":"CB86+CI79","v":1214.1073069379283},{"$f":"$AM$87","v":500},null,"ABS","%",{"$f":"1-((1-CG79)*(1-CG86))","v":0.20815788235294097},"$",{"$f":"CI79+CI86","v":1214.1073069379283},"L",null,"ABS","%",{"$f":"$H$87","v":0.20885061469238408},"$",{"$f":"CP86+CW79","v":1353.0756632839893},{"$f":"$K$87","v":150},null,"ABS","%",{"$f":"1-((1-CU79)*(1-CU86))","v":0.20815788235294119},"$",{"$f":"CW79+CW86","v":1353.0756632839893},"L",null,"ABS","%",{"$f":"$V$87","v":0.20815788235294108},"$",{"$f":"DD86+DK79","v":776.6025583119075},{"$f":"$Y$87","v":200},null,"ABS","%",{"$f":"1-((1-DI79)*(1-DI86))","v":0.20815788235294119},"$",{"$f":"DK79+DK86","v":776.6025583119075},"L",null,"ABS","%",{"$f":"$AJ$87","v":0.20815788235294108},"$",{"$f":"DR86+DY79","v":1315.7816427011107},{"$f":"$AM$87","v":500},null,"ABS","%",{"$f":"1-((1-DW79)*(1-DW86))","v":0.20815788235294119},"$",{"$f":"DY79+DY86","v":1315.7816427011107},"L",null,"ABS","%",{"$f":"$H$87","v":0.20885061469238408},"$",{"$f":"EF86+EM79","v":711.67951469612831},{"$f":"$K$87","v":150},null,"ABS","%",{"$f":"1-((1-EK79)*(1-EK86))","v":0.24048947843600232},"$",{"$f":"EM79+EM86","v":711.67951469612831},"L",null,"ABS","%",{"$f":"$V$87","v":0.20815788235294108},"$",{"$f":"ET86+FA79","v":1245.1657660892802},{"$f":"$Y$87","v":200},null,"ABS","%",{"$f":"1-((1-EY79)*(1-EY86))","v":0.17381818181818176},"$",{"$f":"FA79+FA86","v":1245.1657660892802},"L",null,"ABS","%",{"$f":"$AJ$87","v":0.20815788235294108},"$",{"$f":"FH86+FO79","v":1759.140776316317},{"$f":"$AM$87","v":500},null,"ABS","%",{"$f":"1-((1-FM79)*(1-FM86))","v":0.17381818181818176},"$",{"$f":"FO79+FO86","v":1759.140776316317},"L"]
["Valvetrain option","N/A",null,null,null,null,"Advanced Diesel\n(ADSL_SD) - TBL",null,null,null,null,"ADSL_SD",null,"To Strong Hybrids",null,null,null,null,null,null,"Advanced Diesel\n(ADSL_MD) - TBL",null,null,null,null,"ADSL_MD",null,"To Strong Hybrids",null,null,null,null,null,null,"Advanced Diesel\n(ADSL_LD) - TBL",null,null,null,null,"ADSL_LD",null,"To Strong Hybrids",null,null,null,null,null,null,"Advanced Diesel\n(ADSL_SD) - TBL",null,null,null,null,"ADSL_SD",null,"To Strong Hybrids",null,null,null,null,null,null,"Advanced Diesel\n(ADSL_MD) - TBL",null,null,null,null,"ADSL_SD",null,"To Strong Hybrids",null,null,null,null,null,null,"Advanced Diesel\n(ADSL_LD) - TBL",null,null,null,null,"ADSL_SD",null,"To Strong Hybrids",null,null,null,null,null,null,"Advanced Diesel\n(ADSL_SD) - TBL",null,null,null,null,"ADSL_SD",null,"To Strong Hybrids",null,null,null,null,null,null,"Advanced Diesel\n(ADSL_MD) - TBL",null,null,null,null,"ADSL_SD",null,"To Strong Hybrids",null,null,null,null,null,null,"Advanced Diesel\n(ADSL_LD) - TBL",null,null,null,null,"ADSL_SD",null,"To Strong Hybrids",null,null,null,null,null,null,"Advanced Diesel\n(ADSL_SD) - TBL",null,null,null,null,"ADSL_SD",null,"To Strong Hybrids",null,null,null,null,null,null,"Advanced Diesel\n(ADSL_MD) - TBL",null,null,null,null,"ADSL_SD",null,"To Strong Hybrids",null,null,null,null,null,null,"Advanced Diesel\n(ADSL_LD) - TBL",null,null,null,null,"ADSL_SD",null,"To Strong Hybrids"]
["After Treatment","DOC+LNT+DPF",null,null,"2017+","INC","%",{"$f":"1-((1-H90)/(1-O82))","v":2.8910614525139544E-2},"$",{"$f":"INDEX('[1]Large PC'!$H$379:$X$467,MATCH(L88,'[1]Large PC'!$C$379:$C$467,0),MATCH(Inputs!$C$2,'[1]Large PC'!$H$378:$X$378,0))","v":911.04083256975923},"L","2017+","INC","%",0,"$",{"$f":"Q86","v":0},0,"2017+","INC","%",{"$f":"1-((1-V90)/(1-AC82))","v":2.8910614525139544E-2},"$",{"$f":"INDEX('[1]Large PC'!$H$379:$X$467,MATCH(Z88,'[1]Large PC'!$C$379:$C$467,0),MATCH(Inputs!$C$2,'[1]Large PC'!$H$378:$X$378,0))","v":927.85441038425756},"L","2017+","INC","%",0,"$",{"$f":"AE86","v":0},0,"2017+","INC","%",{"$f":"1-((1-AJ90)/(1-AQ82))","v":2.8910614525139544E-2},"$",{"$f":"INDEX('[1]Large PC'!$H$379:$X$467,MATCH(AN88,'[1]Large PC'!$C$379:$C$467,0),MATCH(Inputs!$C$2,'[1]Large PC'!$H$378:$X$378,0))","v":1811.581549062259},"L","2017+","INC","%",0,"$",{"$f":"AS86","v":0},0,"2017+","INC","%",{"$f":"1-((1-AX90)/(1-BE82))","v":2.8910614525139544E-2},"$",{"$f":"$J$89","v":911.04083256975923},"L","2017+","INC","%",0,"$",{"$f":"BG86","v":0},0,"2017+","INC","%",{"$f":"1-((1-BL90)/(1-BS82))","v":2.8910614525139544E-2},"$",{"$f":"$X$89","v":927.85441038425756},"L","2017+","INC","%",0,"$",{"$f":"BU86","v":0},0,"2017+","INC","%",{"$f":"1-((1-BZ90)/(1-CG82))","v":2.8910614525139544E-2},"$",{"$f":"$AL$89","v":1811.581549062259},"L","2017+","INC","%",0,"$",{"$f":"CI86","v":0},0,"2017+","INC","%",{"$f":"1-((1-CN90)/(1-CU82))","v":2.8910614525139544E-2},"$",{"$f":"$J$89","v":911.04083256975923},"L","2017+","INC","%",0,"$",{"$f":"CW86","v":0},0,"2017+","INC","%",{"$f":"1-((1-DB90)/(1-DI82))","v":2.8910614525139544E-2},"$",{"$f":"$X$89","v":927.85441038425756},"L","2017+","INC","%",0,"$",{"$f":"DK86","v":0},0,"2017+","INC","%",{"$f":"1-((1-DP90)/(1-DW82))","v":2.8910614525139544E-2},"$",{"$f":"$AL$89","v":1811.581549062259},"L","2017+","INC","%",0,"$",{"$f":"DY86","v":0},0,"2017+","INC","%",{"$f":"1-((1-ED90)/(1-EK82))","v":2.8910614525139544E-2},"$",{"$f":"$J$89","v":911.04083256975923},"L","2017+","INC","%",0,"$",{"$f":"EM86","v":0},0,"2017+","INC","%",{"$f":"1-((1-ER90)/(1-EY82))","v":2.8910614525139544E-2},"$",{"$f":"$X$89","v":927.85441038425756},"L","2017+","INC","%",0,"$",{"$f":"FA86","v":0},0,"2017+","INC","%",{"$f":"1-((1-FF90)/(1-FM82))","v":2.8910614525139544E-2},"$",{"$f":"$AL$89","v":1811.581549062259},"L","2017+","INC","%",0,"$",{"$f":"FO86","v":0},0]
[null,null,null,null,null,"ABS","%",0.30470000000000003,"$",{"$f":"Q82+J89","v":2990.254786340789},150,null,"ABS","%",{"$f":"1-((1-O82)*(1-O89))","v":0.28400000000000003},"$",{"$f":"Q82+Q89","v":2079.21395377103},"L",null,"ABS","%",{"$f":"H90","v":0.30470000000000003},"$",{"$f":"AE82+X89","v":2785.4163372265343},200,null,"ABS","%",{"$f":"1-((1-AC82)*(1-AC89))","v":0.28400000000000003},"$",{"$f":"AE82+AE89","v":1857.5619268422768},"L",null,"ABS","%",{"$f":"H90","v":0.30470000000000003},"$",{"$f":"AS82+AL89","v":3599.7928592572548},500,null,"ABS","%",{"$f":"1-((1-AQ82)*(1-AQ89))","v":0.28400000000000003},"$",{"$f":"AS82+AS89","v":1788.2113101949958},"L",null,"ABS","%",{"$f":"$H$90","v":0.30470000000000003},"$",{"$f":"$J$90","v":2990.254786340789},{"$f":"$K$90","v":150},null,"ABS","%",{"$f":"1-((1-BE82)*(1-BE89))","v":0.28400000000000003},"$",{"$f":"BG82+BG89","v":2145.9187184511006},"L",null,"ABS","%",{"$f":"$V$90","v":0.30470000000000003},"$",{"$f":"$X$90","v":2785.4163372265343},{"$f":"$Y$90","v":200},null,"ABS","%",{"$f":"1-((1-BS82)*(1-BS89))","v":0.28400000000000003},"$",{"$f":"BU82+BU89","v":1797.1250550979319},"L",null,"ABS","%",{"$f":"$AJ$90","v":0.30470000000000003},"$",{"$f":"$AL$90","v":3599.7928592572548},{"$f":"$AM$90","v":500},null,"ABS","%",{"$f":"1-((1-CG82)*(1-CG89))","v":0.28400000000000003},"$",{"$f":"CI82+CI89","v":1714.204798037807},"L",null,"ABS","%",{"$f":"$H$90","v":0.30470000000000003},"$",{"$f":"$J$90","v":2990.254786340789},{"$f":"$K$90","v":150},null,"ABS","%",{"$f":"1-((1-CU82)*(1-CU89))","v":0.28400000000000003},"$",{"$f":"CW82+CW89","v":2247.5930542142833},"L",null,"ABS","%",{"$f":"$V$90","v":0.30470000000000003},"$",{"$f":"$X$90","v":2785.4163372265343},{"$f":"$Y$90","v":200},null,"ABS","%",{"$f":"1-((1-DI82)*(1-DI89))","v":0.28400000000000003},"$",{"$f":"DK82+DK89","v":1898.7993908611145},"L",null,"ABS","%",{"$f":"$AJ$90","v":0.30470000000000003},"$",{"$f":"$AL$90","v":3599.7928592572548},{"$f":"$AM$90","v":500},null,"ABS","%",{"$f":"1-((1-DW82)*(1-DW89))","v":0.28400000000000003},"$",{"$f":"DY82+DY89","v":1815.8791338009892},"L",null,"ABS","%",{"$f":"$H$90","v":0.30470000000000003},"$",{"$f":"$J$90","v":2990.254786340789},{"$f":"$K$90","v":150},null,"ABS","%",{"$f":"1-((1-EK82)*(1-EK89))","v":0.28400000000000003},"$",{"$f":"EM82+EM89","v":1606.1969056264222},"L",null,"ABS","%",{"$f":"$V$90","v":0.30470000000000003},"$",{"$f":"$X$90","v":2785.4163372265343},{"$f":"$Y$90","v":200},null,"ABS","%",{"$f":"1-((1-EY82)*(1-EY89))","v":0.28400000000000003},"$",{"$f":"FA82+FA89","v":2367.3625986384868},"L",null,"ABS","%",{"$f":"$AJ$90","v":0.30470000000000003},"$",{"$f":"$AL$90","v":3599.7928592572548},{"$f":"$AM$90","v":500},null,"ABS","%",{"$f":"1-((1-FM82)*(1-FM89))","v":0.28400000000000003},"$",{"$f":"FO82+FO89","v":2259.2382674161954},"L"]
[]
[]
[]
[]
[]
[]
[]
["Expanded Trans/Hybrid Technology Decision Tree"]
[]
[]
[null,null,null,null,"Electrification",null,null,null,null,null,null,null,null,null,null,null,null,null,null,null,null,"Manual Trans",null,null,null,null,null,null,null,null,null,null,null,"Auto Trans"]
[]
[null,"START",null,null,"2012-2016","INC","%",1.0999999999999999E-2,"$",{"$f":"INDEX('[1]Large PC'!$H$379:$X$467,MATCH(L105,'[1]Large PC'!$C$379:$C$467,0),MATCH(Inputs!$C$2,'[1]Large PC'!$H$378:$X$378,0))","v":98.103282519162363},95.93,null,null,null,"START",null,null,null,"2012-2016","INC","%",2.3400000000000001E-2,"$",{"$f":"INDEX('[1]Large PC'!$H$379:$X$467,MATCH(Z105,'[1]Large PC'!$C$379:$C$467,0),MATCH(Inputs!$C$2,'[1]Large PC'!$H$378:$X$378,0))","v":250.31750824336308},225.33,null,null,null,"START",null,null,null,"2012-2016","INC","%",3.1E-2,"$",{"$f":"INDEX('[1]Large PC'!$H$379:$X$467,MATCH(AN105,'[1]Large PC'!$C$379:$C$467,0),MATCH(Inputs!$C$2,'[1]Large PC'!$H$378:$X$378,0))","v":55.807948333210945},54.17]
["Curb Weight (lbs)",4110,null,null,null,"ABS","%",{"$f":"H103","v":1.0999999999999999E-2},"$",{"$f":"J103","v":98.103282519162363},"L",null,null,null,"5-spd",null,null,null,null,"ABS","%",{"$f":"V103","v":2.3400000000000001E-2},"$",{"$f":"X103","v":250.31750824336308},"L",null,null,null,"4/5-spd",null,null,null,null,"ABS","%",{"$f":"AJ103","v":3.1E-2},"$",{"$f":"AL103","v":55.807948333210945},"L"]
["Engine Displacement [L]",3.4,null,null,null,null,"Electric Power\nSteering (EPS) - TBL",null,null,null,null,"EPS",null,null,"Manual",null,null,null,null,null,"6 Speed Man/Imp.\nInternals (6MAN) - TBL",null,null,null,null,"6MAN",null,null,"Auto",null,null,null,null,null,"Imp. Auto Trans Cnrt./\nExternals (IATC) - TBL",null,null,null,null,"IATC"]
["Engine Power (HP)",258,null,null,"2017+","INC","%",{"$f":"H103","v":1.0999999999999999E-2},"$",{"$f":"J103","v":98.103282519162363},{"$f":"K103","v":95.93},null,null,null,null,null,null,null,"2017+","INC","%",2.3400000000000001E-2,"$",{"$f":"X103","v":250.31750824336308},225.33,null,null,null,null,null,null,null,"2017+","INC","%",{"$f":"AJ103","v":3.1E-2},"$",{"$f":"AL103","v":55.807948333210945},54.17]
["Engine Torque (ft-lbf)",248,null,null,null,"ABS","%",{"$f":"H106","v":1.0999999999999999E-2},"$",{"$f":"J106","v":98.103282519162363},"L",null,null,null,null,null,null,null,null,"ABS","%",{"$f":"V106","v":2.3400000000000001E-2},"$",{"$f":"X106","v":250.31750824336308},"L",null,null,null,null,null,null,null,null,"ABS","%",{"$f":"AJ106","v":3.1E-2},"$",{"$f":"AL106","v":55.807948333210945},"L"]
["Footprint (ft2)",50]
[]
[]
[null,null,null,null,"2012-2016","INC","%",{"$f":"1-((1-H112)/(1-H104))","v":1.0111223458038388E-2},"$",{"$f":"INDEX('[1]Large PC'!$H$379:$X$467,MATCH(L113,'[1]Large PC'!$C$379:$C$467,0),MATCH(Inputs!$C$2,'[1]Large PC'!$H$378:$X$378,0))","v":79.784981333734891},115.2,null,null,null,null,null,null,null,"2012-2016","INC","%",0,"$",0,100.55,null,null,null,null,null,null,null,"2012-2016","INC","%",{"$f":"1-((1-AJ112)/(1-AJ104))","v":2.0446860815357404E-2},"$",{"$f":"INDEX('[1]Large PC'!$H$379:$X$467,MATCH(AN113,'[1]Large PC'!$C$379:$C$467,0),MATCH(Inputs!$C$2,'[1]Large PC'!$H$378:$X$378,0))","v":-37.91558007744085},100.55]
[null,null,null,null,null,"ABS","%",2.1000000000000001E-2,"$",{"$f":"J104+J111","v":177.88826385289724},"L",null,null,null,null,null,null,null,null,"ABS","%",{"$f":"V104","v":2.3400000000000001E-2},"$",{"$f":"X111+X104","v":250.31750824336308},"L",null,null,null,null,null,null,null,null,"ABS","%",{"$f":"1-((1-6.6%)/(1-1.6%))","v":5.0813008130081383E-2},"$",{"$f":"AL111+AL104","v":17.892368255770094},"L"]
[null,null,null,null,null,null,"Improved Accessories 1\n(IACC1) - TBL",null,null,null,null,"IACC1",null,null,"From Engine Path\n2012-2016 ",null,null,null,null,null,"High Eff. Gearbox \n(Manual) -  (HETRANSM) - TBL",null,null,null,null,"HETRANS",null,null,null,null,null,null,null,null,"6-spd Auto Trans w/Imp\nInternals (NAUTO) - TBL",null,null,null,null,"NAUTO"]
[null,null,null,null,"2017+","INC","%",{"$f":"1-((1-H115)/(1-H107))","v":1.0111223458038388E-2},"$",{"$f":"J111","v":79.784981333734891},{"$f":"K111","v":115.2},null,null,null,null,null,null,null,"2017+","INC","%",{"$f":"1-((1-V115)/(1-V107))","v":3.8450576484453824E-2},"$",{"$f":"INDEX('[1]Large PC'!$H$379:$X$467,MATCH(Z113,'[1]Large PC'!$C$379:$C$467,0),MATCH(Inputs!$C$2,'[1]Large PC'!$H$378:$X$378,0))","v":227.42624881754446},10,null,null,null,null,null,null,null,"2017+","INC","%",{"$f":"1-((1-AJ115)/(1-AJ107))","v":2.0446860815357404E-2},"$",{"$f":"AL111","v":-37.91558007744085},10]
[null,null,null,null,null,"ABS","%",{"$f":"H112","v":2.1000000000000001E-2},"$",{"$f":"J107+J114","v":177.88826385289724},"L",null,null,null,null,null,null,null,null,"ABS","%",{"$f":"1-((1-7.56%)/(1-1.56%))","v":6.0950832994717596E-2},"$",{"$f":"X107+X114","v":477.74375706090757},"L",null,null,null,null,null,null,null,null,"ABS","%",{"$f":"AJ112","v":5.0813008130081383E-2},"$",{"$f":"AL107+AL114","v":17.892368255770094},"L"]
[]
[]
[]
[null,null,null,null,"2012-2016","INC","%",{"$f":"1-((1-H120)/(1-H112))","v":0},"$",0,0,"2012-2016","INC","%",{"$f":"1-((1-O120)/(((1-$O$87)*(1-$H$136)*(1-AJ144))))","v":6.1396947246053823E-2},"$",{"$f":"INDEX('[1]Large PC'!$H$379:$X$467,MATCH(M121,'[1]Large PC'!$C$379:$C$467,0),MATCH(Inputs!$C$2,'[1]Large PC'!$H$378:$X$378,0))\n+INDEX('[1]Large PC'!$H$379:$X$467,MATCH(S121,'[1]Large PC'!$C$379:$C$467,0),MATCH(Inputs!$C$2,'[1]Large PC'!$H$378:$X$378,0))","v":2469.9517730676016},"L",null,null,null,null,null,null,null,null,null,null,null,null,null,null,"2012-2016","INC","%",{"$f":"1-((1-AJ120)/(1-AJ112))","v":3.747323340471076E-2},"$",{"$f":"INDEX('[1]Large PC'!$H$379:$X$467,MATCH(AN121,'[1]Large PC'!$C$379:$C$467,0),MATCH(Inputs!$C$2,'[1]Large PC'!$H$378:$X$378,0))","v":-79.182210630830212},-10.47]
[null,null,null,null,null,"ABS","%",{"$f":"H112","v":2.1000000000000001E-2},"$",{"$f":"J112+J119","v":177.88826385289724},"L",null,"ABS","%",0.42199999999999999,"$",{"$f":"J136+Q119+AE87+AL144","v":4789.0575803221882},33.86,null,null,null,null,null,null,null,null,null,null,null,null,null,null,null,"ABS","%",{"$f":"1-((1-10.1%)/(1-1.6%))","v":8.638211382113814E-2},"$",{"$f":"AL119+AL112","v":-61.289842375060118},"L"]
[null,null,null,null,null,null,"Improved Accessories 2\n(IACC2) - TBL",null,null,null,null,"IACC2","SHEV1_B","Strong Hybrid (Powersplit or 2-Mode) (SHEV1) - VBL",null,null,null,null,"SHEV1_NB",null,null,"From Engine Path\n2017+ ",null,null,null,null,null,null,null,null,null,null,null,null,"6-spd Dual Clutch Trans\n(DCT) - TBL",null,null,null,null,"DCT"]
[null,null,null,null,"2017+","INC","%",{"$f":"1-((1-H123)/(1-H115))","v":2.5536261491317713E-2},"$",{"$f":"INDEX('[1]Large PC'!$H$379:$X$467,MATCH(L121,'[1]Large PC'!$C$379:$C$467,0),MATCH(Inputs!$C$2,'[1]Large PC'!$H$378:$X$378,0))","v":50.780571415814975},0,"2017+","INC","%",0,"$",0,"L",null,null,null,null,null,null,null,null,null,null,null,null,null,null,"2017+","INC","%",{"$f":"1-((1-AJ123)/(1-AJ115))","v":3.747323340471076E-2},"$",{"$f":"AL119","v":-79.182210630830212},{"$f":"AM119","v":-10.47}]
[null,null,null,null,null,"ABS","%",4.5999999999999999E-2,"$",{"$f":"J115+J122","v":228.6688352687122},"L",null,"ABS","%",0,"$",{"$f":"Q116+Q122","v":0},0,null,null,null,null,null,null,null,null,null,null,null,null,null,null,null,"ABS","%",{"$f":"AJ120","v":8.638211382113814E-2},"$",{"$f":"AL115+AL122","v":-61.289842375060118},"L"]
[]
[]
[]
[null,null,null,null,"2012-2016","INC","%",{"$f":"H130","v":2.2012578616352085E-2},"$",{"$f":"INDEX('[1]Large PC'!$H$379:$X$467,MATCH(L129,'[1]Large PC'!$C$379:$C$467,0),MATCH(Inputs!$C$2,'[1]Large PC'!$H$378:$X$378,0))","v":349.31408178071149},259.67,"2012-2016","INC","%","n/a","$","n/a","L","2012-2016","INC","%",{"$f":"1-((1-V128)/(((1-$O$87)*(1-$H$136)*(1-AJ144))))","v":-0.62388071410717316},"$",0,"L",null,null,null,null,null,null,null,"2012-2016","INC","%",{"$f":"1-((1-AJ128)/(1-AJ120))","v":4.5606229143492882E-2},"$",{"$f":"INDEX('[1]Large PC'!$H$379:$X$467,MATCH(AN129,'[1]Large PC'!$C$379:$C$467,0),MATCH(Inputs!$C$2,'[1]Large PC'!$H$378:$X$378,0))","v":223.31892374342101},0]
[null,null,null,null,null,"ABS","%",{"$f":"H127+H120","v":4.301257861635209E-2},"$",{"$f":"J120+J127","v":527.20234563360873},"L",null,"ABS","%","n/a","$","n/a",0,null,"ABS","%",0,"$",0,0,null,null,null,null,null,null,null,null,"ABS","%",{"$f":"1-((1-14.2%)/(1-1.6%))","v":0.12804878048780488},"$",{"$f":"AL120+AL127","v":162.02908136836089},"M"]
[null,null,null,null,null,null,"12V Micro Hybrid - Stop-Start\n(MHEV) - TBL",null,null,null,null,"MHEV",null,"SHEV1 --> SHEV2",null,null,null,null,null,"SHEV2_B","Strong Hybrid (P2 Parallel or 2-Mode) (SHEV2) - VBL",null,null,null,null,"SHEV2_NB",null,null,null,null,null,null,null,null,"8-spd Trans (Auto or DCT)\n(8SPD) - TBL",null,null,null,null,"8SPD"]
[null,null,null,null,"2017+","INC","%",{"$f":"1-((1-H131)/(1-H123))","v":2.2012578616352085E-2},"$",{"$f":"J127","v":349.31408178071149},{"$f":"K127","v":259.67},"2017+","INC","%",{"$f":"1-((1-V131)/(1-O120))","v":0.12629757785467133},"$",{"$f":"Q131-Q120","v":1623.5680642659563},"L","2017+","INC","%",{"$f":"1-((1-V131)/(((1-$O$90)*(1-$H$139)*(1-AJ147))))","v":6.2681180287585958E-3},"$",{"$f":"INDEX('[1]Large PC'!$H$379:$X$467,MATCH(T129,'[1]Large PC'!$C$379:$C$467,0),MATCH(Inputs!$C$2,'[1]Large PC'!$H$378:$X$378,0))\n+INDEX('[1]Large PC'!$H$379:$X$467,MATCH(Z129,'[1]Large PC'!$C$379:$C$467,0),MATCH(Inputs!$C$2,'[1]Large PC'!$H$378:$X$378,0))","v":2469.9517730676016},"L",null,null,null,null,null,null,null,"2017+","INC","%",{"$f":"1-((1-AJ131)/(1-AJ123))","v":4.5606229143492882E-2},"$",{"$f":"AL127","v":223.31892374342101},10]
[null,null,null,null,null,"ABS","%",6.7000000000000004E-2,"$",{"$f":"J123+J130","v":577.98291704942369},"L",null,"ABS","%",{"$f":"V131","v":0.495},"$",{"$f":"X130+J139+Q90+AL147","v":6412.6256445881445},0,null,"ABS","%",0.495,"$",{"$f":"X130+J139+AE90+AL147","v":6190.9736176593915},33.86,null,null,null,null,null,null,null,null,"ABS","%",{"$f":"AJ128","v":0.12804878048780488},"$",{"$f":"AL123+AL130","v":162.02908136836089},"L"]
[]
[]
[]
[null,null,null,null,"2012-2016","INC","%",{"$f":"H138","v":6.4308681672025747E-2},"$",{"$f":"INDEX('[1]Large Perf. PC'!$H$379:$X$467,MATCH(F137,'[1]Large Perf. PC'!$C$379:$C$467,0),MATCH(Inputs!$C$2,'[1]Large Perf. PC'!$H$378:$X$378,0))\n+INDEX('[1]Large Perf. PC'!$H$379:$X$467,MATCH(L137,'[1]Large Perf. PC'!$C$379:$C$467,0),MATCH(Inputs!$C$2,'[1]Large Perf. PC'!$H$378:$X$378,0))","v":894.50928595954747},"L",null,null,null,null,null,null,null,"2012-2016","INC","%",{"$f":"1-((1-V136)/(1-V128))","v":0.35},"$",0,"L",null,null,null,null,null,null,null,"2012-2016","INC","%",{"$f":"1-((1-AJ136)/(1-AJ128))","v":0},"$",0,10]
[null,null,null,null,null,"ABS","%",{"$f":"H135+H128","v":0.10732126028837784},"$",{"$f":"J128+J135","v":1421.7116315931562},33.86,null,null,null,null,null,null,null,null,"ABS","%",0.35,"$",{"$f":"X135+X128","v":0},33.86,null,null,null,null,null,null,null,null,"ABS","%",{"$f":"AJ128","v":0.12804878048780488},"$",{"$f":"AL128+AL135","v":162.02908136836089},"L"]
[null,null,null,null,null,"ISG_B","Integrated Starter Generator\n(ISG) - VBL",null,null,null,null,"ISG_NB",null,null,null,null,null,null,null,"PHEV2_B","Plug-in Hybrid - 30 Mile Range  (PHEV1) - VBL",null,null,null,null,"PHEV2_NB",null,null,null,null,null,null,null,null,"High Eff. Gearbox\n(Auto or DCT) -  (HETRANS) - TBL",null,null,null,null,"HETRANS"]
[null,null,null,null,"2017+","INC","%",{"$f":"1-((1-H139)/(1-H131))","v":6.4308681672025747E-2},"$",{"$f":"J135","v":894.50928595954747},"L",null,null,null,null,null,null,null,"2017+","INC","%",0.40649999999999997,"$",{"$f":"INDEX('[1]Large PC'!$H$379:$X$467,MATCH(T137,'[1]Large PC'!$C$379:$C$467,0),MATCH(Inputs!$C$2,'[1]Large PC'!$H$378:$X$378,0))\n+INDEX('[1]Large PC'!$H$379:$X$467,MATCH(Z138,'[1]Large PC'!$C$379:$C$467,0),MATCH(Inputs!$C$2,'[1]Large PC'!$H$378:$X$378,0))\n+INDEX('[1]Large PC'!$H$379:$X$467,MATCH(Z139,'[1]Large PC'!$C$379:$C$467,0),MATCH(Inputs!$C$2,'[1]Large PC'!$H$378:$X$378,0))\n+INDEX('[1]Large PC'!$H$379:$X$467,MATCH(Z137,'[1]Large PC'!$C$379:$C$467,0),MATCH(Inputs!$C$2,'[1]Large PC'!$H$378:$X$378,0))","v":13822.161834328675},"L","PHEV2_C",null,null,null,null,null,null,"2017+","INC","%",{"$f":"1-((1-AJ139)/(1-AJ131))","v":2.5641025641025439E-2},"$",{"$f":"INDEX('[1]Large PC'!$H$379:$X$467,MATCH(AN137,'[1]Large PC'!$C$379:$C$467,0),MATCH(Inputs!$C$2,'[1]Large PC'!$H$378:$X$378,0))","v":227.42624881754446},10]
[null,null,null,null,null,"ABS","%",{"$f":"11.6%+H106","v":0.127},"$",{"$f":"J131+J138","v":1472.492203008971},33.86,null,null,null,null,null,null,null,null,"ABS","%",{"$f":"1-((1-V131)*(1-V138))","v":0.70028249999999992},"$",{"$f":"X138+X131","v":20013.135451988066},33.86,"CHRG_L",null,null,null,null,null,null,null,"ABS","%",{"$f":"1-((1-16.4%)/(1-1.6%))","v":0.15040650406504052},"$",{"$f":"AL131+AL138","v":389.45533018590538},"L"]
[]
[]
[]
[null,null,null,null,null,null,null,null,null,null,null,null,null,null,null,null,null,null,"2012-2016","INC","%",{"$f":"1-((1-V144)/(1-V136))","v":0},"$",0,"L",null,null,null,null,null,null,null,"2012-2016","INC","%",{"$f":"1-((1-AJ144)/(1-AJ136))","v":0},"$",0,10]
[null,null,null,null,null,null,null,null,null,null,null,null,null,null,null,null,null,null,null,"ABS","%",0.35,"$",{"$f":"X143+X136","v":0},33.86,null,null,null,null,null,null,null,null,"ABS","%",{"$f":"AJ136","v":0.12804878048780488},"$",{"$f":"AL136+AL143","v":162.02908136836089},"L"]
[null,null,null,null,null,null,null,null,null,"To Strong\nHybrid",null,null,null,null,null,null,null,null,null,"PHEV2_B","Plug-in Hybrid - VBL",null,null,null,null,"PHEV2_NB",null,null,null,null,null,null,null,null,"Shift Optimizer\n (SHFTOPT) - TBL",null,null,null,null,"SHFTOPT"]
[null,null,null,null,null,null,null,null,null,null,null,null,null,null,null,null,null,null,"2017+","INC","%",0,"$",0,"L","PHEV2_C",null,null,null,null,null,null,"2017+","INC","%",{"$f":"1-((1-AJ147)/(1-AJ139))","v":4.3062200956937802E-2},"$",{"$f":"INDEX('[1]Large PC'!$H$379:$X$467,MATCH(AN145,'[1]Large PC'!$C$379:$C$467,0),MATCH(Inputs!$C$2,'[1]Large PC'!$H$378:$X$378,0))","v":1.5123845546366708},10]
[null,null,null,null,null,null,null,null,null,null,null,null,null,null,null,null,null,null,null,"ABS","%",{"$f":"1-((1-V139)*(1-V146))","v":0.70028249999999992},"$",{"$f":"X146+X139","v":20013.135451988066},33.86,null,null,null,null,null,null,null,null,"ABS","%",{"$f":"1-((1-20%)/(1-1.6%))","v":0.18699186991869909},"$",{"$f":"AL139+AL146","v":390.96771474054208},"L"]
[]
[]
[]
[null,null,null,null,null,null,null,null,null,null,null,null,null,null,null,null,null,null,"2012-2016","INC","%",{"$f":"1-((1-V152)/(1-V144))","v":0},"$",0,"L",null,null,null,null,null,null,null,null,null,null,null,"To Strong\n     Hybrid"]
[null,null,null,null,null,null,null,null,null,null,null,null,null,null,null,null,null,null,null,"ABS","%",0.35,"$",{"$f":"X151+X144","v":0},33.86]
[null,null,null,null,null,null,null,null,null,null,null,null,null,null,null,null,null,null,null,"EV1_B","Electric Vehicle - Early Adopter \n75 Mile Range - (EV1) - VBL",null,null,null,null,"EV1_NB"]
[null,null,null,null,null,null,null,null,null,null,null,null,null,null,null,null,null,null,"2017+","INC","%",0.68540000000000001,"$",{"$f":"INDEX('[1]Large PC'!$H$379:$X$467,MATCH(T153,'[1]Large PC'!$C$379:$C$467,0),MATCH(Inputs!$C$2,'[1]Large PC'!$H$378:$X$378,0))\n+INDEX('[1]Large PC'!$H$379:$X$467,MATCH(Z154,'[1]Large PC'!$C$379:$C$467,0),MATCH(Inputs!$C$2,'[1]Large PC'!$H$378:$X$378,0))\n+INDEX('[1]Large PC'!$H$379:$X$467,MATCH(Z153,'[1]Large PC'!$C$379:$C$467,0),MATCH(Inputs!$C$2,'[1]Large PC'!$H$378:$X$378,0))","v":3614.84017234465},"L","EV_C"]
[null,null,null,null,null,null,null,null,null,null,null,null,null,null,null,null,null,null,null,"ABS","%",{"$f":"1-((1-V147)*(1-V154))","v":0.90570887449999993},"$",{"$f":"X154+X147","v":23627.975624332717},33.86]
[]
[]
[]
[null,null,null,null,null,null,null,null,null,null,null,null,null,null,null,null,null,null,"2012-2016","INC","%",{"$f":"1-((1-V160)/(1-V152))","v":0},"$",0,"L"]
[null,null,null,null,null,null,null,null,null,null,null,null,null,null,null,null,null,null,null,"ABS","%",0.35,"$",{"$f":"X159+X152","v":0},33.86]
[null,null,null,null,null,null,null,null,null,null,null,null,null,null,null,null,null,null,null,"EV2_B","Electric Vehicle - Early Adopter \n100 Mile Range - (EV2) - VBL",null,null,null,null,"EV2_NB"]
[null,null,null,null,null,null,null,null,null,null,null,null,null,null,null,null,null,null,"2017+","INC","%",0,"$",0,"L"]
[null,null,null,null,null,null,null,null,null,null,null,null,null,null,null,null,null,null,null,"ABS","%",{"$f":"1-((1-V155)*(1-V162))","v":0.90570887449999993},"$",{"$f":"X162+X155","v":23627.975624332717},33.86]
[]
[]
[]
[null,null,null,null,null,null,null,null,null,null,null,null,null,null,null,null,null,null,"2012-2016","INC","%",{"$f":"1-((1-V168)/(1-V160))","v":0},"$",0,"L"]
[null,null,null,null,null,null,null,null,null,null,null,null,null,null,null,null,null,null,null,"ABS","%",0.35,"$",{"$f":"X167+X160","v":0},33.86]
[null,null,null,null,null,null,null,null,null,null,null,null,null,null,null,null,null,null,null,"EV3_B","Electric Vehicle - Early Adopter \n150 Mile Range - (EV3) - VBL",null,null,null,null,"EV3_NB"]
[null,null,null,null,null,null,null,null,null,null,null,null,null,null,null,null,null,null,"2017+","INC","%",0,"$",0,"L"]
[null,null,null,null,null,null,null,null,null,null,null,null,null,null,null,null,null,null,null,"ABS","%",{"$f":"1-((1-V163)*(1-V170))","v":0.90570887449999993},"$",{"$f":"X170+X163","v":23627.975624332717},33.86]
[]
[]
[]
[null,null,null,null,null,null,null,null,null,null,null,"2012-2016","INC","%",{"$f":"1-((1-O176)/(1-V168))","v":0},"$",0,"L",null,null,null,null,null,null,null,"2012-2016","INC","%",{"$f":"1-((1-AC176)/(1-V168))","v":0},"$",0,"L"]
[null,null,null,null,null,null,null,null,null,null,null,null,"ABS","%",0.35,"$",{"$f":"Q175+X168","v":0},33.86,null,null,null,null,null,null,null,null,"ABS","%",0.35,"$",{"$f":"AE175+X168","v":0},33.86]
[null,null,null,null,null,null,null,null,null,null,null,null,"EV4_B","Electric Vehicle - Mass Market \n150 Mile Range - (EV4) - VBL",null,null,null,null,"EV4_NB",null,null,null,null,null,null,null,"FCV_B","Fuel Cell Vehicle\n(FCV) - VBL",null,null,null,null,"FCV_NB"]
[null,null,null,null,null,null,null,null,null,null,null,"2017+","INC","%",0,"$",{"$f":"INDEX('[1]Large PC'!$H$379:$X$467,MATCH(M177,'[1]Large PC'!$C$379:$C$467,0),MATCH(Inputs!$C$2,'[1]Large PC'!$H$378:$X$378,0))\n+INDEX('[1]Large PC'!$H$379:$X$467,MATCH(S177,'[1]Large PC'!$C$379:$C$467,0),MATCH(Inputs!$C$2,'[1]Large PC'!$H$378:$X$378,0))","v":7220.400018439841},"L",null,null,null,null,null,null,null,"2017+","INC","%",0,"$",{"$f":"INDEX('[1]Large PC'!$H$379:$X$467,MATCH(AA177,'[1]Large PC'!$C$379:$C$467,0),MATCH(Inputs!$C$2,'[1]Large PC'!$H$378:$X$378,0))\n+INDEX('[1]Large PC'!$H$379:$X$467,MATCH(AG177,'[1]Large PC'!$C$379:$C$467,0),MATCH(Inputs!$C$2,'[1]Large PC'!$H$378:$X$378,0))","v":{"$error":"#N/A"}},"L"]
[null,null,null,null,null,null,null,null,null,null,null,null,"ABS","%",{"$f":"1-((1-V171)*(1-O178))","v":0.90570887449999993},"$",{"$f":"Q178+X171","v":30848.37564277256},33.86,null,null,null,null,null,null,null,null,"ABS","%",{"$f":"1-((1-V171)*(1-AC178))","v":0.90570887449999993},"$",{"$f":"AE178+X171","v":{"$error":"#N/A"}},33.86]
[]
[]
[]
[]
[]
["Vehicle Technology Decision Tree"]
[]
[]
[]
[null,null,"ABS - WR",{"$f":"'[1]Large PC'!$M$82","v":1.4999999999999999E-2},"2012-2016","INC","%",{"$f":"IF(D189<5%, D189*(3.5/10), D189*(5.1/10))","v":5.2499999999999995E-3},"$",{"$f":"INDEX('[1]Large PC'!$H$379:$X$467,MATCH(L191,'[1]Large PC'!$C$379:$C$467,0),MATCH(Inputs!$C$2,'[1]Large PC'!$H$378:$X$378,0))","v":6.9721687344265801E-2},1.33,null,null,null,null,null,null,null,"2012-2016","INC","%",1.9E-2,"$",{"$f":"INDEX('[1]Large PC'!$H$379:$X$467,MATCH(Z191,'[1]Large PC'!$C$379:$C$467,0),MATCH(Inputs!$C$2,'[1]Large PC'!$H$378:$X$378,0))","v":6.4396392400348512},5.15,null,null,null,null,null,null,null,"2012-2016","INC","%",8.0000000000000002E-3,"$",{"$f":"INDEX('[1]Large PC'!$H$379:$X$467,MATCH(AN191,'[1]Large PC'!$C$379:$C$467,0),MATCH(Inputs!$C$2,'[1]Large PC'!$H$378:$X$378,0))","v":70.836031640383368},5.15,null,null,null,null,null,null,null,"2012-2016","INC","%",2.3E-2,"$",{"$f":"INDEX('[1]Large PC'!$H$379:$X$467,MATCH(BB191,'[1]Large PC'!$C$379:$C$467,0),MATCH(Inputs!$C$2,'[1]Large PC'!$H$378:$X$378,0))","v":43.857938067390236},5.15]
[null,null,null,null,null,"ABS","%",{"$f":"H189","v":5.2499999999999995E-3},"$",{"$f":"J189","v":6.9721687344265801E-2},"L",null,null,null,null,null,null,null,null,"ABS","%",{"$f":"V189","v":1.9E-2},"$",{"$f":"X189","v":6.4396392400348512},"L",null,null,null,null,null,null,null,null,"ABS","%",{"$f":"AJ189","v":8.0000000000000002E-3},"$",{"$f":"AL189","v":70.836031640383368},"L",null,null,null,null,null,null,null,null,"ABS","%",{"$f":"AX189","v":2.3E-2},"$",{"$f":"AZ189","v":43.857938067390236},"L"]
[null,null,null,null,null,null,"Mass Reduction\n(MR1) - ($/pound) - TBL",null,null,null,null,"MR1",null,null,null,null,null,null,null,null,"Low Roll Resistance Tires 1\n (ROLL1) - No Learning Applied",null,null,null,null,"ROLL1",null,null,null,null,null,null,null,null,"Low Drag Brakes (LDB)\nNo Learning Applied",null,null,null,null,"LDB",null,null,null,null,null,null,null,null,"Aerodynamic Drag Reduction 1\n (AERO1) - No Learming Applied",null,null,null,null,"AERO1"]
[null,null,null,null,"2017+","INC","%",{"$f":"H189","v":5.2499999999999995E-3},"$",{"$f":"J189","v":6.9721687344265801E-2},1.33,null,null,null,null,null,null,null,"2017+","INC","%",{"$f":"V189","v":1.9E-2},"$",{"$f":"X189","v":6.4396392400348512},5.15,null,null,null,null,null,null,null,"2017+","INC","%",{"$f":"AJ189","v":8.0000000000000002E-3},"$",{"$f":"AL189","v":70.836031640383368},5.15,null,null,null,null,null,null,null,"2017+","INC","%",{"$f":"AX189","v":2.3E-2},"$",{"$f":"AZ189","v":43.857938067390236},5.15]
[null,null,null,null,null,"ABS","%",{"$f":"H192","v":5.2499999999999995E-3},"$",{"$f":"J192","v":6.9721687344265801E-2},"L",null,null,null,null,null,null,null,null,"ABS","%",{"$f":"V192","v":1.9E-2},"$",{"$f":"X192","v":6.4396392400348512},"L",null,null,null,null,null,null,null,null,"ABS","%",{"$f":"AJ192","v":8.0000000000000002E-3},"$",{"$f":"AL192","v":70.836031640383368},"L",null,null,null,null,null,null,null,null,"ABS","%",{"$f":"AX192","v":2.3E-2},"$",{"$f":"AZ192","v":43.857938067390236},"L"]
[]
[]
[]
[null,null,"INC - WR",{"$f":"'[1]Large PC'!$M$83","v":0.06},"2012-2016","INC","%",{"$f":"1-((1-H198)/(1-H190))","v":3.3174164362905323E-2},"$",{"$f":"INDEX('[1]Large PC'!$H$379:$X$467,MATCH(L199,'[1]Large PC'!$C$379:$C$467,0),MATCH(Inputs!$C$2,'[1]Large PC'!$H$378:$X$378,0))","v":0.41833012406559472},1.33,null,null,null,null,null,null,null,"2012-2016","INC","%",{"$f":"1-((1-V198)/(1-V190))","v":2.0387359836901098E-2},"$",{"$f":"0","v":0},5.15,null,null,null,null,null,null,null,"2012-2016","INC","%",1.4E-2,"$",{"$f":"INDEX('[1]Large PC'!$H$379:$X$467,MATCH(AN199,'[1]Large PC'!$C$379:$C$467,0),MATCH(Inputs!$C$2,'[1]Large PC'!$H$378:$X$378,0))","v":87.568251496242709},5.15,null,null,null,null,null,null,null,"2012-2016","INC","%",{"$f":"1-((1-AX198)/(1-AX190))","v":2.4564994882292801E-2},"$",{"$f":"INDEX('[1]Large PC'!$H$379:$X$467,MATCH(BB199,'[1]Large PC'!$C$379:$C$467,0),MATCH(Inputs!$C$2,'[1]Large PC'!$H$378:$X$378,0))","v":154.95277498661324},5.15]
[null,null,"ABS - WR",{"$f":"D197+D189","v":7.4999999999999997E-2},null,"ABS","%",{"$f":"IF(D198<5%,D198 D198*(3.5/10), D198*(5.1/10))","v":3.8249999999999999E-2},"$",{"$f":"J197","v":0.41833012406559472},"L",null,null,null,null,null,null,null,null,"ABS","%",3.9E-2,"$",{"$f":"X190+X197","v":6.4396392400348512},"L",null,null,null,null,null,null,null,null,"ABS","%",{"$f":"1-(1-AJ190)*(1-AJ197)","v":2.1888000000000019E-2},"$",{"$f":"AL190+AL197","v":158.40428313662608},"L",null,null,null,null,null,null,null,null,"ABS","%",4.7E-2,"$",{"$f":"AZ190+AZ197","v":198.81071305400349},"L"]
[null,null,null,null,null,null,"Mass Reduction\n(MR2) - ($/pound) - TBL",null,null,null,null,"MR2",null,null,null,null,null,null,null,null,"Low Roll Resistance Tires 2\n (ROLL2) - No Learning Applied",null,null,null,null,"ROLL2",null,null,null,null,null,null,null,null,"Secondary Axle Discon. (SAXU/SAXL)\nTBL",null,null,null,null,"SAX",null,null,null,null,null,null,null,null,"Aerodynamic Drag Reduction 2\n (AERO2) - No Learming Applied",null,null,null,null,"AERO2"]
[null,null,null,null,"2017+","INC","%",{"$f":"1-((1-H201)/(1-H193))","v":3.3174164362905323E-2},"$",{"$f":"J197","v":0.41833012406559472},1.33,null,null,null,null,null,null,null,"2017+","INC","%",{"$f":"1-((1-V201)/(1-V193))","v":2.0387359836901098E-2},"$",{"$f":"INDEX('[1]Large PC'!$H$379:$X$467,MATCH(Z199,'[1]Large PC'!$C$379:$C$467,0),MATCH(Inputs!$C$2,'[1]Large PC'!$H$378:$X$378,0))","v":50.173232527734726},5.15,null,null,null,null,null,null,null,"2017+","INC","%",1.2999999999999999E-2,"$",{"$f":"AL197","v":87.568251496242709},5.15,null,null,null,null,null,null,null,"2017+","INC","%",{"$f":"1-((1-AX201)/(1-AX193))","v":2.4564994882292801E-2},"$",{"$f":"AZ197","v":154.95277498661324},5.15]
[null,null,null,null,null,"ABS","%",{"$f":"IF(D198<5%, D198*(3.5/10), D198*(5.1/10))","v":3.8249999999999999E-2},"$",{"$f":"J200","v":0.41833012406559472},"L",null,null,null,null,null,null,null,null,"ABS","%",{"$f":"V198","v":3.9E-2},"$",{"$f":"X193+X200","v":56.612871767769576},"L",null,null,null,null,null,null,null,null,"ABS","%",{"$f":"1-(1-AJ193)*(1-AJ200)","v":2.0896000000000026E-2},"$",{"$f":"AL193+AL200","v":158.40428313662608},"L",null,null,null,null,null,null,null,null,"ABS","%",{"$f":"AX198","v":4.7E-2},"$",{"$f":"AZ193+AZ200","v":198.81071305400349},"L"]
[]
[]
[]
[null,null,"INC - WR",{"$f":"'[1]Large PC'!$M$84","v":2.5000000000000008E-2},"2012-2016","INC","%",{"$f":"1-((1-H206)/(1-H198))","v":1.3257083441642892E-2},"$",{"$f":"INDEX('[1]Large PC'!$H$379:$X$467,MATCH(L207,'[1]Large PC'!$C$379:$C$467,0),MATCH(Inputs!$C$2,'[1]Large PC'!$H$378:$X$378,0))","v":0.81341968568310108},1.33,null,null,null,null,null,null,null,"2012-2016","INC","%",0,"$",0,0]
[null,null,"ABS - WR",{"$f":"D205+D198","v":0.1},null,"ABS","%",{"$f":"IF(D206<5%, D206*(3.5/10), D206*(5.1/10))","v":5.1000000000000004E-2},"$",{"$f":"J205","v":0.81341968568310108},"L",null,null,null,null,null,null,null,null,"ABS","%",{"$f":"1-((1-V198)*(1-V205))","v":3.9000000000000035E-2},"$",{"$f":"X198+X205","v":6.4396392400348512},"L"]
[null,null,null,null,null,null,"Mass Reduction\n(MR3) - ($/pound) - TBL",null,null,null,null,"MR3",null,null,null,null,null,null,null,null,"Low Roll Resistance Tires 3\n (ROLL3) - No Learning Applied"]
[null,null,null,null,"2017+","INC","%",{"$f":"1-((1-H209)/(1-H201))","v":1.3257083441642892E-2},"$",{"$f":"J205","v":0.81341968568310108},1.33,null,null,null,null,null,null,null,"2017+","INC","%",0,"$",{"$f":"X205","v":0},0]
[null,null,null,null,null,"ABS","%",{"$f":"IF(D206<5%, D206*(3.5/10), D206*(5.1/10))","v":5.1000000000000004E-2},"$",{"$f":"J208","v":0.81341968568310108},"L",null,null,null,null,null,null,null,null,"ABS","%",{"$f":"1-((1-V201)*(1-V208))","v":3.9000000000000035E-2},"$",{"$f":"X201+X208","v":56.612871767769576},"L"]
[]
[]
[]
[null,null,"INC - WR",{"$f":"'[1]Large PC'!$M$85","v":0},"2012-2016","INC","%",{"$f":"1-((1-H214)/(1-H206))","v":0},"$",{"$f":"INDEX('[1]Large PC'!$H$379:$X$467,MATCH(L215,'[1]Large PC'!$C$379:$C$467,0),MATCH(Inputs!$C$2,'[1]Large PC'!$H$378:$X$378,0))","v":0},1.33]
[null,null,"ABS - WR",{"$f":"D213+D206","v":0.1},null,"ABS","%",{"$f":"IF(D214<5%, D214*(3.5/10), D214*(5.1/10))","v":5.1000000000000004E-2},"$",{"$f":"J213","v":0},"L"]
[null,null,null,null,null,null,"Mass Reduction\n(MR4) - ($/pound) - TBL",null,null,null,null,"MR4"]
[null,null,null,null,"2017+","INC","%",{"$f":"1-((1-H217)/(1-H209))","v":0},"$",{"$f":"J213","v":0},1.33]
[null,null,null,null,null,"ABS","%",{"$f":"IF(D214<5%, D214*(3.5/10), D214*(5.1/10))","v":5.1000000000000004E-2},"$",{"$f":"J216","v":0},"L"]
[]
[]
[]
[null,null,"INC - WR",{"$f":"'[1]Large PC'!$M$86","v":0},"2012-2016","INC","%",{"$f":"1-((1-H222)/(1-H214))","v":0},"$",{"$f":"INDEX('[1]Large PC'!$H$379:$X$467,MATCH(L223,'[1]Large PC'!$C$379:$C$467,0),MATCH(Inputs!$C$2,'[1]Large PC'!$H$378:$X$378,0))","v":0},1.33]
[null,null,"ABS - WR",{"$f":"D221+D214","v":0.1},null,"ABS","%",{"$f":"IF(D222<5%, D222*(3.5/10), D222*(5.1/10))","v":5.1000000000000004E-2},"$",{"$f":"J221","v":0},"L"]
[null,null,null,null,null,null,"Mass Reduction\n(MR5) - ($/pound) - TBL",null,null,null,null,"MR5"]
[null,null,null,null,"2017+","INC","%",{"$f":"1-((1-H225)/(1-H217))","v":0},"$",{"$f":"J221","v":0},1.33]
[null,null,null,null,null,"ABS","%",{"$f":"IF(D222<5%, D222*(3.5/10), D222*(5.1/10))","v":5.1000000000000004E-2},"$",{"$f":"J224","v":0},"L"]

{"sheet":"Large Perf. PC","index":9,"n_rows":225,"n_cols":173,"rows_kept":225,"cut":false,"hidden":false,"merged":[[5,62,5,66],[5,76,5,80],[5,90,5,94],[6,31,7,31],[6,32,7,32],[6,60,7,60],[6,74,7,74],[6,88,7,88],[0,0,0,172],[1,0,2,0],[3,31,4,31],[3,32,4,32],[3,60,4,60],[3,74,4,74],[3,88,4,88],[23,153,23,157],[24,25,25,25],[24,88,25,88],[24,151,25,151],[13,88,14,88],[15,90,15,94],[16,88,17,88],[21,25,22,25],[21,88,22,88],[21,151,22,151],[29,25,30,25],[29,67,30,67],[29,109,30,109],[29,151,30,151],[31,27,31,31],[31,69,31,73],[31,111,31,115],[23,27,23,31],[23,90,23,94],[39,153,39,157],[40,25,41,25],[40,67,41,67],[40,109,41,109],[40,151,41,151],[31,153,31,157],[32,25,33,25],[32,67,33,67],[32,109,33,109],[32,151,33,151],[37,25,38,25],[37,67,38,67],[37,109,38,109],[37,151,38,151],[45,25,46,25],[45,67,46,67],[45,109,46,109],[45,151,46,151],[47,27,47,31],[47,69,47,73],[47,111,47,115],[39,27,39,31],[39,69,39,73],[39,111,39,115],[47,153,47,157],[48,25,49,25],[48,67,49,67],[48,109,49,109],[48,151,49,151],[53,11,54,11],[53,25,54,25],[53,39,54,39],[53,53,54,53],[53,67,54,67],[53,165,54,165],[55,13,55,17],[55,27,55,31],[55,41,55,45],[55,55,55,59],[55,69,55,73],[55,83,55,87],[55,97,55,101],[55,111,55,115],[55,125,55,129],[53,81,54,81],[53,95,54,95],[53,109,54,109],[53,123,54,123],[53,137,54,137],[53,151,54,151],[55,139,55,143],[55,153,55,157],[55,167,55,171],[56,11,57,11],[56,25,57,25],[56,39,57,39],[56,53,57,53],[56,67,57,67],[56,81,57,81],[56,95,57,95],[56,109,57,109],[56,123,57,123],[56,137,57,137],[56,151,57,151],[56,165,57,165],[61,11,62,11],[61,25,62,25],[61,39,62,39],[61,53,62,53],[61,67,62,67],[61,165,62,165],[63,13,63,17],[63,27,63,31],[63,41,63,45],[63,55,63,59],[63,69,63,73],[63,83,63,87],[63,97,63,101],[63,111,63,115],[63,125,63,129],[61,81,62,81],[61,95,62,95],[61,109,62,109],[61,123,62,123],[61,137,62,137],[61,151,62,151],[63,139,63,143],[63,153,63,157],[63,167,63,171],[64,11,65,11],[64,25,65,25],[64,39,65,39],[64,53,65,53],[64,67,65,67],[64,81,65,81],[64,95,65,95],[64,109,65,109],[64,123,65,123],[64,137,65,137],[64,151,65,151],[64,165,65,165],[69,11,70,11],[69,25,70,25],[69,39,70,39],[69,53,70,53],[69,67,70,67],[69,165,70,165],[71,13,71,17],[71,27,71,31],[71,41,71,45],[71,55,71,59],[71,69,71,73],[71,83,71,87],[71,97,71,101],[71,111,71,115],[71,125,71,129],[69,81,70,81],[69,95,70,95],[69,109,70,109],[69,123,70,123],[69,137,70,137],[69,151,70,151],[71,139,71,143],[71,153,71,157],[77,88,78,88],[77,95,78,95],[77,102,78,102],[77,109,78,109],[71,167,71,171],[72,11,73,11],[72,25,73,25],[72,39,73,39],[72,53,73,53],[72,67,73,67],[72,81,73,81],[72,95,73,95],[72,109,73,109],[72,123,73,123],[72,137,73,137],[72,151,73,151],[72,165,73,165],[77,67,78,67],[77,74,78,74],[79,167,79,171],[80,4,81,4],[80,11,81,11],[80,18,81,18],[80,25,81,25],[80,32,81,32],[80,39,81,39],[77,165,78,165],[80,46,81,46],[80,53,81,53],[80,60,81,60],[80,67,81,67],[80,74,81,74],[80,81,81,81],[80,130,81,130],[80,137,81,137],[80,144,81,144],[77,4,78,4],[77,11,78,11],[77,18,78,18],[77,25,78,25],[77,32,78,32],[80,151,81,151],[80,158,81,158],[77,172,78,172],[79,13,79,17],[79,27,79,31],[79,41,79,45],[79,55,79,59],[79,69,79,73],[79,83,79,87],[79,97,79,101],[79,111,79,115],[77,123,78,123],[77,130,78,130],[77,137,78,137],[77,144,78,144],[77,151,78,151],[77,158,78,158],[77,81,78,81],[79,125,79,129],[79,139,79,143],[79,153,79,157],[77,116,78,116],[77,39,78,39],[77,46,78,46],[77,53,78,53],[77,60,78,60],[80,165,81,165],[80,88,81,88],[80,95,81,95],[80,102,81,102],[80,109,81,109],[80,116,81,116],[80,123,81,123],[85,46,86,46],[85,53,86,53],[85,60,86,60],[85,67,86,67],[85,74,86,74],[85,81,86,81],[85,151,86,151],[85,158,86,158],[85,165,86,165],[85,4,86,4],[85,11,86,11],[85,18,86,18],[85,25,86,25],[85,32,86,32],[85,39,86,39],[85,130,86,130],[85,137,86,137],[85,144,86,144],[85,88,86,88],[85,95,86,95],[85,102,86,102],[85,109,86,109],[85,116,86,116],[85,123,86,123],[87,48,87,52],[87,55,87,59],[87,62,87,66],[87,69,87,73],[87,76,87,80],[87,83,87,87],[87,6,87,10],[87,13,87,17],[87,20,87,24],[87,27,87,31],[87,34,87,38],[87,41,87,45],[87,132,87,136],[87,139,87,143],[87,146,87,150],[87,153,87,157],[87,160,87,164],[87,167,87,171],[87,90,87,94],[87,97,87,101],[87,104,87,108],[87,111,87,115],[87,118,87,122],[87,125,87,129],[88,144,89,144],[88,151,89,151],[88,158,89,158],[88,165,89,165],[88,88,89,88],[88,95,89,95],[88,102,89,102],[88,109,89,109],[88,116,89,116],[88,123,89,123],[97,0,97,38],[100,4,100,11],[100,21,100,23],[100,33,100,38],[102,4,103,4],[102,18,103,18],[102,32,103,32],[88,130,89,130],[88,137,89,137],[88,46,89,46],[88,53,89,53],[88,60,89,60],[88,67,89,67],[88,74,89,74],[88,81,89,81],[88,4,89,4],[88,11,89,11],[88,18,89,18],[88,25,89,25],[88,32,89,32],[88,39,89,39],[110,4,111,4],[110,32,111,32],[112,6,112,10],[112,14,114,16],[112,34,112,38],[113,4,114,4],[113,32,114,32],[104,6,104,10],[104,20,104,24],[104,34,104,38],[105,4,106,4],[105,18,106,18],[105,32,106,32],[110,18,111,18],[112,20,112,24],[113,18,114,18],[126,4,127,4],[126,32,127,32],[128,6,128,10],[128,13,128,17],[128,20,128,24],[128,34,128,38],[118,4,119,4],[118,32,119,32],[120,6,120,10],[120,13,120,17],[120,21,122,23],[120,34,120,38],[121,4,122,4],[121,32,122,32],[136,34,136,38],[137,4,138,4],[137,32,138,32],[142,32,143,32],[144,9,149,10],[144,20,144,24],[144,34,144,38],[145,32,146,32],[129,4,130,4],[129,32,130,32],[134,4,135,4],[134,32,135,32],[136,6,136,10],[136,20,136,24],[185,113,185,116],[185,148,185,151],[188,4,189,4],[188,18,189,18],[188,32,189,32],[188,46,189,46],[150,36,152,37],[152,20,152,24],[160,20,160,24],[168,20,168,24],[176,13,176,17],[176,27,176,31],[190,6,190,10],[190,20,190,24],[190,34,190,38],[190,48,190,52],[190,81,190,85],[191,4,192,4],[191,18,192,18],[191,32,192,32],[191,46,192,46],[191,80,192,80],[198,48,198,52],[199,4,200,4],[199,18,200,18],[199,32,200,32],[199,46,200,46],[200,95,201,95],[196,4,197,4],[196,18,197,18],[196,32,197,32],[196,46,197,46],[198,6,198,10],[198,20,198,24],[198,34,198,38],[200,151,201,151],[204,4,205,4],[204,18,205,18],[204,32,205,32],[206,6,206,10],[206,20,206,24],[200,102,201,102],[200,109,201,109],[200,116,201,116],[200,130,201,130],[200,137,201,137],[200,144,201,144],[215,4,216,4],[220,4,221,4],[222,6,222,10],[223,4,224,4],[207,4,208,4],[207,18,208,18],[207,32,208,32],[209,32,210,32],[212,4,213,4],[214,6,214,10]]}
["Full Engine Technology Decision Tree"]
[]
[null,"START"]
["Gas Engine Type","V8",null,null,null,null,null,null,null,null,null,null,null,null,null,null,null,null,null,null,null,null,null,null,null,null,null,null,null,null,null,null,null,null,null,null,null,null,null,null,null,null,null,null,null,null,null,null,null,null,null,null,null,null,null,null,null,null,null,null,"2012-2016","INC","%",8.0000000000000002E-3,"$",{"$f":"INDEX('[1]Large Perf. PC'!$H$379:$X$467,MATCH(BP6,'[1]Large Perf. PC'!$C$379:$C$467,0),MATCH(Inputs!$C$2,'[1]Large Perf. PC'!$H$378:$X$378,0))","v":3.8637835440209107},10,null,null,null,null,null,null,null,"2012-2016","INC","%",2.7E-2,"$",{"$f":"INDEX('[1]Large Perf. PC'!$H$379:$X$467,MATCH(CD6,'[1]Large Perf. PC'!$C$379:$C$467,0),MATCH(Inputs!$C$2,'[1]Large Perf. PC'!$H$378:$X$378,0))*$B$13","v":116.18444817902287},10,null,null,null,null,null,null,null,"2012-2016","INC","%",{"$f":"1-((1-CN5)/(1-BZ5))","v":0},"$",0,"L"]
["Displacement [L]",5.3,null,null,null,null,null,null,null,null,null,null,null,null,null,null,null,null,null,null,null,null,null,null,null,null,null,null,null,null,null,null,null,null,null,null,null,null,null,null,null,null,null,null,null,null,null,null,null,null,null,null,null,null,null,null,null,null,null,null,null,"ABS","%",{"$f":"BL4","v":8.0000000000000002E-3},"$",{"$f":"BN4","v":3.8637835440209107},"L",null,null,null,null,null,null,null,null,"ABS","%",{"$f":"1-((1-BL5)*(1-BZ4))","v":3.4784000000000037E-2},"$",{"$f":"BN5+CB4","v":120.04823172304377},"L",null,null,null,null,null,null,null,null,"ABS","%",{"$f":"BZ5","v":3.4784000000000037E-2},"$",{"$f":"CB5","v":120.04823172304377},0]
["Turbocharger","None",null,null,null,null,null,null,null,null,null,null,null,null,null,null,null,null,null,null,null,null,null,null,null,null,null,null,null,null,null,null,null,null,null,null,null,null,null,null,null,null,null,null,null,null,null,null,null,null,null,null,null,null,null,null,null,null,null,null,null,null,"Low-Friction Lubricants 1\n(LUB1) - No Learning Applied",null,null,null,null,"LUB1",null,null,null,null,null,null,null,null,"Engine Friction Reduction 1\n(EFR1) - No Learning Applied",null,null,null,null,"EFR1",null,null,null,null,null,null,null,null,"Low-Friction Lub & Engine Friction\nRedux 2 (LUB2_EFR2) - \nNo Learning Applied",null,null,null,null,"LUB2_EFR2"]
["EGR system","None",null,null,null,null,null,null,null,null,null,null,null,null,null,null,null,null,null,null,null,null,null,null,null,null,null,null,null,null,null,null,null,null,null,null,null,null,null,null,null,null,null,null,null,null,null,null,null,null,null,null,null,null,null,null,null,null,null,null,"2017+","INC","%",{"$f":"BL4","v":8.0000000000000002E-3},"$",{"$f":"BN4","v":3.8637835440209107},10,null,null,null,null,null,null,null,"2017+","INC","%",{"$f":"BZ4","v":2.7E-2},"$",{"$f":"CB4","v":116.18444817902287},10,null,null,null,null,null,null,null,"2017+","INC","%",{"$f":"1-((1-CN8)/(1-BZ8))","v":1.3692271988860583E-2},"$",{"$f":"INDEX('[1]Large Perf. PC'!$H$379:$X$467,MATCH(CR6,'[1]Large Perf. PC'!$C$379:$C$467,0),MATCH(Inputs!$C$2,'[1]Large Perf. PC'!$H$378:$X$378,0))*$B$13","v":125.68146365858303},"L"]
["Valvetrain","SOHC/ DOHC/ OHV",null,null,null,null,null,null,null,null,null,null,null,null,null,null,null,null,null,null,null,null,null,null,null,null,null,null,null,null,null,null,null,null,null,null,null,null,null,null,null,null,null,null,null,null,null,null,null,null,null,null,null,null,null,null,null,null,null,null,null,"ABS","%",{"$f":"BL7","v":8.0000000000000002E-3},"$",{"$f":"BN7","v":3.8637835440209107},"L",null,null,null,null,null,null,null,null,"ABS","%",{"$f":"1-((1-BL8)*(1-BZ7))","v":3.4784000000000037E-2},"$",{"$f":"BN8+CB7","v":120.04823172304377},"L",null,null,null,null,null,null,null,null,"ABS","%",4.8000000000000001E-2,"$",{"$f":"CB8+CP7","v":245.72969538162681},33.86]
["After Treatment","3way cat"]
[]
[null,null,null,null,null,null,null,null,null,null,null,null,null,null,null,null,null,null,null,null,null,null,null,null,null,null,null,null,null,null,"SOHC",null,null,null,null,null,null,null,null,null,null,null,null,null,null,null,null,null,null,null,null,null,null,null,null,null,null,null,null,null,null,null,null,null,null,null,null,null,null,null,null,null,null,null,null,null,null,null,null,null,null,null,null,null,null,null,null,null,null,null,null,null,null,"DOHC",null,null,null,null,null,null,null,null,null,null,null,null,null,null,null,null,null,null,null,null,null,null,null,null,null,null,null,null,null,null,null,null,null,null,null,null,null,null,null,null,null,null,null,null,null,null,null,null,null,null,null,null,null,null,null,null,null,null,null,"OHV"]
[]
["Cylinders",{"$f":"IF(B4=\"I4\",4,IF(B4=\"V6\",6,8))","v":8}]
["Cylinder Banks",{"$f":"IF(B4=\"I4\",1,2)","v":2},null,null,null,null,null,null,null,null,null,null,null,null,null,null,null,null,null,null,null,null,null,null,null,null,null,null,null,null,null,null,null,null,null,null,null,null,null,null,null,null,null,null,null,null,null,null,null,null,null,null,null,null,null,null,null,null,null,null,null,null,null,null,null,null,null,null,null,null,null,null,null,null,null,null,null,null,null,null,null,null,null,null,null,null,null,null,"2012-2016","INC","%",{"$f":"CN17","v":2.7310924369747802E-2},"$",{"$f":"INDEX('[1]Large Perf. PC'!$H$379:$X$467,MATCH(CR16,'[1]Large Perf. PC'!$C$379:$C$467,0),MATCH(Inputs!$C$2,'[1]Large Perf. PC'!$H$378:$X$378,0))*$B$14","v":83.099251075055165},10]
[null,null,null,null,null,null,null,null,null,null,null,null,null,null,null,null,null,null,null,null,null,null,null,null,null,null,null,null,null,null,null,null,null,null,null,null,null,null,null,null,null,null,null,null,null,null,null,null,null,null,null,null,null,null,null,null,null,null,null,null,null,null,null,null,null,null,null,null,null,null,null,null,null,null,null,null,null,null,null,null,null,null,null,null,null,null,null,null,null,"ABS","%",{"$f":"1-((1-CN5)*(1-CN14))","v":6.1144941176470513E-2},"$",{"$f":"CP5+CP14","v":203.14748279809893},"L"]
[null,null,null,null,null,null,null,null,null,null,null,null,null,null,null,null,null,null,null,null,null,null,null,null,null,null,null,null,null,null,null,null,null,null,null,null,null,null,null,null,null,null,null,null,null,null,null,null,null,null,null,null,null,null,null,null,null,null,null,null,null,null,null,null,null,null,null,null,null,null,null,null,null,null,null,null,null,null,null,null,null,null,null,null,null,null,null,null,null,null,"Intake Cam Phasing\n(ICP) - TBL",null,null,null,null,"ICP"]
[null,null,null,null,null,null,null,null,null,null,null,null,null,null,null,null,null,null,null,null,null,null,null,null,null,null,null,null,null,null,null,null,null,null,null,null,null,null,null,null,null,null,null,null,null,null,null,null,null,null,null,null,null,null,null,null,null,null,null,null,null,null,null,null,null,null,null,null,null,null,null,null,null,null,null,null,null,null,null,null,null,null,null,null,null,null,null,null,"2017+","INC","%",{"$f":"1-((1-CN18)/(1-CN8))","v":2.7310924369747802E-2},"$",{"$f":"CP14","v":83.099251075055165},10]
[null,null,null,null,null,null,null,null,null,null,null,null,null,null,null,null,null,null,null,null,null,null,null,null,null,null,null,null,null,null,null,null,null,null,null,null,null,null,null,null,null,null,null,null,null,null,null,null,null,null,null,null,null,null,null,null,null,null,null,null,null,null,null,null,null,null,null,null,null,null,null,null,null,null,null,null,null,null,null,null,null,null,null,null,null,null,null,null,null,"ABS","%",7.3999999999999996E-2,"$",{"$f":"CP8+CP17","v":328.82894645668199},"L"]
[]
[]
[]
["Notes: ","(1) All costs shown in $2009",null,null,null,null,null,null,null,null,null,null,null,null,null,null,null,null,null,null,null,null,null,null,null,"2012-2016","INC","%",{"$f":"AC25","v":5.3571428571428492E-2},"$",{"$f":"INDEX('[1]Large Perf. PC'!$H$379:$X$467,MATCH(AG24,'[1]Large Perf. PC'!$C$379:$C$467,0),MATCH(Inputs!$C$2,'[1]Large Perf. PC'!$H$378:$X$378,0))*$B$14","v":83.099251075055165},10,null,null,null,null,null,null,null,null,null,null,null,null,null,null,null,null,null,null,null,null,null,null,null,null,null,null,null,null,null,null,null,null,null,null,null,null,null,null,null,null,null,null,null,null,null,null,null,null,null,null,null,null,null,null,null,null,"2012-2016","INC","%",{"$f":"CN25","v":2.6997840172786169E-2},"$",{"$f":"INDEX('[1]Large Perf. PC'!$H$379:$X$467,MATCH(CR24,'[1]Large Perf. PC'!$C$379:$C$467,0),MATCH(Inputs!$C$2,'[1]Large Perf. PC'!$H$378:$X$378,0))*$B$14","v":77.055707884563404},10]
[null,null,null,null,null,null,null,null,null,null,null,null,null,null,null,null,null,null,null,null,null,null,null,null,null,null,"ABS","%",{"$f":"1-((1-CN5)*(1-AC22))","v":8.6492000000000013E-2},"$",{"$f":"CP5+AE22","v":203.14748279809893},"L",null,null,null,null,null,null,null,null,null,null,null,null,null,null,null,null,null,null,null,null,null,null,null,null,null,null,null,null,null,null,null,null,null,null,null,null,null,null,null,null,null,null,null,null,null,null,null,null,null,null,null,null,null,null,null,null,null,"ABS","%",{"$f":"1-((1-CN15)*(1-CN22))","v":8.6491999999999902E-2},"$",{"$f":"CP15+CP22","v":280.20319068266235},"L"]
[null,null,null,null,null,null,null,null,null,null,null,null,null,null,null,null,null,null,null,null,null,null,null,null,null,null,null,"Coupled Cam Phasing\n(CCPS) - TBL",null,null,null,null,"CCPS",null,null,null,null,null,null,null,null,null,null,null,null,null,null,null,null,null,null,null,null,null,null,null,null,null,null,null,null,null,null,null,null,null,null,null,null,null,null,null,null,null,null,null,null,null,null,null,null,null,null,null,null,null,null,null,null,null,"Dual Cam Phasing\n(DCP) - TBL",null,null,null,null,"DCP"]
[null,null,null,null,null,null,null,null,null,null,null,null,null,null,null,null,null,null,null,null,null,null,null,null,null,"2017+","INC","%",{"$f":"1-((1-AC26)/(1-CN8))","v":5.3571428571428492E-2},"$",{"$f":"AE22","v":83.099251075055165},10,null,null,null,null,null,null,null,null,null,null,null,null,null,null,null,null,null,null,null,null,null,null,null,null,null,null,null,null,null,null,null,null,null,null,null,null,null,null,null,null,null,null,null,null,null,null,null,null,null,null,null,null,null,null,null,null,"2017+","INC","%",{"$f":"1-((1-CN26)/(1-CN18))","v":2.6997840172786169E-2},"$",{"$f":"CP22","v":77.055707884563404},10]
["L",null,null,null,null,null,null,null,null,null,null,null,null,null,null,null,null,null,null,null,null,null,null,null,null,null,"ABS","%",9.9000000000000005E-2,"$",{"$f":"CP8+AE25","v":328.82894645668199},"L",null,null,null,null,null,null,null,null,null,null,null,null,null,null,null,null,null,null,null,null,null,null,null,null,null,null,null,null,null,null,null,null,null,null,null,null,null,null,null,null,null,null,null,null,null,null,null,null,null,null,null,null,null,null,null,null,null,"ABS","%",9.9000000000000005E-2,"$",{"$f":"CP18+CP25","v":405.88465434124538},"L"]
["M"]
["H"]
["VH"]
[null,null,null,null,null,null,null,null,null,null,null,null,null,null,null,null,null,null,null,null,null,null,null,null,null,"2012-2016","INC","%",{"$f":"AC33","v":3.8845726970033301E-2},"$",{"$f":"INDEX('[1]Large Perf. PC'!$H$379:$X$467,MATCH(AG32,'[1]Large Perf. PC'!$C$379:$C$467,0),MATCH(Inputs!$C$2,'[1]Large Perf. PC'!$H$378:$X$378,0))*$B$13","v":283.91568177801889},10,null,null,null,null,null,null,null,null,null,null,null,null,null,null,null,null,null,null,null,null,null,null,null,null,null,null,null,null,null,null,null,null,null,null,null,"2012-2016","INC","%",{"$f":"BS33","v":3.8845726970033301E-2},"$",{"$f":"INDEX('[1]Large Perf. PC'!$H$379:$X$467,MATCH(BW32,'[1]Large Perf. PC'!$C$379:$C$467,0),MATCH(Inputs!$C$2,'[1]Large Perf. PC'!$H$378:$X$378,0))*$B$13","v":283.91568177801889},10,null,null,null,null,null,null,null,null,null,null,null,null,null,null,null,null,null,null,null,null,null,null,null,null,null,null,null,null,null,null,null,null,null,null,null,"2012-2016","INC","%",{"$f":"DI33","v":4.883462819089901E-2},"$",{"$f":"INDEX('[1]Large Perf. PC'!$H$379:$X$467,MATCH(DM32,'[1]Large Perf. PC'!$C$379:$C$467,0),MATCH(Inputs!$C$2,'[1]Large Perf. PC'!$H$378:$X$378,0))*$B$13","v":457.05067711264735},10,null,null,null,null,null,null,null,null,null,null,null,null,null,null,null,null,null,null,null,null,null,null,null,null,null,null,null,null,null,null,null,null,null,null,null,"2012-2016","INC","%",{"$f":"1-((1-EY31)/(1-CN5))","v":3.64850976361768E-2},"$",{"$f":"INDEX('[1]Large Perf. PC'!$H$379:$X$467,MATCH(FC32,'[1]Large Perf. PC'!$C$379:$C$467,0),MATCH(Inputs!$C$2,'[1]Large Perf. PC'!$H$378:$X$378,0))","v":180.85022482302156},10]
[null,null,null,null,null,null,null,null,null,null,null,null,null,null,null,null,null,null,null,null,null,null,null,null,null,null,"ABS","%",{"$f":"1-((1-AC23)*(1-AC30))","v":0.12197788235294116},"$",{"$f":"AE23+AE30","v":487.06316457611786},"L",null,null,null,null,null,null,null,null,null,null,null,null,null,null,null,null,null,null,null,null,null,null,null,null,null,null,null,null,null,null,null,null,null,null,null,null,"ABS","%",{"$f":"1-((1-CN23)*(1-BS30))","v":0.12197788235294105},"$",{"$f":"CP23+BU30","v":564.11887246068125},"L",null,null,null,null,null,null,null,null,null,null,null,null,null,null,null,null,null,null,null,null,null,null,null,null,null,null,null,null,null,null,null,null,null,null,null,null,"ABS","%",{"$f":"1-((1-CN23)*(1-DI30))","v":0.13110282352941172},"$",{"$f":"CP23+DK30","v":737.2538677953097},"L",null,null,null,null,null,null,null,null,null,null,null,null,null,null,null,null,null,null,null,null,null,null,null,null,null,null,null,null,null,null,null,null,null,null,null,null,"ABS","%",7.0000000000000007E-2,"$",{"$f":"CP5+FA30","v":300.89845654606535},"L"]
[null,null,null,null,null,null,null,null,null,null,null,null,null,null,null,null,null,null,null,null,null,null,null,null,null,null,null,"Discrete VVL\n(DVVLS) - TBL",null,null,null,null,"DVVLS",null,null,null,null,null,null,null,null,null,null,null,null,null,null,null,null,null,null,null,null,null,null,null,null,null,null,null,null,null,null,null,null,null,null,null,null,"Discrete VVL\n(DVVLD) - TBL",null,null,null,null,"DVVLD",null,null,null,null,null,null,null,null,null,null,null,null,null,null,null,null,null,null,null,null,null,null,null,null,null,null,null,null,null,null,null,null,null,null,null,null,"Continuous VVL\n(CVVL) - TBL",null,null,null,null,"CVVL",null,null,null,null,null,null,null,null,null,null,null,null,null,null,null,null,null,null,null,null,null,null,null,null,null,null,null,null,null,null,null,null,null,null,null,null,"Cylinder Deactivation\n(DEACO) - TBL",null,null,null,null,"DEACO"]
[null,null,null,null,null,null,null,null,null,null,null,null,null,null,null,null,null,null,null,null,null,null,null,null,null,"2017+","INC","%",{"$f":"1-((1-AC34)/(1-AC26))","v":3.8845726970033301E-2},"$",{"$f":"AE30","v":283.91568177801889},10,null,null,null,null,null,null,null,null,null,null,null,null,null,null,null,null,null,null,null,null,null,null,null,null,null,null,null,null,null,null,null,null,null,null,null,"2017+","INC","%",{"$f":"1-((1-BS34)/(1-CN26))","v":3.8845726970033301E-2},"$",{"$f":"BU30","v":283.91568177801889},10,null,null,null,null,null,null,null,null,null,null,null,null,null,null,null,null,null,null,null,null,null,null,null,null,null,null,null,null,null,null,null,null,null,null,null,"2017+","INC","%",{"$f":"1-((1-DI34)/(1-CN26))","v":4.883462819089901E-2},"$",{"$f":"DK30","v":457.05067711264735},10,null,null,null,null,null,null,null,null,null,null,null,null,null,null,null,null,null,null,null,null,null,null,null,null,null,null,null,null,null,null,null,null,null,null,null,"2017+","INC","%",{"$f":"1-((1-EY34)/(1-CN8))","v":6.3025210084033501E-2},"$",{"$f":"FA30","v":180.85022482302156},10]
[null,"START",null,null,null,null,null,null,null,null,null,null,null,null,null,null,null,null,null,null,null,null,null,null,null,null,"ABS","%",0.13400000000000001,"$",{"$f":"AE26+AE33","v":612.74462823470094},"L",null,null,null,null,null,null,null,null,null,null,null,null,null,null,null,null,null,null,null,null,null,null,null,null,null,null,null,null,null,null,null,null,null,null,null,null,"ABS","%",0.13400000000000001,"$",{"$f":"CP26+BU33","v":689.80033611926433},"L",null,null,null,null,null,null,null,null,null,null,null,null,null,null,null,null,null,null,null,null,null,null,null,null,null,null,null,null,null,null,null,null,null,null,null,null,"ABS","%",0.14299999999999999,"$",{"$f":"CP26+DK33","v":862.93533145389279},"L",null,null,null,null,null,null,null,null,null,null,null,null,null,null,null,null,null,null,null,null,null,null,null,null,null,null,null,null,null,null,null,null,null,null,null,null,"ABS","%",0.108,"$",{"$f":"CP8+FA33","v":426.57992020464837},"L"]
["Gas Engine Type","I4"]
["Displacement [L]",2.2000000000000002]
["Turbocharger","None"]
["EGR system","External",null,null,null,null,null,null,null,null,null,null,null,null,null,null,null,null,null,null,null,null,null,null,null,"2012-2016","INC","%",{"$f":"AC41","v":6.9284064665127154E-3},"$",{"$f":"INDEX('[1]Large Perf. PC'!$H$379:$X$467,MATCH(AG40,'[1]Large Perf. PC'!$C$379:$C$467,0),MATCH(Inputs!$C$2,'[1]Large Perf. PC'!$H$378:$X$378,0))","v":28.176910737789065},10,null,null,null,null,null,null,null,null,null,null,null,null,null,null,null,null,null,null,null,null,null,null,null,null,null,null,null,null,null,null,null,null,null,null,null,"2012-2016","INC","%",{"$f":"BS41","v":6.9284064665127154E-3},"$",{"$f":"INDEX('[1]Large Perf. PC'!$H$379:$X$467,MATCH(BW40,'[1]Large Perf. PC'!$C$379:$C$467,0),MATCH(Inputs!$C$2,'[1]Large Perf. PC'!$H$378:$X$378,0))","v":28.176910737789065},10,null,null,null,null,null,null,null,null,null,null,null,null,null,null,null,null,null,null,null,null,null,null,null,null,null,null,null,null,null,null,null,null,null,null,null,"2012-2016","INC","%",{"$f":"DI41","v":0},"$",0,10,null,null,null,null,null,null,null,null,null,null,null,null,null,null,null,null,null,null,null,null,null,null,null,null,null,null,null,null,null,null,null,null,null,null,null,"2012-2016","INC","%",{"$f":"1-((1-EY39)/(1-EY31))","v":2.1505376344085891E-2},"$",{"$f":"INDEX('[1]Large Perf. PC'!$H$379:$X$467,MATCH(FC40,'[1]Large Perf. PC'!$C$379:$C$467,0),MATCH(Inputs!$C$2,'[1]Large Perf. PC'!$H$378:$X$378,0))*$B$14","v":90.409234428646556},10]
["Valvetrain","SOHC/ DOHC/ OHV",null,null,null,null,null,null,null,null,null,null,null,null,null,null,null,null,null,null,null,null,null,null,null,null,"ABS","%",{"$f":"1-((1-AC31)*(1-AC38))","v":0.12806117647058823},"$",{"$f":"AE31+AE38","v":515.24007531390691},"L",null,null,null,null,null,null,null,null,null,null,null,null,null,null,null,null,null,null,null,null,null,null,null,null,null,null,null,null,null,null,null,null,null,null,null,null,"ABS","%",{"$f":"1-((1-BS31)*(1-BS38))","v":0.12806117647058812},"$",{"$f":"BU31+BU38","v":592.2957831984703},"L",null,null,null,null,null,null,null,null,null,null,null,null,null,null,null,null,null,null,null,null,null,null,null,null,null,null,null,null,null,null,null,null,null,null,null,null,"ABS","%",{"$f":"1-((1-DI31)*(1-DI38))","v":0.13110282352941172},"$",{"$f":"DK31+DK38","v":737.2538677953097},"L",null,null,null,null,null,null,null,null,null,null,null,null,null,null,null,null,null,null,null,null,null,null,null,null,null,null,null,null,null,null,null,null,null,null,null,null,"ABS","%",0.09,"$",{"$f":"FA31+FA38","v":391.30769097471193},"L"]
[null,null,null,null,null,null,null,null,null,null,null,null,null,null,null,null,null,null,null,null,null,null,null,null,null,null,null,"Cylinder Deactivation\n(DEACS) - TBL",null,null,null,null,"DEACS",null,null,null,null,null,null,null,null,null,null,null,null,null,null,null,null,null,null,null,null,null,null,null,null,null,null,null,null,null,null,null,null,null,null,null,null,"Cylinder Deactivation\n(DEACD) - TBL",null,null,null,null,"DEACD",null,null,null,null,null,null,null,null,null,null,null,null,null,null,null,null,null,null,null,null,null,null,null,null,null,null,null,null,null,null,null,null,null,null,null,null,"Cylinder Deactivation\n(DEACD) - TBL",null,null,null,null,null,null,null,null,null,null,null,null,null,null,null,null,null,null,null,null,null,null,null,null,null,null,null,null,null,null,null,null,null,null,null,null,null,null,null,null,null,"Coupled Cam Phasing and DVVL\n(VVA) - TBL",null,null,null,null,"VVA"]
[null,null,null,null,null,null,null,null,null,null,null,null,null,null,null,null,null,null,null,null,null,null,null,null,null,"2017+","INC","%",{"$f":"1-((1-AC42)/(1-AC34))","v":6.9284064665127154E-3},"$",{"$f":"AE38","v":28.176910737789065},10,null,null,null,null,null,null,null,null,null,null,null,null,null,null,null,null,null,null,null,null,null,null,null,null,null,null,null,null,null,null,null,null,null,null,null,"2017+","INC","%",{"$f":"1-((1-BS42)/(1-BS34))","v":6.9284064665127154E-3},"$",{"$f":"BU38","v":28.176910737789065},10,null,null,null,null,null,null,null,null,null,null,null,null,null,null,null,null,null,null,null,null,null,null,null,null,null,null,null,null,null,null,null,null,null,null,null,"2017+","INC","%",{"$f":"1-((1-DI42)/(1-DI34))","v":0},"$",{"$f":"DK38","v":0},10,null,null,null,null,null,null,null,null,null,null,null,null,null,null,null,null,null,null,null,null,null,null,null,null,null,null,null,null,null,null,null,null,null,null,null,"2017+","INC","%",{"$f":"1-((1-EY42)/(1-EY34))","v":3.5874439461883401E-2},"$",{"$f":"FA38","v":90.409234428646556},10]
[null,null,null,null,null,null,null,null,null,null,null,null,null,null,null,null,null,null,null,null,null,null,null,null,null,null,"ABS","%",0.14000000000000001,"$",{"$f":"AE34+AE41","v":640.92153897249},"L",null,null,null,null,null,null,null,null,null,null,null,null,null,null,null,null,null,null,null,null,null,null,null,null,null,null,null,null,null,null,null,null,null,null,null,null,"ABS","%",0.14000000000000001,"$",{"$f":"BU34+BU41","v":717.97724685705339},"L",null,null,null,null,null,null,null,null,null,null,null,null,null,null,null,null,null,null,null,null,null,null,null,null,null,null,null,null,null,null,null,null,null,null,null,null,"ABS","%",{"$f":"DI34","v":0.14299999999999999},"$",{"$f":"DK34+DK41","v":862.93533145389279},"L",null,null,null,null,null,null,null,null,null,null,null,null,null,null,null,null,null,null,null,null,null,null,null,null,null,null,null,null,null,null,null,null,null,null,null,null,"ABS","%",0.14000000000000001,"$",{"$f":"FA34+FA41","v":516.9891546332949},"L"]
[]
[]
[]
[null,null,null,null,null,null,null,null,null,null,null,null,null,null,null,null,null,null,null,null,null,null,null,null,null,"2012-2016","INC","%",{"$f":"AC49","v":1.5116279069767424E-2},"$",{"$f":"INDEX('[1]Large Perf. PC'!$H$379:$X$467,MATCH(AG48,'[1]Large Perf. PC'!$C$379:$C$467,0),MATCH(Inputs!$C$2,'[1]Large Perf. PC'!$H$378:$X$378,0))*$B$13","v":465.89058102156281},10,null,null,null,null,null,null,null,null,null,null,null,null,null,null,null,null,null,null,null,null,null,null,null,null,null,null,null,null,null,null,null,null,null,null,null,"2012-2016","INC","%",{"$f":"BS49","v":1.5116279069767424E-2},"$",{"$f":"INDEX('[1]Large Perf. PC'!$H$379:$X$467,MATCH(BW48,'[1]Large Perf. PC'!$C$379:$C$467,0),MATCH(Inputs!$C$2,'[1]Large Perf. PC'!$H$378:$X$378,0))*$B$13","v":465.89058102156281},10,null,null,null,null,null,null,null,null,null,null,null,null,null,null,null,null,null,null,null,null,null,null,null,null,null,null,null,null,null,null,null,null,null,null,null,"2012-2016","INC","%",{"$f":"DI49","v":1.5169194865811031E-2},"$",{"$f":"INDEX('[1]Large Perf. PC'!$H$379:$X$467,MATCH(DM48,'[1]Large Perf. PC'!$C$379:$C$467,0),MATCH(Inputs!$C$2,'[1]Large Perf. PC'!$H$378:$X$378,0))*$B$13","v":465.89058102156281},10,null,null,null,null,null,null,null,null,null,null,null,null,null,null,null,null,null,null,null,null,null,null,null,null,null,null,null,null,null,null,null,null,null,null,null,"2012-2016","INC","%",{"$f":"1-((1-EY47)/(1-EY39))","v":1.5384615384615441E-2},"$",{"$f":"INDEX('[1]Large Perf. PC'!$H$379:$X$467,MATCH(FC48,'[1]Large Perf. PC'!$C$379:$C$467,0),MATCH(Inputs!$C$2,'[1]Large Perf. PC'!$H$378:$X$378,0))*$B$13","v":465.89058102156281},10]
[null,null,null,null,null,null,null,null,null,null,null,null,null,null,null,null,null,null,null,null,null,null,null,null,null,null,"ABS","%",{"$f":"1-((1-AC39)*(1-AC46))","v":0.14124164705882347},"$",{"$f":"AE39+AE46","v":981.13065633546967},"L",null,null,null,null,null,null,null,null,null,null,null,null,null,null,null,null,null,null,null,null,null,null,null,null,null,null,null,null,null,null,null,null,null,null,null,null,"ABS","%",{"$f":"1-((1-BS39)*(1-BS46))","v":0.14124164705882336},"$",{"$f":"BU39+BU46","v":1058.1863642200331},"L",null,null,null,null,null,null,null,null,null,null,null,null,null,null,null,null,null,null,null,null,null,null,null,null,null,null,null,null,null,null,null,null,null,null,null,null,"ABS","%",{"$f":"1-((1-DI39)*(1-DI46))","v":0.14428329411764707},"$",{"$f":"DK39+DK46","v":1203.1444488168725},"L",null,null,null,null,null,null,null,null,null,null,null,null,null,null,null,null,null,null,null,null,null,null,null,null,null,null,null,null,null,null,null,null,null,null,null,null,"ABS","%",0.104,"$",{"$f":"FA39+FA46","v":857.1982719962748},"L"]
[null,null,null,null,null,null,null,null,null,null,null,null,null,null,null,null,null,null,null,null,null,null,null,null,null,null,null,"Stoichiometric GDI\n(SGDI) - TBL",null,null,null,null,"SGDI",null,null,null,null,null,null,null,null,null,null,null,null,null,null,null,null,null,null,null,null,null,null,null,null,null,null,null,null,null,null,null,null,null,null,null,null,"Stoichiometric GDI\n(SGDI) - TBL",null,null,null,null,"SGDI",null,null,null,null,null,null,null,null,null,null,null,null,null,null,null,null,null,null,null,null,null,null,null,null,null,null,null,null,null,null,null,null,null,null,null,null,"Stoichiometric GDI\n(SGDI) - TBL",null,null,null,null,"SGDI",null,null,null,null,null,null,null,null,null,null,null,null,null,null,null,null,null,null,null,null,null,null,null,null,null,null,null,null,null,null,null,null,null,null,null,null,"Stoichiometric GDI\n(SGDIO) - TBL",null,null,null,null,"SGDIO"]
[null,null,null,null,null,null,null,null,null,null,null,null,null,null,null,null,null,null,null,null,null,null,null,null,null,"2017+","INC","%",{"$f":"1-((1-AC50)/(1-AC42))","v":1.5116279069767424E-2},"$",{"$f":"AE46","v":465.89058102156281},10,null,null,null,null,null,null,null,null,null,null,null,null,null,null,null,null,null,null,null,null,null,null,null,null,null,null,null,null,null,null,null,null,null,null,null,"2017+","INC","%",{"$f":"1-((1-BS50)/(1-BS42))","v":1.5116279069767424E-2},"$",{"$f":"BU46","v":465.89058102156281},10,null,null,null,null,null,null,null,null,null,null,null,null,null,null,null,null,null,null,null,null,null,null,null,null,null,null,null,null,null,null,null,null,null,null,null,"2017+","INC","%",{"$f":"1-((1-DI50)/(1-DI42))","v":1.5169194865811031E-2},"$",{"$f":"DK46","v":465.89058102156281},10,null,null,null,null,null,null,null,null,null,null,null,null,null,null,null,null,null,null,null,null,null,null,null,null,null,null,null,null,null,null,null,null,null,null,null,"2017+","INC","%",{"$f":"1-((1-EY50)/(1-EY42))","v":1.5116279069767424E-2},"$",{"$f":"FA46","v":465.89058102156281},10]
[null,null,null,null,null,null,null,null,null,null,null,null,null,null,null,null,null,null,null,null,null,null,null,"From SOHC Path",null,null,"ABS","%",0.153,"$",{"$f":"AE42+AE49","v":1106.8121199940529},"L",null,null,null,null,null,null,null,null,null,null,null,null,null,null,null,null,null,null,null,null,null,null,null,null,null,null,null,null,null,null,null,null,null,"From DOHC w/ DVVLD Path",null,null,"ABS","%",0.153,"$",{"$f":"BU42+BU49","v":1183.8678278786163},"L",null,null,null,null,null,null,null,null,null,null,null,null,null,null,null,null,null,null,null,null,null,null,null,null,null,null,null,null,null,null,null,null,null,"From DOHC w/ CVVL Path",null,null,"ABS","%",0.156,"$",{"$f":"DK42+DK49","v":1328.8259124754557},"L",null,null,null,null,null,null,null,null,null,null,null,null,null,null,null,null,null,null,null,null,null,null,null,null,null,null,null,null,null,null,null,null,null,"From OHV w/ CDOHC Path",null,null,"ABS","%",0.153,"$",{"$f":"FA42+FA49","v":982.87973565485777},"L"]
[]
[]
[null,null,null,null,null,null,null,null,null,null,null,null,null,null,null,null,null,null,null,null,null,null,null,null,null,null,null,null,null,null,null,null,null,null,null,null,null,null,null,null,null,null,null,null,null,null,null,null,null,null,null,null,null,null,null,null,{"$f":"BE54-$O$54","v":0},null,{"$f":"BG54-$Q$54","v":-10.350943204492637},null,null,null,null,null,null,null,null,null,null,null,{"$f":"BS54-$AC$54","v":0},null,{"$f":"BU54-$AE$54","v":-137.49257962890812},null,null,null,null,null,null,null,null,null,null,null,{"$f":"CG54-$AQ$54","v":0},null,{"$f":"CI54-$AS$54","v":-151.06222004175237},null,null,null,null,null,null,null,null,null,null,null,{"$f":"CU54-$O$54","v":-1.1457464955399788E-2},null,{"$f":"CW54-$Q$54","v":-10.350943204492637},null,null,null,null,null,null,null,null,null,null,null,{"$f":"DI54-$AC$54","v":-3.2775281590446959E-3},null,{"$f":"DK54-$AE$54","v":-137.49257962890812},null,null,null,null,null,null,null,null,null,null,null,{"$f":"DW54-$AQ$54","v":-3.2775281590446959E-3},null,{"$f":"DY54-$AS$54","v":-151.06222004175237},null,null,null,null,null,null,null,null,null,null,null,{"$f":"EK54-$O$54","v":6.6229992464605369E-2},null,{"$f":"EM54-$Q$54","v":-420.06358424991754},null,null,null,null,null,null,null,null,null,null,null,{"$f":"EY54-$AC$54","v":0},null,{"$f":"FA54-$AE$54","v":562.75413569090051},null,null,null,null,null,null,null,null,null,null,null,{"$f":"FM54-$AQ$54","v":0},null,{"$f":"FO54-$AS$54","v":523.98042111588995}]
[null,null,null,null,null,null,null,null,null,null,null,"2012-2016","INC","%",{"$f":"O57","v":8.6102014718432929E-2},"$",{"$f":"INDEX('[1]Large Perf. PC'!$H$379:$X$467,MATCH(M56,'[1]Large Perf. PC'!$C$379:$C$467,0),MATCH(Inputs!$C$2,'[1]Large Perf. PC'!$H$378:$X$378,0))\n+INDEX('[1]Large Perf. PC'!$H$379:$X$467,MATCH(S56,'[1]Large Perf. PC'!$C$379:$C$467,0),MATCH(Inputs!$C$2,'[1]Large Perf. PC'!$H$378:$X$378,0))","v":420.06358424991754},10,null,null,null,null,null,null,null,"2012-2016","INC","%",{"$f":"AC57","v":7.7922077922077837E-2},"$",{"$f":"INDEX('[1]Large Perf. PC'!$H$379:$X$467,MATCH(AA56,'[1]Large Perf. PC'!$C$379:$C$467,0),MATCH(Inputs!$C$2,'[1]Large Perf. PC'!$H$378:$X$378,0))\n+INDEX('[1]Large Perf. PC'!$H$379:$X$467,MATCH(AG56,'[1]Large Perf. PC'!$C$379:$C$467,0),MATCH(Inputs!$C$2,'[1]Large Perf. PC'!$H$378:$X$378,0))","v":-29.267884297748708},10,null,null,null,null,null,null,null,"2012-2016","INC","%",{"$f":"AQ57","v":7.7922077922077837E-2},"$",{"$f":"INDEX('[1]Large Perf. PC'!$H$379:$X$467,MATCH(AO56,'[1]Large Perf. PC'!$C$379:$C$467,0),MATCH(Inputs!$C$2,'[1]Large Perf. PC'!$H$378:$X$378,0))\n+INDEX('[1]Large Perf. PC'!$H$379:$X$467,MATCH(AU56,'[1]Large Perf. PC'!$C$379:$C$467,0),MATCH(Inputs!$C$2,'[1]Large Perf. PC'!$H$378:$X$378,0))","v":523.48084050429873},10,null,null,null,null,null,null,null,"2012-2016","INC","%",{"$f":"BE57","v":8.6102014718432929E-2},"$",{"$f":"INDEX('[1]Subcompact PC'!$H$530:$X$541,MATCH(BC56,'[1]Subcompact PC'!$C$530:$C$541,0),MATCH(Inputs!$C$2,'[1]Subcompact PC'!$H$529:$X$529,0))\n+INDEX('[1]Subcompact PC'!$H$530:$X$541,MATCH(BI56,'[1]Subcompact PC'!$C$530:$C$541,0),MATCH(Inputs!$C$2,'[1]Subcompact PC'!$H$529:$X$529,0))","v":409.7126410454249},10,null,null,null,null,null,null,null,"2012-2016","INC","%",{"$f":"BS57","v":7.7922077922077837E-2},"$",{"$f":"INDEX('[1]Subcompact PC'!$H$530:$X$541,MATCH(BQ56,'[1]Subcompact PC'!$C$530:$C$541,0),MATCH(Inputs!$C$2,'[1]Subcompact PC'!$H$529:$X$529,0))\n+INDEX('[1]Subcompact PC'!$H$530:$X$541,MATCH(BW56,'[1]Subcompact PC'!$C$530:$C$541,0),MATCH(Inputs!$C$2,'[1]Subcompact PC'!$H$529:$X$529,0))","v":-166.76046392665683},10,null,null,null,null,null,null,null,"2012-2016","INC","%",{"$f":"CG57","v":7.7922077922077837E-2},"$",{"$f":"INDEX('[1]Subcompact PC'!$H$530:$X$541,MATCH(CE56,'[1]Subcompact PC'!$C$530:$C$541,0),MATCH(Inputs!$C$2,'[1]Subcompact PC'!$H$529:$X$529,0))\n+INDEX('[1]Subcompact PC'!$H$530:$X$541,MATCH(CK56,'[1]Subcompact PC'!$C$530:$C$541,0),MATCH(Inputs!$C$2,'[1]Subcompact PC'!$H$529:$X$529,0))","v":372.41862046254636},10,null,null,null,null,null,null,null,"2012-2016","INC","%",{"$f":"CU57","v":7.4644549763033141E-2},"$",{"$f":"INDEX('[1]Subcompact PC'!$H$530:$X$541,MATCH(CS56,'[1]Subcompact PC'!$C$530:$C$541,0),MATCH(Inputs!$C$2,'[1]Subcompact PC'!$H$529:$X$529,0))\n+INDEX('[1]Subcompact PC'!$H$530:$X$541,MATCH(CY56,'[1]Subcompact PC'!$C$530:$C$541,0),MATCH(Inputs!$C$2,'[1]Subcompact PC'!$H$529:$X$529,0))","v":409.7126410454249},10,null,null,null,null,null,null,null,"2012-2016","INC","%",{"$f":"DI57","v":7.4644549763033141E-2},"$",{"$f":"INDEX('[1]Subcompact PC'!$H$530:$X$541,MATCH(DG56,'[1]Subcompact PC'!$C$530:$C$541,0),MATCH(Inputs!$C$2,'[1]Subcompact PC'!$H$529:$X$529,0))\n+INDEX('[1]Subcompact PC'!$H$530:$X$541,MATCH(DM56,'[1]Subcompact PC'!$C$530:$C$541,0),MATCH(Inputs!$C$2,'[1]Subcompact PC'!$H$529:$X$529,0))","v":-166.76046392665683},10,null,null,null,null,null,null,null,"2012-2016","INC","%",{"$f":"DW57","v":7.4644549763033141E-2},"$",{"$f":"INDEX('[1]Subcompact PC'!$H$530:$X$541,MATCH(DU56,'[1]Subcompact PC'!$C$530:$C$541,0),MATCH(Inputs!$C$2,'[1]Subcompact PC'!$H$529:$X$529,0))\n+INDEX('[1]Subcompact PC'!$H$530:$X$541,MATCH(EA56,'[1]Subcompact PC'!$C$530:$C$541,0),MATCH(Inputs!$C$2,'[1]Subcompact PC'!$H$529:$X$529,0))","v":372.41862046254636},10,null,null,null,null,null,null,null,"2012-2016","INC","%",{"$f":"EK57","v":0.1523320071830383},"$",{"$f":"INDEX('[1]Subcompact PC'!$H$530:$X$541,MATCH(EI56,'[1]Subcompact PC'!$C$530:$C$541,0),MATCH(Inputs!$C$2,'[1]Subcompact PC'!$H$529:$X$529,0))\n+INDEX('[1]Subcompact PC'!$H$530:$X$541,MATCH(EO56,'[1]Subcompact PC'!$C$530:$C$541,0),MATCH(Inputs!$C$2,'[1]Subcompact PC'!$H$529:$X$529,0))","v":0},10,null,null,null,null,null,null,null,"2012-2016","INC","%",{"$f":"EY57","v":7.7922077922077837E-2},"$",{"$f":"INDEX('[1]Subcompact PC'!$H$530:$X$541,MATCH(EW56,'[1]Subcompact PC'!$C$530:$C$541,0),MATCH(Inputs!$C$2,'[1]Subcompact PC'!$H$529:$X$529,0))\n+INDEX('[1]Subcompact PC'!$H$530:$X$541,MATCH(FC56,'[1]Subcompact PC'!$C$530:$C$541,0),MATCH(Inputs!$C$2,'[1]Subcompact PC'!$H$529:$X$529,0))","v":533.48625139315186},10,{"$f":"INDEX('[1]Subcompact PC'!$H$530:$X$541,MATCH(EW56,'[1]Subcompact PC'!$C$530:$C$541,0),MATCH(Inputs!$C$2,'[1]Subcompact PC'!$H$529:$X$529,0))","v":229.17561542502995},{"$f":"MATCH(EW56,'[1]Subcompact PC'!$C$530:$C$541,0)","v":9},null,null,null,null,null,"2012-2016","INC","%",{"$f":"FM57","v":7.7922077922077837E-2},"$",{"$f":"INDEX('[1]Subcompact PC'!$H$530:$X$541,MATCH(FK56,'[1]Subcompact PC'!$C$530:$C$541,0),MATCH(Inputs!$C$2,'[1]Subcompact PC'!$H$529:$X$529,0))\n+INDEX('[1]Subcompact PC'!$H$530:$X$541,MATCH(FQ56,'[1]Subcompact PC'!$C$530:$C$541,0),MATCH(Inputs!$C$2,'[1]Subcompact PC'!$H$529:$X$529,0))","v":1047.4612616201887},10]
[null,null,null,null,null,null,null,null,null,null,null,null,"ABS","%",{"$f":"1-((1-AC47+AC38)*(1-O54))","v":0.20885061469238408},"$",{"$f":"AE47+Q54","v":1401.1942405853872},"L",null,null,null,null,null,null,null,null,"ABS","%",{"$f":"1-((1-AC47)*(1-AC54))","v":0.20815788235294108},"$",{"$f":"AE47+AE54","v":951.86277203772102},"L",null,null,null,null,null,null,null,null,"ABS","%",{"$f":"1-((1-AC47)*(1-AQ54))","v":0.20815788235294108},"$",{"$f":"AE47+AS54","v":1504.6114968397683},"L",null,null,null,null,null,null,null,null,"ABS","%",{"$f":"1-((1-BS47)*(1-BE54))","v":0.21518247140334179},"$",{"$f":"BU47+BG54","v":1467.8990052654581},"L",null,null,null,null,null,null,null,null,"ABS","%",{"$f":"1-((1-BS47)*(1-BS54))","v":0.20815788235294097},"$",{"$f":"BU47+BU54","v":891.42590029337623},"L",null,null,null,null,null,null,null,null,"ABS","%",{"$f":"1-((1-BS47)*(1-CG54))","v":0.20815788235294097},"$",{"$f":"BU47+CI54","v":1430.6049846825795},"L",null,null,null,null,null,null,null,null,"ABS","%",{"$f":"1-((1-DI47)*(1-CU54))","v":0.20815788235294119},"$",{"$f":"DK47+CW54","v":1612.8570898622975},"L",null,null,null,null,null,null,null,null,"ABS","%",{"$f":"1-((1-DI47)*(1-DI54))","v":0.20815788235294119},"$",{"$f":"DK47+DK54","v":1036.3839848902157},"L",null,null,null,null,null,null,null,null,"ABS","%",{"$f":"1-((1-DI47)*(1-DW54))","v":0.20815788235294119},"$",{"$f":"DK47+DY54","v":1575.5630692794189},"L",null,null,null,null,null,null,null,null,"ABS","%",{"$f":"1-((1-EY47)*(1-EK54))","v":0.24048947843600232},"$",{"$f":"FA47+EM54","v":857.1982719962748},"L",null,null,null,null,null,null,null,null,"ABS","%",{"$f":"1-((1-EY47)*(1-EY54))","v":0.17381818181818176},"$",{"$f":"FA47+FA54","v":1390.6845233894267},"L",null,null,null,null,null,null,null,null,"ABS","%",{"$f":"1-((1-EY47)*(1-FM54))","v":0.17381818181818176},"$",{"$f":"FA47+FO54","v":1904.6595336164635},"L"]
[null,"INTERMEDIATE",null,null,null,null,null,null,null,null,null,null,"TRBDS1_SD_TB","Turbocharging and Downsizing 1 (TRBDS1_SD) - TBL",null,null,null,null,"TRBDS1_SD_DS",null,null,null,null,null,null,null,"TRBDS1_MD_TB","Turbocharging and Downsizing 1 (TRBDS1_MD) - TBL",null,null,null,null,"TRBDS1_MD_DS",null,null,null,null,null,null,null,"TRBDS1_LD_TB","Turbocharging and Downsizing 1\n(TRBDS1_LD) - TBL",null,null,null,null,"TRBDS1_LD_DS",null,null,null,null,null,null,null,"TRBDS1_SD_TB_D",{"$f":"$N$56","v":"Turbocharging and Downsizing 1 (TRBDS1_SD) - TBL"},null,null,null,null,"TRBDS1_SD_DS_D",null,null,null,null,null,null,null,"TRBDS1_MD_TB_D","Turbocharging and Downsizing 1 (TRBDS1_MD) - TBL",null,null,null,null,"TRBDS1_MD_DS_D",null,null,null,null,null,null,null,"TRBDS1_LD_TB_D",{"$f":"$AP$56","v":"Turbocharging and Downsizing 1\n(TRBDS1_LD) - TBL"},null,null,null,null,"TRBDS1_LD_DS_D",null,null,null,null,null,null,null,"TRBDS1_SD_TB_D",{"$f":"$N$56","v":"Turbocharging and Downsizing 1 (TRBDS1_SD) - TBL"},null,null,null,null,"TRBDS1_SD_DS_D",null,null,null,null,null,null,null,"TRBDS1_MD_TB_D",{"$f":"$AB$56","v":"Turbocharging and Downsizing 1 (TRBDS1_MD) - TBL"},null,null,null,null,"TRBDS1_MD_DS_D",null,null,null,null,null,null,null,"TRBDS1_LD_TB_D",{"$f":"$AP$56","v":"Turbocharging and Downsizing 1\n(TRBDS1_LD) - TBL"},null,null,null,null,"TRBDS1_LD_DS_D",null,null,null,null,null,null,null,"TRBDS1_SD_TB_O",{"$f":"$N$56","v":"Turbocharging and Downsizing 1 (TRBDS1_SD) - TBL"},null,null,null,null,"TRBDS1_SD_DS_O",null,null,null,null,null,null,null,"TRBDS1_MD_TB_O",{"$f":"$AB$56","v":"Turbocharging and Downsizing 1 (TRBDS1_MD) - TBL"},null,null,null,null,"TRBDS1_MD_DS_O",null,null,null,null,null,null,null,"TRBDS1_LD_TB_O",{"$f":"$AP$56","v":"Turbocharging and Downsizing 1\n(TRBDS1_LD) - TBL"},null,null,null,null,"TRBDS1_LD_DS_O"]
["Gas Engine Type","I4",null,null,null,null,null,null,null,null,null,"2017+","INC","%",{"$f":"1-((1-O58-AC41)/(1-AC50))","v":8.6102014718432929E-2},"$",{"$f":"Q54","v":420.06358424991754},10,null,null,null,null,null,null,null,"2017+","INC","%",{"$f":"1-((1-AC58)/(1-AC50))","v":7.7922077922077837E-2},"$",{"$f":"AE54","v":-29.267884297748708},10,null,null,null,null,null,null,null,"2017+","INC","%",{"$f":"1-((1-AQ58)/(1-AC50))","v":7.7922077922077837E-2},"$",{"$f":"AS54","v":523.48084050429873},10,null,null,null,null,null,null,null,"2017+","INC","%",{"$f":"1-((1-BE58-BS41)/(1-BS50))","v":8.6102014718432929E-2},"$",{"$f":"BG54","v":409.7126410454249},10,null,null,null,null,null,null,null,"2017+","INC","%",{"$f":"1-((1-BS58)/(1-BS50))","v":7.7922077922077837E-2},"$",{"$f":"BU54","v":-166.76046392665683},10,null,null,null,null,null,null,null,"2017+","INC","%",{"$f":"1-((1-CG58)/(1-BS50))","v":7.7922077922077837E-2},"$",{"$f":"CI54","v":372.41862046254636},10,null,null,null,null,null,null,null,"2017+","INC","%",{"$f":"1-((1-CU58-DI41)/(1-DI50))","v":7.4644549763033141E-2},"$",{"$f":"CW54","v":409.7126410454249},10,null,null,null,null,null,null,null,"2017+","INC","%",{"$f":"1-((1-DI58)/(1-DI50))","v":7.4644549763033141E-2},"$",{"$f":"DK54","v":-166.76046392665683},10,null,null,null,null,null,null,null,"2017+","INC","%",{"$f":"1-((1-DW58)/(1-DI50))","v":7.4644549763033141E-2},"$",{"$f":"DY54","v":372.41862046254636},10,null,null,null,null,null,null,null,"2017+","INC","%",{"$f":"1-((1-EK58-EY33)/(1-EY50))","v":0.1523320071830383},"$",{"$f":"EM54","v":0},10,null,null,null,null,null,null,null,"2017+","INC","%",{"$f":"1-((1-EY58)/(1-EY50))","v":7.7922077922077837E-2},"$",{"$f":"FA54","v":533.48625139315186},10,null,null,null,null,null,null,null,"2017+","INC","%",{"$f":"1-((1-FM58)/(1-EY50))","v":7.7922077922077837E-2},"$",{"$f":"FO54","v":1047.4612616201887},10]
["Displacement [L]","1.5 to 2.0",null,null,null,null,null,null,null,null,null,null,"ABS","%",0.219,"$",{"$f":"AE50+Q57","v":1526.8757042439704},"L",null,null,null,null,null,null,null,null,"ABS","%",{"$f":"$O58","v":0.219},"$",{"$f":"AE50+AE57","v":1077.5442356963042},"L",null,null,null,null,null,null,null,null,"ABS","%",{"$f":"$O58","v":0.219},"$",{"$f":"AE50+AS57","v":1630.2929604983515},"L",null,null,null,null,null,null,null,null,"ABS","%",{"$f":"$O58","v":0.219},"$",{"$f":"BU50+BG57","v":1593.5804689240413},"L",null,null,null,null,null,null,null,null,"ABS","%",{"$f":"$O58","v":0.219},"$",{"$f":"BU50+BU57","v":1017.1073639519594},"L",null,null,null,null,null,null,null,null,"ABS","%",{"$f":"$AQ58","v":0.219},"$",{"$f":"BU50+CI57","v":1556.2864483411627},"L",null,null,null,null,null,null,null,null,"ABS","%",{"$f":"$O58","v":0.219},"$",{"$f":"DK50+CW57","v":1738.5385535208807},"L",null,null,null,null,null,null,null,null,"ABS","%",{"$f":"$AC58","v":0.219},"$",{"$f":"DK50+DK57","v":1162.0654485487989},"L",null,null,null,null,null,null,null,null,"ABS","%",{"$f":"$AQ58","v":0.219},"$",{"$f":"DK50+DY57","v":1701.2445329380021},"L",null,null,null,null,null,null,null,null,"ABS","%",{"$f":"$O58","v":0.219},"$",{"$f":"FA50+EM57","v":982.87973565485777},"L",null,null,null,null,null,null,null,null,"ABS","%",{"$f":"$AC58","v":0.219},"$",{"$f":"FA50+FA57","v":1516.3659870480096},"L",null,null,null,null,null,null,null,null,"ABS","%",{"$f":"$AQ58","v":0.219},"$",{"$f":"FA50+FO57","v":2030.3409972750464},"L"]
["Turbocharger","FGT",null,null,null,null,null,null,null,null,null,null,null,null,null,null,null,null,null,null,null,null,null,null,null,null,null,null,null,null,null,null,null,null,null,null,null,null,null,null,null,null,null,null,null,null,null,null,null,null,null,null,null,null,null,null,{"$f":"BE57-$O$57","v":0},null,{"$f":"BG57-$Q$57","v":-10.350943204492637},null,null,null,null,null,null,null,null,null,null,null,{"$f":"BS57-$AC$57","v":0},null,{"$f":"BU57-$AE$57","v":-137.49257962890812},null,null,null,null,null,null,null,null,null,null,null,{"$f":"CG57-$AQ$57","v":0},null,{"$f":"CI57-$AS$57","v":-151.06222004175237},null,null,null,null,null,null,null,null,null,null,null,{"$f":"CU57-$O$57","v":-1.1457464955399788E-2},null,{"$f":"CW57-$Q$57","v":-10.350943204492637},null,null,null,null,null,null,null,null,null,null,null,{"$f":"DI57-$AC$57","v":-3.2775281590446959E-3},null,{"$f":"DK57-$AE$57","v":-137.49257962890812},null,null,null,null,null,null,null,null,null,null,null,{"$f":"DW57-$AQ$57","v":-3.2775281590446959E-3},null,{"$f":"DY57-$AS$57","v":-151.06222004175237},null,null,null,null,null,null,null,null,null,null,null,{"$f":"EK57-$O$57","v":6.6229992464605369E-2},null,{"$f":"EM57-$Q$57","v":-420.06358424991754},null,null,null,null,null,null,null,null,null,null,null,{"$f":"EY57-$AC$57","v":0},null,{"$f":"FA57-$AE$57","v":562.75413569090051},null,null,null,null,null,null,null,null,null,null,null,{"$f":"FM57-$AQ$57","v":0},null,{"$f":"FO57-$AS$57","v":523.98042111588995}]
["EGR system","External"]
["Valvetrain","DOHC"]
["After Treatment","3way cat",null,null,null,null,null,null,null,null,null,"2012-2016","INC","%",{"$f":"1-((1-O63)/(1-O55))","v":0},"$",0,0,null,null,null,null,null,null,null,"2012-2016","INC","%",{"$f":"1-((1-AC63)/(1-AC55))","v":0},"$",0,0,null,null,null,null,null,null,null,"2012-2016","INC","%",{"$f":"1-((1-AQ63)/(1-AQ55))","v":0},"$",0,0,null,null,null,null,null,null,null,"2012-2016","INC","%",{"$f":"1-((1-BE63)/(1-BE55))","v":0},"$",{"$f":"$Q$62","v":0},{"$f":"$R$62","v":0},null,null,null,null,null,null,null,"2012-2016","INC","%",{"$f":"1-((1-BS63)/(1-BS55))","v":0},"$",{"$f":"$AE$62","v":0},{"$f":"$AF$62","v":0},null,null,null,null,null,null,null,"2012-2016","INC","%",{"$f":"1-((1-CG63)/(1-CG55))","v":0},"$",{"$f":"$AS$62","v":0},{"$f":"$AT$62","v":0},null,null,null,null,null,null,null,"2012-2016","INC","%",{"$f":"1-((1-CU63)/(1-CU55))","v":0},"$",{"$f":"$Q$62","v":0},{"$f":"$R$62","v":0},null,null,null,null,null,null,null,"2012-2016","INC","%",{"$f":"1-((1-DI63)/(1-DI55))","v":0},"$",{"$f":"$AE$62","v":0},{"$f":"$AF$62","v":0},null,null,null,null,null,null,null,"2012-2016","INC","%",{"$f":"1-((1-DW63)/(1-DW55))","v":0},"$",{"$f":"$AS$62","v":0},{"$f":"$AT$62","v":0},null,null,null,null,null,null,null,"2012-2016","INC","%",{"$f":"$O$62","v":0},"$",{"$f":"$Q$62","v":0},{"$f":"$R$62","v":0},null,null,null,null,null,null,null,"2012-2016","INC","%",{"$f":"1-((1-EY63)/(1-EY55))","v":0},"$",{"$f":"$AE$62","v":0},{"$f":"$AF$62","v":0},null,null,null,null,null,null,null,"2012-2016","INC","%",{"$f":"1-((1-FM63)/(1-FM55))","v":0},"$",{"$f":"$AS$62","v":0},{"$f":"$AT$62","v":0}]
[null,null,null,null,null,null,null,null,null,null,null,null,"ABS","%",{"$f":"O55","v":0.20885061469238408},"$",{"$f":"Q55+Q62","v":1401.1942405853872},"L",null,null,null,null,null,null,null,null,"ABS","%",{"$f":"AC55","v":0.20815788235294108},"$",{"$f":"AE55+AE62","v":951.86277203772102},"L",null,null,null,null,null,null,null,null,"ABS","%",{"$f":"AQ55","v":0.20815788235294108},"$",{"$f":"AS55+AS62","v":1504.6114968397683},"L",null,null,null,null,null,null,null,null,"ABS","%",{"$f":"BE55","v":0.21518247140334179},"$",{"$f":"BG55+BG62","v":1467.8990052654581},"L",null,null,null,null,null,null,null,null,"ABS","%",{"$f":"BS55","v":0.20815788235294097},"$",{"$f":"BU55+BU62","v":891.42590029337623},"L",null,null,null,null,null,null,null,null,"ABS","%",{"$f":"CG55","v":0.20815788235294097},"$",{"$f":"CI55+CI62","v":1430.6049846825795},"L",null,null,null,null,null,null,null,null,"ABS","%",{"$f":"CU55","v":0.20815788235294119},"$",{"$f":"CW55+CW62","v":1612.8570898622975},"L",null,null,null,null,null,null,null,null,"ABS","%",{"$f":"DI55","v":0.20815788235294119},"$",{"$f":"DK55+DK62","v":1036.3839848902157},"L",null,null,null,null,null,null,null,null,"ABS","%",{"$f":"DW55","v":0.20815788235294119},"$",{"$f":"DY55+DY62","v":1575.5630692794189},"L",null,null,null,null,null,null,null,null,"ABS","%",{"$f":"1-((1-EK55)*(1-EK62))","v":0.24048947843600232},"$",{"$f":"EM55+EM62","v":857.1982719962748},"L",null,null,null,null,null,null,null,null,"ABS","%",{"$f":"EY55","v":0.17381818181818176},"$",{"$f":"FA55+FA62","v":1390.6845233894267},"L",null,null,null,null,null,null,null,null,"ABS","%",{"$f":"FM55","v":0.17381818181818176},"$",{"$f":"FO55+FO62","v":1904.6595336164635},"L"]
[null,null,null,null,null,null,null,null,null,null,null,null,"TRBDS2_SD_TB","Turbocharging and Downsizing 2\n(TRBDS2_SD) - TBL",null,null,null,null,"TRBDS2_SD_DS",null,null,null,null,null,null,null,"TRBDS2_MD_TB","Turbocharging and Downsizing 2\n(TRBDS2_MD) - TBL",null,null,null,null,"TRBDS2_MD_DS",null,null,null,null,null,null,null,"TRBDS2_LD_TB","Turbocharging and Downsizing 2\n(TRBDS2_LD) - TBL",null,null,null,null,"TRBDS2_LD_DS",null,null,null,null,null,null,null,"TRBDS2_SD_TB",{"$f":"$N$64","v":"Turbocharging and Downsizing 2\n(TRBDS2_SD) - TBL"},null,null,null,null,"TRBDS2_SD_DS",null,null,null,null,null,null,null,"TRBDS2_MD_TB",{"$f":"$AB$64","v":"Turbocharging and Downsizing 2\n(TRBDS2_MD) - TBL"},null,null,null,null,"TRBDS2_MD_DS",null,null,null,null,null,null,null,"TRBDS2_LD_TB",{"$f":"$AP$64","v":"Turbocharging and Downsizing 2\n(TRBDS2_LD) - TBL"},null,null,null,null,"TRBDS2_LD_DS",null,null,null,null,null,null,null,"TRBDS2_SD_TB",{"$f":"$N$64","v":"Turbocharging and Downsizing 2\n(TRBDS2_SD) - TBL"},null,null,null,null,"TRBDS2_SD_DS",null,null,null,null,null,null,null,"TRBDS2_MD_TB",{"$f":"$AB$64","v":"Turbocharging and Downsizing 2\n(TRBDS2_MD) - TBL"},null,null,null,null,"TRBDS2_MD_DS",null,null,null,null,null,null,null,"TRBDS2_LD_TB","Cooled EGR 1\n(CEGR1_LD) - TBL",null,null,null,null,"TRBDS2_LD_DS",null,null,null,null,null,null,null,"TRBDS2_SD_TB",{"$f":"$N$64","v":"Turbocharging and Downsizing 2\n(TRBDS2_SD) - TBL"},null,null,null,null,"TRBDS2_SD_DS",null,null,null,null,null,null,null,"TRBDS2_MD_TB",{"$f":"$AB$64","v":"Turbocharging and Downsizing 2\n(TRBDS2_MD) - TBL"},null,null,null,null,"TRBDS2_MD_DS",null,null,null,null,null,null,null,"TRBDS2_LD_TB","Cooled EGR 1\n(CEGR1_LD) - TBL",null,null,null,null,"TRBDS2_LD_DS"]
[null,"INTERMEDIATE",null,null,null,null,null,null,null,null,null,"2017+","INC","%",{"$f":"1-((1-O66)/(1-O58))","v":3.7131882202304789E-2},"$",{"$f":"INDEX('[1]Large PC'!$H$379:$X$467,MATCH(M64,'[1]Large PC'!$C$379:$C$467,0),MATCH(Inputs!$C$2,'[1]Large PC'!$H$378:$X$378,0))\n+INDEX('[1]Large PC'!$H$379:$X$467,MATCH(S64,'[1]Large PC'!$C$379:$C$467,0),MATCH(Inputs!$C$2,'[1]Large PC'!$H$378:$X$378,0))","v":19.914246875441577},10,null,null,null,null,null,null,null,"2017+","INC","%",{"$f":"1-((1-AC66)/(1-AC58))","v":3.7131882202304789E-2},"$",{"$f":"INDEX('[1]Large Perf. PC'!$H$379:$X$467,MATCH(AA64,'[1]Large Perf. PC'!$C$379:$C$467,0),MATCH(Inputs!$C$2,'[1]Large Perf. PC'!$H$378:$X$378,0))\n+INDEX('[1]Large Perf. PC'!$H$379:$X$467,MATCH(AG64,'[1]Large Perf. PC'!$C$379:$C$467,0),MATCH(Inputs!$C$2,'[1]Large Perf. PC'!$H$378:$X$378,0))","v":247.5936884943545},10,null,null,null,null,null,null,null,"2017+","INC","%",{"$f":"1-((1-AQ66)/(1-AQ58))","v":3.7131882202304789E-2},"$",{"$f":"INDEX('[1]Large Perf. PC'!$H$379:$X$467,MATCH(AO64,'[1]Large Perf. PC'!$C$379:$C$467,0),MATCH(Inputs!$C$2,'[1]Large Perf. PC'!$H$378:$X$378,0))\n+INDEX('[1]Large Perf. PC'!$H$379:$X$467,MATCH(AU64,'[1]Large Perf. PC'!$C$379:$C$467,0),MATCH(Inputs!$C$2,'[1]Large Perf. PC'!$H$378:$X$378,0))","v":417.35470758578072},10,null,null,null,null,null,null,null,"2017+","INC","%",{"$f":"1-((1-BE66)/(1-BE58))","v":3.7131882202304789E-2},"$",{"$f":"$Q65","v":19.914246875441577},{"$f":"$R$65","v":10},null,null,null,null,null,null,null,"2017+","INC","%",{"$f":"1-((1-BS66)/(1-BS58))","v":3.7131882202304789E-2},"$",{"$f":"$AE$65","v":247.5936884943545},{"$f":"$AF$65","v":10},null,null,null,null,null,null,null,"2017+","INC","%",{"$f":"1-((1-CG66)/(1-CG58))","v":3.7131882202304789E-2},"$",{"$f":"$AS$65","v":417.35470758578072},{"$f":"$AT$65","v":10},null,null,null,null,null,null,null,"2017+","INC","%",{"$f":"1-((1-CU66)/(1-CU58))","v":3.7131882202304789E-2},"$",{"$f":"$Q65","v":19.914246875441577},{"$f":"$R$65","v":10},null,null,null,null,null,null,null,"2017+","INC","%",{"$f":"1-((1-DI66)/(1-DI58))","v":3.7131882202304789E-2},"$",{"$f":"$AE$65","v":247.5936884943545},{"$f":"$AF$65","v":10},null,null,null,null,null,null,null,"2017+","INC","%",{"$f":"1-((1-DW66)/(1-DW58))","v":3.7131882202304789E-2},"$",{"$f":"$AS$65","v":417.35470758578072},{"$f":"$AT$65","v":10},null,null,null,null,null,null,null,"2017+","INC","%",{"$f":"1-((1-EK66)/(1-EK58))","v":3.7131882202304789E-2},"$",{"$f":"$Q65","v":19.914246875441577},{"$f":"$R$65","v":10},null,null,null,null,null,null,null,"2017+","INC","%",{"$f":"1-((1-EY66)/(1-EY58))","v":3.7131882202304789E-2},"$",{"$f":"$AE$65","v":247.5936884943545},{"$f":"$AF$65","v":10},null,null,null,null,null,null,null,"2017+","INC","%",{"$f":"1-((1-FM66)/(1-FM58))","v":3.7131882202304789E-2},"$",{"$f":"$AS$65","v":417.35470758578072},{"$f":"$AT$65","v":10}]
["Gas Engine Type","I4",null,null,null,null,null,null,null,null,null,null,"ABS","%",0.248,"$",{"$f":"Q58+Q65","v":1546.7899511194121},"L",null,null,null,null,null,null,null,null,"ABS","%",{"$f":"$O66","v":0.248},"$",{"$f":"AE58+AE65","v":1325.1379241906586},"L",null,null,null,null,null,null,null,null,"ABS","%",{"$f":"$O66","v":0.248},"$",{"$f":"AS58+AS65","v":2047.6476680841322},"L",null,null,null,null,null,null,null,null,"ABS","%",{"$f":"$O66","v":0.248},"$",{"$f":"BG58+BG65","v":1613.4947157994829},"L",null,null,null,null,null,null,null,null,"ABS","%",{"$f":"$O66","v":0.248},"$",{"$f":"BU58+BU65","v":1264.701052446314},"L",null,null,null,null,null,null,null,null,"ABS","%",{"$f":"$AQ66","v":0.248},"$",{"$f":"CI58+CI65","v":1973.6411559269434},"L",null,null,null,null,null,null,null,null,"ABS","%",{"$f":"$O66","v":0.248},"$",{"$f":"CW58+CW65","v":1758.4528003963223},"L",null,null,null,null,null,null,null,null,"ABS","%",{"$f":"$AC66","v":0.248},"$",{"$f":"DK58+DK65","v":1409.6591370431534},"L",null,null,null,null,null,null,null,null,"ABS","%",{"$f":"$AQ66","v":0.248},"$",{"$f":"DY58+DY65","v":2118.599240523783},"L",null,null,null,null,null,null,null,null,"ABS","%",{"$f":"$O66","v":0.248},"$",{"$f":"EM58+EM65","v":1002.7939825302993},"L",null,null,null,null,null,null,null,null,"ABS","%",{"$f":"$AC66","v":0.248},"$",{"$f":"FA58+FA65","v":1763.959675542364},"L",null,null,null,null,null,null,null,null,"ABS","%",{"$f":"$AQ66","v":0.248},"$",{"$f":"FO58+FO65","v":2447.6957048608274},"L"]
["Displacement [L]",1]
["Turbocharger","FGT"]
["EGR system","External"]
["Valvetrain","DOHC",null,null,null,null,null,null,null,null,null,"2012-2016","INC","%",{"$f":"1-((1-O71)/(1-O63))","v":0},"$",0,0,null,null,null,null,null,null,null,"2012-2016","INC","%",{"$f":"1-((1-AC71)/(1-AC63))","v":0},"$",0,0,null,null,null,null,null,null,null,"2012-2016","INC","%",{"$f":"1-((1-AQ71)/(1-AQ63))","v":0},"$",0,0,null,null,null,null,null,null,null,"2012-2016","INC","%",{"$f":"1-((1-BE71)/(1-BE63))","v":0},"$",{"$f":"$Q$70","v":0},{"$f":"$R$70","v":0},null,null,null,null,null,null,null,"2012-2016","INC","%",{"$f":"1-((1-BS71)/(1-BS63))","v":0},"$",{"$f":"$AE$70","v":0},{"$f":"$AF$70","v":0},null,null,null,null,null,null,null,"2012-2016","INC","%",{"$f":"1-((1-CG71)/(1-CG63))","v":0},"$",{"$f":"$AS$70","v":0},{"$f":"$AT$70","v":0},null,null,null,null,null,null,null,"2012-2016","INC","%",{"$f":"1-((1-CU71)/(1-CU63))","v":0},"$",{"$f":"$Q$70","v":0},{"$f":"$R$70","v":0},null,null,null,null,null,null,null,"2012-2016","INC","%",{"$f":"1-((1-DI71)/(1-DI63))","v":0},"$",{"$f":"$AE$70","v":0},{"$f":"$AF$70","v":0},null,null,null,null,null,null,null,"2012-2016","INC","%",{"$f":"1-((1-DW71)/(1-DW63))","v":0},"$",{"$f":"$AS$70","v":0},{"$f":"$AT$70","v":0},null,null,null,null,null,null,null,"2012-2016","INC","%",{"$f":"1-((1-EK71)/(1-EK63))","v":0},"$",{"$f":"$Q$70","v":0},{"$f":"$R$70","v":0},null,null,null,null,null,null,null,"2012-2016","INC","%",{"$f":"1-((1-EY71)/(1-EY63))","v":0},"$",{"$f":"$AE$70","v":0},{"$f":"$AF$70","v":0},null,null,null,null,null,null,null,"2012-2016","INC","%",{"$f":"1-((1-FM71)/(1-FM63))","v":0},"$",{"$f":"$AS$70","v":0},{"$f":"$AT$70","v":0}]
["After Treatment","3way cat",null,null,null,null,null,null,null,null,null,null,"ABS","%",{"$f":"O63","v":0.20885061469238408},"$",{"$f":"Q63+Q70","v":1401.1942405853872},"L",null,null,null,null,null,null,null,null,"ABS","%",{"$f":"AC63","v":0.20815788235294108},"$",{"$f":"AE63+AE70","v":951.86277203772102},"L",null,null,null,null,null,null,null,null,"ABS","%",{"$f":"AQ63","v":0.20815788235294108},"$",{"$f":"AS63+AS70","v":1504.6114968397683},"L",null,null,null,null,null,null,null,null,"ABS","%",{"$f":"BE63","v":0.21518247140334179},"$",{"$f":"BG63+BG70","v":1467.8990052654581},"L",null,null,null,null,null,null,null,null,"ABS","%",{"$f":"BS63","v":0.20815788235294097},"$",{"$f":"BU63+BU70","v":891.42590029337623},"L",null,null,null,null,null,null,null,null,"ABS","%",{"$f":"CG63","v":0.20815788235294097},"$",{"$f":"CI63+CI70","v":1430.6049846825795},"L",null,null,null,null,null,null,null,null,"ABS","%",{"$f":"CU63","v":0.20815788235294119},"$",{"$f":"CW63+CW70","v":1612.8570898622975},"L",null,null,null,null,null,null,null,null,"ABS","%",{"$f":"DI63","v":0.20815788235294119},"$",{"$f":"DK63+DK70","v":1036.3839848902157},"L",null,null,null,null,null,null,null,null,"ABS","%",{"$f":"DW63","v":0.20815788235294119},"$",{"$f":"DY63+DY70","v":1575.5630692794189},"L",null,null,null,null,null,null,null,null,"ABS","%",{"$f":"EK63","v":0.24048947843600232},"$",{"$f":"EM63+EM70","v":857.1982719962748},"L",null,null,null,null,null,null,null,null,"ABS","%",{"$f":"EY63","v":0.17381818181818176},"$",{"$f":"FA63+FA70","v":1390.6845233894267},"L",null,null,null,null,null,null,null,null,"ABS","%",{"$f":"FM63","v":0.17381818181818176},"$",{"$f":"FO63+FO70","v":1904.6595336164635},"L"]
[null,null,null,null,null,null,null,null,null,null,null,null,"CEGR1_SD_TB","Cooled EGR 1 \n(CEGR1_SD) - TBL",null,null,null,null,"CEGR1_SD_DS",null,null,null,null,null,null,null,"CEGR1_MD_TB","Cooled EGR 1 \n(CEGR1_MD) - TBL",null,null,null,null,"CEGR1_MD_DS",null,null,null,null,null,null,null,"CEGR1_LD_TB","Cooled EGR 1 \n(CEGR1_LD) - TBL",null,null,null,null,"CEGR1_LD_DS",null,null,null,null,null,null,null,"CEGR1_SD_TB",{"$f":"$N$72","v":"Cooled EGR 1 \n(CEGR1_SD) - TBL"},null,null,null,null,"CEGR1_SD_DS",null,null,null,null,null,null,null,"CEGR1_MD_TB",{"$f":"$AB$72","v":"Cooled EGR 1 \n(CEGR1_MD) - TBL"},null,null,null,null,"CEGR1_MD_DS",null,null,null,null,null,null,null,"CEGR1_LD_TB",{"$f":"$AP$72","v":"Cooled EGR 1 \n(CEGR1_LD) - TBL"},null,null,null,null,"CEGR1_LD_DS",null,null,null,null,null,null,null,"CEGR1_SD_TB",{"$f":"$N$72","v":"Cooled EGR 1 \n(CEGR1_SD) - TBL"},null,null,null,null,"CEGR1_SD_DS",null,null,null,null,null,null,null,"CEGR1_MD_TB",{"$f":"$AB$72","v":"Cooled EGR 1 \n(CEGR1_MD) - TBL"},null,null,null,null,"CEGR1_MD_DS",null,null,null,null,null,null,null,"CEGR1_LD_TB",{"$f":"$AP$72","v":"Cooled EGR 1 \n(CEGR1_LD) - TBL"},null,null,null,null,"CEGR1_LD_DS",null,null,null,null,null,null,null,"CEGR1_SD_TB",{"$f":"$N$72","v":"Cooled EGR 1 \n(CEGR1_SD) - TBL"},null,null,null,null,"CEGR1_SD_DS",null,null,null,null,null,null,null,"CEGR1_MD_TB",{"$f":"$AB$72","v":"Cooled EGR 1 \n(CEGR1_MD) - TBL"},null,null,null,null,"CEGR1_MD_DS",null,null,null,null,null,null,null,"CEGR1_LD_TB",{"$f":"$AP$72","v":"Cooled EGR 1 \n(CEGR1_LD) - TBL"},null,null,null,null,"CEGR1_LD_DS"]
[null,null,null,null,null,null,null,null,null,null,null,"2017+","INC","%",{"$f":"1-((1-O74)/(1-O66))","v":3.4574468085106447E-2},"$",{"$f":"INDEX('[1]Large Perf. PC'!$H$379:$X$467,MATCH(M72,'[1]Large Perf. PC'!$C$379:$C$467,0),MATCH(Inputs!$C$2,'[1]Large Perf. PC'!$H$378:$X$378,0))\n+INDEX('[1]Large Perf. PC'!$H$379:$X$467,MATCH(S72,'[1]Large Perf. PC'!$C$379:$C$467,0),MATCH(Inputs!$C$2,'[1]Large Perf. PC'!$H$378:$X$378,0))","v":285.15466932220613},10,null,null,null,null,null,null,null,"2017+","INC","%",{"$f":"1-((1-AC74)/(1-AC66))","v":3.4574468085106447E-2},"$",{"$f":"INDEX('[1]Large Perf. PC'!$H$379:$X$467,MATCH(AA72,'[1]Large Perf. PC'!$C$379:$C$467,0),MATCH(Inputs!$C$2,'[1]Large Perf. PC'!$H$378:$X$378,0))\n+INDEX('[1]Large Perf. PC'!$H$379:$X$467,MATCH(AG72,'[1]Large Perf. PC'!$C$379:$C$467,0),MATCH(Inputs!$C$2,'[1]Large Perf. PC'!$H$378:$X$378,0))","v":285.15466932220613},10,null,null,null,null,null,null,null,"2017+","INC","%",{"$f":"1-((1-AQ74)/(1-AQ66))","v":3.4574468085106447E-2},"$",{"$f":"INDEX('[1]Large Perf. PC'!$H$379:$X$467,MATCH(AO72,'[1]Large Perf. PC'!$C$379:$C$467,0),MATCH(Inputs!$C$2,'[1]Large Perf. PC'!$H$378:$X$378,0))\n+INDEX('[1]Large Perf. PC'!$H$379:$X$467,MATCH(AU72,'[1]Large Perf. PC'!$C$379:$C$467,0),MATCH(Inputs!$C$2,'[1]Large Perf. PC'!$H$378:$X$378,0))","v":285.15466932220613},10,null,null,null,null,null,null,null,"2017+","INC","%",{"$f":"$O$73","v":3.4574468085106447E-2},"$",{"$f":"$Q$73","v":285.15466932220613},{"$f":"$R$73","v":10},null,null,null,null,null,null,null,"2017+","INC","%",{"$f":"$AC$73","v":3.4574468085106447E-2},"$",{"$f":"$AE$73","v":285.15466932220613},{"$f":"$AF$73","v":10},null,null,null,null,null,null,null,"2017+","INC","%",{"$f":"$AQ$73","v":3.4574468085106447E-2},"$",{"$f":"$AS$73","v":285.15466932220613},{"$f":"$AT$73","v":10},null,null,null,null,null,null,null,"2017+","INC","%",{"$f":"$O$73","v":3.4574468085106447E-2},"$",{"$f":"$Q$73","v":285.15466932220613},{"$f":"$R$73","v":10},null,null,null,null,null,null,null,"2017+","INC","%",{"$f":"$AC$73","v":3.4574468085106447E-2},"$",{"$f":"$AE$73","v":285.15466932220613},{"$f":"$AF$73","v":10},null,null,null,null,null,null,null,"2017+","INC","%",{"$f":"$AQ$73","v":3.4574468085106447E-2},"$",{"$f":"$AS$73","v":285.15466932220613},{"$f":"$AT$73","v":10},null,null,null,null,null,null,null,"2017+","INC","%",{"$f":"$O$73","v":3.4574468085106447E-2},"$",{"$f":"$Q$73","v":285.15466932220613},{"$f":"$R$73","v":10},null,null,null,null,null,null,null,"2017+","INC","%",{"$f":"$AC$73","v":3.4574468085106447E-2},"$",{"$f":"$AE$73","v":285.15466932220613},{"$f":"$AF$73","v":10},null,null,null,null,null,null,null,"2017+","INC","%",{"$f":"$AQ$73","v":3.4574468085106447E-2},"$",{"$f":"$AS$73","v":285.15466932220613},{"$f":"$AT$73","v":10}]
[null,null,null,null,null,null,null,null,null,null,null,null,"ABS","%",0.27400000000000002,"$",{"$f":"Q66+Q73","v":1831.9446204416181},"L",null,null,null,null,null,null,null,null,"ABS","%",{"$f":"O74","v":0.27400000000000002},"$",{"$f":"AE66+AE73","v":1610.2925935128646},"L",null,null,null,null,null,null,null,null,"ABS","%",{"$f":"O74","v":0.27400000000000002},"$",{"$f":"AS66+AS73","v":2332.8023374063382},"L",null,null,null,null,null,null,null,null,"ABS","%",{"$f":"1-((1-BE66)*(1-BE73))","v":0.27400000000000002},"$",{"$f":"BG66+BG73","v":1898.6493851216892},"L",null,null,null,null,null,null,null,null,"ABS","%",{"$f":"$O74","v":0.27400000000000002},"$",{"$f":"BU66+BU73","v":1549.8557217685202},"L",null,null,null,null,null,null,null,null,"ABS","%",{"$f":"$AQ74","v":0.27400000000000002},"$",{"$f":"CI66+CI73","v":2258.7958252491494},"L",null,null,null,null,null,null,null,null,"ABS","%",{"$f":"$O74","v":0.27400000000000002},"$",{"$f":"CW66+CW73","v":2043.6074697185286},"L",null,null,null,null,null,null,null,null,"ABS","%",{"$f":"$AC74","v":0.27400000000000002},"$",{"$f":"DK66+DK73","v":1694.8138063653596},"L",null,null,null,null,null,null,null,null,"ABS","%",{"$f":"$AQ74","v":0.27400000000000002},"$",{"$f":"DY66+DY73","v":2403.7539098459893},"L",null,null,null,null,null,null,null,null,"ABS","%",{"$f":"$O74","v":0.27400000000000002},"$",{"$f":"EM66+EM73","v":1287.9486518525055},"L",null,null,null,null,null,null,null,null,"ABS","%",{"$f":"$AC74","v":0.27400000000000002},"$",{"$f":"FA66+FA73","v":2049.1143448645703},"L",null,null,null,null,null,null,null,null,"ABS","%",{"$f":"$AQ74","v":0.27400000000000002},"$",{"$f":"FO66+FO73","v":2732.8503741830336},"L"]
[]
[]
[]
[null,null,null,null,null,null,null,null,null,null,null,"2012-2016","INC","%",{"$f":"1-((1-O79)/(1-O71))","v":0},"$",0,0,null,null,null,null,null,null,null,"2012-2016","INC","%",{"$f":"1-((1-AC79)/(1-AC71))","v":0},"$",0,0,null,null,null,null,null,null,null,"2012-2016","INC","%",{"$f":"1-((1-AQ79)/(1-AQ71))","v":0},"$",0,0,null,null,null,null,null,null,null,"2012-2016","INC","%",{"$f":"1-((1-BE79)/(1-BE71))","v":0},"$",{"$f":"$Q$78","v":0},{"$f":"$R$78","v":0},null,null,null,null,null,null,null,"2012-2016","INC","%",{"$f":"1-((1-BS79)/(1-BS71))","v":0},"$",{"$f":"$AE$78","v":0},{"$f":"$AF$78","v":0},null,null,null,null,null,null,null,"2012-2016","INC","%",{"$f":"1-((1-CG79)/(1-CG71))","v":0},"$",{"$f":"$AS$78","v":0},{"$f":"$AT$78","v":0},null,null,null,null,null,null,null,"2012-2016","INC","%",{"$f":"1-((1-CU79)/(1-CU71))","v":0},"$",{"$f":"$Q$78","v":0},{"$f":"$R$78","v":0},null,null,null,null,null,null,null,"2012-2016","INC","%",{"$f":"1-((1-DI79)/(1-DI71))","v":0},"$",{"$f":"$AE$78","v":0},{"$f":"$AF$78","v":0},null,null,null,null,null,null,null,"2012-2016","INC","%",{"$f":"1-((1-DW79)/(1-DW71))","v":0},"$",{"$f":"$AS$78","v":0},{"$f":"$AT$78","v":0},null,null,null,null,null,null,null,"2012-2016","INC","%",{"$f":"1-((1-EK79)/(1-EK71))","v":0},"$",{"$f":"$Q$78","v":0},{"$f":"$R$78","v":0},null,null,null,null,null,null,null,"2012-2016","INC","%",{"$f":"1-((1-EY79)/(1-EY71))","v":0},"$",{"$f":"$AE$78","v":0},{"$f":"$AF$78","v":0},null,null,null,null,null,null,null,"2012-2016","INC","%",{"$f":"1-((1-FM79)/(1-FM71))","v":0},"$",{"$f":"$AS$78","v":0},{"$f":"$AT$78","v":0}]
[null,null,null,null,null,null,null,null,null,null,null,null,"ABS","%",{"$f":"O71","v":0.20885061469238408},"$",{"$f":"Q71+Q78","v":1401.1942405853872},"L",null,null,null,null,null,null,null,null,"ABS","%",{"$f":"AC71","v":0.20815788235294108},"$",{"$f":"AE71+AE78","v":951.86277203772102},"L",null,null,null,null,null,null,null,null,"ABS","%",{"$f":"AQ71","v":0.20815788235294108},"$",{"$f":"AS71+AS78","v":1504.6114968397683},"L",null,null,null,null,null,null,null,null,"ABS","%",{"$f":"BE71","v":0.21518247140334179},"$",{"$f":"BG71+BG78","v":1467.8990052654581},"L",null,null,null,null,null,null,null,null,"ABS","%",{"$f":"BS71","v":0.20815788235294097},"$",{"$f":"BU71+BU78","v":891.42590029337623},"L",null,null,null,null,null,null,null,null,"ABS","%",{"$f":"CG71","v":0.20815788235294097},"$",{"$f":"CI71+CI78","v":1430.6049846825795},"L",null,null,null,null,null,null,null,null,"ABS","%",{"$f":"CU71","v":0.20815788235294119},"$",{"$f":"CW71+CW78","v":1612.8570898622975},"L",null,null,null,null,null,null,null,null,"ABS","%",{"$f":"DI71","v":0.20815788235294119},"$",{"$f":"DK71+DK78","v":1036.3839848902157},"L",null,null,null,null,null,null,null,null,"ABS","%",{"$f":"DW71","v":0.20815788235294119},"$",{"$f":"DY71+DY78","v":1575.5630692794189},"L",null,null,null,null,null,null,null,null,"ABS","%",{"$f":"EK71","v":0.24048947843600232},"$",{"$f":"EM71+EM78","v":857.1982719962748},"L",null,null,null,null,null,null,null,null,"ABS","%",{"$f":"EY71","v":0.17381818181818176},"$",{"$f":"FA71+FA78","v":1390.6845233894267},"L",null,null,null,null,null,null,null,null,"ABS","%",{"$f":"FM71","v":0.17381818181818176},"$",{"$f":"FO71+FO78","v":1904.6595336164635},"L"]
[null,null,null,null,null,null,null,null,null,null,null,null,"CEGR2_SD_TB","Cooled EGR 2\n(CEGR2_SD) - TBL",null,null,null,null,"CEGR2_SD_DS",null,null,null,null,null,null,null,"CEGR2_MD_TB","Cooled EGR 2\n(CEGR2_MD) - TBL",null,null,null,null,"CEGR2_MD_DS",null,null,null,null,null,null,null,"CEGR2_LD_TB","Cooled EGR 2\n(CEGR2_LD) - TBL",null,null,null,null,"CEGR2_LD_DS",null,null,null,null,null,null,null,"CEGR2_SD_TB",{"$f":"$N$80","v":"Cooled EGR 2\n(CEGR2_SD) - TBL"},null,null,null,null,"CEGR2_SD_DS",null,null,null,null,null,null,null,"CEGR2_MD_TB",{"$f":"$AB$80","v":"Cooled EGR 2\n(CEGR2_MD) - TBL"},null,null,null,null,"CEGR2_MD_DS",null,null,null,null,null,null,null,"CEGR2_LD_TB",{"$f":"$AP$80","v":"Cooled EGR 2\n(CEGR2_LD) - TBL"},null,null,null,null,"CEGR2_LD_DS",null,null,null,null,null,null,null,"CEGR2_SD_TB",{"$f":"$N$80","v":"Cooled EGR 2\n(CEGR2_SD) - TBL"},null,null,null,null,"CEGR2_SD_DS",null,null,null,null,null,null,null,"CEGR2_MD_TB",{"$f":"$AB$80","v":"Cooled EGR 2\n(CEGR2_MD) - TBL"},null,null,null,null,"CEGR2_MD_DS",null,null,null,null,null,null,null,"CEGR2_LD_TB",{"$f":"$AP$80","v":"Cooled EGR 2\n(CEGR2_LD) - TBL"},null,null,null,null,"CEGR2_LD_DS",null,null,null,null,null,null,null,"CEGR2_SD_TB",{"$f":"$N$80","v":"Cooled EGR 2\n(CEGR2_SD) - TBL"},null,null,null,null,"CEGR2_SD_DS",null,null,null,null,null,null,null,"CEGR2_MD_TB",{"$f":"$AB$80","v":"Cooled EGR 2\n(CEGR2_MD) - TBL"},null,null,null,null,"CEGR2_MD_DS",null,null,null,null,null,null,null,"CEGR2_LD_TB",{"$f":"$AP$80","v":"Cooled EGR 2\n(CEGR2_LD) - TBL"},null,null,null,null,"CEGR2_LD_DS"]
[null,"STOP",null,null,null,null,null,null,null,null,null,"2017+","INC","%",{"$f":"1-((1-O82)/(1-O74))","v":1.377410468319562E-2},"$",{"$f":"INDEX('[1]Large Perf. PC'!$H$379:$X$467,MATCH(M80,'[1]Large Perf. PC'!$C$379:$C$467,0),MATCH(Inputs!$C$2,'[1]Large Perf. PC'!$H$378:$X$378,0))\n+INDEX('[1]Large Perf. PC'!$H$379:$X$467,MATCH(S80,'[1]Large Perf. PC'!$C$379:$C$467,0),MATCH(Inputs!$C$2,'[1]Large Perf. PC'!$H$378:$X$378,0))","v":495.18737698870899},10,null,null,null,null,null,null,null,"2017+","INC","%",{"$f":"1-((1-AC82)/(1-AC74))","v":1.377410468319562E-2},"$",{"$f":"INDEX('[1]Large Perf. PC'!$H$379:$X$467,MATCH(AA80,'[1]Large Perf. PC'!$C$379:$C$467,0),MATCH(Inputs!$C$2,'[1]Large Perf. PC'!$H$378:$X$378,0))\n+INDEX('[1]Large Perf. PC'!$H$379:$X$467,MATCH(AG80,'[1]Large Perf. PC'!$C$379:$C$467,0),MATCH(Inputs!$C$2,'[1]Large Perf. PC'!$H$378:$X$378,0))","v":495.18737698870899},10,null,null,null,null,null,null,null,"2017+","INC","%",{"$f":"1-((1-AQ82)/(1-AQ74))","v":1.377410468319562E-2},"$",{"$f":"INDEX('[1]Large Perf. PC'!$H$379:$X$467,MATCH(AO80,'[1]Large Perf. PC'!$C$379:$C$467,0),MATCH(Inputs!$C$2,'[1]Large Perf. PC'!$H$378:$X$378,0))\n+INDEX('[1]Large Perf. PC'!$H$379:$X$467,MATCH(AU80,'[1]Large Perf. PC'!$C$379:$C$467,0),MATCH(Inputs!$C$2,'[1]Large Perf. PC'!$H$378:$X$378,0))","v":-296.67298355204559},10,null,null,null,null,null,null,null,"2017+","INC","%",{"$f":"$O$81","v":1.377410468319562E-2},"$",{"$f":"$Q$81","v":495.18737698870899},{"$f":"$R$81","v":10},null,null,null,null,null,null,null,"2017+","INC","%",{"$f":"$AC$81","v":1.377410468319562E-2},"$",{"$f":"$AE$81","v":495.18737698870899},{"$f":"$AF$81","v":10},null,null,null,null,null,null,null,"2017+","INC","%",{"$f":"$AQ$81","v":1.377410468319562E-2},"$",{"$f":"$AS$81","v":-296.67298355204559},{"$f":"$AT$81","v":10},null,null,null,null,null,null,null,"2017+","INC","%",{"$f":"$O$81","v":1.377410468319562E-2},"$",{"$f":"$Q$81","v":495.18737698870899},{"$f":"$R$81","v":10},null,null,null,null,null,null,null,"2017+","INC","%",{"$f":"$AC$81","v":1.377410468319562E-2},"$",{"$f":"$AE$81","v":495.18737698870899},{"$f":"$AF$81","v":10},null,null,null,null,null,null,null,"2017+","INC","%",{"$f":"$AQ$81","v":1.377410468319562E-2},"$",{"$f":"$AS$81","v":-296.67298355204559},{"$f":"$AT$81","v":10},null,null,null,null,null,null,null,"2017+","INC","%",{"$f":"$O$81","v":1.377410468319562E-2},"$",{"$f":"$Q$81","v":495.18737698870899},{"$f":"$R$81","v":10},null,null,null,null,null,null,null,"2017+","INC","%",{"$f":"$AC$81","v":1.377410468319562E-2},"$",{"$f":"$AE$81","v":495.18737698870899},{"$f":"$AF$81","v":10},null,null,null,null,null,null,null,"2017+","INC","%",{"$f":"$AQ$81","v":1.377410468319562E-2},"$",{"$f":"$AS$81","v":-296.67298355204559},{"$f":"$AT$81","v":10}]
["Diesel Engine Type","I4",null,null,null,null,null,null,null,null,null,null,"ABS","%",0.28399999999999997,"$",{"$f":"Q74+Q81","v":2327.1319974303269},"L",null,null,null,null,null,null,null,null,"ABS","%",{"$f":"O82","v":0.28399999999999997},"$",{"$f":"AE74+AE81","v":2105.4799705015735},"L",null,null,null,null,null,null,null,null,"ABS","%",{"$f":"O82","v":0.28399999999999997},"$",{"$f":"AS74+AS81","v":2036.1293538542927},"L",null,null,null,null,null,null,null,null,"ABS","%",{"$f":"1-((1-BE74)*(1-BE81))","v":0.28400000000000003},"$",{"$f":"BG74+BG81","v":2393.836762110398},"L",null,null,null,null,null,null,null,null,"ABS","%",{"$f":"$O82","v":0.28399999999999997},"$",{"$f":"BU74+BU81","v":2045.0430987572292},"L",null,null,null,null,null,null,null,null,"ABS","%",{"$f":"$AQ82","v":0.28399999999999997},"$",{"$f":"CI74+CI81","v":1962.1228416971039},"L",null,null,null,null,null,null,null,null,"ABS","%",{"$f":"$O82","v":0.28399999999999997},"$",{"$f":"CW74+CW81","v":2538.7948467072374},"L",null,null,null,null,null,null,null,null,"ABS","%",{"$f":"$AC82","v":0.28399999999999997},"$",{"$f":"DK74+DK81","v":2190.0011833540684},"L",null,null,null,null,null,null,null,null,"ABS","%",{"$f":"$AQ82","v":0.28399999999999997},"$",{"$f":"DY74+DY81","v":2107.0809262939438},"L",null,null,null,null,null,null,null,null,"ABS","%",{"$f":"$O82","v":0.28399999999999997},"$",{"$f":"EM74+EM81","v":1783.1360288412145},"L",null,null,null,null,null,null,null,null,"ABS","%",{"$f":"$AC82","v":0.28399999999999997},"$",{"$f":"FA74+FA81","v":2544.3017218532791},"L",null,null,null,null,null,null,null,null,"ABS","%",{"$f":"$AQ82","v":0.28399999999999997},"$",{"$f":"FO74+FO81","v":2436.1773906309882},"L"]
["Displacement [L]","1.5 to 2.0"]
["Turbocharger","VNT"]
["EGR system","cooler+vlv+bypass vlv"]
["FIE","HPCR 1800bar solenoid",null,null,"2012-2016","INC","%",{"$f":"1-((1-H87)/(1-O79))","v":0},"$",0,"L","2012-2016","INC","%",0,"$",0,0,"2012-2016","INC","%",{"$f":"1-((1-V87)/(1-AC79))","v":0},"$",0,"L","2012-2016","INC","%",0,"$",0,0,"2012-2016","INC","%",{"$f":"1-((1-AJ87)/(1-AQ79))","v":0},"$",0,"L","2012-2016","INC","%",0,"$",0,0,"2012-2016","INC","%",{"$f":"1-((1-AX87)/(1-BE79))","v":-8.0679348768875059E-3},"$",0,"L","2012-2016","INC","%",0,"$",0,0,"2012-2016","INC","%",{"$f":"1-((1-BL87)/(1-BS79))","v":0},"$",0,"L","2012-2016","INC","%",0,"$",0,0,"2012-2016","INC","%",{"$f":"1-((1-BZ87)/(1-CG79))","v":0},"$",0,"L","2012-2016","INC","%",0,"$",0,0,"2012-2016","INC","%",{"$f":"1-((1-CN87)/(1-CU79))","v":8.7483644025065921E-4},"$",0,"L","2012-2016","INC","%",0,"$",0,0,"2012-2016","INC","%",{"$f":"1-((1-DB87)/(1-DI79))","v":0},"$",0,"L","2012-2016","INC","%",0,"$",0,0,"2012-2016","INC","%",{"$f":"1-((1-DP87)/(1-DW79))","v":0},"$",0,"L","2012-2016","INC","%",0,"$",0,0,"2012-2016","INC","%",{"$f":"1-((1-ED87)/(1-EK79))","v":-4.1656913031918208E-2},"$",0,"L","2012-2016","INC","%",0,"$",0,0,"2012-2016","INC","%",{"$f":"1-((1-ER87)/(1-EY79))","v":4.156433823529404E-2},"$",0,"L","2012-2016","INC","%",0,"$",0,0,"2012-2016","INC","%",{"$f":"1-((1-FF87)/(1-FM79))","v":4.156433823529404E-2},"$",0,"L","2012-2016","INC","%",0,"$",0,0]
["Valvetrain","4-valve DOHC",null,null,null,"ABS","%",{"$f":"O79","v":0.20885061469238408},"$",{"$f":"J86+Q79","v":1401.1942405853872},150,null,"ABS","%",{"$f":"1-((1-O79)*(1-O86))","v":0.20885061469238408},"$",{"$f":"Q79+Q86","v":1401.1942405853872},"L",null,"ABS","%",{"$f":"AC79","v":0.20815788235294108},"$",{"$f":"X86+AE79","v":951.86277203772102},200,null,"ABS","%",{"$f":"1-((1-AC79)*(1-AC86))","v":0.20815788235294108},"$",{"$f":"AE79+AE86","v":951.86277203772102},"L",null,"ABS","%",{"$f":"AQ79","v":0.20815788235294108},"$",{"$f":"AL86+AS79","v":1504.6114968397683},500,null,"ABS","%",{"$f":"1-((1-AQ79)*(1-AQ86))","v":0.20815788235294108},"$",{"$f":"AS79+AS86","v":1504.6114968397683},"L",null,"ABS","%",{"$f":"$H$87","v":0.20885061469238408},"$",{"$f":"AZ86+BG79","v":1467.8990052654581},{"$f":"$K$87","v":150},null,"ABS","%",{"$f":"1-((1-BE79)*(1-BE86))","v":0.21518247140334179},"$",{"$f":"BG79+BG86","v":1467.8990052654581},"L",null,"ABS","%",{"$f":"$V$87","v":0.20815788235294108},"$",{"$f":"BN86+BU79","v":891.42590029337623},{"$f":"$Y$87","v":200},null,"ABS","%",{"$f":"1-((1-BS79)*(1-BS86))","v":0.20815788235294097},"$",{"$f":"BU79+BU86","v":891.42590029337623},"L",null,"ABS","%",{"$f":"$AJ$87","v":0.20815788235294108},"$",{"$f":"CB86+CI79","v":1430.6049846825795},{"$f":"$AM$87","v":500},null,"ABS","%",{"$f":"1-((1-CG79)*(1-CG86))","v":0.20815788235294097},"$",{"$f":"CI79+CI86","v":1430.6049846825795},"L",null,"ABS","%",{"$f":"$H$87","v":0.20885061469238408},"$",{"$f":"CP86+CW79","v":1612.8570898622975},{"$f":"$K$87","v":150},null,"ABS","%",{"$f":"1-((1-CU79)*(1-CU86))","v":0.20815788235294119},"$",{"$f":"CW79+CW86","v":1612.8570898622975},"L",null,"ABS","%",{"$f":"$V$87","v":0.20815788235294108},"$",{"$f":"DD86+DK79","v":1036.3839848902157},{"$f":"$Y$87","v":200},null,"ABS","%",{"$f":"1-((1-DI79)*(1-DI86))","v":0.20815788235294119},"$",{"$f":"DK79+DK86","v":1036.3839848902157},"L",null,"ABS","%",{"$f":"$AJ$87","v":0.20815788235294108},"$",{"$f":"DR86+DY79","v":1575.5630692794189},{"$f":"$AM$87","v":500},null,"ABS","%",{"$f":"1-((1-DW79)*(1-DW86))","v":0.20815788235294119},"$",{"$f":"DY79+DY86","v":1575.5630692794189},"L",null,"ABS","%",{"$f":"$H$87","v":0.20885061469238408},"$",{"$f":"EF86+EM79","v":857.1982719962748},{"$f":"$K$87","v":150},null,"ABS","%",{"$f":"1-((1-EK79)*(1-EK86))","v":0.24048947843600232},"$",{"$f":"EM79+EM86","v":857.1982719962748},"L",null,"ABS","%",{"$f":"$V$87","v":0.20815788235294108},"$",{"$f":"ET86+FA79","v":1390.6845233894267},{"$f":"$Y$87","v":200},null,"ABS","%",{"$f":"1-((1-EY79)*(1-EY86))","v":0.17381818181818176},"$",{"$f":"FA79+FA86","v":1390.6845233894267},"L",null,"ABS","%",{"$f":"$AJ$87","v":0.20815788235294108},"$",{"$f":"FH86+FO79","v":1904.6595336164635},{"$f":"$AM$87","v":500},null,"ABS","%",{"$f":"1-((1-FM79)*(1-FM86))","v":0.17381818181818176},"$",{"$f":"FO79+FO86","v":1904.6595336164635},"L"]
["Valvetrain option","N/A",null,null,null,null,"Advanced Diesel\n(ADSL_SD) - TBL",null,null,null,null,"ADSL_SD",null,"To Strong Hybrids",null,null,null,null,null,null,"Advanced Diesel\n(ADSL_MD) - TBL",null,null,null,null,"ADSL_MD",null,"To Strong Hybrids",null,null,null,null,null,null,"Advanced Diesel\n(ADSL_LD) - TBL",null,null,null,null,"ADSL_LD",null,"To Strong Hybrids",null,null,null,null,null,null,"Advanced Diesel\n(ADSL_SD) - TBL",null,null,null,null,"ADSL_SD",null,"To Strong Hybrids",null,null,null,null,null,null,"Advanced Diesel\n(ADSL_MD) - TBL",null,null,null,null,"ADSL_SD",null,"To Strong Hybrids",null,null,null,null,null,null,"Advanced Diesel\n(ADSL_LD) - TBL",null,null,null,null,"ADSL_SD",null,"To Strong Hybrids",null,null,null,null,null,null,"Advanced Diesel\n(ADSL_SD) - TBL",null,null,null,null,"ADSL_SD",null,"To Strong Hybrids",null,null,null,null,null,null,"Advanced Diesel\n(ADSL_MD) - TBL",null,null,null,null,"ADSL_SD",null,"To Strong Hybrids",null,null,null,null,null,null,"Advanced Diesel\n(ADSL_LD) - TBL",null,null,null,null,"ADSL_SD",null,"To Strong Hybrids",null,null,null,null,null,null,"Advanced Diesel\n(ADSL_SD) - TBL",null,null,null,null,"ADSL_SD",null,"To Strong Hybrids",null,null,null,null,null,null,"Advanced Diesel\n(ADSL_MD) - TBL",null,null,null,null,"ADSL_SD",null,"To Strong Hybrids",null,null,null,null,null,null,"Advanced Diesel\n(ADSL_LD) - TBL",null,null,null,null,"ADSL_SD",null,"To Strong Hybrids"]
["After Treatment","DOC+LNT+DPF",null,null,"2017+","INC","%",{"$f":"1-((1-H90)/(1-O82))","v":2.8910614525139544E-2},"$",{"$f":"INDEX('[1]Large Perf. PC'!$H$379:$X$467,MATCH(L88,'[1]Large Perf. PC'!$C$379:$C$467,0),MATCH(Inputs!$C$2,'[1]Large Perf. PC'!$H$378:$X$378,0))","v":911.04083256975923},"L","2017+","INC","%",0,"$",{"$f":"Q86","v":0},0,"2017+","INC","%",{"$f":"1-((1-V90)/(1-AC82))","v":2.8910614525139544E-2},"$",{"$f":"INDEX('[1]Large Perf. PC'!$H$379:$X$467,MATCH(Z88,'[1]Large Perf. PC'!$C$379:$C$467,0),MATCH(Inputs!$C$2,'[1]Large Perf. PC'!$H$378:$X$378,0))","v":927.85441038425756},"L","2017+","INC","%",0,"$",{"$f":"AE86","v":0},0,"2017+","INC","%",{"$f":"1-((1-AJ90)/(1-AQ82))","v":2.8910614525139544E-2},"$",{"$f":"INDEX('[1]Large Perf. PC'!$H$379:$X$467,MATCH(AN88,'[1]Large Perf. PC'!$C$379:$C$467,0),MATCH(Inputs!$C$2,'[1]Large Perf. PC'!$H$378:$X$378,0))","v":1811.581549062259},"L","2017+","INC","%",0,"$",{"$f":"AS86","v":0},0,"2017+","INC","%",{"$f":"1-((1-AX90)/(1-BE82))","v":2.8910614525139544E-2},"$",{"$f":"$J$89","v":911.04083256975923},"L","2017+","INC","%",0,"$",{"$f":"BG86","v":0},0,"2017+","INC","%",{"$f":"1-((1-BL90)/(1-BS82))","v":2.8910614525139544E-2},"$",{"$f":"$X$89","v":927.85441038425756},"L","2017+","INC","%",0,"$",{"$f":"BU86","v":0},0,"2017+","INC","%",{"$f":"1-((1-BZ90)/(1-CG82))","v":2.8910614525139544E-2},"$",{"$f":"$AL$89","v":1811.581549062259},"L","2017+","INC","%",0,"$",{"$f":"CI86","v":0},0,"2017+","INC","%",{"$f":"1-((1-CN90)/(1-CU82))","v":2.8910614525139544E-2},"$",{"$f":"$J$89","v":911.04083256975923},"L","2017+","INC","%",0,"$",{"$f":"CW86","v":0},0,"2017+","INC","%",{"$f":"1-((1-DB90)/(1-DI82))","v":2.8910614525139544E-2},"$",{"$f":"$X$89","v":927.85441038425756},"L","2017+","INC","%",0,"$",{"$f":"DK86","v":0},0,"2017+","INC","%",{"$f":"1-((1-DP90)/(1-DW82))","v":2.8910614525139544E-2},"$",{"$f":"$AL$89","v":1811.581549062259},"L","2017+","INC","%",0,"$",{"$f":"DY86","v":0},0,"2017+","INC","%",{"$f":"1-((1-ED90)/(1-EK82))","v":2.8910614525139544E-2},"$",{"$f":"$J$89","v":911.04083256975923},"L","2017+","INC","%",0,"$",{"$f":"EM86","v":0},0,"2017+","INC","%",{"$f":"1-((1-ER90)/(1-EY82))","v":2.8910614525139544E-2},"$",{"$f":"$X$89","v":927.85441038425756},"L","2017+","INC","%",0,"$",{"$f":"FA86","v":0},0,"2017+","INC","%",{"$f":"1-((1-FF90)/(1-FM82))","v":2.8910614525139544E-2},"$",{"$f":"$AL$89","v":1811.581549062259},"L","2017+","INC","%",0,"$",{"$f":"FO86","v":0},0]
[null,null,null,null,null,"ABS","%",0.30470000000000003,"$",{"$f":"Q82+J89","v":3238.1728300000859},150,null,"ABS","%",{"$f":"1-((1-O82)*(1-O89))","v":0.28400000000000003},"$",{"$f":"Q82+Q89","v":2327.1319974303269},"L",null,"ABS","%",{"$f":"H90","v":0.30470000000000003},"$",{"$f":"AE82+X89","v":3033.3343808858308},200,null,"ABS","%",{"$f":"1-((1-AC82)*(1-AC89))","v":0.28400000000000003},"$",{"$f":"AE82+AE89","v":2105.4799705015735},"L",null,"ABS","%",{"$f":"H90","v":0.30470000000000003},"$",{"$f":"AS82+AL89","v":3847.7109029165517},500,null,"ABS","%",{"$f":"1-((1-AQ82)*(1-AQ89))","v":0.28400000000000003},"$",{"$f":"AS82+AS89","v":2036.1293538542927},"L",null,"ABS","%",{"$f":"$H$90","v":0.30470000000000003},"$",{"$f":"$J$90","v":3238.1728300000859},{"$f":"$K$90","v":150},null,"ABS","%",{"$f":"1-((1-BE82)*(1-BE89))","v":0.28400000000000003},"$",{"$f":"BG82+BG89","v":2393.836762110398},"L",null,"ABS","%",{"$f":"$V$90","v":0.30470000000000003},"$",{"$f":"$X$90","v":3033.3343808858308},{"$f":"$Y$90","v":200},null,"ABS","%",{"$f":"1-((1-BS82)*(1-BS89))","v":0.28400000000000003},"$",{"$f":"BU82+BU89","v":2045.0430987572292},"L",null,"ABS","%",{"$f":"$AJ$90","v":0.30470000000000003},"$",{"$f":"$AL$90","v":3847.7109029165517},{"$f":"$AM$90","v":500},null,"ABS","%",{"$f":"1-((1-CG82)*(1-CG89))","v":0.28400000000000003},"$",{"$f":"CI82+CI89","v":1962.1228416971039},"L",null,"ABS","%",{"$f":"$H$90","v":0.30470000000000003},"$",{"$f":"$J$90","v":3238.1728300000859},{"$f":"$K$90","v":150},null,"ABS","%",{"$f":"1-((1-CU82)*(1-CU89))","v":0.28400000000000003},"$",{"$f":"CW82+CW89","v":2538.7948467072374},"L",null,"ABS","%",{"$f":"$V$90","v":0.30470000000000003},"$",{"$f":"$X$90","v":3033.3343808858308},{"$f":"$Y$90","v":200},null,"ABS","%",{"$f":"1-((1-DI82)*(1-DI89))","v":0.28400000000000003},"$",{"$f":"DK82+DK89","v":2190.0011833540684},"L",null,"ABS","%",{"$f":"$AJ$90","v":0.30470000000000003},"$",{"$f":"$AL$90","v":3847.7109029165517},{"$f":"$AM$90","v":500},null,"ABS","%",{"$f":"1-((1-DW82)*(1-DW89))","v":0.28400000000000003},"$",{"$f":"DY82+DY89","v":2107.0809262939438},"L",null,"ABS","%",{"$f":"$H$90","v":0.30470000000000003},"$",{"$f":"$J$90","v":3238.1728300000859},{"$f":"$K$90","v":150},null,"ABS","%",{"$f":"1-((1-EK82)*(1-EK89))","v":0.28400000000000003},"$",{"$f":"EM82+EM89","v":1783.1360288412145},"L",null,"ABS","%",{"$f":"$V$90","v":0.30470000000000003},"$",{"$f":"$X$90","v":3033.3343808858308},{"$f":"$Y$90","v":200},null,"ABS","%",{"$f":"1-((1-EY82)*(1-EY89))","v":0.28400000000000003},"$",{"$f":"FA82+FA89","v":2544.3017218532791},"L",null,"ABS","%",{"$f":"$AJ$90","v":0.30470000000000003},"$",{"$f":"$AL$90","v":3847.7109029165517},{"$f":"$AM$90","v":500},null,"ABS","%",{"$f":"1-((1-FM82)*(1-FM89))","v":0.28400000000000003},"$",{"$f":"FO82+FO89","v":2436.1773906309882},"L"]
[]
[]
[]
[]
[]
[]
[]
["Expanded Trans/Hybrid Technology Decision Tree"]
[]
[]
[null,null,null,null,"Electrification",null,null,null,null,null,null,null,null,null,null,null,null,null,null,null,null,"Manual Trans",null,null,null,null,null,null,null,null,null,null,null,"Auto Trans"]
[]
[null,"START",null,null,"2012-2016","INC","%",1.0999999999999999E-2,"$",{"$f":"INDEX('[1]Large Perf. PC'!$H$379:$X$467,MATCH(L105,'[1]Large Perf. PC'!$C$379:$C$467,0),MATCH(Inputs!$C$2,'[1]Large Perf. PC'!$H$378:$X$378,0))","v":98.103282519162363},95.93,null,null,null,"START",null,null,null,"2012-2016","INC","%",2.3400000000000001E-2,"$",{"$f":"INDEX('[1]Large Perf. PC'!$H$379:$X$467,MATCH(Z105,'[1]Large Perf. PC'!$C$379:$C$467,0),MATCH(Inputs!$C$2,'[1]Large Perf. PC'!$H$378:$X$378,0))","v":250.31750824336308},225.33,null,null,null,"START",null,null,null,"2012-2016","INC","%",3.1E-2,"$",{"$f":"INDEX('[1]Large Perf. PC'!$H$379:$X$467,MATCH(AN105,'[1]Large Perf. PC'!$C$379:$C$467,0),MATCH(Inputs!$C$2,'[1]Large Perf. PC'!$H$378:$X$378,0))","v":55.807948333210945},54.17]
["Curb Weight (lbs)",4189,null,null,null,"ABS","%",{"$f":"H103","v":1.0999999999999999E-2},"$",{"$f":"J103","v":98.103282519162363},"L",null,null,null,"5-spd",null,null,null,null,"ABS","%",{"$f":"V103","v":2.3400000000000001E-2},"$",{"$f":"X103","v":250.31750824336308},"L",null,null,null,"4/5-spd",null,null,null,null,"ABS","%",{"$f":"AJ103","v":3.1E-2},"$",{"$f":"AL103","v":55.807948333210945},"L"]
["Engine Displacement [L]",4.8,null,null,null,null,"Electric Power\nSteering (EPS) - TBL",null,null,null,null,"EPS",null,null,"Manual",null,null,null,null,null,"6 Speed Man/Imp.\nInternals (6MAN) - TBL",null,null,null,null,"6MAN",null,null,"Auto",null,null,null,null,null,"Imp. Auto Trans Cnrt./\nExternals (IATC) - TBL",null,null,null,null,"IATC"]
["Engine Power (HP)",398,null,null,"2017+","INC","%",{"$f":"H103","v":1.0999999999999999E-2},"$",{"$f":"J103","v":98.103282519162363},{"$f":"K103","v":95.93},null,null,null,null,null,null,null,"2017+","INC","%",2.3400000000000001E-2,"$",{"$f":"X103","v":250.31750824336308},225.33,null,null,null,null,null,null,null,"2017+","INC","%",{"$f":"AJ103","v":3.1E-2},"$",{"$f":"AL103","v":55.807948333210945},54.17]
["Engine Torque (ft-lbf)",388,null,null,null,"ABS","%",{"$f":"H106","v":1.0999999999999999E-2},"$",{"$f":"J106","v":98.103282519162363},"L",null,null,null,null,null,null,null,null,"ABS","%",{"$f":"V106","v":2.3400000000000001E-2},"$",{"$f":"X106","v":250.31750824336308},"L",null,null,null,null,null,null,null,null,"ABS","%",{"$f":"AJ106","v":3.1E-2},"$",{"$f":"AL106","v":55.807948333210945},"L"]
["Footprint (ft2)",51.1]
[]
[]
[null,null,null,null,"2012-2016","INC","%",{"$f":"1-((1-H112)/(1-H104))","v":1.0111223458038388E-2},"$",{"$f":"INDEX('[1]Large Perf. PC'!$H$379:$X$467,MATCH(L113,'[1]Large Perf. PC'!$C$379:$C$467,0),MATCH(Inputs!$C$2,'[1]Large Perf. PC'!$H$378:$X$378,0))","v":79.784981333734891},115.2,null,null,null,null,null,null,null,"2012-2016","INC","%",0,"$",0,100.55,null,null,null,null,null,null,null,"2012-2016","INC","%",{"$f":"1-((1-AJ112)/(1-AJ104))","v":2.0446860815357404E-2},"$",{"$f":"INDEX('[1]Large Perf. PC'!$H$379:$X$467,MATCH(AN113,'[1]Large Perf. PC'!$C$379:$C$467,0),MATCH(Inputs!$C$2,'[1]Large Perf. PC'!$H$378:$X$378,0))","v":-37.91558007744085},100.55]
[null,null,null,null,null,"ABS","%",2.1000000000000001E-2,"$",{"$f":"J104+J111","v":177.88826385289724},"L",null,null,null,null,null,null,null,null,"ABS","%",{"$f":"V104","v":2.3400000000000001E-2},"$",{"$f":"X111+X104","v":250.31750824336308},"L",null,null,null,null,null,null,null,null,"ABS","%",{"$f":"1-((1-6.6%)/(1-1.6%))","v":5.0813008130081383E-2},"$",{"$f":"AL111+AL104","v":17.892368255770094},"L"]
[null,null,null,null,null,null,"Improved Accessories 1\n(IACC1) - TBL",null,null,null,null,"IACC1",null,null,"From Engine Path\n2012-2016 ",null,null,null,null,null,"High Eff. Gearbox \n(Manual) -  (HETRANSM) - TBL",null,null,null,null,"HETRANS",null,null,null,null,null,null,null,null,"6-spd Auto Trans w/Imp\nInternals (NAUTO) - TBL",null,null,null,null,"NAUTO"]
[null,null,null,null,"2017+","INC","%",{"$f":"1-((1-H115)/(1-H107))","v":1.0111223458038388E-2},"$",{"$f":"J111","v":79.784981333734891},{"$f":"K111","v":115.2},null,null,null,null,null,null,null,"2017+","INC","%",{"$f":"1-((1-V115)/(1-V107))","v":3.8450576484453824E-2},"$",{"$f":"INDEX('[1]Large Perf. PC'!$H$379:$X$467,MATCH(Z113,'[1]Large Perf. PC'!$C$379:$C$467,0),MATCH(Inputs!$C$2,'[1]Large Perf. PC'!$H$378:$X$378,0))","v":227.42624881754446},10,null,null,null,null,null,null,null,"2017+","INC","%",{"$f":"1-((1-AJ115)/(1-AJ107))","v":2.0446860815357404E-2},"$",{"$f":"AL111","v":-37.91558007744085},10]
[null,null,null,null,null,"ABS","%",{"$f":"H112","v":2.1000000000000001E-2},"$",{"$f":"J107+J114","v":177.88826385289724},"L",null,null,null,null,null,null,null,null,"ABS","%",{"$f":"1-((1-7.56%)/(1-1.56%))","v":6.0950832994717596E-2},"$",{"$f":"X107+X114","v":477.74375706090757},"L",null,null,null,null,null,null,null,null,"ABS","%",{"$f":"AJ112","v":5.0813008130081383E-2},"$",{"$f":"AL107+AL114","v":17.892368255770094},"L"]
[]
[]
[]
[null,null,null,null,"2012-2016","INC","%",{"$f":"1-((1-H120)/(1-H112))","v":0},"$",0,0,"2012-2016","INC","%",{"$f":"1-((1-O120)/(((1-$O$87)*(1-$H$136)*(1-AJ144))))","v":6.1396947246053823E-2},"$",{"$f":"INDEX('[1]Large Perf. PC'!$H$379:$X$467,MATCH(M121,'[1]Large Perf. PC'!$C$379:$C$467,0),MATCH(Inputs!$C$2,'[1]Large Perf. PC'!$H$378:$X$378,0))\n+INDEX('[1]Large Perf. PC'!$H$379:$X$467,MATCH(S121,'[1]Large Perf. PC'!$C$379:$C$467,0),MATCH(Inputs!$C$2,'[1]Large Perf. PC'!$H$378:$X$378,0))","v":2469.9517730676016},"L",null,null,null,null,null,null,null,null,null,null,null,null,null,null,"2012-2016","INC","%",{"$f":"1-((1-AJ120)/(1-AJ112))","v":3.747323340471076E-2},"$",{"$f":"INDEX('[1]Large Perf. PC'!$H$379:$X$467,MATCH(AN121,'[1]Large Perf. PC'!$C$379:$C$467,0),MATCH(Inputs!$C$2,'[1]Large Perf. PC'!$H$378:$X$378,0))","v":-79.182210630830212},-10.47]
[null,null,null,null,null,"ABS","%",{"$f":"H112","v":2.1000000000000001E-2},"$",{"$f":"J112+J119","v":177.88826385289724},"L",null,"ABS","%",0.42199999999999999,"$",{"$f":"J136+Q119+AS87+AL144","v":5558.303982868887},33.86,null,null,null,null,null,null,null,null,null,null,null,null,null,null,null,"ABS","%",{"$f":"1-((1-10.1%)/(1-1.6%))","v":8.638211382113814E-2},"$",{"$f":"AL119+AL112","v":-61.289842375060118},"L"]
[null,null,null,null,null,null,"Improved Accessories 2\n(IACC2) - TBL",null,null,null,null,"IACC2","SHEV1_B","Strong Hybrid (Powersplit or 2-Mode) (SHEV1) - VBL",null,null,null,null,"SHEV1_NB",null,null,"From Engine Path\n2017+ ",null,null,null,null,null,null,null,null,null,null,null,null,"6-spd Dual Clutch Trans\n(DCT) - TBL",null,null,null,null,"DCT"]
[null,null,null,null,"2017+","INC","%",{"$f":"1-((1-H123)/(1-H115))","v":2.5536261491317713E-2},"$",{"$f":"INDEX('[1]Large Perf. PC'!$H$379:$X$467,MATCH(L121,'[1]Large Perf. PC'!$C$379:$C$467,0),MATCH(Inputs!$C$2,'[1]Large Perf. PC'!$H$378:$X$378,0))","v":50.780571415814975},0,"2017+","INC","%",0,"$",0,"L",null,null,null,null,null,null,null,null,null,null,null,null,null,null,"2017+","INC","%",{"$f":"1-((1-AJ123)/(1-AJ115))","v":3.747323340471076E-2},"$",{"$f":"AL119","v":-79.182210630830212},{"$f":"AM119","v":-10.47}]
[null,null,null,null,null,"ABS","%",4.5999999999999999E-2,"$",{"$f":"J115+J122","v":228.6688352687122},"L",null,"ABS","%",0,"$",{"$f":"Q116+Q122","v":0},0,null,null,null,null,null,null,null,null,null,null,null,null,null,null,null,"ABS","%",{"$f":"AJ120","v":8.638211382113814E-2},"$",{"$f":"AL115+AL122","v":-61.289842375060118},"L"]
[]
[]
[]
[null,null,null,null,"2012-2016","INC","%",{"$f":"H130","v":2.2012578616352085E-2},"$",{"$f":"INDEX('[1]Large Perf. PC'!$H$379:$X$467,MATCH(L129,'[1]Large Perf. PC'!$C$379:$C$467,0),MATCH(Inputs!$C$2,'[1]Large Perf. PC'!$H$378:$X$378,0))","v":349.31408178071149},259.67,"2012-2016","INC","%","n/a","$","n/a","L","2012-2016","INC","%",{"$f":"1-((1-V128)/(((1-$O$87)*(1-$H$136)*(1-AJ144))))","v":-0.62388071410717316},"$",0,"L",null,null,null,null,null,null,null,"2012-2016","INC","%",{"$f":"1-((1-AJ128)/(1-AJ120))","v":4.5606229143492882E-2},"$",{"$f":"INDEX('[1]Large Perf. PC'!$H$379:$X$467,MATCH(AN129,'[1]Large Perf. PC'!$C$379:$C$467,0),MATCH(Inputs!$C$2,'[1]Large Perf. PC'!$H$378:$X$378,0))","v":223.31892374342101},0]
[null,null,null,null,null,"ABS","%",{"$f":"H127+H120","v":4.301257861635209E-2},"$",{"$f":"J120+J127","v":527.20234563360873},"L",null,"ABS","%","n/a","$","n/a",0,null,"ABS","%",0,"$",0,0,null,null,null,null,null,null,null,null,"ABS","%",{"$f":"1-((1-14.2%)/(1-1.6%))","v":0.12804878048780488},"$",{"$f":"AL120+AL127","v":162.02908136836089},"M"]
[null,null,null,null,null,null,"12V Micro Hybrid - Stop-Start\n(MHEV) - TBL",null,null,null,null,"MHEV",null,"SHEV1 --> SHEV2",null,null,null,null,null,"SHEV2_B","Strong Hybrid (P2 Parallel or 2-Mode) (SHEV2) - VBL",null,null,null,null,"SHEV2_NB",null,null,null,null,null,null,null,null,"8-spd Trans (Auto or DCT)\n(8SPD) - TBL",null,null,null,null,"8SPD"]
[null,null,null,null,"2017+","INC","%",{"$f":"1-((1-H131)/(1-H123))","v":2.2012578616352085E-2},"$",{"$f":"J127","v":349.31408178071149},{"$f":"K127","v":259.67},"2017+","INC","%",{"$f":"1-((1-V131)/(1-O120))","v":0.12629757785467133},"$",{"$f":"Q131-Q120","v":1102.2397053785544},"L","2017+","INC","%",{"$f":"1-((1-V131)/(((1-$O$90)*(1-$H$139)*(1-AJ147))))","v":6.2681180287585958E-3},"$",{"$f":"INDEX('[1]Large Perf. PC'!$H$379:$X$467,MATCH(T129,'[1]Large Perf. PC'!$C$379:$C$467,0),MATCH(Inputs!$C$2,'[1]Large Perf. PC'!$H$378:$X$378,0))\n+INDEX('[1]Large Perf. PC'!$H$379:$X$467,MATCH(Z129,'[1]Large Perf. PC'!$C$379:$C$467,0),MATCH(Inputs!$C$2,'[1]Large Perf. PC'!$H$378:$X$378,0))","v":2469.9517730676016},"L",null,null,null,null,null,null,null,"2017+","INC","%",{"$f":"1-((1-AJ131)/(1-AJ123))","v":4.5606229143492882E-2},"$",{"$f":"AL127","v":223.31892374342101},10]
[null,null,null,null,null,"ABS","%",6.7000000000000004E-2,"$",{"$f":"J123+J130","v":577.98291704942369},"L",null,"ABS","%",{"$f":"V131","v":0.495},"$",{"$f":"X130+J139+Q90+AL147","v":6660.5436882474414},0,null,"ABS","%",0.495,"$",{"$f":"X130+J139+AS90+AL147","v":6369.5410446714068},33.86,null,null,null,null,null,null,null,null,"ABS","%",{"$f":"AJ128","v":0.12804878048780488},"$",{"$f":"AL123+AL130","v":162.02908136836089},"L"]
[]
[]
[]
[null,null,null,null,"2012-2016","INC","%",{"$f":"H138","v":6.4308681672025747E-2},"$",{"$f":"INDEX('[1]Large Perf. PC'!$H$379:$X$467,MATCH(F137,'[1]Large Perf. PC'!$C$379:$C$467,0),MATCH(Inputs!$C$2,'[1]Large Perf. PC'!$H$378:$X$378,0))\n+INDEX('[1]Large Perf. PC'!$H$379:$X$467,MATCH(L137,'[1]Large Perf. PC'!$C$379:$C$467,0),MATCH(Inputs!$C$2,'[1]Large Perf. PC'!$H$378:$X$378,0))","v":894.50928595954747},"L",null,null,null,null,null,null,null,"2012-2016","INC","%",{"$f":"1-((1-V136)/(1-V128))","v":0.35},"$",0,"L",null,null,null,null,null,null,null,"2012-2016","INC","%",{"$f":"1-((1-AJ136)/(1-AJ128))","v":0},"$",0,10]
[null,null,null,null,null,"ABS","%",{"$f":"H135+H128","v":0.10732126028837784},"$",{"$f":"J128+J135","v":1421.7116315931562},33.86,null,null,null,null,null,null,null,null,"ABS","%",0.35,"$",{"$f":"X135+X128","v":0},33.86,null,null,null,null,null,null,null,null,"ABS","%",{"$f":"AJ128","v":0.12804878048780488},"$",{"$f":"AL128+AL135","v":162.02908136836089},"L"]
[null,null,null,null,null,"ISG_B","Integrated Starter Generator\n(ISG) - VBL",null,null,null,null,"ISG_NB",null,null,null,null,null,null,null,"PHEV2_B","Plug-in Hybrid - 30 Mile Range  (PHEV1) - VBL",null,null,null,null,"PHEV2_NB",null,null,null,null,null,null,null,null,"High Eff. Gearbox\n(Auto or DCT) -  (HETRANS) - TBL",null,null,null,null,"HETRANS"]
[null,null,null,null,"2017+","INC","%",{"$f":"1-((1-H139)/(1-H131))","v":6.4308681672025747E-2},"$",{"$f":"J135","v":894.50928595954747},"L",null,null,null,null,null,null,null,"2017+","INC","%",0.40649999999999997,"$",{"$f":"INDEX('[1]Large Perf. PC'!$H$379:$X$467,MATCH(T137,'[1]Large Perf. PC'!$C$379:$C$467,0),MATCH(Inputs!$C$2,'[1]Large Perf. PC'!$H$378:$X$378,0))\n+INDEX('[1]Large Perf. PC'!$H$379:$X$467,MATCH(Z138,'[1]Large Perf. PC'!$C$379:$C$467,0),MATCH(Inputs!$C$2,'[1]Large Perf. PC'!$H$378:$X$378,0))\n+INDEX('[1]Large Perf. PC'!$H$379:$X$467,MATCH(Z139,'[1]Large Perf. PC'!$C$379:$C$467,0),MATCH(Inputs!$C$2,'[1]Large Perf. PC'!$H$378:$X$378,0))\n+INDEX('[1]Large Perf. PC'!$H$379:$X$467,MATCH(Z137,'[1]Large Perf. PC'!$C$379:$C$467,0),MATCH(Inputs!$C$2,'[1]Large Perf. PC'!$H$378:$X$378,0))","v":13822.161834328675},"L","PHEV2_C",null,null,null,null,null,null,"2017+","INC","%",{"$f":"1-((1-AJ139)/(1-AJ131))","v":2.5641025641025439E-2},"$",{"$f":"INDEX('[1]Large Perf. PC'!$H$379:$X$467,MATCH(AN137,'[1]Large Perf. PC'!$C$379:$C$467,0),MATCH(Inputs!$C$2,'[1]Large Perf. PC'!$H$378:$X$378,0))","v":227.42624881754446},10]
[null,null,null,null,null,"ABS","%",{"$f":"11.6%+H106","v":0.127},"$",{"$f":"J131+J138","v":1472.492203008971},33.86,null,null,null,null,null,null,null,null,"ABS","%",{"$f":"1-((1-V131)*(1-V138))","v":0.70028249999999992},"$",{"$f":"X138+X131","v":20191.702879000084},33.86,"CHRG_L",null,null,null,null,null,null,null,"ABS","%",{"$f":"1-((1-16.4%)/(1-1.6%))","v":0.15040650406504052},"$",{"$f":"AL131+AL138","v":389.45533018590538},"L"]
[]
[]
[]
[null,null,null,null,null,null,null,null,null,null,null,null,null,null,null,null,null,null,"2012-2016","INC","%",{"$f":"1-((1-V144)/(1-V136))","v":0},"$",0,"L",null,null,null,null,null,null,null,"2012-2016","INC","%",{"$f":"1-((1-AJ144)/(1-AJ136))","v":0},"$",0,10]
[null,null,null,null,null,null,null,null,null,null,null,null,null,null,null,null,null,null,null,"ABS","%",0.35,"$",{"$f":"X143+X136","v":0},33.86,null,null,null,null,null,null,null,null,"ABS","%",{"$f":"AJ136","v":0.12804878048780488},"$",{"$f":"AL136+AL143","v":162.02908136836089},"L"]
[null,null,null,null,null,null,null,null,null,"To Strong\nHybrid",null,null,null,null,null,null,null,null,null,"PHEV2_B","Plug-in Hybrid - VBL",null,null,null,null,"PHEV2_NB",null,null,null,null,null,null,null,null,"Shift Optimizer\n (SHFTOPT) - TBL",null,null,null,null,"SHFTOPT"]
[null,null,null,null,null,null,null,null,null,null,null,null,null,null,null,null,null,null,"2017+","INC","%",0,"$",0,"L","PHEV2_C",null,null,null,null,null,null,"2017+","INC","%",{"$f":"1-((1-AJ147)/(1-AJ139))","v":4.3062200956937802E-2},"$",{"$f":"INDEX('[1]Large Perf. PC'!$H$379:$X$467,MATCH(AN145,'[1]Large Perf. PC'!$C$379:$C$467,0),MATCH(Inputs!$C$2,'[1]Large Perf. PC'!$H$378:$X$378,0))","v":1.5123845546366708},10]
[null,null,null,null,null,null,null,null,null,null,null,null,null,null,null,null,null,null,null,"ABS","%",{"$f":"1-((1-V139)*(1-V146))","v":0.70028249999999992},"$",{"$f":"X146+X139","v":20191.702879000084},33.86,null,null,null,null,null,null,null,null,"ABS","%",{"$f":"1-((1-20%)/(1-1.6%))","v":0.18699186991869909},"$",{"$f":"AL139+AL146","v":390.96771474054208},"L"]
[]
[]
[]
[null,null,null,null,null,null,null,null,null,null,null,null,null,null,null,null,null,null,"2012-2016","INC","%",{"$f":"1-((1-V152)/(1-V144))","v":0},"$",0,"L",null,null,null,null,null,null,null,null,null,null,null,"To Strong\n     Hybrid"]
[null,null,null,null,null,null,null,null,null,null,null,null,null,null,null,null,null,null,null,"ABS","%",0.35,"$",{"$f":"X151+X144","v":0},33.86]
[null,null,null,null,null,null,null,null,null,null,null,null,null,null,null,null,null,null,null,"EV1_B","Electric Vehicle - Early Adopter \n75 Mile Range - (EV1) - VBL",null,null,null,null,"EV1_NB"]
[null,null,null,null,null,null,null,null,null,null,null,null,null,null,null,null,null,null,"2017+","INC","%",0.68540000000000001,"$",{"$f":"INDEX('[1]Large Perf. PC'!$H$379:$X$467,MATCH(T153,'[1]Large Perf. PC'!$C$379:$C$467,0),MATCH(Inputs!$C$2,'[1]Large Perf. PC'!$H$378:$X$378,0))\n+INDEX('[1]Large Perf. PC'!$H$379:$X$467,MATCH(Z154,'[1]Large Perf. PC'!$C$379:$C$467,0),MATCH(Inputs!$C$2,'[1]Large Perf. PC'!$H$378:$X$378,0))\n+INDEX('[1]Large Perf. PC'!$H$379:$X$467,MATCH(Z153,'[1]Large Perf. PC'!$C$379:$C$467,0),MATCH(Inputs!$C$2,'[1]Large Perf. PC'!$H$378:$X$378,0))","v":3614.84017234465},"L","EV_C"]
[null,null,null,null,null,null,null,null,null,null,null,null,null,null,null,null,null,null,null,"ABS","%",{"$f":"1-((1-V147)*(1-V154))","v":0.90570887449999993},"$",{"$f":"X154+X147","v":23806.543051344735},33.86]
[]
[]
[]
[null,null,null,null,null,null,null,null,null,null,null,null,null,null,null,null,null,null,"2012-2016","INC","%",{"$f":"1-((1-V160)/(1-V152))","v":0},"$",0,"L"]
[null,null,null,null,null,null,null,null,null,null,null,null,null,null,null,null,null,null,null,"ABS","%",0.35,"$",{"$f":"X159+X152","v":0},33.86]
[null,null,null,null,null,null,null,null,null,null,null,null,null,null,null,null,null,null,null,"EV2_B","Electric Vehicle - Early Adopter \n100 Mile Range - (EV2) - VBL",null,null,null,null,"EV2_NB"]
[null,null,null,null,null,null,null,null,null,null,null,null,null,null,null,null,null,null,"2017+","INC","%",0,"$",0,"L"]
[null,null,null,null,null,null,null,null,null,null,null,null,null,null,null,null,null,null,null,"ABS","%",{"$f":"1-((1-V155)*(1-V162))","v":0.90570887449999993},"$",{"$f":"X162+X155","v":23806.543051344735},33.86]
[]
[]
[]
[null,null,null,null,null,null,null,null,null,null,null,null,null,null,null,null,null,null,"2012-2016","INC","%",{"$f":"1-((1-V168)/(1-V160))","v":0},"$",0,"L"]
[null,null,null,null,null,null,null,null,null,null,null,null,null,null,null,null,null,null,null,"ABS","%",0.35,"$",{"$f":"X167+X160","v":0},33.86]
[null,null,null,null,null,null,null,null,null,null,null,null,null,null,null,null,null,null,null,"EV3_B","Electric Vehicle - Early Adopter \n150 Mile Range - (EV3) - VBL",null,null,null,null,"EV3_NB"]
[null,null,null,null,null,null,null,null,null,null,null,null,null,null,null,null,null,null,"2017+","INC","%",0,"$",0,"L"]
[null,null,null,null,null,null,null,null,null,null,null,null,null,null,null,null,null,null,null,"ABS","%",{"$f":"1-((1-V163)*(1-V170))","v":0.90570887449999993},"$",{"$f":"X170+X163","v":23806.543051344735},33.86]
[]
[]
[]
[null,null,null,null,null,null,null,null,null,null,null,"2012-2016","INC","%",{"$f":"1-((1-O176)/(1-V168))","v":0},"$",0,"L",null,null,null,null,null,null,null,"2012-2016","INC","%",{"$f":"1-((1-AC176)/(1-V168))","v":0},"$",0,"L"]
[null,null,null,null,null,null,null,null,null,null,null,null,"ABS","%",0.35,"$",{"$f":"Q175+X168","v":0},33.86,null,null,null,null,null,null,null,null,"ABS","%",0.35,"$",{"$f":"AE175+X168","v":0},33.86]
[null,null,null,null,null,null,null,null,null,null,null,null,"EV4_B","Electric Vehicle - Mass Market \n150 Mile Range - (EV4) - VBL",null,null,null,null,"EV4_NB",null,null,null,null,null,null,null,"FCV_B","Fuel Cell Vehicle\n(FCV) - VBL",null,null,null,null,"FCV_NB"]
[null,null,null,null,null,null,null,null,null,null,null,"2017+","INC","%",0,"$",{"$f":"INDEX('[1]Large Perf. PC'!$H$379:$X$467,MATCH(M177,'[1]Large Perf. PC'!$C$379:$C$467,0),MATCH(Inputs!$C$2,'[1]Large Perf. PC'!$H$378:$X$378,0))\n+INDEX('[1]Large Perf. PC'!$H$379:$X$467,MATCH(S177,'[1]Large Perf. PC'!$C$379:$C$467,0),MATCH(Inputs!$C$2,'[1]Large Perf. PC'!$H$378:$X$378,0))","v":7220.400018439841},"L",null,null,null,null,null,null,null,"2017+","INC","%",0,"$",{"$f":"INDEX('[1]Large Perf. PC'!$H$379:$X$467,MATCH(AA177,'[1]Large Perf. PC'!$C$379:$C$467,0),MATCH(Inputs!$C$2,'[1]Large Perf. PC'!$H$378:$X$378,0))\n+INDEX('[1]Large Perf. PC'!$H$379:$X$467,MATCH(AG177,'[1]Large Perf. PC'!$C$379:$C$467,0),MATCH(Inputs!$C$2,'[1]Large Perf. PC'!$H$378:$X$378,0))","v":{"$error":"#N/A"}},"L"]
[null,null,null,null,null,null,null,null,null,null,null,null,"ABS","%",{"$f":"1-((1-V171)*(1-O178))","v":0.90570887449999993},"$",{"$f":"Q178+X171","v":31026.943069784575},33.86,null,null,null,null,null,null,null,null,"ABS","%",{"$f":"1-((1-V171)*(1-AC178))","v":0.90570887449999993},"$",{"$f":"AE178+X171","v":{"$error":"#N/A"}},33.86]
[]
[]
[]
[]
[]
["Vehicle Technology Decision Tree"]
[]
[]
[]
[null,null,"ABS - WR",{"$f":"'[1]Large Perf. PC'!$M$82","v":1.4999999999999999E-2},"2012-2016","INC","%",{"$f":"IF(D189<5%, D189*(3.5/10), D189*(5.1/10))","v":5.2499999999999995E-3},"$",{"$f":"INDEX('[1]Large Perf. PC'!$H$379:$X$467,MATCH(L191,'[1]Large Perf. PC'!$C$379:$C$467,0),MATCH(Inputs!$C$2,'[1]Large Perf. PC'!$H$378:$X$378,0))","v":6.9721687344265801E-2},1.33,null,null,null,null,null,null,null,"2012-2016","INC","%",1.9E-2,"$",{"$f":"INDEX('[1]Large Perf. PC'!$H$379:$X$467,MATCH(Z191,'[1]Large Perf. PC'!$C$379:$C$467,0),MATCH(Inputs!$C$2,'[1]Large Perf. PC'!$H$378:$X$378,0))","v":6.4396392400348512},5.15,null,null,null,null,null,null,null,"2012-2016","INC","%",8.0000000000000002E-3,"$",{"$f":"INDEX('[1]Large Perf. PC'!$H$379:$X$467,MATCH(AN191,'[1]Large Perf. PC'!$C$379:$C$467,0),MATCH(Inputs!$C$2,'[1]Large Perf. PC'!$H$378:$X$378,0))","v":70.836031640383368},5.15,null,null,null,null,null,null,null,"2012-2016","INC","%",2.3E-2,"$",{"$f":"INDEX('[1]Large Perf. PC'!$H$379:$X$467,MATCH(BB191,'[1]Large Perf. PC'!$C$379:$C$467,0),MATCH(Inputs!$C$2,'[1]Large Perf. PC'!$H$378:$X$378,0))","v":43.857938067390236},5.15]
[null,null,null,null,null,"ABS","%",{"$f":"H189","v":5.2499999999999995E-3},"$",{"$f":"J189","v":6.9721687344265801E-2},"L",null,null,null,null,null,null,null,null,"ABS","%",{"$f":"V189","v":1.9E-2},"$",{"$f":"X189","v":6.4396392400348512},"L",null,null,null,null,null,null,null,null,"ABS","%",{"$f":"AJ189","v":8.0000000000000002E-3},"$",{"$f":"AL189","v":70.836031640383368},"L",null,null,null,null,null,null,null,null,"ABS","%",{"$f":"AX189","v":2.3E-2},"$",{"$f":"AZ189","v":43.857938067390236},"L"]
[null,null,null,null,null,null,"Mass Reduction\n(MR1) - ($/pound) - TBL",null,null,null,null,"MR1",null,null,null,null,null,null,null,null,"Low Roll Resistance Tires 1\n (ROLL1) - No Learning Applied",null,null,null,null,"ROLL1",null,null,null,null,null,null,null,null,"Low Drag Brakes (LDB)\nNo Learning Applied",null,null,null,null,"LDB",null,null,null,null,null,null,null,null,"Aerodynamic Drag Reduction 1\n (AERO1) - No Learming Applied",null,null,null,null,"AERO1"]
[null,null,null,null,"2017+","INC","%",{"$f":"H189","v":5.2499999999999995E-3},"$",{"$f":"J189","v":6.9721687344265801E-2},1.33,null,null,null,null,null,null,null,"2017+","INC","%",{"$f":"V189","v":1.9E-2},"$",{"$f":"X189","v":6.4396392400348512},5.15,null,null,null,null,null,null,null,"2017+","INC","%",{"$f":"AJ189","v":8.0000000000000002E-3},"$",{"$f":"AL189","v":70.836031640383368},5.15,null,null,null,null,null,null,null,"2017+","INC","%",{"$f":"AX189","v":2.3E-2},"$",{"$f":"AZ189","v":43.857938067390236},5.15]
[null,null,null,null,null,"ABS","%",{"$f":"H192","v":5.2499999999999995E-3},"$",{"$f":"J192","v":6.9721687344265801E-2},"L",null,null,null,null,null,null,null,null,"ABS","%",{"$f":"V192","v":1.9E-2},"$",{"$f":"X192","v":6.4396392400348512},"L",null,null,null,null,null,null,null,null,"ABS","%",{"$f":"AJ192","v":8.0000000000000002E-3},"$",{"$f":"AL192","v":70.836031640383368},"L",null,null,null,null,null,null,null,null,"ABS","%",{"$f":"AX192","v":2.3E-2},"$",{"$f":"AZ192","v":43.857938067390236},"L"]
[]
[]
[]
[null,null,"INC - WR",{"$f":"'[1]Large Perf. PC'!$M$83","v":0.06},"2012-2016","INC","%",{"$f":"1-((1-H198)/(1-H190))","v":3.3174164362905323E-2},"$",{"$f":"INDEX('[1]Large Perf. PC'!$H$379:$X$467,MATCH(L199,'[1]Large Perf. PC'!$C$379:$C$467,0),MATCH(Inputs!$C$2,'[1]Large Perf. PC'!$H$378:$X$378,0))","v":0.41833012406559472},1.33,null,null,null,null,null,null,null,"2012-2016","INC","%",{"$f":"1-((1-V198)/(1-V190))","v":2.0387359836901098E-2},"$",{"$f":"0","v":0},5.15,null,null,null,null,null,null,null,"2012-2016","INC","%",1.4E-2,"$",{"$f":"INDEX('[1]Large Perf. PC'!$H$379:$X$467,MATCH(AN199,'[1]Large Perf. PC'!$C$379:$C$467,0),MATCH(Inputs!$C$2,'[1]Large Perf. PC'!$H$378:$X$378,0))","v":87.568251496242709},5.15,null,null,null,null,null,null,null,"2012-2016","INC","%",{"$f":"1-((1-AX198)/(1-AX190))","v":2.4564994882292801E-2},"$",{"$f":"INDEX('[1]Large Perf. PC'!$H$379:$X$467,MATCH(BB199,'[1]Large Perf. PC'!$C$379:$C$467,0),MATCH(Inputs!$C$2,'[1]Large Perf. PC'!$H$378:$X$378,0))","v":154.95277498661324},5.15]
[null,null,"ABS - WR",{"$f":"D197+D189","v":7.4999999999999997E-2},null,"ABS","%",{"$f":"IF(D198<5%,D198 D198*(3.5/10), D198*(5.1/10))","v":3.8249999999999999E-2},"$",{"$f":"J197","v":0.41833012406559472},"L",null,null,null,null,null,null,null,null,"ABS","%",3.9E-2,"$",{"$f":"X190+X197","v":6.4396392400348512},"L",null,null,null,null,null,null,null,null,"ABS","%",{"$f":"1-(1-AJ190)*(1-AJ197)","v":2.1888000000000019E-2},"$",{"$f":"AL190+AL197","v":158.40428313662608},"L",null,null,null,null,null,null,null,null,"ABS","%",4.7E-2,"$",{"$f":"AZ190+AZ197","v":198.81071305400349},"L"]
[null,null,null,null,null,null,"Mass Reduction\n(MR2) - ($/pound) - TBL",null,null,null,null,"MR2",null,null,null,null,null,null,null,null,"Low Roll Resistance Tires 2\n (ROLL2) - No Learning Applied",null,null,null,null,"ROLL2",null,null,null,null,null,null,null,null,"Secondary Axle Discon. (SAXU/SAXL)\nTBL",null,null,null,null,"SAX",null,null,null,null,null,null,null,null,"Aerodynamic Drag Reduction 2\n (AERO2) - No Learming Applied",null,null,null,null,"AERO2"]
[null,null,null,null,"2017+","INC","%",{"$f":"1-((1-H201)/(1-H193))","v":3.3174164362905323E-2},"$",{"$f":"J197","v":0.41833012406559472},1.33,null,null,null,null,null,null,null,"2017+","INC","%",{"$f":"1-((1-V201)/(1-V193))","v":2.0387359836901098E-2},"$",{"$f":"INDEX('[1]Large Perf. PC'!$H$379:$X$467,MATCH(Z199,'[1]Large Perf. PC'!$C$379:$C$467,0),MATCH(Inputs!$C$2,'[1]Large Perf. PC'!$H$378:$X$378,0))","v":50.173232527734726},5.15,null,null,null,null,null,null,null,"2017+","INC","%",1.2999999999999999E-2,"$",{"$f":"AL197","v":87.568251496242709},5.15,null,null,null,null,null,null,null,"2017+","INC","%",{"$f":"1-((1-AX201)/(1-AX193))","v":2.4564994882292801E-2},"$",{"$f":"AZ197","v":154.95277498661324},5.15]
[null,null,null,null,null,"ABS","%",{"$f":"IF(D198<5%, D198*(3.5/10), D198*(5.1/10))","v":3.8249999999999999E-2},"$",{"$f":"J200","v":0.41833012406559472},"L",null,null,null,null,null,null,null,null,"ABS","%",{"$f":"V198","v":3.9E-2},"$",{"$f":"X193+X200","v":56.612871767769576},"L",null,null,null,null,null,null,null,null,"ABS","%",{"$f":"1-(1-AJ193)*(1-AJ200)","v":2.0896000000000026E-2},"$",{"$f":"AL193+AL200","v":158.40428313662608},"L",null,null,null,null,null,null,null,null,"ABS","%",{"$f":"AX198","v":4.7E-2},"$",{"$f":"AZ193+AZ200","v":198.81071305400349},"L"]
[]
[]
[]
[null,null,"INC - WR",{"$f":"'[1]Large Perf. PC'!$M$84","v":2.5000000000000008E-2},"2012-2016","INC","%",{"$f":"1-((1-H206)/(1-H198))","v":1.3257083441642892E-2},"$",{"$f":"INDEX('[1]Large Perf. PC'!$H$379:$X$467,MATCH(L207,'[1]Large Perf. PC'!$C$379:$C$467,0),MATCH(Inputs!$C$2,'[1]Large Perf. PC'!$H$378:$X$378,0))","v":0.81341968568310108},1.33,null,null,null,null,null,null,null,"2012-2016","INC","%",0,"$",0,0]
[null,null,"ABS - WR",{"$f":"D205+D198","v":0.1},null,"ABS","%",{"$f":"IF(D206<5%, D206*(3.5/10), D206*(5.1/10))","v":5.1000000000000004E-2},"$",{"$f":"J205","v":0.81341968568310108},"L",null,null,null,null,null,null,null,null,"ABS","%",{"$f":"1-((1-V198)*(1-V205))","v":3.9000000000000035E-2},"$",{"$f":"X198+X205","v":6.4396392400348512},"L"]
[null,null,null,null,null,null,"Mass Reduction\n(MR3) - ($/pound) - TBL",null,null,null,null,"MR3",null,null,null,null,null,null,null,null,"Low Roll Resistance Tires 3\n (ROLL3) - No Learning Applied"]
[null,null,null,null,"2017+","INC","%",{"$f":"1-((1-H209)/(1-H201))","v":1.3257083441642892E-2},"$",{"$f":"J205","v":0.81341968568310108},1.33,null,null,null,null,null,null,null,"2017+","INC","%",0,"$",{"$f":"X205","v":0},0]
[null,null,null,null,null,"ABS","%",{"$f":"IF(D206<5%, D206*(3.5/10), D206*(5.1/10))","v":5.1000000000000004E-2},"$",{"$f":"J208","v":0.81341968568310108},"L",null,null,null,null,null,null,null,null,"ABS","%",{"$f":"1-((1-V201)*(1-V208))","v":3.9000000000000035E-2},"$",{"$f":"X201+X208","v":56.612871767769576},"L"]
[]
[]
[]
[null,null,"INC - WR",{"$f":"'[1]Large Perf. PC'!$M$85","v":0},"2012-2016","INC","%",{"$f":"1-((1-H214)/(1-H206))","v":0},"$",{"$f":"INDEX('[1]Large Perf. PC'!$H$379:$X$467,MATCH(L215,'[1]Large Perf. PC'!$C$379:$C$467,0),MATCH(Inputs!$C$2,'[1]Large Perf. PC'!$H$378:$X$378,0))","v":0},1.33]
[null,null,"ABS - WR",{"$f":"D213+D206","v":0.1},null,"ABS","%",{"$f":"IF(D214<5%, D214*(3.5/10), D214*(5.1/10))","v":5.1000000000000004E-2},"$",{"$f":"J213","v":0},"L"]
[null,null,null,null,null,null,"Mass Reduction\n(MR4) - ($/pound) - TBL",null,null,null,null,"MR4"]
[null,null,null,null,"2017+","INC","%",{"$f":"1-((1-H217)/(1-H209))","v":0},"$",{"$f":"J213","v":0},1.33]
[null,null,null,null,null,"ABS","%",{"$f":"IF(D214<5%, D214*(3.5/10), D214*(5.1/10))","v":5.1000000000000004E-2},"$",{"$f":"J216","v":0},"L"]
[]
[]
[]
[null,null,"INC - WR",{"$f":"'[1]Large Perf. PC'!$M$86","v":0},"2012-2016","INC","%",{"$f":"1-((1-H222)/(1-H214))","v":0},"$",{"$f":"INDEX('[1]Large Perf. PC'!$H$379:$X$467,MATCH(L223,'[1]Large Perf. PC'!$C$379:$C$467,0),MATCH(Inputs!$C$2,'[1]Large Perf. PC'!$H$378:$X$378,0))","v":0},1.33]
[null,null,"ABS - WR",{"$f":"D221+D214","v":0.1},null,"ABS","%",{"$f":"IF(D222<5%, D222*(3.5/10), D222*(5.1/10))","v":5.1000000000000004E-2},"$",{"$f":"J221","v":0},"L"]
[null,null,null,null,null,null,"Mass Reduction\n(MR5) - ($/pound) - TBL",null,null,null,null,"MR5"]
[null,null,null,null,"2017+","INC","%",{"$f":"1-((1-H225)/(1-H217))","v":0},"$",{"$f":"J221","v":0},1.33]
[null,null,null,null,null,"ABS","%",{"$f":"IF(D222<5%, D222*(3.5/10), D222*(5.1/10))","v":5.1000000000000004E-2},"$",{"$f":"J224","v":0},"L"]

{"sheet":"Small LT","index":10,"n_rows":225,"n_cols":173,"rows_kept":225,"cut":false,"hidden":false,"merged":[[77,172,78,172],[97,0,97,38],[0,0,0,172],[188,32,189,32],[190,34,190,38],[191,32,192,32],[196,32,197,32],[198,34,198,38],[199,32,200,32],[100,4,100,11],[102,18,103,18],[104,20,104,24],[105,18,106,18],[100,21,100,23],[102,32,103,32],[137,4,138,4],[113,4,114,4],[118,4,119,4],[121,4,122,4],[126,4,127,4],[129,4,130,4],[134,4,135,4],[104,34,104,38],[105,32,106,32],[120,13,120,17],[128,13,128,17],[144,9,149,10],[150,36,152,37],[120,21,122,23],[112,14,114,16],[176,27,176,31],[136,20,136,24],[144,20,144,24],[160,20,160,24],[168,20,168,24],[176,13,176,17],[152,20,152,24],[128,20,128,24],[120,6,120,10],[128,6,128,10],[136,6,136,10],[118,32,119,32],[136,34,136,38],[137,32,138,32],[142,32,143,32],[198,20,198,24],[199,18,200,18],[204,18,205,18],[206,20,206,24],[207,18,208,18],[100,33,100,38],[200,95,201,95],[209,32,210,32],[190,81,190,85],[144,34,144,38],[145,32,146,32],[110,18,111,18],[112,20,112,24],[113,18,114,18],[204,32,205,32],[207,32,208,32],[188,18,189,18],[190,20,190,24],[191,18,192,18],[196,18,197,18],[110,32,111,32],[112,34,112,38],[113,32,114,32],[134,32,135,32],[23,90,23,94],[71,55,71,59],[71,69,71,73],[71,83,71,87],[72,53,73,53],[72,67,73,67],[72,81,73,81],[63,83,63,87],[80,67,81,67],[80,74,81,74],[80,81,81,81],[77,53,78,53],[77,60,78,60],[77,67,78,67],[77,74,78,74],[77,81,78,81],[31,69,31,73],[29,67,30,67],[79,83,79,87],[64,81,65,81],[69,53,70,53],[69,67,70,67],[69,81,70,81],[31,111,31,115],[85,109,86,109],[85,116,86,116],[32,109,33,109],[37,109,38,109],[39,111,39,115],[40,109,41,109],[45,109,46,109],[47,111,47,115],[48,109,49,109],[80,116,81,116],[77,116,78,116],[29,109,30,109],[64,95,65,95],[64,109,65,109],[80,88,81,88],[80,95,81,95],[80,102,81,102],[80,109,81,109],[61,95,62,95],[61,109,62,109],[53,95,54,95],[53,109,54,109],[72,95,73,95],[72,109,73,109],[77,102,78,102],[77,109,78,109],[77,88,78,88],[77,95,78,95],[77,46,78,46],[53,11,54,11],[55,13,55,17],[56,11,57,11],[56,53,57,53],[56,67,57,67],[53,39,54,39],[55,41,55,45],[56,39,57,39],[63,41,63,45],[88,11,89,11],[69,11,70,11],[71,13,71,17],[72,11,73,11],[61,11,62,11],[63,13,63,17],[64,11,65,11],[77,11,78,11],[79,13,79,17],[6,31,7,31],[3,31,4,31],[6,32,7,32],[3,32,4,32],[5,90,5,94],[6,88,7,88],[53,53,54,53],[53,67,54,67],[53,81,54,81],[3,60,4,60],[5,62,5,66],[6,60,7,60],[3,74,4,74],[5,76,5,80],[6,74,7,74],[32,67,33,67],[40,67,41,67],[45,67,46,67],[47,69,47,73],[24,88,25,88],[15,90,15,94],[13,88,14,88],[16,88,17,88],[21,88,22,88],[3,88,4,88],[37,67,38,67],[39,69,39,73],[56,81,57,81],[61,53,62,53],[61,67,62,67],[61,81,62,81],[61,39,62,39],[63,55,63,59],[63,69,63,73],[55,55,55,59],[55,69,55,73],[55,83,55,87],[48,67,49,67],[79,27,79,31],[80,18,81,18],[80,25,81,25],[21,25,22,25],[24,25,25,25],[29,25,30,25],[32,25,33,25],[80,11,81,11],[87,41,87,45],[85,11,86,11],[87,13,87,17],[87,34,87,38],[23,27,23,31],[31,27,31,31],[64,39,65,39],[69,39,70,39],[72,25,73,25],[77,18,78,18],[77,25,78,25],[88,32,89,32],[88,39,89,39],[63,27,63,31],[64,25,65,25],[69,25,70,25],[71,27,71,31],[79,55,79,59],[79,69,79,73],[87,48,87,52],[87,55,87,59],[87,62,87,66],[87,69,87,73],[71,41,71,45],[72,39,73,39],[77,32,78,32],[77,39,78,39],[79,41,79,45],[80,32,81,32],[80,39,81,39],[85,32,86,32],[85,39,86,39],[64,53,65,53],[64,67,65,67],[85,46,86,46],[85,53,86,53],[85,60,86,60],[85,67,86,67],[85,74,86,74],[85,81,86,81],[196,46,197,46],[198,48,198,52],[199,46,200,46],[185,113,185,116],[191,80,192,80],[188,46,189,46],[190,48,190,52],[191,46,192,46],[200,102,201,102],[200,109,201,109],[200,116,201,116],[88,46,89,46],[88,53,89,53],[88,60,89,60],[88,67,89,67],[88,74,89,74],[88,81,89,81],[87,83,87,87],[85,88,86,88],[85,95,86,95],[85,102,86,102],[88,88,89,88],[88,95,89,95],[88,102,89,102],[88,109,89,109],[88,116,89,116],[87,90,87,94],[88,158,89,158],[87,97,87,101],[87,104,87,108],[87,111,87,115],[87,118,87,122],[77,123,78,123],[79,97,79,101],[79,111,79,115],[79,125,79,129],[85,130,86,130],[85,137,86,137],[85,144,86,144],[85,151,86,151],[80,123,81,123],[53,165,54,165],[55,139,55,143],[55,153,55,157],[88,165,89,165],[72,137,73,137],[72,151,73,151],[63,139,63,143],[85,158,86,158],[88,123,89,123],[80,130,81,130],[80,137,81,137],[80,144,81,144],[87,125,87,129],[77,130,78,130],[77,137,78,137],[77,144,78,144],[77,151,78,151],[87,132,87,136],[87,139,87,143],[87,146,87,150],[85,123,86,123],[88,130,89,130],[88,137,89,137],[88,144,89,144],[85,165,86,165],[87,167,87,171],[63,167,63,171],[64,137,65,137],[64,151,65,151],[64,165,65,165],[69,137,70,137],[69,151,70,151],[69,165,70,165],[71,139,71,143],[71,153,71,157],[71,167,71,171],[87,160,87,164],[80,158,81,158],[80,151,81,151],[87,153,87,157],[77,158,78,158],[63,153,63,157],[72,165,73,165],[77,165,78,165],[79,139,79,143],[79,153,79,157],[79,167,79,171],[80,165,81,165],[55,167,55,171],[56,165,57,165],[61,137,62,137],[61,151,62,151],[61,165,62,165],[71,125,71,129],[63,125,63,129],[69,95,70,95],[69,109,70,109],[69,123,70,123],[56,123,57,123],[71,97,71,101],[71,111,71,115],[64,123,65,123],[61,123,62,123],[63,97,63,101],[63,111,63,115],[23,153,23,157],[24,151,25,151],[102,4,103,4],[104,6,104,10],[29,151,30,151],[31,153,31,157],[32,151,33,151],[37,151,38,151],[39,153,39,157],[40,151,41,151],[45,151,46,151],[47,153,47,157],[48,151,49,151],[53,123,54,123],[55,97,55,101],[55,111,55,115],[55,125,55,129],[56,95,57,95],[56,109,57,109],[87,76,87,80],[72,123,73,123],[80,46,81,46],[80,53,81,53],[80,60,81,60],[21,151,22,151],[56,137,57,137],[56,151,57,151],[185,148,185,151],[200,130,201,130],[200,137,201,137],[200,144,201,144],[200,151,201,151],[53,137,54,137],[53,151,54,151],[88,151,89,151],[220,4,221,4],[222,6,222,10],[223,4,224,4],[105,4,106,4],[110,4,111,4],[112,6,112,10],[85,4,86,4],[87,6,87,10],[88,4,89,4],[212,4,213,4],[214,6,214,10],[215,4,216,4],[188,4,189,4],[190,6,190,10],[191,4,192,4],[196,4,197,4],[198,6,198,10],[199,4,200,4],[204,4,205,4],[206,6,206,10],[207,4,208,4],[1,0,2,0],[120,34,120,38],[121,32,122,32],[126,32,127,32],[128,34,128,38],[129,32,130,32],[77,4,78,4],[80,4,81,4],[87,27,87,31],[88,18,89,18],[88,25,89,25],[39,27,39,31],[47,27,47,31],[37,25,38,25],[40,25,41,25],[45,25,46,25],[48,25,49,25],[53,25,54,25],[55,27,55,31],[56,25,57,25],[61,25,62,25],[85,18,86,18],[85,25,86,25],[87,20,87,24]]}
["Full Engine Technology Decision Tree"]
[]
[null,"START"]
["Gas Engine Type","I4",null,null,null,null,null,null,null,null,null,null,null,null,null,null,null,null,null,null,null,null,null,null,null,null,null,null,null,null,null,null,null,null,null,null,null,null,null,null,null,null,null,null,null,null,null,null,null,null,null,null,null,null,null,null,null,null,null,null,"2012-2016","INC","%",6.0000000000000001E-3,"$",{"$f":"INDEX('[1]Small LT'!$H$379:$X$467,MATCH(BP6,'[1]Small LT'!$C$379:$C$467,0),MATCH(Inputs!$C$2,'[1]Small LT'!$H$378:$X$378,0))","v":3.8637835440209107},10,null,null,null,null,null,null,null,"2012-2016","INC","%",0.02,"$",{"$f":"INDEX('[1]Small LT'!$H$379:$X$467,MATCH(CD6,'[1]Small LT'!$C$379:$C$467,0),MATCH(Inputs!$C$2,'[1]Small LT'!$H$378:$X$378,0))*$B$13","v":58.092224089511433},10,null,null,null,null,null,null,null,"2012-2016","INC","%",{"$f":"1-((1-CN5)/(1-BZ5))","v":0},"$",0,"L"]
["Displacement [L]",2.2000000000000002,null,null,null,null,null,null,null,null,null,null,null,null,null,null,null,null,null,null,null,null,null,null,null,null,null,null,null,null,null,null,null,null,null,null,null,null,null,null,null,null,null,null,null,null,null,null,null,null,null,null,null,null,null,null,null,null,null,null,null,"ABS","%",{"$f":"BL4","v":6.0000000000000001E-3},"$",{"$f":"BN4","v":3.8637835440209107},"L",null,null,null,null,null,null,null,null,"ABS","%",{"$f":"1-((1-BL5)*(1-BZ4))","v":2.5880000000000014E-2},"$",{"$f":"BN5+CB4","v":61.956007633532344},"L",null,null,null,null,null,null,null,null,"ABS","%",{"$f":"BZ5","v":2.5880000000000014E-2},"$",{"$f":"CB5","v":61.956007633532344},0]
["Turbocharger","None",null,null,null,null,null,null,null,null,null,null,null,null,null,null,null,null,null,null,null,null,null,null,null,null,null,null,null,null,null,null,null,null,null,null,null,null,null,null,null,null,null,null,null,null,null,null,null,null,null,null,null,null,null,null,null,null,null,null,null,null,"Low-Friction Lubricants 1\n(LUB1) - No Learning Applied",null,null,null,null,"LUB1",null,null,null,null,null,null,null,null,"Engine Friction Reduction 1\n(EFR1) - No Learning Applied",null,null,null,null,"EFR1",null,null,null,null,null,null,null,null,"Low-Friction Lub & Engine Friction\nRedux 2 (LUB2_EFR2) - \nNo Learning Applied",null,null,null,null,"LUB2_EFR2"]
["EGR system","External",null,null,null,null,null,null,null,null,null,null,null,null,null,null,null,null,null,null,null,null,null,null,null,null,null,null,null,null,null,null,null,null,null,null,null,null,null,null,null,null,null,null,null,null,null,null,null,null,null,null,null,null,null,null,null,null,null,null,"2017+","INC","%",{"$f":"BL4","v":6.0000000000000001E-3},"$",{"$f":"BN4","v":3.8637835440209107},10,null,null,null,null,null,null,null,"2017+","INC","%",{"$f":"BZ4","v":0.02},"$",{"$f":"CB4","v":58.092224089511433},10,null,null,null,null,null,null,null,"2017+","INC","%",{"$f":"1-((1-CN8)/(1-BZ8))","v":8.3357286576603018E-3},"$",{"$f":"INDEX('[1]Small LT'!$H$379:$X$467,MATCH(CR6,'[1]Small LT'!$C$379:$C$467,0),MATCH(Inputs!$C$2,'[1]Small LT'!$H$378:$X$378,0))*$B$13","v":62.840731829291514},"L"]
["Valvetrain","SOHC/ DOHC/ OHV",null,null,null,null,null,null,null,null,null,null,null,null,null,null,null,null,null,null,null,null,null,null,null,null,null,null,null,null,null,null,null,null,null,null,null,null,null,null,null,null,null,null,null,null,null,null,null,null,null,null,null,null,null,null,null,null,null,null,null,"ABS","%",{"$f":"BL7","v":6.0000000000000001E-3},"$",{"$f":"BN7","v":3.8637835440209107},"L",null,null,null,null,null,null,null,null,"ABS","%",{"$f":"1-((1-BL8)*(1-BZ7))","v":2.5880000000000014E-2},"$",{"$f":"BN8+CB7","v":61.956007633532344},"L",null,null,null,null,null,null,null,null,"ABS","%",3.4000000000000002E-2,"$",{"$f":"CB8+CP7","v":124.79673946282387},33.86]
["After Treatment","3way cat"]
[]
[null,null,null,null,null,null,null,null,null,null,null,null,null,null,null,null,null,null,null,null,null,null,null,null,null,null,null,null,null,null,"SOHC",null,null,null,null,null,null,null,null,null,null,null,null,null,null,null,null,null,null,null,null,null,null,null,null,null,null,null,null,null,null,null,null,null,null,null,null,null,null,null,null,null,null,null,null,null,null,null,null,null,null,null,null,null,null,null,null,null,null,null,null,null,null,"DOHC",null,null,null,null,null,null,null,null,null,null,null,null,null,null,null,null,null,null,null,null,null,null,null,null,null,null,null,null,null,null,null,null,null,null,null,null,null,null,null,null,null,null,null,null,null,null,null,null,null,null,null,null,null,null,null,null,null,null,null,"OHV"]
[]
["Cylinders",{"$f":"IF(B4=\"I4\",4,IF(B4=\"V6\",6,8))","v":4}]
["Cylinder Banks",{"$f":"IF(B4=\"I4\",1,2)","v":1},null,null,null,null,null,null,null,null,null,null,null,null,null,null,null,null,null,null,null,null,null,null,null,null,null,null,null,null,null,null,null,null,null,null,null,null,null,null,null,null,null,null,null,null,null,null,null,null,null,null,null,null,null,null,null,null,null,null,null,null,null,null,null,null,null,null,null,null,null,null,null,null,null,null,null,null,null,null,null,null,null,null,null,null,null,null,"2012-2016","INC","%",{"$f":"CN17","v":2.1739130434782594E-2},"$",{"$f":"INDEX('[1]Small LT'!$H$379:$X$467,MATCH(CR16,'[1]Small LT'!$C$379:$C$467,0),MATCH(Inputs!$C$2,'[1]Small LT'!$H$378:$X$378,0))*$B$14","v":41.549625537527582},10]
[null,null,null,null,null,null,null,null,null,null,null,null,null,null,null,null,null,null,null,null,null,null,null,null,null,null,null,null,null,null,null,null,null,null,null,null,null,null,null,null,null,null,null,null,null,null,null,null,null,null,null,null,null,null,null,null,null,null,null,null,null,null,null,null,null,null,null,null,null,null,null,null,null,null,null,null,null,null,null,null,null,null,null,null,null,null,null,null,null,"ABS","%",{"$f":"1-((1-CN5)*(1-CN14))","v":4.7056521739130441E-2},"$",{"$f":"CP5+CP14","v":103.50563317105993},"L"]
[null,null,null,null,null,null,null,null,null,null,null,null,null,null,null,null,null,null,null,null,null,null,null,null,null,null,null,null,null,null,null,null,null,null,null,null,null,null,null,null,null,null,null,null,null,null,null,null,null,null,null,null,null,null,null,null,null,null,null,null,null,null,null,null,null,null,null,null,null,null,null,null,null,null,null,null,null,null,null,null,null,null,null,null,null,null,null,null,null,null,"Intake Cam Phasing\n(ICP) - TBL",null,null,null,null,"ICP"]
[null,null,null,null,null,null,null,null,null,null,null,null,null,null,null,null,null,null,null,null,null,null,null,null,null,null,null,null,null,null,null,null,null,null,null,null,null,null,null,null,null,null,null,null,null,null,null,null,null,null,null,null,null,null,null,null,null,null,null,null,null,null,null,null,null,null,null,null,null,null,null,null,null,null,null,null,null,null,null,null,null,null,null,null,null,null,null,null,"2017+","INC","%",{"$f":"1-((1-CN18)/(1-CN8))","v":2.1739130434782594E-2},"$",{"$f":"CP14","v":41.549625537527582},10]
[null,null,null,null,null,null,null,null,null,null,null,null,null,null,null,null,null,null,null,null,null,null,null,null,null,null,null,null,null,null,null,null,null,null,null,null,null,null,null,null,null,null,null,null,null,null,null,null,null,null,null,null,null,null,null,null,null,null,null,null,null,null,null,null,null,null,null,null,null,null,null,null,null,null,null,null,null,null,null,null,null,null,null,null,null,null,null,null,null,"ABS","%",5.5E-2,"$",{"$f":"CP8+CP17","v":166.34636500035145},"L"]
[]
[]
[]
["Notes: ","(1) All costs shown in $2009",null,null,null,null,null,null,null,null,null,null,null,null,null,null,null,null,null,null,null,null,null,null,null,"2012-2016","INC","%",{"$f":"AC25","v":4.1407867494823947E-2},"$",{"$f":"INDEX('[1]Small LT'!$H$379:$X$467,MATCH(AG24,'[1]Small LT'!$C$379:$C$467,0),MATCH(Inputs!$C$2,'[1]Small LT'!$H$378:$X$378,0))*$B$14","v":41.549625537527582},10,null,null,null,null,null,null,null,null,null,null,null,null,null,null,null,null,null,null,null,null,null,null,null,null,null,null,null,null,null,null,null,null,null,null,null,null,null,null,null,null,null,null,null,null,null,null,null,null,null,null,null,null,null,null,null,null,"2012-2016","INC","%",{"$f":"CN25","v":2.010582010581996E-2},"$",{"$f":"INDEX('[1]Small LT'!$H$379:$X$467,MATCH(CR24,'[1]Small LT'!$C$379:$C$467,0),MATCH(Inputs!$C$2,'[1]Small LT'!$H$378:$X$378,0))*$B$14","v":38.527853942281702},10]
[null,null,null,null,null,null,null,null,null,null,null,null,null,null,null,null,null,null,null,null,null,null,null,null,null,null,"ABS","%",{"$f":"1-((1-CN5)*(1-AC22))","v":6.6216231884057897E-2},"$",{"$f":"CP5+AE22","v":103.50563317105993},"L",null,null,null,null,null,null,null,null,null,null,null,null,null,null,null,null,null,null,null,null,null,null,null,null,null,null,null,null,null,null,null,null,null,null,null,null,null,null,null,null,null,null,null,null,null,null,null,null,null,null,null,null,null,null,null,null,null,"ABS","%",{"$f":"1-((1-CN15)*(1-CN22))","v":6.6216231884057786E-2},"$",{"$f":"CP15+CP22","v":142.03348711334164},"L"]
[null,null,null,null,null,null,null,null,null,null,null,null,null,null,null,null,null,null,null,null,null,null,null,null,null,null,null,"Coupled Cam Phasing\n(CCPS) - TBL",null,null,null,null,"CCPS",null,null,null,null,null,null,null,null,null,null,null,null,null,null,null,null,null,null,null,null,null,null,null,null,null,null,null,null,null,null,null,null,null,null,null,null,null,null,null,null,null,null,null,null,null,null,null,null,null,null,null,null,null,null,null,null,null,"Dual Cam Phasing\n(DCP) - TBL",null,null,null,null,"DCP"]
[null,null,null,null,null,null,null,null,null,null,null,null,null,null,null,null,null,null,null,null,null,null,null,null,null,"2017+","INC","%",{"$f":"1-((1-AC26)/(1-CN8))","v":4.1407867494823947E-2},"$",{"$f":"AE22","v":41.549625537527582},10,null,null,null,null,null,null,null,null,null,null,null,null,null,null,null,null,null,null,null,null,null,null,null,null,null,null,null,null,null,null,null,null,null,null,null,null,null,null,null,null,null,null,null,null,null,null,null,null,null,null,null,null,null,null,null,null,"2017+","INC","%",{"$f":"1-((1-CN26)/(1-CN18))","v":2.010582010581996E-2},"$",{"$f":"CP22","v":38.527853942281702},10]
["L",null,null,null,null,null,null,null,null,null,null,null,null,null,null,null,null,null,null,null,null,null,null,null,null,null,"ABS","%",7.3999999999999996E-2,"$",{"$f":"CP8+AE25","v":166.34636500035145},"L",null,null,null,null,null,null,null,null,null,null,null,null,null,null,null,null,null,null,null,null,null,null,null,null,null,null,null,null,null,null,null,null,null,null,null,null,null,null,null,null,null,null,null,null,null,null,null,null,null,null,null,null,null,null,null,null,null,"ABS","%",7.3999999999999996E-2,"$",{"$f":"CP18+CP25","v":204.87421894263315},"L"]
["M"]
["H"]
["VH"]
[null,null,null,null,null,null,null,null,null,null,null,null,null,null,null,null,null,null,null,null,null,null,null,null,null,"2012-2016","INC","%",{"$f":"AC33","v":2.8077753779697678E-2},"$",{"$f":"INDEX('[1]Small LT'!$H$379:$X$467,MATCH(AG32,'[1]Small LT'!$C$379:$C$467,0),MATCH(Inputs!$C$2,'[1]Small LT'!$H$378:$X$378,0))*$B$13","v":141.95784088900945},10,null,null,null,null,null,null,null,null,null,null,null,null,null,null,null,null,null,null,null,null,null,null,null,null,null,null,null,null,null,null,null,null,null,null,null,"2012-2016","INC","%",{"$f":"BS33","v":2.8077753779697678E-2},"$",{"$f":"INDEX('[1]Small LT'!$H$379:$X$467,MATCH(BW32,'[1]Small LT'!$C$379:$C$467,0),MATCH(Inputs!$C$2,'[1]Small LT'!$H$378:$X$378,0))*$B$13","v":141.95784088900945},10,null,null,null,null,null,null,null,null,null,null,null,null,null,null,null,null,null,null,null,null,null,null,null,null,null,null,null,null,null,null,null,null,null,null,null,"2012-2016","INC","%",{"$f":"DI33","v":3.5637149028077797E-2},"$",{"$f":"INDEX('[1]Small LT'!$H$379:$X$467,MATCH(DM32,'[1]Small LT'!$C$379:$C$467,0),MATCH(Inputs!$C$2,'[1]Small LT'!$H$378:$X$378,0))*$B$13","v":228.52533855632367},10,null,null,null,null,null,null,null,null,null,null,null,null,null,null,null,null,null,null,null,null,null,null,null,null,null,null,null,null,null,null,null,null,null,null,null,"2012-2016","INC","%",{"$f":"1-((1-EY31)/(1-CN5))","v":4.5292161130045638E-2},"$",{"$f":"INDEX('[1]Small LT'!$H$379:$X$467,MATCH(FC32,'[1]Small LT'!$C$379:$C$467,0),MATCH(Inputs!$C$2,'[1]Small LT'!$H$378:$X$378,0))","v":180.85022482302156},10]
[null,null,null,null,null,null,null,null,null,null,null,null,null,null,null,null,null,null,null,null,null,null,null,null,null,null,"ABS","%",{"$f":"1-((1-AC23)*(1-AC30))","v":9.2434782608695643E-2},"$",{"$f":"AE23+AE30","v":245.46347406006936},"L",null,null,null,null,null,null,null,null,null,null,null,null,null,null,null,null,null,null,null,null,null,null,null,null,null,null,null,null,null,null,null,null,null,null,null,null,"ABS","%",{"$f":"1-((1-CN23)*(1-BS30))","v":9.2434782608695532E-2},"$",{"$f":"CP23+BU30","v":283.99132800235111},"L",null,null,null,null,null,null,null,null,null,null,null,null,null,null,null,null,null,null,null,null,null,null,null,null,null,null,null,null,null,null,null,null,null,null,null,null,"ABS","%",{"$f":"1-((1-CN23)*(1-DI30))","v":9.9493623188405711E-2},"$",{"$f":"CP23+DK30","v":370.55882566966534},"L",null,null,null,null,null,null,null,null,null,null,null,null,null,null,null,null,null,null,null,null,null,null,null,null,null,null,null,null,null,null,null,null,null,null,null,null,"ABS","%",7.0000000000000007E-2,"$",{"$f":"CP5+FA30","v":242.80623245655391},"L"]
[null,null,null,null,null,null,null,null,null,null,null,null,null,null,null,null,null,null,null,null,null,null,null,null,null,null,null,"Discrete VVL\n(DVVLS) - TBL",null,null,null,null,"DVVLS",null,null,null,null,null,null,null,null,null,null,null,null,null,null,null,null,null,null,null,null,null,null,null,null,null,null,null,null,null,null,null,null,null,null,null,null,"Discrete VVL\n(DVVLD) - TBL",null,null,null,null,"DVVLD",null,null,null,null,null,null,null,null,null,null,null,null,null,null,null,null,null,null,null,null,null,null,null,null,null,null,null,null,null,null,null,null,null,null,null,null,"Continuous VVL\n(CVVL) - TBL",null,null,null,null,"CVVL",null,null,null,null,null,null,null,null,null,null,null,null,null,null,null,null,null,null,null,null,null,null,null,null,null,null,null,null,null,null,null,null,null,null,null,null,"Cylinder Deactivation\n(DEACO) - TBL",null,null,null,null,"DEACO"]
[null,null,null,null,null,null,null,null,null,null,null,null,null,null,null,null,null,null,null,null,null,null,null,null,null,"2017+","INC","%",{"$f":"1-((1-AC34)/(1-AC26))","v":2.8077753779697678E-2},"$",{"$f":"AE30","v":141.95784088900945},10,null,null,null,null,null,null,null,null,null,null,null,null,null,null,null,null,null,null,null,null,null,null,null,null,null,null,null,null,null,null,null,null,null,null,null,"2017+","INC","%",{"$f":"1-((1-BS34)/(1-CN26))","v":2.8077753779697678E-2},"$",{"$f":"BU30","v":141.95784088900945},10,null,null,null,null,null,null,null,null,null,null,null,null,null,null,null,null,null,null,null,null,null,null,null,null,null,null,null,null,null,null,null,null,null,null,null,"2017+","INC","%",{"$f":"1-((1-DI34)/(1-CN26))","v":3.5637149028077797E-2},"$",{"$f":"DK30","v":228.52533855632367},10,null,null,null,null,null,null,null,null,null,null,null,null,null,null,null,null,null,null,null,null,null,null,null,null,null,null,null,null,null,null,null,null,null,null,null,"2017+","INC","%",{"$f":"1-((1-EY34)/(1-CN8))","v":4.658385093167694E-2},"$",{"$f":"FA30","v":180.85022482302156},10]
[null,"START",null,null,null,null,null,null,null,null,null,null,null,null,null,null,null,null,null,null,null,null,null,null,null,null,"ABS","%",0.1,"$",{"$f":"AE26+AE33","v":308.3042058893609},"L",null,null,null,null,null,null,null,null,null,null,null,null,null,null,null,null,null,null,null,null,null,null,null,null,null,null,null,null,null,null,null,null,null,null,null,null,"ABS","%",0.1,"$",{"$f":"CP26+BU33","v":346.8320598316426},"L",null,null,null,null,null,null,null,null,null,null,null,null,null,null,null,null,null,null,null,null,null,null,null,null,null,null,null,null,null,null,null,null,null,null,null,null,"ABS","%",0.107,"$",{"$f":"CP26+DK33","v":433.39955749895682},"L",null,null,null,null,null,null,null,null,null,null,null,null,null,null,null,null,null,null,null,null,null,null,null,null,null,null,null,null,null,null,null,null,null,null,null,null,"ABS","%",7.9000000000000001E-2,"$",{"$f":"CP8+FA33","v":305.64696428584546},"L"]
["Gas Engine Type","I4"]
["Displacement [L]",2.2000000000000002]
["Turbocharger","None"]
["EGR system","External",null,null,null,null,null,null,null,null,null,null,null,null,null,null,null,null,null,null,null,null,null,null,null,"2012-2016","INC","%",{"$f":"AC41","v":4.4444444444444731E-3},"$",{"$f":"INDEX('[1]Small LT'!$H$379:$X$467,MATCH(AG40,'[1]Small LT'!$C$379:$C$467,0),MATCH(Inputs!$C$2,'[1]Small LT'!$H$378:$X$378,0))","v":28.176910737789065},10,null,null,null,null,null,null,null,null,null,null,null,null,null,null,null,null,null,null,null,null,null,null,null,null,null,null,null,null,null,null,null,null,null,null,null,"2012-2016","INC","%",{"$f":"BS41","v":4.4444444444444731E-3},"$",{"$f":"INDEX('[1]Small LT'!$H$379:$X$467,MATCH(BW40,'[1]Small LT'!$C$379:$C$467,0),MATCH(Inputs!$C$2,'[1]Small LT'!$H$378:$X$378,0))","v":28.176910737789065},10,null,null,null,null,null,null,null,null,null,null,null,null,null,null,null,null,null,null,null,null,null,null,null,null,null,null,null,null,null,null,null,null,null,null,null,"2012-2016","INC","%",{"$f":"DI41","v":0},"$",0,10,null,null,null,null,null,null,null,null,null,null,null,null,null,null,null,null,null,null,null,null,null,null,null,null,null,null,null,null,null,null,null,null,null,null,null,"2012-2016","INC","%",{"$f":"1-((1-EY39)/(1-EY31))","v":2.1505376344085891E-2},"$",{"$f":"INDEX('[1]Small LT'!$H$379:$X$467,MATCH(FC40,'[1]Small LT'!$C$379:$C$467,0),MATCH(Inputs!$C$2,'[1]Small LT'!$H$378:$X$378,0))*$B$14","v":45.204617214323278},10]
["Valvetrain","SOHC/ DOHC/ OHV",null,null,null,null,null,null,null,null,null,null,null,null,null,null,null,null,null,null,null,null,null,null,null,null,"ABS","%",{"$f":"1-((1-AC31)*(1-AC38))","v":9.6468405797101475E-2},"$",{"$f":"AE31+AE38","v":273.64038479785842},"L",null,null,null,null,null,null,null,null,null,null,null,null,null,null,null,null,null,null,null,null,null,null,null,null,null,null,null,null,null,null,null,null,null,null,null,null,"ABS","%",{"$f":"1-((1-BS31)*(1-BS38))","v":9.6468405797101364E-2},"$",{"$f":"BU31+BU38","v":312.16823874014017},"L",null,null,null,null,null,null,null,null,null,null,null,null,null,null,null,null,null,null,null,null,null,null,null,null,null,null,null,null,null,null,null,null,null,null,null,null,"ABS","%",{"$f":"1-((1-DI31)*(1-DI38))","v":9.9493623188405711E-2},"$",{"$f":"DK31+DK38","v":370.55882566966534},"L",null,null,null,null,null,null,null,null,null,null,null,null,null,null,null,null,null,null,null,null,null,null,null,null,null,null,null,null,null,null,null,null,null,null,null,null,"ABS","%",0.09,"$",{"$f":"FA31+FA38","v":288.01084967087718},"L"]
[null,null,null,null,null,null,null,null,null,null,null,null,null,null,null,null,null,null,null,null,null,null,null,null,null,null,null,"Cylinder Deactivation\n(DEACS) - TBL",null,null,null,null,"DEACS",null,null,null,null,null,null,null,null,null,null,null,null,null,null,null,null,null,null,null,null,null,null,null,null,null,null,null,null,null,null,null,null,null,null,null,null,"Cylinder Deactivation\n(DEACD) - TBL",null,null,null,null,"DEACD",null,null,null,null,null,null,null,null,null,null,null,null,null,null,null,null,null,null,null,null,null,null,null,null,null,null,null,null,null,null,null,null,null,null,null,null,"Cylinder Deactivation\n(DEACD) - TBL",null,null,null,null,null,null,null,null,null,null,null,null,null,null,null,null,null,null,null,null,null,null,null,null,null,null,null,null,null,null,null,null,null,null,null,null,null,null,null,null,null,"Coupled Cam Phasing and DVVL\n(VVA) - TBL",null,null,null,null,"VVA"]
[null,null,null,null,null,null,null,null,null,null,null,null,null,null,null,null,null,null,null,null,null,null,null,null,null,"2017+","INC","%",{"$f":"1-((1-AC42)/(1-AC34))","v":4.4444444444444731E-3},"$",{"$f":"AE38","v":28.176910737789065},10,null,null,null,null,null,null,null,null,null,null,null,null,null,null,null,null,null,null,null,null,null,null,null,null,null,null,null,null,null,null,null,null,null,null,null,"2017+","INC","%",{"$f":"1-((1-BS42)/(1-BS34))","v":4.4444444444444731E-3},"$",{"$f":"BU38","v":28.176910737789065},10,null,null,null,null,null,null,null,null,null,null,null,null,null,null,null,null,null,null,null,null,null,null,null,null,null,null,null,null,null,null,null,null,null,null,null,"2017+","INC","%",{"$f":"1-((1-DI42)/(1-DI34))","v":0},"$",{"$f":"DK38","v":0},10,null,null,null,null,null,null,null,null,null,null,null,null,null,null,null,null,null,null,null,null,null,null,null,null,null,null,null,null,null,null,null,null,null,null,null,"2017+","INC","%",{"$f":"1-((1-EY42)/(1-EY34))","v":2.7144408251900121E-2},"$",{"$f":"FA38","v":45.204617214323278},10]
[null,null,null,null,null,null,null,null,null,null,null,null,null,null,null,null,null,null,null,null,null,null,null,null,null,null,"ABS","%",0.104,"$",{"$f":"AE34+AE41","v":336.48111662714996},"L",null,null,null,null,null,null,null,null,null,null,null,null,null,null,null,null,null,null,null,null,null,null,null,null,null,null,null,null,null,null,null,null,null,null,null,null,"ABS","%",0.104,"$",{"$f":"BU34+BU41","v":375.00897056943165},"L",null,null,null,null,null,null,null,null,null,null,null,null,null,null,null,null,null,null,null,null,null,null,null,null,null,null,null,null,null,null,null,null,null,null,null,null,"ABS","%",{"$f":"DI34","v":0.107},"$",{"$f":"DK34+DK41","v":433.39955749895682},"L",null,null,null,null,null,null,null,null,null,null,null,null,null,null,null,null,null,null,null,null,null,null,null,null,null,null,null,null,null,null,null,null,null,null,null,null,"ABS","%",0.104,"$",{"$f":"FA34+FA41","v":350.85158150016872},"L"]
[]
[]
[]
[null,null,null,null,null,null,null,null,null,null,null,null,null,null,null,null,null,null,null,null,null,null,null,null,null,"2012-2016","INC","%",{"$f":"AC49","v":1.5625E-2},"$",{"$f":"INDEX('[1]Small LT'!$H$379:$X$467,MATCH(AG48,'[1]Small LT'!$C$379:$C$467,0),MATCH(Inputs!$C$2,'[1]Small LT'!$H$378:$X$378,0))*$B$13","v":232.9452905107814},10,null,null,null,null,null,null,null,null,null,null,null,null,null,null,null,null,null,null,null,null,null,null,null,null,null,null,null,null,null,null,null,null,null,null,null,"2012-2016","INC","%",{"$f":"BS49","v":1.5625E-2},"$",{"$f":"INDEX('[1]Small LT'!$H$379:$X$467,MATCH(BW48,'[1]Small LT'!$C$379:$C$467,0),MATCH(Inputs!$C$2,'[1]Small LT'!$H$378:$X$378,0))*$B$13","v":232.9452905107814},10,null,null,null,null,null,null,null,null,null,null,null,null,null,null,null,null,null,null,null,null,null,null,null,null,null,null,null,null,null,null,null,null,null,null,null,"2012-2016","INC","%",{"$f":"DI49","v":1.4557670772676334E-2},"$",{"$f":"INDEX('[1]Small LT'!$H$379:$X$467,MATCH(DM48,'[1]Small LT'!$C$379:$C$467,0),MATCH(Inputs!$C$2,'[1]Small LT'!$H$378:$X$378,0))*$B$13","v":232.9452905107814},10,null,null,null,null,null,null,null,null,null,null,null,null,null,null,null,null,null,null,null,null,null,null,null,null,null,null,null,null,null,null,null,null,null,null,null,"2012-2016","INC","%",{"$f":"1-((1-EY47)/(1-EY39))","v":1.5384615384615441E-2},"$",{"$f":"INDEX('[1]Small LT'!$H$379:$X$467,MATCH(FC48,'[1]Small LT'!$C$379:$C$467,0),MATCH(Inputs!$C$2,'[1]Small LT'!$H$378:$X$378,0))*$B$13","v":232.9452905107814},10]
[null,null,null,null,null,null,null,null,null,null,null,null,null,null,null,null,null,null,null,null,null,null,null,null,null,null,"ABS","%",{"$f":"1-((1-AC39)*(1-AC46))","v":0.11058608695652172},"$",{"$f":"AE39+AE46","v":506.58567530863979},"L",null,null,null,null,null,null,null,null,null,null,null,null,null,null,null,null,null,null,null,null,null,null,null,null,null,null,null,null,null,null,null,null,null,null,null,null,"ABS","%",{"$f":"1-((1-BS39)*(1-BS46))","v":0.11058608695652161},"$",{"$f":"BU39+BU46","v":545.1135292509216},"L",null,null,null,null,null,null,null,null,null,null,null,null,null,null,null,null,null,null,null,null,null,null,null,null,null,null,null,null,null,null,null,null,null,null,null,null,"ABS","%",{"$f":"1-((1-DI39)*(1-DI46))","v":0.11260289855072447},"$",{"$f":"DK39+DK46","v":603.50411618044677},"L",null,null,null,null,null,null,null,null,null,null,null,null,null,null,null,null,null,null,null,null,null,null,null,null,null,null,null,null,null,null,null,null,null,null,null,null,"ABS","%",0.104,"$",{"$f":"FA39+FA46","v":520.95614018165861},"L"]
[null,null,null,null,null,null,null,null,null,null,null,null,null,null,null,null,null,null,null,null,null,null,null,null,null,null,null,"Stoichiometric GDI\n(SGDI) - TBL",null,null,null,null,"SGDI",null,null,null,null,null,null,null,null,null,null,null,null,null,null,null,null,null,null,null,null,null,null,null,null,null,null,null,null,null,null,null,null,null,null,null,null,"Stoichiometric GDI\n(SGDI) - TBL",null,null,null,null,"SGDI",null,null,null,null,null,null,null,null,null,null,null,null,null,null,null,null,null,null,null,null,null,null,null,null,null,null,null,null,null,null,null,null,null,null,null,null,"Stoichiometric GDI\n(SGDI) - TBL",null,null,null,null,"SGDI",null,null,null,null,null,null,null,null,null,null,null,null,null,null,null,null,null,null,null,null,null,null,null,null,null,null,null,null,null,null,null,null,null,null,null,null,"Stoichiometric GDI\n(SGDIO) - TBL",null,null,null,null,"SGDIO"]
[null,null,null,null,null,null,null,null,null,null,null,null,null,null,null,null,null,null,null,null,null,null,null,null,null,"2017+","INC","%",{"$f":"1-((1-AC50)/(1-AC42))","v":1.5625E-2},"$",{"$f":"AE46","v":232.9452905107814},10,null,null,null,null,null,null,null,null,null,null,null,null,null,null,null,null,null,null,null,null,null,null,null,null,null,null,null,null,null,null,null,null,null,null,null,"2017+","INC","%",{"$f":"1-((1-BS50)/(1-BS42))","v":1.5625E-2},"$",{"$f":"BU46","v":232.9452905107814},10,null,null,null,null,null,null,null,null,null,null,null,null,null,null,null,null,null,null,null,null,null,null,null,null,null,null,null,null,null,null,null,null,null,null,null,"2017+","INC","%",{"$f":"1-((1-DI50)/(1-DI42))","v":1.4557670772676334E-2},"$",{"$f":"DK46","v":232.9452905107814},10,null,null,null,null,null,null,null,null,null,null,null,null,null,null,null,null,null,null,null,null,null,null,null,null,null,null,null,null,null,null,null,null,null,null,null,"2017+","INC","%",{"$f":"1-((1-EY50)/(1-EY42))","v":1.5625E-2},"$",{"$f":"FA46","v":232.9452905107814},10]
[null,null,null,null,null,null,null,null,null,null,null,null,null,null,null,null,null,null,null,null,null,null,null,"From SOHC Path",null,null,"ABS","%",0.11799999999999999,"$",{"$f":"AE42+AE49","v":569.42640713793139},"L",null,null,null,null,null,null,null,null,null,null,null,null,null,null,null,null,null,null,null,null,null,null,null,null,null,null,null,null,null,null,null,null,null,"From DOHC w/ DVVLD Path",null,null,"ABS","%",0.11799999999999999,"$",{"$f":"BU42+BU49","v":607.95426108021309},"L",null,null,null,null,null,null,null,null,null,null,null,null,null,null,null,null,null,null,null,null,null,null,null,null,null,null,null,null,null,null,null,null,null,"From DOHC w/ CVVL Path",null,null,"ABS","%",0.12,"$",{"$f":"DK42+DK49","v":666.34484800973826},"L",null,null,null,null,null,null,null,null,null,null,null,null,null,null,null,null,null,null,null,null,null,null,null,null,null,null,null,null,null,null,null,null,null,"From OHV w/ CDOHC Path",null,null,"ABS","%",0.11799999999999999,"$",{"$f":"FA42+FA49","v":583.7968720109501},"L"]
[]
[]
[null,null,null,null,null,null,null,null,null,null,null,null,null,null,null,null,null,null,null,null,null,null,null,null,null,null,null,null,null,null,null,null,null,null,null,null,null,null,null,null,null,null,null,null,null,null,null,null,null,null,null,null,null,null,null,null,{"$f":"BE54-$O$54","v":0},null,{"$f":"BG54-$Q$54","v":-10.350943204492637},null,null,null,null,null,null,null,null,null,null,null,{"$f":"BS54-$AC$54","v":0},null,{"$f":"BU54-$AE$54","v":-137.49257962890812},null,null,null,null,null,null,null,null,null,null,null,{"$f":"CG54-$AQ$54","v":0},null,{"$f":"CI54-$AS$54","v":-151.06222004175237},null,null,null,null,null,null,null,null,null,null,null,{"$f":"CU54-$O$54","v":-7.16232620994528E-3},null,{"$f":"CW54-$Q$54","v":-10.350943204492637},null,null,null,null,null,null,null,null,null,null,null,{"$f":"DI54-$AC$54","v":-2.1232735518449397E-3},null,{"$f":"DK54-$AE$54","v":-137.49257962890812},null,null,null,null,null,null,null,null,null,null,null,{"$f":"DW54-$AQ$54","v":-2.1232735518449397E-3},null,{"$f":"DY54-$AS$54","v":-151.06222004175237},null,null,null,null,null,null,null,null,null,null,null,{"$f":"EK54-$O$54","v":4.7777104860807773E-2},null,{"$f":"EM54-$Q$54","v":-420.06358424991754},null,null,null,null,null,null,null,null,null,null,null,{"$f":"EY54-$AC$54","v":0},null,{"$f":"FA54-$AE$54","v":562.75413569090051},null,null,null,null,null,null,null,null,null,null,null,{"$f":"FM54-$AQ$54","v":0},null,{"$f":"FO54-$AS$54","v":523.98042111588995}]
[null,null,null,null,null,null,null,null,null,null,null,"2012-2016","INC","%",{"$f":"O57","v":7.0798689846308882E-2},"$",{"$f":"INDEX('[1]Small LT'!$H$379:$X$467,MATCH(M56,'[1]Small LT'!$C$379:$C$467,0),MATCH(Inputs!$C$2,'[1]Small LT'!$H$378:$X$378,0))\n+INDEX('[1]Small LT'!$H$379:$X$467,MATCH(S56,'[1]Small LT'!$C$379:$C$467,0),MATCH(Inputs!$C$2,'[1]Small LT'!$H$378:$X$378,0))","v":420.06358424991754},10,null,null,null,null,null,null,null,"2012-2016","INC","%",{"$f":"AC57","v":6.5759637188208542E-2},"$",{"$f":"INDEX('[1]Small LT'!$H$379:$X$467,MATCH(AA56,'[1]Small LT'!$C$379:$C$467,0),MATCH(Inputs!$C$2,'[1]Small LT'!$H$378:$X$378,0))\n+INDEX('[1]Small LT'!$H$379:$X$467,MATCH(AG56,'[1]Small LT'!$C$379:$C$467,0),MATCH(Inputs!$C$2,'[1]Small LT'!$H$378:$X$378,0))","v":-29.267884297748708},10,null,null,null,null,null,null,null,"2012-2016","INC","%",{"$f":"AQ57","v":6.5759637188208542E-2},"$",{"$f":"INDEX('[1]Small LT'!$H$379:$X$467,MATCH(AO56,'[1]Small LT'!$C$379:$C$467,0),MATCH(Inputs!$C$2,'[1]Small LT'!$H$378:$X$378,0))\n+INDEX('[1]Small LT'!$H$379:$X$467,MATCH(AU56,'[1]Small LT'!$C$379:$C$467,0),MATCH(Inputs!$C$2,'[1]Small LT'!$H$378:$X$378,0))","v":523.48084050429873},10,null,null,null,null,null,null,null,"2012-2016","INC","%",{"$f":"BE57","v":7.0798689846308882E-2},"$",{"$f":"INDEX('[1]Subcompact PC'!$H$530:$X$541,MATCH(BC56,'[1]Subcompact PC'!$C$530:$C$541,0),MATCH(Inputs!$C$2,'[1]Subcompact PC'!$H$529:$X$529,0))\n+INDEX('[1]Subcompact PC'!$H$530:$X$541,MATCH(BI56,'[1]Subcompact PC'!$C$530:$C$541,0),MATCH(Inputs!$C$2,'[1]Subcompact PC'!$H$529:$X$529,0))","v":409.7126410454249},10,null,null,null,null,null,null,null,"2012-2016","INC","%",{"$f":"BS57","v":6.5759637188208542E-2},"$",{"$f":"INDEX('[1]Subcompact PC'!$H$530:$X$541,MATCH(BQ56,'[1]Subcompact PC'!$C$530:$C$541,0),MATCH(Inputs!$C$2,'[1]Subcompact PC'!$H$529:$X$529,0))\n+INDEX('[1]Subcompact PC'!$H$530:$X$541,MATCH(BW56,'[1]Subcompact PC'!$C$530:$C$541,0),MATCH(Inputs!$C$2,'[1]Subcompact PC'!$H$529:$X$529,0))","v":-166.76046392665683},10,null,null,null,null,null,null,null,"2012-2016","INC","%",{"$f":"CG57","v":6.5759637188208542E-2},"$",{"$f":"INDEX('[1]Subcompact PC'!$H$530:$X$541,MATCH(CE56,'[1]Subcompact PC'!$C$530:$C$541,0),MATCH(Inputs!$C$2,'[1]Subcompact PC'!$H$529:$X$529,0))\n+INDEX('[1]Subcompact PC'!$H$530:$X$541,MATCH(CK56,'[1]Subcompact PC'!$C$530:$C$541,0),MATCH(Inputs!$C$2,'[1]Subcompact PC'!$H$529:$X$529,0))","v":372.41862046254636},10,null,null,null,null,null,null,null,"2012-2016","INC","%",{"$f":"CU57","v":6.3636363636363602E-2},"$",{"$f":"INDEX('[1]Subcompact PC'!$H$530:$X$541,MATCH(CS56,'[1]Subcompact PC'!$C$530:$C$541,0),MATCH(Inputs!$C$2,'[1]Subcompact PC'!$H$529:$X$529,0))\n+INDEX('[1]Subcompact PC'!$H$530:$X$541,MATCH(CY56,'[1]Subcompact PC'!$C$530:$C$541,0),MATCH(Inputs!$C$2,'[1]Subcompact PC'!$H$529:$X$529,0))","v":409.7126410454249},10,null,null,null,null,null,null,null,"2012-2016","INC","%",{"$f":"DI57","v":6.3636363636363602E-2},"$",{"$f":"INDEX('[1]Subcompact PC'!$H$530:$X$541,MATCH(DG56,'[1]Subcompact PC'!$C$530:$C$541,0),MATCH(Inputs!$C$2,'[1]Subcompact PC'!$H$529:$X$529,0))\n+INDEX('[1]Subcompact PC'!$H$530:$X$541,MATCH(DM56,'[1]Subcompact PC'!$C$530:$C$541,0),MATCH(Inputs!$C$2,'[1]Subcompact PC'!$H$529:$X$529,0))","v":-166.76046392665683},10,null,null,null,null,null,null,null,"2012-2016","INC","%",{"$f":"DW57","v":6.3636363636363602E-2},"$",{"$f":"INDEX('[1]Subcompact PC'!$H$530:$X$541,MATCH(DU56,'[1]Subcompact PC'!$C$530:$C$541,0),MATCH(Inputs!$C$2,'[1]Subcompact PC'!$H$529:$X$529,0))\n+INDEX('[1]Subcompact PC'!$H$530:$X$541,MATCH(EA56,'[1]Subcompact PC'!$C$530:$C$541,0),MATCH(Inputs!$C$2,'[1]Subcompact PC'!$H$529:$X$529,0))","v":372.41862046254636},10,null,null,null,null,null,null,null,"2012-2016","INC","%",{"$f":"EK57","v":0.11857579470711666},"$",{"$f":"INDEX('[1]Subcompact PC'!$H$530:$X$541,MATCH(EI56,'[1]Subcompact PC'!$C$530:$C$541,0),MATCH(Inputs!$C$2,'[1]Subcompact PC'!$H$529:$X$529,0))\n+INDEX('[1]Subcompact PC'!$H$530:$X$541,MATCH(EO56,'[1]Subcompact PC'!$C$530:$C$541,0),MATCH(Inputs!$C$2,'[1]Subcompact PC'!$H$529:$X$529,0))","v":0},10,null,null,null,null,null,null,null,"2012-2016","INC","%",{"$f":"EY57","v":6.5759637188208542E-2},"$",{"$f":"INDEX('[1]Subcompact PC'!$H$530:$X$541,MATCH(EW56,'[1]Subcompact PC'!$C$530:$C$541,0),MATCH(Inputs!$C$2,'[1]Subcompact PC'!$H$529:$X$529,0))\n+INDEX('[1]Subcompact PC'!$H$530:$X$541,MATCH(FC56,'[1]Subcompact PC'!$C$530:$C$541,0),MATCH(Inputs!$C$2,'[1]Subcompact PC'!$H$529:$X$529,0))","v":533.48625139315186},10,{"$f":"INDEX('[1]Subcompact PC'!$H$530:$X$541,MATCH(EW56,'[1]Subcompact PC'!$C$530:$C$541,0),MATCH(Inputs!$C$2,'[1]Subcompact PC'!$H$529:$X$529,0))","v":229.17561542502995},{"$f":"MATCH(EW56,'[1]Subcompact PC'!$C$530:$C$541,0)","v":9},null,null,null,null,null,"2012-2016","INC","%",{"$f":"FM57","v":6.5759637188208542E-2},"$",{"$f":"INDEX('[1]Subcompact PC'!$H$530:$X$541,MATCH(FK56,'[1]Subcompact PC'!$C$530:$C$541,0),MATCH(Inputs!$C$2,'[1]Subcompact PC'!$H$529:$X$529,0))\n+INDEX('[1]Subcompact PC'!$H$530:$X$541,MATCH(FQ56,'[1]Subcompact PC'!$C$530:$C$541,0),MATCH(Inputs!$C$2,'[1]Subcompact PC'!$H$529:$X$529,0))","v":1047.4612616201887},10]
[null,null,null,null,null,null,null,null,null,null,null,null,"ABS","%",{"$f":"1-((1-AC47+AC38)*(1-O54))","v":0.16942564313039576},"$",{"$f":"AE47+Q54","v":926.64925955855733},"L",null,null,null,null,null,null,null,null,"ABS","%",{"$f":"1-((1-AC47)*(1-AC54))","v":0.16907362318840569},"$",{"$f":"AE47+AE54","v":477.31779101089109},"L",null,null,null,null,null,null,null,null,"ABS","%",{"$f":"1-((1-AC47)*(1-AQ54))","v":0.16907362318840569},"$",{"$f":"AE47+AS54","v":1030.0665158129386},"L",null,null,null,null,null,null,null,null,"ABS","%",{"$f":"1-((1-BS47)*(1-BE54))","v":0.17355542673107882},"$",{"$f":"BU47+BG54","v":954.8261702963465},"L",null,null,null,null,null,null,null,null,"ABS","%",{"$f":"1-((1-BS47)*(1-BS54))","v":0.16907362318840558},"$",{"$f":"BU47+BU54","v":378.35306532426478},"L",null,null,null,null,null,null,null,null,"ABS","%",{"$f":"1-((1-BS47)*(1-CG54))","v":0.16907362318840558},"$",{"$f":"BU47+CI54","v":917.53214971346802},"L",null,null,null,null,null,null,null,null,"ABS","%",{"$f":"1-((1-DI47)*(1-CU54))","v":0.16907362318840558},"$",{"$f":"DK47+CW54","v":1013.2167572258717},"L",null,null,null,null,null,null,null,null,"ABS","%",{"$f":"1-((1-DI47)*(1-DI54))","v":0.16907362318840558},"$",{"$f":"DK47+DK54","v":436.74365225378995},"L",null,null,null,null,null,null,null,null,"ABS","%",{"$f":"1-((1-DI47)*(1-DW54))","v":0.16907362318840558},"$",{"$f":"DK47+DY54","v":975.92273664299319},"L",null,null,null,null,null,null,null,null,"ABS","%",{"$f":"1-((1-EY47)*(1-EK54))","v":0.21024391205757653},"$",{"$f":"FA47+EM54","v":520.95614018165861},"L",null,null,null,null,null,null,null,null,"ABS","%",{"$f":"1-((1-EY47)*(1-EY54))","v":0.1629206349206348},"$",{"$f":"FA47+FA54","v":1054.4423915748105},"L",null,null,null,null,null,null,null,null,"ABS","%",{"$f":"1-((1-EY47)*(1-FM54))","v":0.1629206349206348},"$",{"$f":"FA47+FO54","v":1568.4174018018473},"L"]
[null,"INTERMEDIATE",null,null,"HEV1",null,null,null,null,null,null,null,"TRBDS1_SD_TB","Turbocharging and Downsizing 1 (TRBDS1_SD) - TBL",null,null,null,null,"TRBDS1_SD_DS",null,null,null,null,null,null,null,"TRBDS1_MD_TB","Turbocharging and Downsizing 1 (TRBDS1_MD) - TBL",null,null,null,null,"TRBDS1_MD_DS",null,null,null,null,null,null,null,"TRBDS1_LD_TB","Turbocharging and Downsizing 1\n(TRBDS1_LD) - TBL",null,null,null,null,"TRBDS1_LD_DS",null,null,null,null,null,null,null,"TRBDS1_SD_TB_D",{"$f":"$N$56","v":"Turbocharging and Downsizing 1 (TRBDS1_SD) - TBL"},null,null,null,null,"TRBDS1_SD_DS_D",null,null,null,null,null,null,null,"TRBDS1_MD_TB_D","Turbocharging and Downsizing 1 (TRBDS1_MD) - TBL",null,null,null,null,"TRBDS1_MD_DS_D",null,null,null,null,null,null,null,"TRBDS1_LD_TB_D",{"$f":"$AP$56","v":"Turbocharging and Downsizing 1\n(TRBDS1_LD) - TBL"},null,null,null,null,"TRBDS1_LD_DS_D",null,null,null,null,null,null,null,"TRBDS1_SD_TB_D",{"$f":"$N$56","v":"Turbocharging and Downsizing 1 (TRBDS1_SD) - TBL"},null,null,null,null,"TRBDS1_SD_DS_D",null,null,null,null,null,null,null,"TRBDS1_MD_TB_D",{"$f":"$AB$56","v":"Turbocharging and Downsizing 1 (TRBDS1_MD) - TBL"},null,null,null,null,"TRBDS1_MD_DS_D",null,null,null,null,null,null,null,"TRBDS1_LD_TB_D",{"$f":"$AP$56","v":"Turbocharging and Downsizing 1\n(TRBDS1_LD) - TBL"},null,null,null,null,"TRBDS1_LD_DS_D",null,null,null,null,null,null,null,"TRBDS1_SD_TB_O",{"$f":"$N$56","v":"Turbocharging and Downsizing 1 (TRBDS1_SD) - TBL"},null,null,null,null,"TRBDS1_SD_DS_O",null,null,null,null,null,null,null,"TRBDS1_MD_TB_O",{"$f":"$AB$56","v":"Turbocharging and Downsizing 1 (TRBDS1_MD) - TBL"},null,null,null,null,"TRBDS1_MD_DS_O",null,null,null,null,null,null,null,"TRBDS1_LD_TB_O",{"$f":"$AP$56","v":"Turbocharging and Downsizing 1\n(TRBDS1_LD) - TBL"},null,null,null,null,"TRBDS1_LD_DS_O"]
["Gas Engine Type","I4",null,null,null,null,null,null,null,null,null,"2017+","INC","%",{"$f":"1-((1-O58-AC41)/(1-AC50))","v":7.0798689846308882E-2},"$",{"$f":"Q54","v":420.06358424991754},10,null,null,null,null,null,null,null,"2017+","INC","%",{"$f":"1-((1-AC58)/(1-AC50))","v":6.5759637188208542E-2},"$",{"$f":"AE54","v":-29.267884297748708},10,null,null,null,null,null,null,null,"2017+","INC","%",{"$f":"1-((1-AQ58)/(1-AC50))","v":6.5759637188208542E-2},"$",{"$f":"AS54","v":523.48084050429873},10,null,null,null,null,null,null,null,"2017+","INC","%",{"$f":"1-((1-BE58-BS41)/(1-BS50))","v":7.0798689846308882E-2},"$",{"$f":"BG54","v":409.7126410454249},10,null,null,null,null,null,null,null,"2017+","INC","%",{"$f":"1-((1-BS58)/(1-BS50))","v":6.5759637188208542E-2},"$",{"$f":"BU54","v":-166.76046392665683},10,null,null,null,null,null,null,null,"2017+","INC","%",{"$f":"1-((1-CG58)/(1-BS50))","v":6.5759637188208542E-2},"$",{"$f":"CI54","v":372.41862046254636},10,null,null,null,null,null,null,null,"2017+","INC","%",{"$f":"1-((1-CU58-DI41)/(1-DI50))","v":6.3636363636363602E-2},"$",{"$f":"CW54","v":409.7126410454249},10,null,null,null,null,null,null,null,"2017+","INC","%",{"$f":"1-((1-DI58)/(1-DI50))","v":6.3636363636363602E-2},"$",{"$f":"DK54","v":-166.76046392665683},10,null,null,null,null,null,null,null,"2017+","INC","%",{"$f":"1-((1-DW58)/(1-DI50))","v":6.3636363636363602E-2},"$",{"$f":"DY54","v":372.41862046254636},10,null,null,null,null,null,null,null,"2017+","INC","%",{"$f":"1-((1-EK58-EY33)/(1-EY50))","v":0.11857579470711666},"$",{"$f":"EM54","v":0},10,null,null,null,null,null,null,null,"2017+","INC","%",{"$f":"1-((1-EY58)/(1-EY50))","v":6.5759637188208542E-2},"$",{"$f":"FA54","v":533.48625139315186},10,null,null,null,null,null,null,null,"2017+","INC","%",{"$f":"1-((1-FM58)/(1-EY50))","v":6.5759637188208542E-2},"$",{"$f":"FO54","v":1047.4612616201887},10]
["Displacement [L]","1.5 to 2.0",null,null,null,null,null,null,null,null,null,null,"ABS","%",0.17599999999999999,"$",{"$f":"AE50+Q57","v":989.48999138784893},"L",null,null,null,null,null,null,null,null,"ABS","%",{"$f":"$O58","v":0.17599999999999999},"$",{"$f":"AE50+AE57","v":540.15852284018274},"L",null,null,null,null,null,null,null,null,"ABS","%",{"$f":"$O58","v":0.17599999999999999},"$",{"$f":"AE50+AS57","v":1092.9072476422302},"L",null,null,null,null,null,null,null,null,"ABS","%",{"$f":"$O58","v":0.17599999999999999},"$",{"$f":"BU50+BG57","v":1017.666902125638},"L",null,null,null,null,null,null,null,null,"ABS","%",{"$f":"$O58","v":0.17599999999999999},"$",{"$f":"BU50+BU57","v":441.19379715355626},"L",null,null,null,null,null,null,null,null,"ABS","%",{"$f":"$AQ58","v":0.17599999999999999},"$",{"$f":"BU50+CI57","v":980.37288154275939},"L",null,null,null,null,null,null,null,null,"ABS","%",{"$f":"$O58","v":0.17599999999999999},"$",{"$f":"DK50+CW57","v":1076.0574890551632},"L",null,null,null,null,null,null,null,null,"ABS","%",{"$f":"$AC58","v":0.17599999999999999},"$",{"$f":"DK50+DK57","v":499.58438408308143},"L",null,null,null,null,null,null,null,null,"ABS","%",{"$f":"$AQ58","v":0.17599999999999999},"$",{"$f":"DK50+DY57","v":1038.7634684722846},"L",null,null,null,null,null,null,null,null,"ABS","%",{"$f":"$O58","v":0.17599999999999999},"$",{"$f":"FA50+EM57","v":583.7968720109501},"L",null,null,null,null,null,null,null,null,"ABS","%",{"$f":"$AC58","v":0.17599999999999999},"$",{"$f":"FA50+FA57","v":1117.2831234041018},"L",null,null,null,null,null,null,null,null,"ABS","%",{"$f":"$AQ58","v":0.17599999999999999},"$",{"$f":"FA50+FO57","v":1631.2581336311387},"L"]
["Turbocharger","FGT",null,null,"HEV2",null,null,null,null,null,null,null,null,null,null,null,null,null,null,null,null,null,null,null,null,null,null,null,null,null,null,null,null,null,null,null,null,null,null,null,null,null,null,null,null,null,null,null,null,null,null,null,null,null,null,null,{"$f":"BE57-$O$57","v":0},null,{"$f":"BG57-$Q$57","v":-10.350943204492637},null,null,null,null,null,null,null,null,null,null,null,{"$f":"BS57-$AC$57","v":0},null,{"$f":"BU57-$AE$57","v":-137.49257962890812},null,null,null,null,null,null,null,null,null,null,null,{"$f":"CG57-$AQ$57","v":0},null,{"$f":"CI57-$AS$57","v":-151.06222004175237},null,null,null,null,null,null,null,null,null,null,null,{"$f":"CU57-$O$57","v":-7.16232620994528E-3},null,{"$f":"CW57-$Q$57","v":-10.350943204492637},null,null,null,null,null,null,null,null,null,null,null,{"$f":"DI57-$AC$57","v":-2.1232735518449397E-3},null,{"$f":"DK57-$AE$57","v":-137.49257962890812},null,null,null,null,null,null,null,null,null,null,null,{"$f":"DW57-$AQ$57","v":-2.1232735518449397E-3},null,{"$f":"DY57-$AS$57","v":-151.06222004175237},null,null,null,null,null,null,null,null,null,null,null,{"$f":"EK57-$O$57","v":4.7777104860807773E-2},null,{"$f":"EM57-$Q$57","v":-420.06358424991754},null,null,null,null,null,null,null,null,null,null,null,{"$f":"EY57-$AC$57","v":0},null,{"$f":"FA57-$AE$57","v":562.75413569090051},null,null,null,null,null,null,null,null,null,null,null,{"$f":"FM57-$AQ$57","v":0},null,{"$f":"FO57-$AS$57","v":523.98042111588995}]
["EGR system","External"]
["Valvetrain","DOHC"]
["After Treatment","3way cat",null,null,"PHEV1",null,null,null,null,null,null,"2012-2016","INC","%",{"$f":"1-((1-O63)/(1-O55))","v":0},"$",0,0,null,null,null,null,null,null,null,"2012-2016","INC","%",{"$f":"1-((1-AC63)/(1-AC55))","v":0},"$",0,0,null,null,null,null,null,null,null,"2012-2016","INC","%",{"$f":"1-((1-AQ63)/(1-AQ55))","v":0},"$",0,0,null,null,null,null,null,null,null,"2012-2016","INC","%",{"$f":"1-((1-BE63)/(1-BE55))","v":0},"$",{"$f":"$Q$62","v":0},{"$f":"$R$62","v":0},null,null,null,null,null,null,null,"2012-2016","INC","%",{"$f":"1-((1-BS63)/(1-BS55))","v":0},"$",{"$f":"$AE$62","v":0},{"$f":"$AF$62","v":0},null,null,null,null,null,null,null,"2012-2016","INC","%",{"$f":"1-((1-CG63)/(1-CG55))","v":0},"$",{"$f":"$AS$62","v":0},{"$f":"$AT$62","v":0},null,null,null,null,null,null,null,"2012-2016","INC","%",{"$f":"1-((1-CU63)/(1-CU55))","v":0},"$",{"$f":"$Q$62","v":0},{"$f":"$R$62","v":0},null,null,null,null,null,null,null,"2012-2016","INC","%",{"$f":"1-((1-DI63)/(1-DI55))","v":0},"$",{"$f":"$AE$62","v":0},{"$f":"$AF$62","v":0},null,null,null,null,null,null,null,"2012-2016","INC","%",{"$f":"1-((1-DW63)/(1-DW55))","v":0},"$",{"$f":"$AS$62","v":0},{"$f":"$AT$62","v":0},null,null,null,null,null,null,null,"2012-2016","INC","%",{"$f":"$O$62","v":0},"$",{"$f":"$Q$62","v":0},{"$f":"$R$62","v":0},null,null,null,null,null,null,null,"2012-2016","INC","%",{"$f":"1-((1-EY63)/(1-EY55))","v":0},"$",{"$f":"$AE$62","v":0},{"$f":"$AF$62","v":0},null,null,null,null,null,null,null,"2012-2016","INC","%",{"$f":"1-((1-FM63)/(1-FM55))","v":0},"$",{"$f":"$AS$62","v":0},{"$f":"$AT$62","v":0}]
[null,null,null,null,null,null,null,null,null,null,null,null,"ABS","%",{"$f":"O55","v":0.16942564313039576},"$",{"$f":"Q55+Q62","v":926.64925955855733},"L",null,null,null,null,null,null,null,null,"ABS","%",{"$f":"AC55","v":0.16907362318840569},"$",{"$f":"AE55+AE62","v":477.31779101089109},"L",null,null,null,null,null,null,null,null,"ABS","%",{"$f":"AQ55","v":0.16907362318840569},"$",{"$f":"AS55+AS62","v":1030.0665158129386},"L",null,null,null,null,null,null,null,null,"ABS","%",{"$f":"BE55","v":0.17355542673107882},"$",{"$f":"BG55+BG62","v":954.8261702963465},"L",null,null,null,null,null,null,null,null,"ABS","%",{"$f":"BS55","v":0.16907362318840558},"$",{"$f":"BU55+BU62","v":378.35306532426478},"L",null,null,null,null,null,null,null,null,"ABS","%",{"$f":"CG55","v":0.16907362318840558},"$",{"$f":"CI55+CI62","v":917.53214971346802},"L",null,null,null,null,null,null,null,null,"ABS","%",{"$f":"CU55","v":0.16907362318840558},"$",{"$f":"CW55+CW62","v":1013.2167572258717},"L",null,null,null,null,null,null,null,null,"ABS","%",{"$f":"DI55","v":0.16907362318840558},"$",{"$f":"DK55+DK62","v":436.74365225378995},"L",null,null,null,null,null,null,null,null,"ABS","%",{"$f":"DW55","v":0.16907362318840558},"$",{"$f":"DY55+DY62","v":975.92273664299319},"L",null,null,null,null,null,null,null,null,"ABS","%",{"$f":"1-((1-EK55)*(1-EK62))","v":0.21024391205757653},"$",{"$f":"EM55+EM62","v":520.95614018165861},"L",null,null,null,null,null,null,null,null,"ABS","%",{"$f":"EY55","v":0.1629206349206348},"$",{"$f":"FA55+FA62","v":1054.4423915748105},"L",null,null,null,null,null,null,null,null,"ABS","%",{"$f":"FM55","v":0.1629206349206348},"$",{"$f":"FO55+FO62","v":1568.4174018018473},"L"]
[null,null,null,null,"PHEV2",null,null,null,null,null,null,null,"TRBDS2_SD_TB","Turbocharging and Downsizing 2\n(TRBDS2_SD) - TBL",null,null,null,null,"TRBDS2_SD_DS",null,null,null,null,null,null,null,"TRBDS2_MD_TB","Turbocharging and Downsizing 2\n(TRBDS2_MD) - TBL",null,null,null,null,"TRBDS2_MD_DS",null,null,null,null,null,null,null,"TRBDS2_LD_TB","Turbocharging and Downsizing 2\n(TRBDS2_LD) - TBL",null,null,null,null,"TRBDS2_LD_DS",null,null,null,null,null,null,null,"TRBDS2_SD_TB",{"$f":"$N$64","v":"Turbocharging and Downsizing 2\n(TRBDS2_SD) - TBL"},null,null,null,null,"TRBDS2_SD_DS",null,null,null,null,null,null,null,"TRBDS2_MD_TB",{"$f":"$AB$64","v":"Turbocharging and Downsizing 2\n(TRBDS2_MD) - TBL"},null,null,null,null,"TRBDS2_MD_DS",null,null,null,null,null,null,null,"TRBDS2_LD_TB",{"$f":"$AP$64","v":"Turbocharging and Downsizing 2\n(TRBDS2_LD) - TBL"},null,null,null,null,"TRBDS2_LD_DS",null,null,null,null,null,null,null,"TRBDS2_SD_TB",{"$f":"$N$64","v":"Turbocharging and Downsizing 2\n(TRBDS2_SD) - TBL"},null,null,null,null,"TRBDS2_SD_DS",null,null,null,null,null,null,null,"TRBDS2_MD_TB",{"$f":"$AB$64","v":"Turbocharging and Downsizing 2\n(TRBDS2_MD) - TBL"},null,null,null,null,"TRBDS2_MD_DS",null,null,null,null,null,null,null,"TRBDS2_LD_TB","Cooled EGR 1\n(CEGR1_LD) - TBL",null,null,null,null,"TRBDS2_LD_DS",null,null,null,null,null,null,null,"TRBDS2_SD_TB",{"$f":"$N$64","v":"Turbocharging and Downsizing 2\n(TRBDS2_SD) - TBL"},null,null,null,null,"TRBDS2_SD_DS",null,null,null,null,null,null,null,"TRBDS2_MD_TB",{"$f":"$AB$64","v":"Turbocharging and Downsizing 2\n(TRBDS2_MD) - TBL"},null,null,null,null,"TRBDS2_MD_DS",null,null,null,null,null,null,null,"TRBDS2_LD_TB","Cooled EGR 1\n(CEGR1_LD) - TBL",null,null,null,null,"TRBDS2_LD_DS"]
[null,"INTERMEDIATE",null,null,null,null,null,null,null,null,null,"2017+","INC","%",{"$f":"1-((1-O66)/(1-O58))","v":2.9126213592232997E-2},"$",{"$f":"INDEX('[1]Large PC'!$H$379:$X$467,MATCH(M64,'[1]Large PC'!$C$379:$C$467,0),MATCH(Inputs!$C$2,'[1]Large PC'!$H$378:$X$378,0))\n+INDEX('[1]Large PC'!$H$379:$X$467,MATCH(S64,'[1]Large PC'!$C$379:$C$467,0),MATCH(Inputs!$C$2,'[1]Large PC'!$H$378:$X$378,0))","v":19.914246875441577},10,null,null,null,null,null,null,null,"2017+","INC","%",{"$f":"1-((1-AC66)/(1-AC58))","v":2.9126213592232997E-2},"$",{"$f":"INDEX('[1]Small LT'!$H$379:$X$467,MATCH(AA64,'[1]Small LT'!$C$379:$C$467,0),MATCH(Inputs!$C$2,'[1]Small LT'!$H$378:$X$378,0))\n+INDEX('[1]Small LT'!$H$379:$X$467,MATCH(AG64,'[1]Small LT'!$C$379:$C$467,0),MATCH(Inputs!$C$2,'[1]Small LT'!$H$378:$X$378,0))","v":247.5936884943545},10,null,null,null,null,null,null,null,"2017+","INC","%",{"$f":"1-((1-AQ66)/(1-AQ58))","v":2.9126213592232997E-2},"$",{"$f":"INDEX('[1]Small LT'!$H$379:$X$467,MATCH(AO64,'[1]Small LT'!$C$379:$C$467,0),MATCH(Inputs!$C$2,'[1]Small LT'!$H$378:$X$378,0))\n+INDEX('[1]Small LT'!$H$379:$X$467,MATCH(AU64,'[1]Small LT'!$C$379:$C$467,0),MATCH(Inputs!$C$2,'[1]Small LT'!$H$378:$X$378,0))","v":417.35470758578072},10,null,null,null,null,null,null,null,"2017+","INC","%",{"$f":"1-((1-BE66)/(1-BE58))","v":2.9126213592232997E-2},"$",{"$f":"$Q65","v":19.914246875441577},{"$f":"$R$65","v":10},null,null,null,null,null,null,null,"2017+","INC","%",{"$f":"1-((1-BS66)/(1-BS58))","v":2.9126213592232997E-2},"$",{"$f":"$AE$65","v":247.5936884943545},{"$f":"$AF$65","v":10},null,null,null,null,null,null,null,"2017+","INC","%",{"$f":"1-((1-CG66)/(1-CG58))","v":2.9126213592232997E-2},"$",{"$f":"$AS$65","v":417.35470758578072},{"$f":"$AT$65","v":10},null,null,null,null,null,null,null,"2017+","INC","%",{"$f":"1-((1-CU66)/(1-CU58))","v":2.9126213592232997E-2},"$",{"$f":"$Q65","v":19.914246875441577},{"$f":"$R$65","v":10},null,null,null,null,null,null,null,"2017+","INC","%",{"$f":"1-((1-DI66)/(1-DI58))","v":2.9126213592232997E-2},"$",{"$f":"$AE$65","v":247.5936884943545},{"$f":"$AF$65","v":10},null,null,null,null,null,null,null,"2017+","INC","%",{"$f":"1-((1-DW66)/(1-DW58))","v":2.9126213592232997E-2},"$",{"$f":"$AS$65","v":417.35470758578072},{"$f":"$AT$65","v":10},null,null,null,null,null,null,null,"2017+","INC","%",{"$f":"1-((1-EK66)/(1-EK58))","v":2.9126213592232997E-2},"$",{"$f":"$Q65","v":19.914246875441577},{"$f":"$R$65","v":10},null,null,null,null,null,null,null,"2017+","INC","%",{"$f":"1-((1-EY66)/(1-EY58))","v":2.9126213592232997E-2},"$",{"$f":"$AE$65","v":247.5936884943545},{"$f":"$AF$65","v":10},null,null,null,null,null,null,null,"2017+","INC","%",{"$f":"1-((1-FM66)/(1-FM58))","v":2.9126213592232997E-2},"$",{"$f":"$AS$65","v":417.35470758578072},{"$f":"$AT$65","v":10}]
["Gas Engine Type","I4",null,null,"EV1",null,null,null,null,null,null,null,"ABS","%",0.2,"$",{"$f":"Q58+Q65","v":1009.4042382632905},"L",null,null,null,null,null,null,null,null,"ABS","%",{"$f":"$O66","v":0.2},"$",{"$f":"AE58+AE65","v":787.75221133453726},"L",null,null,null,null,null,null,null,null,"ABS","%",{"$f":"$O66","v":0.2},"$",{"$f":"AS58+AS65","v":1510.2619552280109},"L",null,null,null,null,null,null,null,null,"ABS","%",{"$f":"$O66","v":0.2},"$",{"$f":"BG58+BG65","v":1037.5811490010797},"L",null,null,null,null,null,null,null,null,"ABS","%",{"$f":"$O66","v":0.2},"$",{"$f":"BU58+BU65","v":688.78748564791078},"L",null,null,null,null,null,null,null,null,"ABS","%",{"$f":"$AQ66","v":0.2},"$",{"$f":"CI58+CI65","v":1397.7275891285401},"L",null,null,null,null,null,null,null,null,"ABS","%",{"$f":"$O66","v":0.2},"$",{"$f":"CW58+CW65","v":1095.9717359306048},"L",null,null,null,null,null,null,null,null,"ABS","%",{"$f":"$AC66","v":0.2},"$",{"$f":"DK58+DK65","v":747.17807257743596},"L",null,null,null,null,null,null,null,null,"ABS","%",{"$f":"$AQ66","v":0.2},"$",{"$f":"DY58+DY65","v":1456.1181760580653},"L",null,null,null,null,null,null,null,null,"ABS","%",{"$f":"$O66","v":0.2},"$",{"$f":"EM58+EM65","v":603.71111888639166},"L",null,null,null,null,null,null,null,null,"ABS","%",{"$f":"$AC66","v":0.2},"$",{"$f":"FA58+FA65","v":1364.8768118984563},"L",null,null,null,null,null,null,null,null,"ABS","%",{"$f":"$AQ66","v":0.2},"$",{"$f":"FO58+FO65","v":2048.6128412169192},"L"]
["Displacement [L]",1]
["Turbocharger","FGT"]
["EGR system","External"]
["Valvetrain","DOHC",null,null,null,null,null,null,null,null,null,"2012-2016","INC","%",{"$f":"1-((1-O71)/(1-O63))","v":0},"$",0,0,null,null,null,null,null,null,null,"2012-2016","INC","%",{"$f":"1-((1-AC71)/(1-AC63))","v":0},"$",0,0,null,null,null,null,null,null,null,"2012-2016","INC","%",{"$f":"1-((1-AQ71)/(1-AQ63))","v":0},"$",0,0,null,null,null,null,null,null,null,"2012-2016","INC","%",{"$f":"1-((1-BE71)/(1-BE63))","v":0},"$",{"$f":"$Q$70","v":0},{"$f":"$R$70","v":0},null,null,null,null,null,null,null,"2012-2016","INC","%",{"$f":"1-((1-BS71)/(1-BS63))","v":0},"$",{"$f":"$AE$70","v":0},{"$f":"$AF$70","v":0},null,null,null,null,null,null,null,"2012-2016","INC","%",{"$f":"1-((1-CG71)/(1-CG63))","v":0},"$",{"$f":"$AS$70","v":0},{"$f":"$AT$70","v":0},null,null,null,null,null,null,null,"2012-2016","INC","%",{"$f":"1-((1-CU71)/(1-CU63))","v":0},"$",{"$f":"$Q$70","v":0},{"$f":"$R$70","v":0},null,null,null,null,null,null,null,"2012-2016","INC","%",{"$f":"1-((1-DI71)/(1-DI63))","v":0},"$",{"$f":"$AE$70","v":0},{"$f":"$AF$70","v":0},null,null,null,null,null,null,null,"2012-2016","INC","%",{"$f":"1-((1-DW71)/(1-DW63))","v":0},"$",{"$f":"$AS$70","v":0},{"$f":"$AT$70","v":0},null,null,null,null,null,null,null,"2012-2016","INC","%",{"$f":"1-((1-EK71)/(1-EK63))","v":0},"$",{"$f":"$Q$70","v":0},{"$f":"$R$70","v":0},null,null,null,null,null,null,null,"2012-2016","INC","%",{"$f":"1-((1-EY71)/(1-EY63))","v":0},"$",{"$f":"$AE$70","v":0},{"$f":"$AF$70","v":0},null,null,null,null,null,null,null,"2012-2016","INC","%",{"$f":"1-((1-FM71)/(1-FM63))","v":0},"$",{"$f":"$AS$70","v":0},{"$f":"$AT$70","v":0}]
["After Treatment","3way cat",null,null,null,null,null,null,null,null,null,null,"ABS","%",{"$f":"O63","v":0.16942564313039576},"$",{"$f":"Q63+Q70","v":926.64925955855733},"L",null,null,null,null,null,null,null,null,"ABS","%",{"$f":"AC63","v":0.16907362318840569},"$",{"$f":"AE63+AE70","v":477.31779101089109},"L",null,null,null,null,null,null,null,null,"ABS","%",{"$f":"AQ63","v":0.16907362318840569},"$",{"$f":"AS63+AS70","v":1030.0665158129386},"L",null,null,null,null,null,null,null,null,"ABS","%",{"$f":"BE63","v":0.17355542673107882},"$",{"$f":"BG63+BG70","v":954.8261702963465},"L",null,null,null,null,null,null,null,null,"ABS","%",{"$f":"BS63","v":0.16907362318840558},"$",{"$f":"BU63+BU70","v":378.35306532426478},"L",null,null,null,null,null,null,null,null,"ABS","%",{"$f":"CG63","v":0.16907362318840558},"$",{"$f":"CI63+CI70","v":917.53214971346802},"L",null,null,null,null,null,null,null,null,"ABS","%",{"$f":"CU63","v":0.16907362318840558},"$",{"$f":"CW63+CW70","v":1013.2167572258717},"L",null,null,null,null,null,null,null,null,"ABS","%",{"$f":"DI63","v":0.16907362318840558},"$",{"$f":"DK63+DK70","v":436.74365225378995},"L",null,null,null,null,null,null,null,null,"ABS","%",{"$f":"DW63","v":0.16907362318840558},"$",{"$f":"DY63+DY70","v":975.92273664299319},"L",null,null,null,null,null,null,null,null,"ABS","%",{"$f":"EK63","v":0.21024391205757653},"$",{"$f":"EM63+EM70","v":520.95614018165861},"L",null,null,null,null,null,null,null,null,"ABS","%",{"$f":"EY63","v":0.1629206349206348},"$",{"$f":"FA63+FA70","v":1054.4423915748105},"L",null,null,null,null,null,null,null,null,"ABS","%",{"$f":"FM63","v":0.1629206349206348},"$",{"$f":"FO63+FO70","v":1568.4174018018473},"L"]
[null,null,null,null,null,null,null,null,null,null,null,null,"CEGR1_SD_TB","Cooled EGR 1 \n(CEGR1_SD) - TBL",null,null,null,null,"CEGR1_SD_DS",null,null,null,null,null,null,null,"CEGR1_MD_TB","Cooled EGR 1 \n(CEGR1_MD) - TBL",null,null,null,null,"CEGR1_MD_DS",null,null,null,null,null,null,null,"CEGR1_LD_TB","Cooled EGR 1 \n(CEGR1_LD) - TBL",null,null,null,null,"CEGR1_LD_DS",null,null,null,null,null,null,null,"CEGR1_SD_TB",{"$f":"$N$72","v":"Cooled EGR 1 \n(CEGR1_SD) - TBL"},null,null,null,null,"CEGR1_SD_DS",null,null,null,null,null,null,null,"CEGR1_MD_TB",{"$f":"$AB$72","v":"Cooled EGR 1 \n(CEGR1_MD) - TBL"},null,null,null,null,"CEGR1_MD_DS",null,null,null,null,null,null,null,"CEGR1_LD_TB",{"$f":"$AP$72","v":"Cooled EGR 1 \n(CEGR1_LD) - TBL"},null,null,null,null,"CEGR1_LD_DS",null,null,null,null,null,null,null,"CEGR1_SD_TB",{"$f":"$N$72","v":"Cooled EGR 1 \n(CEGR1_SD) - TBL"},null,null,null,null,"CEGR1_SD_DS",null,null,null,null,null,null,null,"CEGR1_MD_TB",{"$f":"$AB$72","v":"Cooled EGR 1 \n(CEGR1_MD) - TBL"},null,null,null,null,"CEGR1_MD_DS",null,null,null,null,null,null,null,"CEGR1_LD_TB",{"$f":"$AP$72","v":"Cooled EGR 1 \n(CEGR1_LD) - TBL"},null,null,null,null,"CEGR1_LD_DS",null,null,null,null,null,null,null,"CEGR1_SD_TB",{"$f":"$N$72","v":"Cooled EGR 1 \n(CEGR1_SD) - TBL"},null,null,null,null,"CEGR1_SD_DS",null,null,null,null,null,null,null,"CEGR1_MD_TB",{"$f":"$AB$72","v":"Cooled EGR 1 \n(CEGR1_MD) - TBL"},null,null,null,null,"CEGR1_MD_DS",null,null,null,null,null,null,null,"CEGR1_LD_TB",{"$f":"$AP$72","v":"Cooled EGR 1 \n(CEGR1_LD) - TBL"},null,null,null,null,"CEGR1_LD_DS"]
[null,null,null,null,null,null,null,null,null,null,null,"2017+","INC","%",{"$f":"1-((1-O74)/(1-O66))","v":3.6250000000000004E-2},"$",{"$f":"INDEX('[1]Large Perf. PC'!$H$379:$X$467,MATCH(M72,'[1]Large Perf. PC'!$C$379:$C$467,0),MATCH(Inputs!$C$2,'[1]Large Perf. PC'!$H$378:$X$378,0))\n+INDEX('[1]Large Perf. PC'!$H$379:$X$467,MATCH(S72,'[1]Large Perf. PC'!$C$379:$C$467,0),MATCH(Inputs!$C$2,'[1]Large Perf. PC'!$H$378:$X$378,0))","v":285.15466932220613},10,null,null,null,null,null,null,null,"2017+","INC","%",{"$f":"1-((1-AC74)/(1-AC66))","v":3.6250000000000004E-2},"$",{"$f":"INDEX('[1]Small LT'!$H$379:$X$467,MATCH(AA72,'[1]Small LT'!$C$379:$C$467,0),MATCH(Inputs!$C$2,'[1]Small LT'!$H$378:$X$378,0))\n+INDEX('[1]Small LT'!$H$379:$X$467,MATCH(AG72,'[1]Small LT'!$C$379:$C$467,0),MATCH(Inputs!$C$2,'[1]Small LT'!$H$378:$X$378,0))","v":285.15466932220613},10,null,null,null,null,null,null,null,"2017+","INC","%",{"$f":"1-((1-AQ74)/(1-AQ66))","v":3.6250000000000004E-2},"$",{"$f":"INDEX('[1]Small LT'!$H$379:$X$467,MATCH(AO72,'[1]Small LT'!$C$379:$C$467,0),MATCH(Inputs!$C$2,'[1]Small LT'!$H$378:$X$378,0))\n+INDEX('[1]Small LT'!$H$379:$X$467,MATCH(AU72,'[1]Small LT'!$C$379:$C$467,0),MATCH(Inputs!$C$2,'[1]Small LT'!$H$378:$X$378,0))","v":285.15466932220613},10,null,null,null,null,null,null,null,"2017+","INC","%",{"$f":"$O$73","v":3.6250000000000004E-2},"$",{"$f":"$Q$73","v":285.15466932220613},{"$f":"$R$73","v":10},null,null,null,null,null,null,null,"2017+","INC","%",{"$f":"$AC$73","v":3.6250000000000004E-2},"$",{"$f":"$AE$73","v":285.15466932220613},{"$f":"$AF$73","v":10},null,null,null,null,null,null,null,"2017+","INC","%",{"$f":"$AQ$73","v":3.6250000000000004E-2},"$",{"$f":"$AS$73","v":285.15466932220613},{"$f":"$AT$73","v":10},null,null,null,null,null,null,null,"2017+","INC","%",{"$f":"$O$73","v":3.6250000000000004E-2},"$",{"$f":"$Q$73","v":285.15466932220613},{"$f":"$R$73","v":10},null,null,null,null,null,null,null,"2017+","INC","%",{"$f":"$AC$73","v":3.6250000000000004E-2},"$",{"$f":"$AE$73","v":285.15466932220613},{"$f":"$AF$73","v":10},null,null,null,null,null,null,null,"2017+","INC","%",{"$f":"$AQ$73","v":3.6250000000000004E-2},"$",{"$f":"$AS$73","v":285.15466932220613},{"$f":"$AT$73","v":10},null,null,null,null,null,null,null,"2017+","INC","%",{"$f":"$O$73","v":3.6250000000000004E-2},"$",{"$f":"$Q$73","v":285.15466932220613},{"$f":"$R$73","v":10},null,null,null,null,null,null,null,"2017+","INC","%",{"$f":"$AC$73","v":3.6250000000000004E-2},"$",{"$f":"$AE$73","v":285.15466932220613},{"$f":"$AF$73","v":10},null,null,null,null,null,null,null,"2017+","INC","%",{"$f":"$AQ$73","v":3.6250000000000004E-2},"$",{"$f":"$AS$73","v":285.15466932220613},{"$f":"$AT$73","v":10}]
[null,null,null,null,null,null,null,null,null,null,null,null,"ABS","%",0.22900000000000001,"$",{"$f":"Q66+Q73","v":1294.5589075854966},"L",null,null,null,null,null,null,null,null,"ABS","%",{"$f":"O74","v":0.22900000000000001},"$",{"$f":"AE66+AE73","v":1072.9068806567434},"L",null,null,null,null,null,null,null,null,"ABS","%",0.22900000000000001,"$",{"$f":"AS66+AS73","v":1795.416624550217},"L",null,null,null,null,null,null,null,null,"ABS","%",{"$f":"1-((1-BE66)*(1-BE73))","v":0.22899999999999998},"$",{"$f":"BG66+BG73","v":1322.7358183232859},"L",null,null,null,null,null,null,null,null,"ABS","%",{"$f":"$O74","v":0.22900000000000001},"$",{"$f":"BU66+BU73","v":973.94215497011692},"L",null,null,null,null,null,null,null,null,"ABS","%",{"$f":"$AQ74","v":0.22900000000000001},"$",{"$f":"CI66+CI73","v":1682.8822584507461},"L",null,null,null,null,null,null,null,null,"ABS","%",{"$f":"$O74","v":0.22900000000000001},"$",{"$f":"CW66+CW73","v":1381.1264052528109},"L",null,null,null,null,null,null,null,null,"ABS","%",{"$f":"$AC74","v":0.22900000000000001},"$",{"$f":"DK66+DK73","v":1032.3327418996421},"L",null,null,null,null,null,null,null,null,"ABS","%",{"$f":"$AQ74","v":0.22900000000000001},"$",{"$f":"DY66+DY73","v":1741.2728453802715},"L",null,null,null,null,null,null,null,null,"ABS","%",{"$f":"$O74","v":0.22900000000000001},"$",{"$f":"EM66+EM73","v":888.86578820859779},"L",null,null,null,null,null,null,null,null,"ABS","%",{"$f":"$AC74","v":0.22900000000000001},"$",{"$f":"FA66+FA73","v":1650.0314812206625},"L",null,null,null,null,null,null,null,null,"ABS","%",{"$f":"$AQ74","v":0.22900000000000001},"$",{"$f":"FO66+FO73","v":2333.7675105391254},"L"]
[]
[]
[]
[null,null,null,null,null,null,null,null,null,null,null,"2012-2016","INC","%",{"$f":"1-((1-O79)/(1-O71))","v":0},"$",0,0,null,null,null,null,null,null,null,"2012-2016","INC","%",{"$f":"1-((1-AC79)/(1-AC71))","v":0},"$",0,0,null,null,null,null,null,null,null,"2012-2016","INC","%",{"$f":"1-((1-AQ79)/(1-AQ71))","v":0},"$",0,0,null,null,null,null,null,null,null,"2012-2016","INC","%",{"$f":"1-((1-BE79)/(1-BE71))","v":0},"$",{"$f":"$Q$78","v":0},{"$f":"$R$78","v":0},null,null,null,null,null,null,null,"2012-2016","INC","%",{"$f":"1-((1-BS79)/(1-BS71))","v":0},"$",{"$f":"$AE$78","v":0},{"$f":"$AF$78","v":0},null,null,null,null,null,null,null,"2012-2016","INC","%",{"$f":"1-((1-CG79)/(1-CG71))","v":0},"$",{"$f":"$AS$78","v":0},{"$f":"$AT$78","v":0},null,null,null,null,null,null,null,"2012-2016","INC","%",{"$f":"1-((1-CU79)/(1-CU71))","v":0},"$",{"$f":"$Q$78","v":0},{"$f":"$R$78","v":0},null,null,null,null,null,null,null,"2012-2016","INC","%",{"$f":"1-((1-DI79)/(1-DI71))","v":0},"$",{"$f":"$AE$78","v":0},{"$f":"$AF$78","v":0},null,null,null,null,null,null,null,"2012-2016","INC","%",{"$f":"1-((1-DW79)/(1-DW71))","v":0},"$",{"$f":"$AS$78","v":0},{"$f":"$AT$78","v":0},null,null,null,null,null,null,null,"2012-2016","INC","%",{"$f":"1-((1-EK79)/(1-EK71))","v":0},"$",{"$f":"$Q$78","v":0},{"$f":"$R$78","v":0},null,null,null,null,null,null,null,"2012-2016","INC","%",{"$f":"1-((1-EY79)/(1-EY71))","v":0},"$",{"$f":"$AE$78","v":0},{"$f":"$AF$78","v":0},null,null,null,null,null,null,null,"2012-2016","INC","%",{"$f":"1-((1-FM79)/(1-FM71))","v":0},"$",{"$f":"$AS$78","v":0},{"$f":"$AT$78","v":0}]
[null,null,null,null,null,null,null,null,null,null,null,null,"ABS","%",{"$f":"O71","v":0.16942564313039576},"$",{"$f":"Q71+Q78","v":926.64925955855733},"L",null,null,null,null,null,null,null,null,"ABS","%",{"$f":"AC71","v":0.16907362318840569},"$",{"$f":"AE71+AE78","v":477.31779101089109},"L",null,null,null,null,null,null,null,null,"ABS","%",{"$f":"AQ71","v":0.16907362318840569},"$",{"$f":"AS71+AS78","v":1030.0665158129386},"L",null,null,null,null,null,null,null,null,"ABS","%",{"$f":"BE71","v":0.17355542673107882},"$",{"$f":"BG71+BG78","v":954.8261702963465},"L",null,null,null,null,null,null,null,null,"ABS","%",{"$f":"BS71","v":0.16907362318840558},"$",{"$f":"BU71+BU78","v":378.35306532426478},"L",null,null,null,null,null,null,null,null,"ABS","%",{"$f":"CG71","v":0.16907362318840558},"$",{"$f":"CI71+CI78","v":917.53214971346802},"L",null,null,null,null,null,null,null,null,"ABS","%",{"$f":"CU71","v":0.16907362318840558},"$",{"$f":"CW71+CW78","v":1013.2167572258717},"L",null,null,null,null,null,null,null,null,"ABS","%",{"$f":"DI71","v":0.16907362318840558},"$",{"$f":"DK71+DK78","v":436.74365225378995},"L",null,null,null,null,null,null,null,null,"ABS","%",{"$f":"DW71","v":0.16907362318840558},"$",{"$f":"DY71+DY78","v":975.92273664299319},"L",null,null,null,null,null,null,null,null,"ABS","%",{"$f":"EK71","v":0.21024391205757653},"$",{"$f":"EM71+EM78","v":520.95614018165861},"L",null,null,null,null,null,null,null,null,"ABS","%",{"$f":"EY71","v":0.1629206349206348},"$",{"$f":"FA71+FA78","v":1054.4423915748105},"L",null,null,null,null,null,null,null,null,"ABS","%",{"$f":"FM71","v":0.1629206349206348},"$",{"$f":"FO71+FO78","v":1568.4174018018473},"L"]
[null,null,null,null,null,null,null,null,null,null,null,null,"CEGR2_SD_TB","Cooled EGR 2\n(CEGR2_SD) - TBL",null,null,null,null,"CEGR2_SD_DS",null,null,null,null,null,null,null,"CEGR2_MD_TB","Cooled EGR 2\n(CEGR2_MD) - TBL",null,null,null,null,"CEGR2_MD_DS",null,null,null,null,null,null,null,"CEGR2_LD_TB","Cooled EGR 2\n(CEGR2_LD) - TBL",null,null,null,null,"CEGR2_LD_DS",null,null,null,null,null,null,null,"CEGR2_SD_TB",{"$f":"$N$80","v":"Cooled EGR 2\n(CEGR2_SD) - TBL"},null,null,null,null,"CEGR2_SD_DS",null,null,null,null,null,null,null,"CEGR2_MD_TB",{"$f":"$AB$80","v":"Cooled EGR 2\n(CEGR2_MD) - TBL"},null,null,null,null,"CEGR2_MD_DS",null,null,null,null,null,null,null,"CEGR2_LD_TB",{"$f":"$AP$80","v":"Cooled EGR 2\n(CEGR2_LD) - TBL"},null,null,null,null,"CEGR2_LD_DS",null,null,null,null,null,null,null,"CEGR2_SD_TB",{"$f":"$N$80","v":"Cooled EGR 2\n(CEGR2_SD) - TBL"},null,null,null,null,"CEGR2_SD_DS",null,null,null,null,null,null,null,"CEGR2_MD_TB",{"$f":"$AB$80","v":"Cooled EGR 2\n(CEGR2_MD) - TBL"},null,null,null,null,"CEGR2_MD_DS",null,null,null,null,null,null,null,"CEGR2_LD_TB",{"$f":"$AP$80","v":"Cooled EGR 2\n(CEGR2_LD) - TBL"},null,null,null,null,"CEGR2_LD_DS",null,null,null,null,null,null,null,"CEGR2_SD_TB",{"$f":"$N$80","v":"Cooled EGR 2\n(CEGR2_SD) - TBL"},null,null,null,null,"CEGR2_SD_DS",null,null,null,null,null,null,null,"CEGR2_MD_TB",{"$f":"$AB$80","v":"Cooled EGR 2\n(CEGR2_MD) - TBL"},null,null,null,null,"CEGR2_MD_DS",null,null,null,null,null,null,null,"CEGR2_LD_TB",{"$f":"$AP$80","v":"Cooled EGR 2\n(CEGR2_LD) - TBL"},null,null,null,null,"CEGR2_LD_DS"]
[null,"STOP",null,null,null,null,null,null,null,null,null,"2017+","INC","%",{"$f":"1-((1-O82)/(1-O74))","v":1.037613488975353E-2},"$",{"$f":"INDEX('[1]Small LT'!$H$379:$X$467,MATCH(M80,'[1]Small LT'!$C$379:$C$467,0),MATCH(Inputs!$C$2,'[1]Small LT'!$H$378:$X$378,0))\n+INDEX('[1]Small LT'!$H$379:$X$467,MATCH(S80,'[1]Small LT'!$C$379:$C$467,0),MATCH(Inputs!$C$2,'[1]Small LT'!$H$378:$X$378,0))","v":495.18737698870899},10,null,null,null,null,null,null,null,"2017+","INC","%",{"$f":"1-((1-AC82)/(1-AC74))","v":1.037613488975353E-2},"$",{"$f":"INDEX('[1]Small LT'!$H$379:$X$467,MATCH(AA80,'[1]Small LT'!$C$379:$C$467,0),MATCH(Inputs!$C$2,'[1]Small LT'!$H$378:$X$378,0))\n+INDEX('[1]Small LT'!$H$379:$X$467,MATCH(AG80,'[1]Small LT'!$C$379:$C$467,0),MATCH(Inputs!$C$2,'[1]Small LT'!$H$378:$X$378,0))","v":495.18737698870899},10,null,null,null,null,null,null,null,"2017+","INC","%",{"$f":"1-((1-AQ82)/(1-AQ74))","v":1.037613488975353E-2},"$",{"$f":"INDEX('[1]Small LT'!$H$379:$X$467,MATCH(AO80,'[1]Small LT'!$C$379:$C$467,0),MATCH(Inputs!$C$2,'[1]Small LT'!$H$378:$X$378,0))\n+INDEX('[1]Small LT'!$H$379:$X$467,MATCH(AU80,'[1]Small LT'!$C$379:$C$467,0),MATCH(Inputs!$C$2,'[1]Small LT'!$H$378:$X$378,0))","v":-296.67298355204559},10,null,null,null,null,null,null,null,"2017+","INC","%",{"$f":"$O$81","v":1.037613488975353E-2},"$",{"$f":"$Q$81","v":495.18737698870899},{"$f":"$R$81","v":10},null,null,null,null,null,null,null,"2017+","INC","%",{"$f":"$AC$81","v":1.037613488975353E-2},"$",{"$f":"$AE$81","v":495.18737698870899},{"$f":"$AF$81","v":10},null,null,null,null,null,null,null,"2017+","INC","%",{"$f":"$AQ$81","v":1.037613488975353E-2},"$",{"$f":"$AS$81","v":-296.67298355204559},{"$f":"$AT$81","v":10},null,null,null,null,null,null,null,"2017+","INC","%",{"$f":"$O$81","v":1.037613488975353E-2},"$",{"$f":"$Q$81","v":495.18737698870899},{"$f":"$R$81","v":10},null,null,null,null,null,null,null,"2017+","INC","%",{"$f":"$AC$81","v":1.037613488975353E-2},"$",{"$f":"$AE$81","v":495.18737698870899},{"$f":"$AF$81","v":10},null,null,null,null,null,null,null,"2017+","INC","%",{"$f":"$AQ$81","v":1.037613488975353E-2},"$",{"$f":"$AS$81","v":-296.67298355204559},{"$f":"$AT$81","v":10},null,null,null,null,null,null,null,"2017+","INC","%",{"$f":"$O$81","v":1.037613488975353E-2},"$",{"$f":"$Q$81","v":495.18737698870899},{"$f":"$R$81","v":10},null,null,null,null,null,null,null,"2017+","INC","%",{"$f":"$AC$81","v":1.037613488975353E-2},"$",{"$f":"$AE$81","v":495.18737698870899},{"$f":"$AF$81","v":10},null,null,null,null,null,null,null,"2017+","INC","%",{"$f":"$AQ$81","v":1.037613488975353E-2},"$",{"$f":"$AS$81","v":-296.67298355204559},{"$f":"$AT$81","v":10}]
["Diesel Engine Type","I4",null,null,null,null,null,null,null,null,null,null,"ABS","%",0.23699999999999999,"$",{"$f":"Q74+Q81","v":1789.7462845742057},"L",null,null,null,null,null,null,null,null,"ABS","%",{"$f":"O82","v":0.23699999999999999},"$",{"$f":"AE74+AE81","v":1568.0942576454524},"L",null,null,null,null,null,null,null,null,"ABS","%",0.23699999999999999,"$",{"$f":"AS74+AS81","v":1498.7436409981715},"L",null,null,null,null,null,null,null,null,"ABS","%",{"$f":"1-((1-BE74)*(1-BE81))","v":0.23699999999999999},"$",{"$f":"BG74+BG81","v":1817.923195311995},"L",null,null,null,null,null,null,null,null,"ABS","%",{"$f":"$O82","v":0.23699999999999999},"$",{"$f":"BU74+BU81","v":1469.129531958826},"L",null,null,null,null,null,null,null,null,"ABS","%",{"$f":"$AQ82","v":0.23699999999999999},"$",{"$f":"CI74+CI81","v":1386.2092748987006},"L",null,null,null,null,null,null,null,null,"ABS","%",{"$f":"$O82","v":0.23699999999999999},"$",{"$f":"CW74+CW81","v":1876.3137822415199},"L",null,null,null,null,null,null,null,null,"ABS","%",{"$f":"$AC82","v":0.23699999999999999},"$",{"$f":"DK74+DK81","v":1527.5201188883511},"L",null,null,null,null,null,null,null,null,"ABS","%",{"$f":"$AQ82","v":0.23699999999999999},"$",{"$f":"DY74+DY81","v":1444.599861828226},"L",null,null,null,null,null,null,null,null,"ABS","%",{"$f":"$O82","v":0.23699999999999999},"$",{"$f":"EM74+EM81","v":1384.0531651973067},"L",null,null,null,null,null,null,null,null,"ABS","%",{"$f":"$AC82","v":0.23699999999999999},"$",{"$f":"FA74+FA81","v":2145.2188582093713},"L",null,null,null,null,null,null,null,null,"ABS","%",{"$f":"$AQ82","v":0.23699999999999999},"$",{"$f":"FO74+FO81","v":2037.0945269870799},"L"]
["Displacement [L]","1.5 to 2.0"]
["Turbocharger","VNT"]
["EGR system","cooler+vlv+bypass vlv"]
["FIE","HPCR 1800bar solenoid",null,null,"2012-2016","INC","%",{"$f":"1-((1-H87)/(1-O79))","v":0},"$",0,"L","2012-2016","INC","%",0,"$",0,0,"2012-2016","INC","%",{"$f":"1-((1-V87)/(1-AC79))","v":0},"$",0,"L","2012-2016","INC","%",0,"$",0,0,"2012-2016","INC","%",{"$f":"1-((1-AJ87)/(1-AQ79))","v":0},"$",0,"L","2012-2016","INC","%",0,"$",0,0,"2012-2016","INC","%",{"$f":"1-((1-AX87)/(1-BE79))","v":-4.9970484824506389E-3},"$",0,"L","2012-2016","INC","%",0,"$",0,0,"2012-2016","INC","%",{"$f":"1-((1-BL87)/(1-BS79))","v":0},"$",0,"L","2012-2016","INC","%",0,"$",0,0,"2012-2016","INC","%",{"$f":"1-((1-BZ87)/(1-CG79))","v":0},"$",0,"L","2012-2016","INC","%",0,"$",0,0,"2012-2016","INC","%",{"$f":"1-((1-CN87)/(1-CU79))","v":4.2364757193169567E-4},"$",0,"L","2012-2016","INC","%",0,"$",0,0,"2012-2016","INC","%",{"$f":"1-((1-DB87)/(1-DI79))","v":0},"$",0,"L","2012-2016","INC","%",0,"$",0,0,"2012-2016","INC","%",{"$f":"1-((1-DP87)/(1-DW79))","v":0},"$",0,"L","2012-2016","INC","%",0,"$",0,0,"2012-2016","INC","%",{"$f":"1-((1-ED87)/(1-EK79))","v":-5.1684652452032243E-2},"$",0,"L","2012-2016","INC","%",0,"$",0,0,"2012-2016","INC","%",{"$f":"1-((1-ER87)/(1-EY79))","v":7.350543478260918E-3},"$",0,"L","2012-2016","INC","%",0,"$",0,0,"2012-2016","INC","%",{"$f":"1-((1-FF87)/(1-FM79))","v":7.350543478260918E-3},"$",0,"L","2012-2016","INC","%",0,"$",0,0]
["Valvetrain","4-valve DOHC",null,null,null,"ABS","%",{"$f":"O79","v":0.16942564313039576},"$",{"$f":"J86+Q79","v":926.64925955855733},150,null,"ABS","%",{"$f":"1-((1-O79)*(1-O86))","v":0.16942564313039576},"$",{"$f":"Q79+Q86","v":926.64925955855733},"L",null,"ABS","%",{"$f":"AC79","v":0.16907362318840569},"$",{"$f":"X86+AE79","v":477.31779101089109},200,null,"ABS","%",{"$f":"1-((1-AC79)*(1-AC86))","v":0.16907362318840569},"$",{"$f":"AE79+AE86","v":477.31779101089109},"L",null,"ABS","%",{"$f":"AQ79","v":0.16907362318840569},"$",{"$f":"AL86+AS79","v":1030.0665158129386},500,null,"ABS","%",{"$f":"1-((1-AQ79)*(1-AQ86))","v":0.16907362318840569},"$",{"$f":"AS79+AS86","v":1030.0665158129386},"L",null,"ABS","%",{"$f":"$H$87","v":0.16942564313039576},"$",{"$f":"AZ86+BG79","v":954.8261702963465},{"$f":"$K$87","v":150},null,"ABS","%",{"$f":"1-((1-BE79)*(1-BE86))","v":0.17355542673107882},"$",{"$f":"BG79+BG86","v":954.8261702963465},"L",null,"ABS","%",{"$f":"$V$87","v":0.16907362318840569},"$",{"$f":"BN86+BU79","v":378.35306532426478},{"$f":"$Y$87","v":200},null,"ABS","%",{"$f":"1-((1-BS79)*(1-BS86))","v":0.16907362318840558},"$",{"$f":"BU79+BU86","v":378.35306532426478},"L",null,"ABS","%",{"$f":"$AJ$87","v":0.16907362318840569},"$",{"$f":"CB86+CI79","v":917.53214971346802},{"$f":"$AM$87","v":500},null,"ABS","%",{"$f":"1-((1-CG79)*(1-CG86))","v":0.16907362318840558},"$",{"$f":"CI79+CI86","v":917.53214971346802},"L",null,"ABS","%",{"$f":"$H$87","v":0.16942564313039576},"$",{"$f":"CP86+CW79","v":1013.2167572258717},{"$f":"$K$87","v":150},null,"ABS","%",{"$f":"1-((1-CU79)*(1-CU86))","v":0.16907362318840558},"$",{"$f":"CW79+CW86","v":1013.2167572258717},"L",null,"ABS","%",{"$f":"$V$87","v":0.16907362318840569},"$",{"$f":"DD86+DK79","v":436.74365225378995},{"$f":"$Y$87","v":200},null,"ABS","%",{"$f":"1-((1-DI79)*(1-DI86))","v":0.16907362318840558},"$",{"$f":"DK79+DK86","v":436.74365225378995},"L",null,"ABS","%",{"$f":"$AJ$87","v":0.16907362318840569},"$",{"$f":"DR86+DY79","v":975.92273664299319},{"$f":"$AM$87","v":500},null,"ABS","%",{"$f":"1-((1-DW79)*(1-DW86))","v":0.16907362318840558},"$",{"$f":"DY79+DY86","v":975.92273664299319},"L",null,"ABS","%",{"$f":"$H$87","v":0.16942564313039576},"$",{"$f":"EF86+EM79","v":520.95614018165861},{"$f":"$K$87","v":150},null,"ABS","%",{"$f":"1-((1-EK79)*(1-EK86))","v":0.21024391205757653},"$",{"$f":"EM79+EM86","v":520.95614018165861},"L",null,"ABS","%",{"$f":"$V$87","v":0.16907362318840569},"$",{"$f":"ET86+FA79","v":1054.4423915748105},{"$f":"$Y$87","v":200},null,"ABS","%",{"$f":"1-((1-EY79)*(1-EY86))","v":0.1629206349206348},"$",{"$f":"FA79+FA86","v":1054.4423915748105},"L",null,"ABS","%",{"$f":"$AJ$87","v":0.16907362318840569},"$",{"$f":"FH86+FO79","v":1568.4174018018473},{"$f":"$AM$87","v":500},null,"ABS","%",{"$f":"1-((1-FM79)*(1-FM86))","v":0.1629206349206348},"$",{"$f":"FO79+FO86","v":1568.4174018018473},"L"]
["Valvetrain option","N/A",null,null,null,null,"Advanced Diesel\n(ADSL_SD) - TBL",null,null,null,null,"ADSL_SD",null,"To Strong Hybrids",null,null,null,null,null,null,"Advanced Diesel\n(ADSL_MD) - TBL",null,null,null,null,"ADSL_MD",null,"To Strong Hybrids",null,null,null,null,null,null,"Advanced Diesel\n(ADSL_LD) - TBL",null,null,null,null,"ADSL_LD",null,"To Strong Hybrids",null,null,null,null,null,null,"Advanced Diesel\n(ADSL_SD) - TBL",null,null,null,null,"ADSL_SD",null,"To Strong Hybrids",null,null,null,null,null,null,"Advanced Diesel\n(ADSL_MD) - TBL",null,null,null,null,"ADSL_SD",null,"To Strong Hybrids",null,null,null,null,null,null,"Advanced Diesel\n(ADSL_LD) - TBL",null,null,null,null,"ADSL_SD",null,"To Strong Hybrids",null,null,null,null,null,null,"Advanced Diesel\n(ADSL_SD) - TBL",null,null,null,null,"ADSL_SD",null,"To Strong Hybrids",null,null,null,null,null,null,"Advanced Diesel\n(ADSL_MD) - TBL",null,null,null,null,"ADSL_SD",null,"To Strong Hybrids",null,null,null,null,null,null,"Advanced Diesel\n(ADSL_LD) - TBL",null,null,null,null,"ADSL_SD",null,"To Strong Hybrids",null,null,null,null,null,null,"Advanced Diesel\n(ADSL_SD) - TBL",null,null,null,null,"ADSL_SD",null,"To Strong Hybrids",null,null,null,null,null,null,"Advanced Diesel\n(ADSL_MD) - TBL",null,null,null,null,"ADSL_SD",null,"To Strong Hybrids",null,null,null,null,null,null,"Advanced Diesel\n(ADSL_LD) - TBL",null,null,null,null,"ADSL_SD",null,"To Strong Hybrids"]
["After Treatment","DOC+LNT+DPF",null,null,"2017+","INC","%",{"$f":"1-((1-H90)/(1-O82))","v":5.3079947575360498E-2},"$",{"$f":"INDEX('[1]Small LT'!$H$379:$X$467,MATCH(L88,'[1]Small LT'!$C$379:$C$467,0),MATCH(Inputs!$C$2,'[1]Small LT'!$H$378:$X$378,0))","v":911.04083256975923},"L","2017+","INC","%",0,"$",{"$f":"Q86","v":0},0,"2017+","INC","%",{"$f":"1-((1-V90)/(1-AC82))","v":5.3079947575360498E-2},"$",{"$f":"INDEX('[1]Small LT'!$H$379:$X$467,MATCH(Z88,'[1]Small LT'!$C$379:$C$467,0),MATCH(Inputs!$C$2,'[1]Small LT'!$H$378:$X$378,0))","v":927.85441038425756},"L","2017+","INC","%",0,"$",{"$f":"AE86","v":0},0,"2017+","INC","%",{"$f":"1-((1-AJ90)/(1-AQ82))","v":5.3079947575360498E-2},"$",{"$f":"INDEX('[1]Small LT'!$H$379:$X$467,MATCH(AN88,'[1]Small LT'!$C$379:$C$467,0),MATCH(Inputs!$C$2,'[1]Small LT'!$H$378:$X$378,0))","v":1811.581549062259},"L","2017+","INC","%",0,"$",{"$f":"AS86","v":0},0,"2017+","INC","%",{"$f":"1-((1-AX90)/(1-BE82))","v":5.3079947575360498E-2},"$",{"$f":"$J$89","v":911.04083256975923},"L","2017+","INC","%",0,"$",{"$f":"BG86","v":0},0,"2017+","INC","%",{"$f":"1-((1-BL90)/(1-BS82))","v":5.3079947575360498E-2},"$",{"$f":"$X$89","v":927.85441038425756},"L","2017+","INC","%",0,"$",{"$f":"BU86","v":0},0,"2017+","INC","%",{"$f":"1-((1-BZ90)/(1-CG82))","v":5.3079947575360498E-2},"$",{"$f":"$AL$89","v":1811.581549062259},"L","2017+","INC","%",0,"$",{"$f":"CI86","v":0},0,"2017+","INC","%",{"$f":"1-((1-CN90)/(1-CU82))","v":5.3079947575360498E-2},"$",{"$f":"$J$89","v":911.04083256975923},"L","2017+","INC","%",0,"$",{"$f":"CW86","v":0},0,"2017+","INC","%",{"$f":"1-((1-DB90)/(1-DI82))","v":5.3079947575360498E-2},"$",{"$f":"$X$89","v":927.85441038425756},"L","2017+","INC","%",0,"$",{"$f":"DK86","v":0},0,"2017+","INC","%",{"$f":"1-((1-DP90)/(1-DW82))","v":5.3079947575360498E-2},"$",{"$f":"$AL$89","v":1811.581549062259},"L","2017+","INC","%",0,"$",{"$f":"DY86","v":0},0,"2017+","INC","%",{"$f":"1-((1-ED90)/(1-EK82))","v":5.3079947575360498E-2},"$",{"$f":"$J$89","v":911.04083256975923},"L","2017+","INC","%",0,"$",{"$f":"EM86","v":0},0,"2017+","INC","%",{"$f":"1-((1-ER90)/(1-EY82))","v":5.3079947575360498E-2},"$",{"$f":"$X$89","v":927.85441038425756},"L","2017+","INC","%",0,"$",{"$f":"FA86","v":0},0,"2017+","INC","%",{"$f":"1-((1-FF90)/(1-FM82))","v":5.3079947575360498E-2},"$",{"$f":"$AL$89","v":1811.581549062259},"L","2017+","INC","%",0,"$",{"$f":"FO86","v":0},0]
[null,null,null,null,null,"ABS","%",0.27750000000000002,"$",{"$f":"Q82+J89","v":2700.7871171439647},150,null,"ABS","%",{"$f":"1-((1-O82)*(1-O89))","v":0.23699999999999999},"$",{"$f":"Q82+Q89","v":1789.7462845742057},"L",null,"ABS","%",{"$f":"H90","v":0.27750000000000002},"$",{"$f":"AE82+X89","v":2495.94866802971},200,null,"ABS","%",{"$f":"1-((1-AC82)*(1-AC89))","v":0.23699999999999999},"$",{"$f":"AE82+AE89","v":1568.0942576454524},"L",null,"ABS","%",{"$f":"H90","v":0.27750000000000002},"$",{"$f":"AS82+AL89","v":3310.3251900604305},500,null,"ABS","%",{"$f":"1-((1-AQ82)*(1-AQ89))","v":0.23699999999999999},"$",{"$f":"AS82+AS89","v":1498.7436409981715},"L",null,"ABS","%",{"$f":"$H$90","v":0.27750000000000002},"$",{"$f":"$J$90","v":2700.7871171439647},{"$f":"$K$90","v":150},null,"ABS","%",{"$f":"1-((1-BE82)*(1-BE89))","v":0.23699999999999999},"$",{"$f":"BG82+BG89","v":1817.923195311995},"L",null,"ABS","%",{"$f":"$V$90","v":0.27750000000000002},"$",{"$f":"$X$90","v":2495.94866802971},{"$f":"$Y$90","v":200},null,"ABS","%",{"$f":"1-((1-BS82)*(1-BS89))","v":0.23699999999999999},"$",{"$f":"BU82+BU89","v":1469.129531958826},"L",null,"ABS","%",{"$f":"$AJ$90","v":0.27750000000000002},"$",{"$f":"$AL$90","v":3310.3251900604305},{"$f":"$AM$90","v":500},null,"ABS","%",{"$f":"1-((1-CG82)*(1-CG89))","v":0.23699999999999999},"$",{"$f":"CI82+CI89","v":1386.2092748987006},"L",null,"ABS","%",{"$f":"$H$90","v":0.27750000000000002},"$",{"$f":"$J$90","v":2700.7871171439647},{"$f":"$K$90","v":150},null,"ABS","%",{"$f":"1-((1-CU82)*(1-CU89))","v":0.23699999999999999},"$",{"$f":"CW82+CW89","v":1876.3137822415199},"L",null,"ABS","%",{"$f":"$V$90","v":0.27750000000000002},"$",{"$f":"$X$90","v":2495.94866802971},{"$f":"$Y$90","v":200},null,"ABS","%",{"$f":"1-((1-DI82)*(1-DI89))","v":0.23699999999999999},"$",{"$f":"DK82+DK89","v":1527.5201188883511},"L",null,"ABS","%",{"$f":"$AJ$90","v":0.27750000000000002},"$",{"$f":"$AL$90","v":3310.3251900604305},{"$f":"$AM$90","v":500},null,"ABS","%",{"$f":"1-((1-DW82)*(1-DW89))","v":0.23699999999999999},"$",{"$f":"DY82+DY89","v":1444.599861828226},"L",null,"ABS","%",{"$f":"$H$90","v":0.27750000000000002},"$",{"$f":"$J$90","v":2700.7871171439647},{"$f":"$K$90","v":150},null,"ABS","%",{"$f":"1-((1-EK82)*(1-EK89))","v":0.23699999999999999},"$",{"$f":"EM82+EM89","v":1384.0531651973067},"L",null,"ABS","%",{"$f":"$V$90","v":0.27750000000000002},"$",{"$f":"$X$90","v":2495.94866802971},{"$f":"$Y$90","v":200},null,"ABS","%",{"$f":"1-((1-EY82)*(1-EY89))","v":0.23699999999999999},"$",{"$f":"FA82+FA89","v":2145.2188582093713},"L",null,"ABS","%",{"$f":"$AJ$90","v":0.27750000000000002},"$",{"$f":"$AL$90","v":3310.3251900604305},{"$f":"$AM$90","v":500},null,"ABS","%",{"$f":"1-((1-FM82)*(1-FM89))","v":0.23699999999999999},"$",{"$f":"FO82+FO89","v":2037.0945269870799},"L"]
[]
[]
[]
[]
[]
[]
[]
["Expanded Trans/Hybrid Technology Decision Tree"]
[]
[]
[null,null,null,null,"Electrification",null,null,null,null,null,null,null,null,null,null,null,null,null,null,null,null,"Manual Trans",null,null,null,null,null,null,null,null,null,null,null,"Auto Trans"]
[]
[null,"START",null,null,"2012-2016","INC","%",1.2E-2,"$",{"$f":"INDEX('[1]Small LT'!$H$379:$X$467,MATCH(L105,'[1]Small LT'!$C$379:$C$467,0),MATCH(Inputs!$C$2,'[1]Small LT'!$H$378:$X$378,0))","v":98.103282519162363},95.93,null,null,null,"START",null,null,null,"2012-2016","INC","%",2.2100000000000002E-2,"$",{"$f":"INDEX('[1]Small LT'!$H$379:$X$467,MATCH(Z105,'[1]Small LT'!$C$379:$C$467,0),MATCH(Inputs!$C$2,'[1]Small LT'!$H$378:$X$378,0))","v":250.31750824336308},225.33,null,null,null,"START",null,null,null,"2012-2016","INC","%",2.4E-2,"$",{"$f":"INDEX('[1]Small LT'!$H$379:$X$467,MATCH(AN105,'[1]Small LT'!$C$379:$C$467,0),MATCH(Inputs!$C$2,'[1]Small LT'!$H$378:$X$378,0))","v":55.807948333210945},54.17]
["Curb Weight (lbs)",3702,null,null,null,"ABS","%",{"$f":"H103","v":1.2E-2},"$",{"$f":"J103","v":98.103282519162363},"L",null,null,null,"5-spd",null,null,null,null,"ABS","%",{"$f":"V103","v":2.2100000000000002E-2},"$",{"$f":"X103","v":250.31750824336308},"L",null,null,null,"4/5-spd",null,null,null,null,"ABS","%",{"$f":"AJ103","v":2.4E-2},"$",{"$f":"AL103","v":55.807948333210945},"L"]
["Engine Displacement [L]",2.6,null,null,null,null,"Electric Power\nSteering (EPS) - TBL",null,null,null,null,"EPS",null,null,"Manual",null,null,null,null,null,"6 Speed Man/Imp.\nInternals (6MAN) - TBL",null,null,null,null,"6MAN",null,null,"Auto",null,null,null,null,null,"Imp. Auto Trans Cnrt./\nExternals (IATC) - TBL",null,null,null,null,"IATC"]
["Engine Power (HP)",178.4,null,null,"2017+","INC","%",{"$f":"H103","v":1.2E-2},"$",{"$f":"J103","v":98.103282519162363},{"$f":"K103","v":95.93},null,null,null,null,null,null,null,"2017+","INC","%",2.2100000000000002E-2,"$",{"$f":"X103","v":250.31750824336308},225.33,null,null,null,null,null,null,null,"2017+","INC","%",{"$f":"AJ103","v":2.4E-2},"$",{"$f":"AL103","v":55.807948333210945},54.17]
["Engine Torque (ft-lbf)",184.7,null,null,null,"ABS","%",{"$f":"H106","v":1.2E-2},"$",{"$f":"J106","v":98.103282519162363},"L",null,null,null,null,null,null,null,null,"ABS","%",{"$f":"V106","v":2.2100000000000002E-2},"$",{"$f":"X106","v":250.31750824336308},"L",null,null,null,null,null,null,null,null,"ABS","%",{"$f":"AJ106","v":2.4E-2},"$",{"$f":"AL106","v":55.807948333210945},"L"]
["Footprint (ft2)",45.3]
[]
[]
[null,null,null,null,"2012-2016","INC","%",{"$f":"1-((1-H112)/(1-H104))","v":1.0121457489878583E-2},"$",{"$f":"INDEX('[1]Small LT'!$H$379:$X$467,MATCH(L113,'[1]Small LT'!$C$379:$C$467,0),MATCH(Inputs!$C$2,'[1]Small LT'!$H$378:$X$378,0))","v":79.784981333734891},115.2,null,null,null,null,null,null,null,"2012-2016","INC","%",0,"$",0,100.55,null,null,null,null,null,null,null,"2012-2016","INC","%",{"$f":"1-((1-AJ112)/(1-AJ104))","v":1.9957234497505416E-2},"$",{"$f":"INDEX('[1]Small LT'!$H$379:$X$467,MATCH(AN113,'[1]Small LT'!$C$379:$C$467,0),MATCH(Inputs!$C$2,'[1]Small LT'!$H$378:$X$378,0))","v":-37.91558007744085},100.55]
[null,null,null,null,null,"ABS","%",2.1999999999999999E-2,"$",{"$f":"J104+J111","v":177.88826385289724},"L",null,null,null,null,null,null,null,null,"ABS","%",{"$f":"V104","v":2.2100000000000002E-2},"$",{"$f":"X111+X104","v":250.31750824336308},"L",null,null,null,null,null,null,null,null,"ABS","%",{"$f":"1-((1-5.4%)/(1-1.1%))","v":4.3478260869565299E-2},"$",{"$f":"AL111+AL104","v":17.892368255770094},"L"]
[null,null,null,null,null,null,"Improved Accessories 1\n(IACC1) - TBL",null,null,null,null,"IACC1",null,null,"From Engine Path\n2012-2016 ",null,null,null,null,null,"High Eff. Gearbox \n(Manual) -  (HETRANSM) - TBL",null,null,null,null,"HETRANS",null,null,null,null,null,null,null,null,"6-spd Auto Trans w/Imp\nInternals (NAUTO) - TBL",null,null,null,null,"NAUTO"]
[null,null,null,null,"2017+","INC","%",{"$f":"1-((1-H115)/(1-H107))","v":1.0121457489878583E-2},"$",{"$f":"J111","v":79.784981333734891},{"$f":"K111","v":115.2},null,null,null,null,null,null,null,"2017+","INC","%",{"$f":"1-((1-V115)/(1-V107))","v":3.90315837424412E-2},"$",{"$f":"INDEX('[1]Small LT'!$H$379:$X$467,MATCH(Z113,'[1]Small LT'!$C$379:$C$467,0),MATCH(Inputs!$C$2,'[1]Small LT'!$H$378:$X$378,0))","v":227.42624881754446},10,null,null,null,null,null,null,null,"2017+","INC","%",{"$f":"1-((1-AJ115)/(1-AJ107))","v":1.9957234497505416E-2},"$",{"$f":"AL111","v":-37.91558007744085},10]
[null,null,null,null,null,"ABS","%",{"$f":"H112","v":2.1999999999999999E-2},"$",{"$f":"J107+J114","v":177.88826385289724},"L",null,null,null,null,null,null,null,null,"ABS","%",{"$f":"1-((1-7.07%)/(1-1.11%))","v":6.0268985741733228E-2},"$",{"$f":"X107+X114","v":477.74375706090757},"L",null,null,null,null,null,null,null,null,"ABS","%",{"$f":"AJ112","v":4.3478260869565299E-2},"$",{"$f":"AL107+AL114","v":17.892368255770094},"L"]
[]
[]
[]
[null,null,null,null,"2012-2016","INC","%",{"$f":"1-((1-H120)/(1-H112))","v":0},"$",0,0,"2012-2016","INC","%",{"$f":"1-((1-O120)/(((1-$O$87)*(1-$H$136)*(1-AJ144))))","v":8.2424893000716981E-2},"$",{"$f":"INDEX('[1]Small LT'!$H$379:$X$467,MATCH(M121,'[1]Small LT'!$C$379:$C$467,0),MATCH(Inputs!$C$2,'[1]Small LT'!$H$378:$X$378,0))\n+INDEX('[1]Small LT'!$H$379:$X$467,MATCH(S121,'[1]Small LT'!$C$379:$C$467,0),MATCH(Inputs!$C$2,'[1]Small LT'!$H$378:$X$378,0))","v":1759.2217027786478},"L",null,null,null,null,null,null,null,null,null,null,null,null,null,null,"2012-2016","INC","%",{"$f":"1-((1-AJ120)/(1-AJ112))","v":3.8054968287526303E-2},"$",{"$f":"INDEX('[1]Small LT'!$H$379:$X$467,MATCH(AN121,'[1]Small LT'!$C$379:$C$467,0),MATCH(Inputs!$C$2,'[1]Small LT'!$H$378:$X$378,0))","v":-79.182210630830212},-10.47]
[null,null,null,null,null,"ABS","%",{"$f":"H112","v":2.1999999999999999E-2},"$",{"$f":"J112+J119","v":177.88826385289724},"L",null,"ABS","%",0.39600000000000002,"$",{"$f":"J136+Q119+Q87+AL144","v":4229.2535784493684},33.86,null,null,null,null,null,null,null,null,null,null,null,null,null,null,null,"ABS","%",{"$f":"1-((1-9%)/(1-1.1%))","v":7.9878665318503517E-2},"$",{"$f":"AL119+AL112","v":-61.289842375060118},"L"]
[null,null,null,null,null,null,"Improved Accessories 2\n(IACC2) - TBL",null,null,null,null,"IACC2","SHEV1_B","Strong Hybrid (Powersplit or 2-Mode) (SHEV1) - VBL",null,null,null,null,"SHEV1_NB",null,null,"From Engine Path\n2017+ ",null,null,null,null,null,null,null,null,null,null,null,null,"6-spd Dual Clutch Trans\n(DCT) - TBL",null,null,null,null,"DCT"]
[null,null,null,null,"2017+","INC","%",{"$f":"1-((1-H123)/(1-H115))","v":1.7382413087934534E-2},"$",{"$f":"INDEX('[1]Small LT'!$H$379:$X$467,MATCH(L121,'[1]Small LT'!$C$379:$C$467,0),MATCH(Inputs!$C$2,'[1]Small LT'!$H$378:$X$378,0))","v":50.780571415814975},0,"2017+","INC","%",0,"$",0,"L",null,null,null,null,null,null,null,null,null,null,null,null,null,null,"2017+","INC","%",{"$f":"1-((1-AJ123)/(1-AJ115))","v":3.8054968287526303E-2},"$",{"$f":"AL119","v":-79.182210630830212},{"$f":"AM119","v":-10.47}]
[null,null,null,null,null,"ABS","%",3.9E-2,"$",{"$f":"J115+J122","v":228.6688352687122},"L",null,"ABS","%",0,"$",{"$f":"Q116+Q122","v":0},0,null,null,null,null,null,null,null,null,null,null,null,null,null,null,null,"ABS","%",{"$f":"AJ120","v":7.9878665318503517E-2},"$",{"$f":"AL115+AL122","v":-61.289842375060118},"L"]
[]
[]
[]
[null,null,null,null,"2012-2016","INC","%",{"$f":"H130","v":1.7689906347554629E-2},"$",{"$f":"INDEX('[1]Small LT'!$H$379:$X$467,MATCH(L129,'[1]Small LT'!$C$379:$C$467,0),MATCH(Inputs!$C$2,'[1]Small LT'!$H$378:$X$378,0))","v":308.95598493135788},259.67,"2012-2016","INC","%","n/a","$","n/a","L","2012-2016","INC","%",{"$f":"1-((1-V128)/(((1-$O$87)*(1-$H$136)*(1-AJ144))))","v":-0.51916408443589912},"$",0,"L",null,null,null,null,null,null,null,"2012-2016","INC","%",{"$f":"1-((1-AJ128)/(1-AJ120))","v":4.1758241758241832E-2},"$",{"$f":"INDEX('[1]Small LT'!$H$379:$X$467,MATCH(AN129,'[1]Small LT'!$C$379:$C$467,0),MATCH(Inputs!$C$2,'[1]Small LT'!$H$378:$X$378,0))","v":223.31892374342101},0]
[null,null,null,null,null,"ABS","%",{"$f":"H127+H120","v":3.9689906347554628E-2},"$",{"$f":"J120+J127","v":486.84424878425511},"L",null,"ABS","%","n/a","$","n/a",0,null,"ABS","%",0,"$",0,0,null,null,null,null,null,null,null,null,"ABS","%",{"$f":"1-((1-12.8%)/(1-1.1%))","v":0.11830131445904957},"$",{"$f":"AL120+AL127","v":162.02908136836089},"M"]
[null,null,null,null,null,null,"12V Micro Hybrid - Stop-Start\n(MHEV) - TBL",null,null,null,null,"MHEV",null,"SHEV1 --> SHEV2",null,null,null,null,null,"SHEV2_B","Strong Hybrid (P2 Parallel or 2-Mode) (SHEV2) - VBL",null,null,null,null,"SHEV2_NB",null,null,null,null,null,null,null,null,"8-spd Trans (Auto or DCT)\n(8SPD) - TBL",null,null,null,null,"8SPD"]
[null,null,null,null,"2017+","INC","%",{"$f":"1-((1-H131)/(1-H123))","v":1.7689906347554629E-2},"$",{"$f":"J127","v":308.95598493135788},{"$f":"K127","v":259.67},"2017+","INC","%",{"$f":"1-((1-V131)/(1-O120))","v":0.10927152317880784},"$",{"$f":"Q131-Q120","v":1142.8162298036441},"L","2017+","INC","%",{"$f":"1-((1-V131)/(((1-$O$90)*(1-$H$139)*(1-AJ147))))","v":4.2478597961863263E-2},"$",{"$f":"INDEX('[1]Small LT'!$H$379:$X$467,MATCH(T129,'[1]Small LT'!$C$379:$C$467,0),MATCH(Inputs!$C$2,'[1]Small LT'!$H$378:$X$378,0))\n+INDEX('[1]Small LT'!$H$379:$X$467,MATCH(Z129,'[1]Small LT'!$C$379:$C$467,0),MATCH(Inputs!$C$2,'[1]Small LT'!$H$378:$X$378,0))","v":1759.2217027786478},"L",null,null,null,null,null,null,null,"2017+","INC","%",{"$f":"1-((1-AJ131)/(1-AJ123))","v":4.1758241758241832E-2},"$",{"$f":"AL127","v":223.31892374342101},10]
[null,null,null,null,null,"ABS","%",5.6000000000000001E-2,"$",{"$f":"J123+J130","v":537.62482020007008},"L",null,"ABS","%",{"$f":"V131","v":0.46200000000000002},"$",{"$f":"X130+J139+Q90+AL147","v":5372.0698082530125},0,null,"ABS","%",0.46200000000000002,"$",{"$f":"X130+J139+Q90+AL147","v":5372.0698082530125},33.86,null,null,null,null,null,null,null,null,"ABS","%",{"$f":"AJ128","v":0.11830131445904957},"$",{"$f":"AL123+AL130","v":162.02908136836089},"L"]
[]
[]
[]
[null,null,null,null,"2012-2016","INC","%",{"$f":"H138","v":6.1440677966101642E-2},"$",{"$f":"INDEX('[1]Large Perf. PC'!$H$379:$X$467,MATCH(F137,'[1]Large Perf. PC'!$C$379:$C$467,0),MATCH(Inputs!$C$2,'[1]Large Perf. PC'!$H$378:$X$378,0))\n+INDEX('[1]Large Perf. PC'!$H$379:$X$467,MATCH(L137,'[1]Large Perf. PC'!$C$379:$C$467,0),MATCH(Inputs!$C$2,'[1]Large Perf. PC'!$H$378:$X$378,0))","v":894.50928595954747},"L",null,null,null,null,null,null,null,"2012-2016","INC","%",{"$f":"1-((1-V136)/(1-V128))","v":0.35},"$",0,"L",null,null,null,null,null,null,null,"2012-2016","INC","%",{"$f":"1-((1-AJ136)/(1-AJ128))","v":0},"$",0,10]
[null,null,null,null,null,"ABS","%",{"$f":"H135+H128","v":0.10113058431365626},"$",{"$f":"J128+J135","v":1381.3535347438026},33.86,null,null,null,null,null,null,null,null,"ABS","%",0.35,"$",{"$f":"X135+X128","v":0},33.86,null,null,null,null,null,null,null,null,"ABS","%",{"$f":"AJ128","v":0.11830131445904957},"$",{"$f":"AL128+AL135","v":162.02908136836089},"L"]
[null,null,null,null,null,"ISG_B","Integrated Starter Generator\n(ISG) - VBL",null,null,null,null,"ISG_NB",null,null,null,null,null,null,null,"PHEV2_B","Plug-in Hybrid - 30 Mile Range  (PHEV1) - VBL",null,null,null,null,"PHEV2_NB",null,null,null,null,null,null,null,null,"High Eff. Gearbox\n(Auto or DCT) -  (HETRANS) - TBL",null,null,null,null,"HETRANS"]
[null,null,null,null,"2017+","INC","%",{"$f":"1-((1-H139)/(1-H131))","v":6.1440677966101642E-2},"$",{"$f":"J135","v":894.50928595954747},"L",null,null,null,null,null,null,null,"2017+","INC","%",0.40649999999999997,"$",{"$f":"INDEX('[1]Small LT'!$H$379:$X$467,MATCH(T137,'[1]Small LT'!$C$379:$C$467,0),MATCH(Inputs!$C$2,'[1]Small LT'!$H$378:$X$378,0))\n+INDEX('[1]Small LT'!$H$379:$X$467,MATCH(Z138,'[1]Small LT'!$C$379:$C$467,0),MATCH(Inputs!$C$2,'[1]Small LT'!$H$378:$X$378,0))\n+INDEX('[1]Small LT'!$H$379:$X$467,MATCH(Z139,'[1]Small LT'!$C$379:$C$467,0),MATCH(Inputs!$C$2,'[1]Small LT'!$H$378:$X$378,0))\n+INDEX('[1]Small LT'!$H$379:$X$467,MATCH(Z137,'[1]Small LT'!$C$379:$C$467,0),MATCH(Inputs!$C$2,'[1]Small LT'!$H$378:$X$378,0))","v":9549.9278275026772},"L","PHEV2_C",null,null,null,null,null,null,"2017+","INC","%",{"$f":"1-((1-AJ139)/(1-AJ131))","v":2.5229357798165153E-2},"$",{"$f":"INDEX('[1]Small LT'!$H$379:$X$467,MATCH(AN137,'[1]Small LT'!$C$379:$C$467,0),MATCH(Inputs!$C$2,'[1]Small LT'!$H$378:$X$378,0))","v":227.42624881754446},10]
[null,null,null,null,null,"ABS","%",{"$f":"10.2%+H106","v":0.11399999999999999},"$",{"$f":"J131+J138","v":1432.1341061596177},33.86,null,null,null,null,null,null,null,null,"ABS","%",{"$f":"1-((1-V131)*(1-V138))","v":0.68069699999999989},"$",{"$f":"X138+X131","v":14921.99763575569},33.86,"CHRG_L",null,null,null,null,null,null,null,"ABS","%",{"$f":"1-((1-15%)/(1-1.1%))","v":0.14054600606673406},"$",{"$f":"AL131+AL138","v":389.45533018590538},"L"]
[]
[]
[]
[null,null,null,null,null,null,null,null,null,null,null,null,null,null,null,null,null,null,"2012-2016","INC","%",{"$f":"1-((1-V144)/(1-V136))","v":0},"$",0,"L",null,null,null,null,null,null,null,"2012-2016","INC","%",{"$f":"1-((1-AJ144)/(1-AJ136))","v":0},"$",0,10]
[null,null,null,null,null,null,null,null,null,null,null,null,null,null,null,null,null,null,null,"ABS","%",0.35,"$",{"$f":"X143+X136","v":0},33.86,null,null,null,null,null,null,null,null,"ABS","%",{"$f":"AJ136","v":0.11830131445904957},"$",{"$f":"AL136+AL143","v":162.02908136836089},"L"]
[null,null,null,null,null,null,null,null,null,"To Strong\nHybrid",null,null,null,null,null,null,null,null,null,"PHEV2_B","Plug-in Hybrid - VBL",null,null,null,null,"PHEV2_NB",null,null,null,null,null,null,null,null,"Shift Optimizer\n (SHFTOPT) - TBL",null,null,null,null,"SHFTOPT"]
[null,null,null,null,null,null,null,null,null,null,null,null,null,null,null,null,null,null,"2017+","INC","%",0,"$",0,"L","PHEV2_C",null,null,null,null,null,null,"2017+","INC","%",{"$f":"1-((1-AJ147)/(1-AJ139))","v":3.2941176470588363E-2},"$",{"$f":"INDEX('[1]Small LT'!$H$379:$X$467,MATCH(AN145,'[1]Small LT'!$C$379:$C$467,0),MATCH(Inputs!$C$2,'[1]Small LT'!$H$378:$X$378,0))","v":1.5123845546366708},10]
[null,null,null,null,null,null,null,null,null,null,null,null,null,null,null,null,null,null,null,"ABS","%",{"$f":"1-((1-V139)*(1-V146))","v":0.68069699999999989},"$",{"$f":"X146+X139","v":14921.99763575569},33.86,null,null,null,null,null,null,null,null,"ABS","%",{"$f":"1-((1-17.8%)/(1-1.1%))","v":0.16885743174924173},"$",{"$f":"AL139+AL146","v":390.96771474054208},"L"]
[]
[]
[]
[null,null,null,null,null,null,null,null,null,null,null,null,null,null,null,null,null,null,"2012-2016","INC","%",{"$f":"1-((1-V152)/(1-V144))","v":0},"$",0,"L",null,null,null,null,null,null,null,null,null,null,null,"To Strong\n     Hybrid"]
[null,null,null,null,null,null,null,null,null,null,null,null,null,null,null,null,null,null,null,"ABS","%",0.35,"$",{"$f":"X151+X144","v":0},33.86]
[null,null,null,null,null,null,null,null,null,null,null,null,null,null,null,null,null,null,null,"EV1_B","Electric Vehicle - Early Adopter \n75 Mile Range - (EV1) - VBL",null,null,null,null,"EV1_NB"]
[null,null,null,null,null,null,null,null,null,null,null,null,null,null,null,null,null,null,"2017+","INC","%",0.68540000000000001,"$",{"$f":"INDEX('[1]Small LT'!$H$379:$X$467,MATCH(T153,'[1]Small LT'!$C$379:$C$467,0),MATCH(Inputs!$C$2,'[1]Small LT'!$H$378:$X$378,0))\n+INDEX('[1]Small LT'!$H$379:$X$467,MATCH(Z154,'[1]Small LT'!$C$379:$C$467,0),MATCH(Inputs!$C$2,'[1]Small LT'!$H$378:$X$378,0))\n+INDEX('[1]Small LT'!$H$379:$X$467,MATCH(Z153,'[1]Small LT'!$C$379:$C$467,0),MATCH(Inputs!$C$2,'[1]Small LT'!$H$378:$X$378,0))","v":1308.2639815376147},"L","EV_C"]
[null,null,null,null,null,null,null,null,null,null,null,null,null,null,null,null,null,null,null,"ABS","%",{"$f":"1-((1-V147)*(1-V154))","v":0.89954727619999997},"$",{"$f":"X154+X147","v":16230.261617293305},33.86]
[]
[]
[]
[null,null,null,null,null,null,null,null,null,null,null,null,null,null,null,null,null,null,"2012-2016","INC","%",{"$f":"1-((1-V160)/(1-V152))","v":0},"$",0,"L"]
[null,null,null,null,null,null,null,null,null,null,null,null,null,null,null,null,null,null,null,"ABS","%",0.35,"$",{"$f":"X159+X152","v":0},33.86]
[null,null,null,null,null,null,null,null,null,null,null,null,null,null,null,null,null,null,null,"EV2_B","Electric Vehicle - Early Adopter \n100 Mile Range - (EV2) - VBL",null,null,null,null,"EV2_NB"]
[null,null,null,null,null,null,null,null,null,null,null,null,null,null,null,null,null,null,"2017+","INC","%",0,"$",0,"L"]
[null,null,null,null,null,null,null,null,null,null,null,null,null,null,null,null,null,null,null,"ABS","%",{"$f":"1-((1-V155)*(1-V162))","v":0.89954727619999997},"$",{"$f":"X162+X155","v":16230.261617293305},33.86]
[]
[]
[]
[null,null,null,null,null,null,null,null,null,null,null,null,null,null,null,null,null,null,"2012-2016","INC","%",{"$f":"1-((1-V168)/(1-V160))","v":0},"$",0,"L"]
[null,null,null,null,null,null,null,null,null,null,null,null,null,null,null,null,null,null,null,"ABS","%",0.35,"$",{"$f":"X167+X160","v":0},33.86]
[null,null,null,null,null,null,null,null,null,null,null,null,null,null,null,null,null,null,null,"EV3_B","Electric Vehicle - Early Adopter \n150 Mile Range - (EV3) - VBL",null,null,null,null,"EV3_NB"]
[null,null,null,null,null,null,null,null,null,null,null,null,null,null,null,null,null,null,"2017+","INC","%",0,"$",0,"L"]
[null,null,null,null,null,null,null,null,null,null,null,null,null,null,null,null,null,null,null,"ABS","%",{"$f":"1-((1-V163)*(1-V170))","v":0.89954727619999997},"$",{"$f":"X170+X163","v":16230.261617293305},33.86]
[]
[]
[]
[null,null,null,null,null,null,null,null,null,null,null,"2012-2016","INC","%",{"$f":"1-((1-O176)/(1-V168))","v":0},"$",0,"L",null,null,null,null,null,null,null,"2012-2016","INC","%",{"$f":"1-((1-AC176)/(1-V168))","v":0},"$",0,"L"]
[null,null,null,null,null,null,null,null,null,null,null,null,"ABS","%",0.35,"$",{"$f":"Q175+X168","v":0},33.86,null,null,null,null,null,null,null,null,"ABS","%",0.35,"$",{"$f":"AE175+X168","v":0},33.86]
[null,null,null,null,null,null,null,null,null,null,null,null,"EV4_B","Electric Vehicle - Mass Market \n150 Mile Range - (EV4) - VBL",null,null,null,null,"EV4_NB",null,null,null,null,null,null,null,"FCV_B","Fuel Cell Vehicle\n(FCV) - VBL",null,null,null,null,"FCV_NB"]
[null,null,null,null,null,null,null,null,null,null,null,"2017+","INC","%",0,"$",{"$f":"INDEX('[1]Small LT'!$H$379:$X$467,MATCH(M177,'[1]Small LT'!$C$379:$C$467,0),MATCH(Inputs!$C$2,'[1]Small LT'!$H$378:$X$378,0))\n+INDEX('[1]Small LT'!$H$379:$X$467,MATCH(S177,'[1]Small LT'!$C$379:$C$467,0),MATCH(Inputs!$C$2,'[1]Small LT'!$H$378:$X$378,0))","v":8566.784720553409},"L",null,null,null,null,null,null,null,"2017+","INC","%",0,"$",{"$f":"INDEX('[1]Small LT'!$H$379:$X$467,MATCH(AA177,'[1]Small LT'!$C$379:$C$467,0),MATCH(Inputs!$C$2,'[1]Small LT'!$H$378:$X$378,0))\n+INDEX('[1]Small LT'!$H$379:$X$467,MATCH(AG177,'[1]Small LT'!$C$379:$C$467,0),MATCH(Inputs!$C$2,'[1]Small LT'!$H$378:$X$378,0))","v":{"$error":"#N/A"}},"L"]
[null,null,null,null,null,null,null,null,null,null,null,null,"ABS","%",{"$f":"1-((1-V171)*(1-O178))","v":0.89954727619999997},"$",{"$f":"Q178+X171","v":24797.046337846714},33.86,null,null,null,null,null,null,null,null,"ABS","%",{"$f":"1-((1-V171)*(1-AC178))","v":0.89954727619999997},"$",{"$f":"AE178+X171","v":{"$error":"#N/A"}},33.86]
[]
[]
[]
[]
[]
["Vehicle Technology Decision Tree"]
[]
[]
[]
[null,null,"ABS - WR",{"$f":"'[1]Small LT'!$M$82","v":1.4999999999999999E-2},"2012-2016","INC","%",{"$f":"IF(D189<5%, D189*(3.5/10), D189*(5.1/10))","v":5.2499999999999995E-3},"$",{"$f":"INDEX('[1]Small LT'!$H$379:$X$467,MATCH(L191,'[1]Small LT'!$C$379:$C$467,0),MATCH(Inputs!$C$2,'[1]Small LT'!$H$378:$X$378,0))","v":6.9721687344265801E-2},1.33,null,null,null,null,null,null,null,"2012-2016","INC","%",1.9E-2,"$",{"$f":"INDEX('[1]Small LT'!$H$379:$X$467,MATCH(Z191,'[1]Small LT'!$C$379:$C$467,0),MATCH(Inputs!$C$2,'[1]Small LT'!$H$378:$X$378,0))","v":6.4396392400348512},5.15,null,null,null,null,null,null,null,"2012-2016","INC","%",8.0000000000000002E-3,"$",{"$f":"INDEX('[1]Small LT'!$H$379:$X$467,MATCH(AN191,'[1]Small LT'!$C$379:$C$467,0),MATCH(Inputs!$C$2,'[1]Small LT'!$H$378:$X$378,0))","v":70.836031640383368},5.15,null,null,null,null,null,null,null,"2012-2016","INC","%",2.3E-2,"$",{"$f":"INDEX('[1]Small LT'!$H$379:$X$467,MATCH(BB191,'[1]Small LT'!$C$379:$C$467,0),MATCH(Inputs!$C$2,'[1]Small LT'!$H$378:$X$378,0))","v":43.857938067390236},5.15]
[null,null,null,null,null,"ABS","%",{"$f":"H189","v":5.2499999999999995E-3},"$",{"$f":"J189","v":6.9721687344265801E-2},"L",null,null,null,null,null,null,null,null,"ABS","%",{"$f":"V189","v":1.9E-2},"$",{"$f":"X189","v":6.4396392400348512},"L",null,null,null,null,null,null,null,null,"ABS","%",{"$f":"AJ189","v":8.0000000000000002E-3},"$",{"$f":"AL189","v":70.836031640383368},"L",null,null,null,null,null,null,null,null,"ABS","%",{"$f":"AX189","v":2.3E-2},"$",{"$f":"AZ189","v":43.857938067390236},"L"]
[null,null,null,null,null,null,"Mass Reduction\n(MR1) - ($/pound) - TBL",null,null,null,null,"MR1",null,null,null,null,null,null,null,null,"Low Roll Resistance Tires 1\n (ROLL1) - No Learning Applied",null,null,null,null,"ROLL1",null,null,null,null,null,null,null,null,"Low Drag Brakes (LDB)\nNo Learning Applied",null,null,null,null,"LDB",null,null,null,null,null,null,null,null,"Aerodynamic Drag Reduction 1\n (AERO1) - No Learming Applied",null,null,null,null,"AERO1"]
[null,null,null,null,"2017+","INC","%",{"$f":"H189","v":5.2499999999999995E-3},"$",{"$f":"J189","v":6.9721687344265801E-2},1.33,null,null,null,null,null,null,null,"2017+","INC","%",{"$f":"V189","v":1.9E-2},"$",{"$f":"X189","v":6.4396392400348512},5.15,null,null,null,null,null,null,null,"2017+","INC","%",{"$f":"AJ189","v":8.0000000000000002E-3},"$",{"$f":"AL189","v":70.836031640383368},5.15,null,null,null,null,null,null,null,"2017+","INC","%",{"$f":"AX189","v":2.3E-2},"$",{"$f":"AZ189","v":43.857938067390236},5.15]
[null,null,null,null,null,"ABS","%",{"$f":"H192","v":5.2499999999999995E-3},"$",{"$f":"J192","v":6.9721687344265801E-2},"L",null,null,null,null,null,null,null,null,"ABS","%",{"$f":"V192","v":1.9E-2},"$",{"$f":"X192","v":6.4396392400348512},"L",null,null,null,null,null,null,null,null,"ABS","%",{"$f":"AJ192","v":8.0000000000000002E-3},"$",{"$f":"AL192","v":70.836031640383368},"L",null,null,null,null,null,null,null,null,"ABS","%",{"$f":"AX192","v":2.3E-2},"$",{"$f":"AZ192","v":43.857938067390236},"L"]
[]
[]
[]
[null,null,"INC - WR",{"$f":"'[1]Small LT'!$M$83","v":0.06},"2012-2016","INC","%",{"$f":"1-((1-H198)/(1-H190))","v":3.3174164362905323E-2},"$",{"$f":"INDEX('[1]Small LT'!$H$379:$X$467,MATCH(L199,'[1]Small LT'!$C$379:$C$467,0),MATCH(Inputs!$C$2,'[1]Small LT'!$H$378:$X$378,0))","v":0.41833012406559472},1.33,null,null,null,null,null,null,null,"2012-2016","INC","%",{"$f":"1-((1-V198)/(1-V190))","v":2.0387359836901098E-2},"$",{"$f":"0","v":0},5.15,null,null,null,null,null,null,null,"2012-2016","INC","%",1.4E-2,"$",{"$f":"INDEX('[1]Small LT'!$H$379:$X$467,MATCH(AN199,'[1]Small LT'!$C$379:$C$467,0),MATCH(Inputs!$C$2,'[1]Small LT'!$H$378:$X$378,0))","v":87.568251496242709},5.15,null,null,null,null,null,null,null,"2012-2016","INC","%",{"$f":"1-((1-AX198)/(1-AX190))","v":2.4564994882292801E-2},"$",{"$f":"INDEX('[1]Small LT'!$H$379:$X$467,MATCH(BB199,'[1]Small LT'!$C$379:$C$467,0),MATCH(Inputs!$C$2,'[1]Small LT'!$H$378:$X$378,0))","v":154.95277498661324},5.15]
[null,null,"ABS - WR",{"$f":"D197+D189","v":7.4999999999999997E-2},null,"ABS","%",{"$f":"IF(D198<5%,D198 D198*(3.5/10), D198*(5.1/10))","v":3.8249999999999999E-2},"$",{"$f":"J197","v":0.41833012406559472},"L",null,null,null,null,null,null,null,null,"ABS","%",3.9E-2,"$",{"$f":"X190+X197","v":6.4396392400348512},"L",null,null,null,null,null,null,null,null,"ABS","%",{"$f":"1-(1-AJ190)*(1-AJ197)","v":2.1888000000000019E-2},"$",{"$f":"AL190+AL197","v":158.40428313662608},"L",null,null,null,null,null,null,null,null,"ABS","%",4.7E-2,"$",{"$f":"AZ190+AZ197","v":198.81071305400349},"L"]
[null,null,null,null,null,null,"Mass Reduction\n(MR2) - ($/pound) - TBL",null,null,null,null,"MR2",null,null,null,null,null,null,null,null,"Low Roll Resistance Tires 2\n (ROLL2) - No Learning Applied",null,null,null,null,"ROLL2",null,null,null,null,null,null,null,null,"Secondary Axle Discon. (SAXU/SAXL)\nTBL",null,null,null,null,"SAX",null,null,null,null,null,null,null,null,"Aerodynamic Drag Reduction 2\n (AERO2) - No Learming Applied",null,null,null,null,"AERO2"]
[null,null,null,null,"2017+","INC","%",{"$f":"1-((1-H201)/(1-H193))","v":3.3174164362905323E-2},"$",{"$f":"J197","v":0.41833012406559472},1.33,null,null,null,null,null,null,null,"2017+","INC","%",{"$f":"1-((1-V201)/(1-V193))","v":2.0387359836901098E-2},"$",{"$f":"INDEX('[1]Small LT'!$H$379:$X$467,MATCH(Z199,'[1]Small LT'!$C$379:$C$467,0),MATCH(Inputs!$C$2,'[1]Small LT'!$H$378:$X$378,0))","v":50.173232527734726},5.15,null,null,null,null,null,null,null,"2017+","INC","%",{"$f":"AJ197","v":1.4E-2},"$",{"$f":"AL197","v":87.568251496242709},5.15,null,null,null,null,null,null,null,"2017+","INC","%",{"$f":"1-((1-AX201)/(1-AX193))","v":2.4564994882292801E-2},"$",{"$f":"AZ197","v":154.95277498661324},5.15]
[null,null,null,null,null,"ABS","%",{"$f":"IF(D198<5%, D198*(3.5/10), D198*(5.1/10))","v":3.8249999999999999E-2},"$",{"$f":"J200","v":0.41833012406559472},"L",null,null,null,null,null,null,null,null,"ABS","%",{"$f":"V198","v":3.9E-2},"$",{"$f":"X193+X200","v":56.612871767769576},"L",null,null,null,null,null,null,null,null,"ABS","%",{"$f":"1-(1-AJ193)*(1-AJ200)","v":2.1888000000000019E-2},"$",{"$f":"AL193+AL200","v":158.40428313662608},"L",null,null,null,null,null,null,null,null,"ABS","%",{"$f":"AX198","v":4.7E-2},"$",{"$f":"AZ193+AZ200","v":198.81071305400349},"L"]
[]
[]
[]
[null,null,"INC - WR",{"$f":"'[1]Small LT'!$M$84","v":2.5000000000000008E-2},"2012-2016","INC","%",{"$f":"1-((1-H206)/(1-H198))","v":1.3257083441642892E-2},"$",{"$f":"INDEX('[1]Small LT'!$H$379:$X$467,MATCH(L207,'[1]Small LT'!$C$379:$C$467,0),MATCH(Inputs!$C$2,'[1]Small LT'!$H$378:$X$378,0))","v":0.81341968568310108},1.33,null,null,null,null,null,null,null,"2012-2016","INC","%",0,"$",0,0]
[null,null,"ABS - WR",{"$f":"D205+D198","v":0.1},null,"ABS","%",{"$f":"IF(D206<5%, D206*(3.5/10), D206*(5.1/10))","v":5.1000000000000004E-2},"$",{"$f":"J205","v":0.81341968568310108},"L",null,null,null,null,null,null,null,null,"ABS","%",{"$f":"1-((1-V198)*(1-V205))","v":3.9000000000000035E-2},"$",{"$f":"X198+X205","v":6.4396392400348512},"L"]
[null,null,null,null,null,null,"Mass Reduction\n(MR3) - ($/pound) - TBL",null,null,null,null,"MR3",null,null,null,null,null,null,null,null,"Low Roll Resistance Tires 3\n (ROLL3) - No Learning Applied"]
[null,null,null,null,"2017+","INC","%",{"$f":"1-((1-H209)/(1-H201))","v":1.3257083441642892E-2},"$",{"$f":"J205","v":0.81341968568310108},1.33,null,null,null,null,null,null,null,"2017+","INC","%",0,"$",{"$f":"X205","v":0},0]
[null,null,null,null,null,"ABS","%",{"$f":"IF(D206<5%, D206*(3.5/10), D206*(5.1/10))","v":5.1000000000000004E-2},"$",{"$f":"J208","v":0.81341968568310108},"L",null,null,null,null,null,null,null,null,"ABS","%",{"$f":"1-((1-V201)*(1-V208))","v":3.9000000000000035E-2},"$",{"$f":"X201+X208","v":56.612871767769576},"L"]
[]
[]
[]
[null,null,"INC - WR",{"$f":"'[1]Small LT'!$M$85","v":4.9999999999999989E-2},"2012-2016","INC","%",{"$f":"1-((1-H214)/(1-H206))","v":2.6870389884088519E-2},"$",{"$f":"INDEX('[1]Small LT'!$H$379:$X$467,MATCH(L215,'[1]Small LT'!$C$379:$C$467,0),MATCH(Inputs!$C$2,'[1]Small LT'!$H$378:$X$378,0))","v":1.3672281720989994},1.33]
[null,null,"ABS - WR",{"$f":"D213+D206","v":0.15},null,"ABS","%",{"$f":"IF(D214<5%, D214*(3.5/10), D214*(5.1/10))","v":7.6499999999999999E-2},"$",{"$f":"J213","v":1.3672281720989994},"L"]
[null,null,null,null,null,null,"Mass Reduction\n(MR4) - ($/pound) - TBL",null,null,null,null,"MR4"]
[null,null,null,null,"2017+","INC","%",{"$f":"1-((1-H217)/(1-H209))","v":2.6870389884088519E-2},"$",{"$f":"J213","v":1.3672281720989994},1.33]
[null,null,null,null,null,"ABS","%",{"$f":"IF(D214<5%, D214*(3.5/10), D214*(5.1/10))","v":7.6499999999999999E-2},"$",{"$f":"J216","v":1.3672281720989994},"L"]
[]
[]
[]
[null,null,"INC - WR",{"$f":"'[1]Small LT'!$M$86","v":5.0000000000000017E-2},"2012-2016","INC","%",{"$f":"1-((1-H222)/(1-H214))","v":2.761234434217652E-2},"$",{"$f":"INDEX('[1]Small LT'!$H$379:$X$467,MATCH(L223,'[1]Small LT'!$C$379:$C$467,0),MATCH(Inputs!$C$2,'[1]Small LT'!$H$378:$X$378,0))","v":1.9141194409385998},1.33]
[null,null,"ABS - WR",{"$f":"D221+D214","v":0.2},null,"ABS","%",{"$f":"IF(D222<5%, D222*(3.5/10), D222*(5.1/10))","v":0.10200000000000001},"$",{"$f":"J221","v":1.9141194409385998},"L"]
[null,null,null,null,null,null,"Mass Reduction\n(MR5) - ($/pound) - TBL",null,null,null,null,"MR5"]
[null,null,null,null,"2017+","INC","%",{"$f":"1-((1-H225)/(1-H217))","v":2.761234434217652E-2},"$",{"$f":"J221","v":1.9141194409385998},1.33]
[null,null,null,null,null,"ABS","%",{"$f":"IF(D222<5%, D222*(3.5/10), D222*(5.1/10))","v":0.10200000000000001},"$",{"$f":"J224","v":1.9141194409385998},"L"]

{"sheet":"Minivan LT","index":11,"n_rows":225,"n_cols":173,"rows_kept":225,"cut":false,"hidden":false,"merged":[[5,62,5,66],[5,76,5,80],[5,90,5,94],[6,31,7,31],[6,32,7,32],[6,60,7,60],[6,74,7,74],[6,88,7,88],[0,0,0,172],[1,0,2,0],[3,31,4,31],[3,32,4,32],[3,60,4,60],[3,74,4,74],[3,88,4,88],[23,153,23,157],[24,25,25,25],[24,88,25,88],[24,151,25,151],[13,88,14,88],[15,90,15,94],[16,88,17,88],[21,25,22,25],[21,88,22,88],[21,151,22,151],[29,25,30,25],[29,67,30,67],[29,109,30,109],[29,151,30,151],[31,27,31,31],[31,69,31,73],[31,111,31,115],[23,27,23,31],[23,90,23,94],[39,153,39,157],[40,25,41,25],[40,67,41,67],[40,109,41,109],[40,151,41,151],[31,153,31,157],[32,25,33,25],[32,67,33,67],[32,109,33,109],[32,151,33,151],[37,25,38,25],[37,67,38,67],[37,109,38,109],[37,151,38,151],[45,25,46,25],[45,67,46,67],[45,109,46,109],[45,151,46,151],[47,27,47,31],[47,69,47,73],[47,111,47,115],[39,27,39,31],[39,69,39,73],[39,111,39,115],[47,153,47,157],[48,25,49,25],[48,67,49,67],[48,109,49,109],[48,151,49,151],[53,11,54,11],[53,25,54,25],[53,39,54,39],[53,53,54,53],[53,67,54,67],[53,165,54,165],[55,13,55,17],[55,27,55,31],[55,41,55,45],[55,55,55,59],[55,69,55,73],[55,83,55,87],[55,97,55,101],[55,111,55,115],[55,125,55,129],[53,81,54,81],[53,95,54,95],[53,109,54,109],[53,123,54,123],[53,137,54,137],[53,151,54,151],[55,139,55,143],[55,153,55,157],[55,167,55,171],[56,11,57,11],[56,25,57,25],[56,39,57,39],[56,53,57,53],[56,67,57,67],[56,81,57,81],[56,95,57,95],[56,109,57,109],[56,123,57,123],[56,137,57,137],[56,151,57,151],[56,165,57,165],[61,11,62,11],[61,25,62,25],[61,39,62,39],[61,53,62,53],[61,67,62,67],[61,165,62,165],[63,13,63,17],[63,27,63,31],[63,41,63,45],[63,55,63,59],[63,69,63,73],[63,83,63,87],[63,97,63,101],[63,111,63,115],[63,125,63,129],[61,81,62,81],[61,95,62,95],[61,109,62,109],[61,123,62,123],[61,137,62,137],[61,151,62,151],[63,139,63,143],[63,153,63,157],[63,167,63,171],[64,11,65,11],[64,25,65,25],[64,39,65,39],[64,53,65,53],[64,67,65,67],[64,81,65,81],[64,95,65,95],[64,109,65,109],[64,123,65,123],[64,137,65,137],[64,151,65,151],[64,165,65,165],[69,11,70,11],[69,25,70,25],[69,39,70,39],[69,53,70,53],[69,67,70,67],[69,165,70,165],[71,13,71,17],[71,27,71,31],[71,41,71,45],[71,55,71,59],[71,69,71,73],[71,83,71,87],[71,97,71,101],[71,111,71,115],[71,125,71,129],[69,81,70,81],[69,95,70,95],[69,109,70,109],[69,123,70,123],[69,137,70,137],[69,151,70,151],[71,139,71,143],[71,153,71,157],[77,88,78,88],[77,95,78,95],[77,102,78,102],[77,109,78,109],[71,167,71,171],[72,11,73,11],[72,25,73,25],[72,39,73,39],[72,53,73,53],[72,67,73,67],[72,81,73,81],[72,95,73,95],[72,109,73,109],[72,123,73,123],[72,137,73,137],[72,151,73,151],[72,165,73,165],[77,67,78,67],[77,74,78,74],[79,167,79,171],[80,4,81,4],[80,11,81,11],[80,18,81,18],[80,25,81,25],[80,32,81,32],[80,39,81,39],[77,165,78,165],[80,46,81,46],[80,53,81,53],[80,60,81,60],[80,67,81,67],[80,74,81,74],[80,81,81,81],[80,130,81,130],[80,137,81,137],[80,144,81,144],[77,4,78,4],[77,11,78,11],[77,18,78,18],[77,25,78,25],[77,32,78,32],[80,151,81,151],[80,158,81,158],[77,172,78,172],[79,13,79,17],[79,27,79,31],[79,41,79,45],[79,55,79,59],[79,69,79,73],[79,83,79,87],[79,97,79,101],[79,111,79,115],[77,123,78,123],[77,130,78,130],[77,137,78,137],[77,144,78,144],[77,151,78,151],[77,158,78,158],[77,81,78,81],[79,125,79,129],[79,139,79,143],[79,153,79,157],[77,116,78,116],[77,39,78,39],[77,46,78,46],[77,53,78,53],[77,60,78,60],[80,165,81,165],[80,88,81,88],[80,95,81,95],[80,102,81,102],[80,109,81,109],[80,116,81,116],[80,123,81,123],[85,46,86,46],[85,53,86,53],[85,60,86,60],[85,67,86,67],[85,74,86,74],[85,81,86,81],[85,151,86,151],[85,158,86,158],[85,165,86,165],[85,4,86,4],[85,11,86,11],[85,18,86,18],[85,25,86,25],[85,32,86,32],[85,39,86,39],[85,130,86,130],[85,137,86,137],[85,144,86,144],[85,88,86,88],[85,95,86,95],[85,102,86,102],[85,109,86,109],[85,116,86,116],[85,123,86,123],[87,48,87,52],[87,55,87,59],[87,62,87,66],[87,69,87,73],[87,76,87,80],[87,83,87,87],[87,6,87,10],[87,13,87,17],[87,20,87,24],[87,27,87,31],[87,34,87,38],[87,41,87,45],[87,132,87,136],[87,139,87,143],[87,146,87,150],[87,153,87,157],[87,160,87,164],[87,167,87,171],[87,90,87,94],[87,97,87,101],[87,104,87,108],[87,111,87,115],[87,118,87,122],[87,125,87,129],[88,144,89,144],[88,151,89,151],[88,158,89,158],[88,165,89,165],[88,88,89,88],[88,95,89,95],[88,102,89,102],[88,109,89,109],[88,116,89,116],[88,123,89,123],[97,0,97,38],[100,4,100,11],[100,21,100,23],[100,33,100,38],[102,4,103,4],[102,18,103,18],[102,32,103,32],[88,130,89,130],[88,137,89,137],[88,46,89,46],[88,53,89,53],[88,60,89,60],[88,67,89,67],[88,74,89,74],[88,81,89,81],[88,4,89,4],[88,11,89,11],[88,18,89,18],[88,25,89,25],[88,32,89,32],[88,39,89,39],[110,4,111,4],[110,32,111,32],[112,6,112,10],[112,14,114,16],[112,34,112,38],[113,4,114,4],[113,32,114,32],[104,6,104,10],[104,20,104,24],[104,34,104,38],[105,4,106,4],[105,18,106,18],[105,32,106,32],[110,18,111,18],[112,20,112,24],[113,18,114,18],[126,4,127,4],[126,32,127,32],[128,6,128,10],[128,13,128,17],[128,20,128,24],[128,34,128,38],[118,4,119,4],[118,32,119,32],[120,6,120,10],[120,13,120,17],[120,21,122,23],[120,34,120,38],[121,4,122,4],[121,32,122,32],[136,34,136,38],[137,4,138,4],[137,32,138,32],[142,32,143,32],[144,9,149,10],[144,20,144,24],[144,34,144,38],[145,32,146,32],[129,4,130,4],[129,32,130,32],[134,4,135,4],[134,32,135,32],[136,6,136,10],[136,20,136,24],[185,113,185,116],[185,148,185,151],[188,4,189,4],[188,18,189,18],[188,32,189,32],[188,46,189,46],[150,36,152,37],[152,20,152,24],[160,20,160,24],[168,20,168,24],[176,13,176,17],[176,27,176,31],[190,6,190,10],[190,20,190,24],[190,34,190,38],[190,48,190,52],[190,81,190,85],[191,4,192,4],[191,18,192,18],[191,32,192,32],[191,46,192,46],[191,80,192,80],[198,48,198,52],[199,4,200,4],[199,18,200,18],[199,32,200,32],[199,46,200,46],[200,95,201,95],[196,4,197,4],[196,18,197,18],[196,32,197,32],[196,46,197,46],[198,6,198,10],[198,20,198,24],[198,34,198,38],[200,151,201,151],[204,4,205,4],[204,18,205,18],[204,32,205,32],[206,6,206,10],[206,20,206,24],[200,102,201,102],[200,109,201,109],[200,116,201,116],[200,130,201,130],[200,137,201,137],[200,144,201,144],[215,4,216,4],[220,4,221,4],[222,6,222,10],[223,4,224,4],[207,4,208,4],[207,18,208,18],[207,32,208,32],[209,32,210,32],[212,4,213,4],[214,6,214,10]]}
["Full Engine Technology Decision Tree"]
[]
[null,"START"]
["Gas Engine Type","V6",null,null,null,null,null,null,null,null,null,null,null,null,null,null,null,null,null,null,null,null,null,null,null,null,null,null,null,null,null,null,null,null,null,null,null,null,null,null,null,null,null,null,null,null,null,null,null,null,null,null,null,null,null,null,null,null,null,null,"2012-2016","INC","%",7.0000000000000001E-3,"$",{"$f":"INDEX('[1]Minivan LT'!$H$379:$X$467,MATCH(BP6,'[1]Minivan LT'!$C$379:$C$467,0),MATCH(Inputs!$C$2,'[1]Minivan LT'!$H$378:$X$378,0))","v":3.8637835440209107},10,null,null,null,null,null,null,null,"2012-2016","INC","%",2.5999999999999999E-2,"$",{"$f":"INDEX('[1]Minivan LT'!$H$379:$X$467,MATCH(CD6,'[1]Minivan LT'!$C$379:$C$467,0),MATCH(Inputs!$C$2,'[1]Minivan LT'!$H$378:$X$378,0))*$B$13","v":87.138336134267149},10,null,null,null,null,null,null,null,"2012-2016","INC","%",{"$f":"1-((1-CN5)/(1-BZ5))","v":0},"$",0,"L"]
["Displacement [L]",3.5,null,null,null,null,null,null,null,null,null,null,null,null,null,null,null,null,null,null,null,null,null,null,null,null,null,null,null,null,null,null,null,null,null,null,null,null,null,null,null,null,null,null,null,null,null,null,null,null,null,null,null,null,null,null,null,null,null,null,null,"ABS","%",{"$f":"BL4","v":7.0000000000000001E-3},"$",{"$f":"BN4","v":3.8637835440209107},"L",null,null,null,null,null,null,null,null,"ABS","%",{"$f":"1-((1-BL5)*(1-BZ4))","v":3.2818000000000014E-2},"$",{"$f":"BN5+CB4","v":91.002119678288054},"L",null,null,null,null,null,null,null,null,"ABS","%",{"$f":"BZ5","v":3.2818000000000014E-2},"$",{"$f":"CB5","v":91.002119678288054},0]
["Turbocharger","None",null,null,null,null,null,null,null,null,null,null,null,null,null,null,null,null,null,null,null,null,null,null,null,null,null,null,null,null,null,null,null,null,null,null,null,null,null,null,null,null,null,null,null,null,null,null,null,null,null,null,null,null,null,null,null,null,null,null,null,null,"Low-Friction Lubricants 1\n(LUB1) - No Learning Applied",null,null,null,null,"LUB1",null,null,null,null,null,null,null,null,"Engine Friction Reduction 1\n(EFR1) - No Learning Applied",null,null,null,null,"EFR1",null,null,null,null,null,null,null,null,"Low-Friction Lub & Engine Friction\nRedux 2 (LUB2_EFR2) - \nNo Learning Applied",null,null,null,null,"LUB2_EFR2"]
["EGR system","None/internal",null,null,null,null,null,null,null,null,null,null,null,null,null,null,null,null,null,null,null,null,null,null,null,null,null,null,null,null,null,null,null,null,null,null,null,null,null,null,null,null,null,null,null,null,null,null,null,null,null,null,null,null,null,null,null,null,null,null,"2017+","INC","%",{"$f":"BL4","v":7.0000000000000001E-3},"$",{"$f":"BN4","v":3.8637835440209107},10,null,null,null,null,null,null,null,"2017+","INC","%",{"$f":"BZ4","v":2.5999999999999999E-2},"$",{"$f":"CB4","v":87.138336134267149},10,null,null,null,null,null,null,null,"2017+","INC","%",{"$f":"1-((1-CN8)/(1-BZ8))","v":1.2595354338687081E-2},"$",{"$f":"INDEX('[1]Minivan LT'!$H$379:$X$467,MATCH(CR6,'[1]Minivan LT'!$C$379:$C$467,0),MATCH(Inputs!$C$2,'[1]Minivan LT'!$H$378:$X$378,0))*$B$13","v":94.26109774393727},"L"]
["Valvetrain","SOHC/ DOHC/ OHV",null,null,null,null,null,null,null,null,null,null,null,null,null,null,null,null,null,null,null,null,null,null,null,null,null,null,null,null,null,null,null,null,null,null,null,null,null,null,null,null,null,null,null,null,null,null,null,null,null,null,null,null,null,null,null,null,null,null,null,"ABS","%",{"$f":"BL7","v":7.0000000000000001E-3},"$",{"$f":"BN7","v":3.8637835440209107},"L",null,null,null,null,null,null,null,null,"ABS","%",{"$f":"1-((1-BL8)*(1-BZ7))","v":3.2818000000000014E-2},"$",{"$f":"BN8+CB7","v":91.002119678288054},"L",null,null,null,null,null,null,null,null,"ABS","%",4.4999999999999998E-2,"$",{"$f":"CB8+CP7","v":185.26321742222532},33.86]
["After Treatment","3way cat"]
[]
[null,null,null,null,null,null,null,null,null,null,null,null,null,null,null,null,null,null,null,null,null,null,null,null,null,null,null,null,null,null,"SOHC",null,null,null,null,null,null,null,null,null,null,null,null,null,null,null,null,null,null,null,null,null,null,null,null,null,null,null,null,null,null,null,null,null,null,null,null,null,null,null,null,null,null,null,null,null,null,null,null,null,null,null,null,null,null,null,null,null,null,null,null,null,null,"DOHC",null,null,null,null,null,null,null,null,null,null,null,null,null,null,null,null,null,null,null,null,null,null,null,null,null,null,null,null,null,null,null,null,null,null,null,null,null,null,null,null,null,null,null,null,null,null,null,null,null,null,null,null,null,null,null,null,null,null,null,"OHV"]
[]
["Cylinders",{"$f":"IF(B4=\"I4\",4,IF(B4=\"V6\",6,8))","v":6}]
["Cylinder Banks",{"$f":"IF(B4=\"I4\",1,2)","v":2},null,null,null,null,null,null,null,null,null,null,null,null,null,null,null,null,null,null,null,null,null,null,null,null,null,null,null,null,null,null,null,null,null,null,null,null,null,null,null,null,null,null,null,null,null,null,null,null,null,null,null,null,null,null,null,null,null,null,null,null,null,null,null,null,null,null,null,null,null,null,null,null,null,null,null,null,null,null,null,null,null,null,null,null,null,null,"2012-2016","INC","%",{"$f":"CN17","v":2.5130890052355914E-2},"$",{"$f":"INDEX('[1]Minivan LT'!$H$379:$X$467,MATCH(CR16,'[1]Minivan LT'!$C$379:$C$467,0),MATCH(Inputs!$C$2,'[1]Minivan LT'!$H$378:$X$378,0))*$B$14","v":83.099251075055165},10]
[null,null,null,null,null,null,null,null,null,null,null,null,null,null,null,null,null,null,null,null,null,null,null,null,null,null,null,null,null,null,null,null,null,null,null,null,null,null,null,null,null,null,null,null,null,null,null,null,null,null,null,null,null,null,null,null,null,null,null,null,null,null,null,null,null,null,null,null,null,null,null,null,null,null,null,null,null,null,null,null,null,null,null,null,null,null,null,null,null,"ABS","%",{"$f":"1-((1-CN5)*(1-CN14))","v":5.7124144502617713E-2},"$",{"$f":"CP5+CP14","v":174.10137075334322},"L"]
[null,null,null,null,null,null,null,null,null,null,null,null,null,null,null,null,null,null,null,null,null,null,null,null,null,null,null,null,null,null,null,null,null,null,null,null,null,null,null,null,null,null,null,null,null,null,null,null,null,null,null,null,null,null,null,null,null,null,null,null,null,null,null,null,null,null,null,null,null,null,null,null,null,null,null,null,null,null,null,null,null,null,null,null,null,null,null,null,null,null,"Intake Cam Phasing\n(ICP) - TBL",null,null,null,null,"ICP"]
[null,null,null,null,null,null,null,null,null,null,null,null,null,null,null,null,null,null,null,null,null,null,null,null,null,null,null,null,null,null,null,null,null,null,null,null,null,null,null,null,null,null,null,null,null,null,null,null,null,null,null,null,null,null,null,null,null,null,null,null,null,null,null,null,null,null,null,null,null,null,null,null,null,null,null,null,null,null,null,null,null,null,null,null,null,null,null,null,"2017+","INC","%",{"$f":"1-((1-CN18)/(1-CN8))","v":2.5130890052355914E-2},"$",{"$f":"CP14","v":83.099251075055165},10]
[null,null,null,null,null,null,null,null,null,null,null,null,null,null,null,null,null,null,null,null,null,null,null,null,null,null,null,null,null,null,null,null,null,null,null,null,null,null,null,null,null,null,null,null,null,null,null,null,null,null,null,null,null,null,null,null,null,null,null,null,null,null,null,null,null,null,null,null,null,null,null,null,null,null,null,null,null,null,null,null,null,null,null,null,null,null,null,null,null,"ABS","%",6.9000000000000006E-2,"$",{"$f":"CP8+CP17","v":268.36246849728047},"L"]
[]
[]
[]
["Notes: ","(1) All costs shown in $2009",null,null,null,null,null,null,null,null,null,null,null,null,null,null,null,null,null,null,null,null,null,null,null,"2012-2016","INC","%",{"$f":"AC25","v":5.0261780104711939E-2},"$",{"$f":"INDEX('[1]Minivan LT'!$H$379:$X$467,MATCH(AG24,'[1]Minivan LT'!$C$379:$C$467,0),MATCH(Inputs!$C$2,'[1]Minivan LT'!$H$378:$X$378,0))*$B$14","v":83.099251075055165},10,null,null,null,null,null,null,null,null,null,null,null,null,null,null,null,null,null,null,null,null,null,null,null,null,null,null,null,null,null,null,null,null,null,null,null,null,null,null,null,null,null,null,null,null,null,null,null,null,null,null,null,null,null,null,null,null,"2012-2016","INC","%",{"$f":"CN25","v":2.5778732545649885E-2},"$",{"$f":"INDEX('[1]Minivan LT'!$H$379:$X$467,MATCH(CR24,'[1]Minivan LT'!$C$379:$C$467,0),MATCH(Inputs!$C$2,'[1]Minivan LT'!$H$378:$X$378,0))*$B$14","v":77.055707884563404},10]
[null,null,null,null,null,null,null,null,null,null,null,null,null,null,null,null,null,null,null,null,null,null,null,null,null,null,"ABS","%",{"$f":"1-((1-CN5)*(1-AC22))","v":8.1430289005235523E-2},"$",{"$f":"CP5+AE22","v":174.10137075334322},"L",null,null,null,null,null,null,null,null,null,null,null,null,null,null,null,null,null,null,null,null,null,null,null,null,null,null,null,null,null,null,null,null,null,null,null,null,null,null,null,null,null,null,null,null,null,null,null,null,null,null,null,null,null,null,null,null,null,"ABS","%",{"$f":"1-((1-CN15)*(1-CN22))","v":8.1430289005235523E-2},"$",{"$f":"CP15+CP22","v":251.15707863790664},"L"]
[null,null,null,null,null,null,null,null,null,null,null,null,null,null,null,null,null,null,null,null,null,null,null,null,null,null,null,"Coupled Cam Phasing\n(CCPS) - TBL",null,null,null,null,"CCPS",null,null,null,null,null,null,null,null,null,null,null,null,null,null,null,null,null,null,null,null,null,null,null,null,null,null,null,null,null,null,null,null,null,null,null,null,null,null,null,null,null,null,null,null,null,null,null,null,null,null,null,null,null,null,null,null,null,"Dual Cam Phasing\n(DCP) - TBL",null,null,null,null,"DCP"]
[null,null,null,null,null,null,null,null,null,null,null,null,null,null,null,null,null,null,null,null,null,null,null,null,null,"2017+","INC","%",{"$f":"1-((1-AC26)/(1-CN8))","v":5.0261780104711939E-2},"$",{"$f":"AE22","v":83.099251075055165},10,null,null,null,null,null,null,null,null,null,null,null,null,null,null,null,null,null,null,null,null,null,null,null,null,null,null,null,null,null,null,null,null,null,null,null,null,null,null,null,null,null,null,null,null,null,null,null,null,null,null,null,null,null,null,null,null,"2017+","INC","%",{"$f":"1-((1-CN26)/(1-CN18))","v":2.5778732545649885E-2},"$",{"$f":"CP22","v":77.055707884563404},10]
["L",null,null,null,null,null,null,null,null,null,null,null,null,null,null,null,null,null,null,null,null,null,null,null,null,null,"ABS","%",9.2999999999999999E-2,"$",{"$f":"CP8+AE25","v":268.36246849728047},"L",null,null,null,null,null,null,null,null,null,null,null,null,null,null,null,null,null,null,null,null,null,null,null,null,null,null,null,null,null,null,null,null,null,null,null,null,null,null,null,null,null,null,null,null,null,null,null,null,null,null,null,null,null,null,null,null,null,"ABS","%",9.2999999999999999E-2,"$",{"$f":"CP18+CP25","v":345.41817638184386},"L"]
["M"]
["H"]
["VH"]
[null,null,null,null,null,null,null,null,null,null,null,null,null,null,null,null,null,null,null,null,null,null,null,null,null,"2012-2016","INC","%",{"$f":"AC33","v":3.5281146637265781E-2},"$",{"$f":"INDEX('[1]Minivan LT'!$H$379:$X$467,MATCH(AG32,'[1]Minivan LT'!$C$379:$C$467,0),MATCH(Inputs!$C$2,'[1]Minivan LT'!$H$378:$X$378,0))*$B$13","v":212.93676133351417},10,null,null,null,null,null,null,null,null,null,null,null,null,null,null,null,null,null,null,null,null,null,null,null,null,null,null,null,null,null,null,null,null,null,null,null,"2012-2016","INC","%",{"$f":"BS33","v":3.5281146637265781E-2},"$",{"$f":"INDEX('[1]Minivan LT'!$H$379:$X$467,MATCH(BW32,'[1]Minivan LT'!$C$379:$C$467,0),MATCH(Inputs!$C$2,'[1]Minivan LT'!$H$378:$X$378,0))*$B$13","v":212.93676133351417},10,null,null,null,null,null,null,null,null,null,null,null,null,null,null,null,null,null,null,null,null,null,null,null,null,null,null,null,null,null,null,null,null,null,null,null,"2012-2016","INC","%",{"$f":"DI33","v":4.5203969128996713E-2},"$",{"$f":"INDEX('[1]Minivan LT'!$H$379:$X$467,MATCH(DM32,'[1]Minivan LT'!$C$379:$C$467,0),MATCH(Inputs!$C$2,'[1]Minivan LT'!$H$378:$X$378,0))*$B$13","v":342.78800783448548},10,null,null,null,null,null,null,null,null,null,null,null,null,null,null,null,null,null,null,null,null,null,null,null,null,null,null,null,null,null,null,null,null,null,null,null,"2012-2016","INC","%",{"$f":"1-((1-EY31)/(1-CN5))","v":3.8443643492124591E-2},"$",{"$f":"INDEX('[1]Minivan LT'!$H$379:$X$467,MATCH(FC32,'[1]Minivan LT'!$C$379:$C$467,0),MATCH(Inputs!$C$2,'[1]Minivan LT'!$H$378:$X$378,0))","v":180.85022482302156},10]
[null,null,null,null,null,null,null,null,null,null,null,null,null,null,null,null,null,null,null,null,null,null,null,null,null,null,"ABS","%",{"$f":"1-((1-AC23)*(1-AC30))","v":0.11383848167539268},"$",{"$f":"AE23+AE30","v":387.03813208685739},"L",null,null,null,null,null,null,null,null,null,null,null,null,null,null,null,null,null,null,null,null,null,null,null,null,null,null,null,null,null,null,null,null,null,null,null,null,"ABS","%",{"$f":"1-((1-CN23)*(1-BS30))","v":0.11383848167539268},"$",{"$f":"CP23+BU30","v":464.09383997142083},"L",null,null,null,null,null,null,null,null,null,null,null,null,null,null,null,null,null,null,null,null,null,null,null,null,null,null,null,null,null,null,null,null,null,null,null,null,"ABS","%",{"$f":"1-((1-CN23)*(1-DI30))","v":0.12295328586387433},"$",{"$f":"CP23+DK30","v":593.94508647239218},"L",null,null,null,null,null,null,null,null,null,null,null,null,null,null,null,null,null,null,null,null,null,null,null,null,null,null,null,null,null,null,null,null,null,null,null,null,"ABS","%",7.0000000000000007E-2,"$",{"$f":"CP5+FA30","v":271.85234450130963},"L"]
[null,null,null,null,null,null,null,null,null,null,null,null,null,null,null,null,null,null,null,null,null,null,null,null,null,null,null,"Discrete VVL\n(DVVLS) - TBL",null,null,null,null,"DVVLS",null,null,null,null,null,null,null,null,null,null,null,null,null,null,null,null,null,null,null,null,null,null,null,null,null,null,null,null,null,null,null,null,null,null,null,null,"Discrete VVL\n(DVVLD) - TBL",null,null,null,null,"DVVLD",null,null,null,null,null,null,null,null,null,null,null,null,null,null,null,null,null,null,null,null,null,null,null,null,null,null,null,null,null,null,null,null,null,null,null,null,"Continuous VVL\n(CVVL) - TBL",null,null,null,null,"CVVL",null,null,null,null,null,null,null,null,null,null,null,null,null,null,null,null,null,null,null,null,null,null,null,null,null,null,null,null,null,null,null,null,null,null,null,null,"Cylinder Deactivation\n(DEACO) - TBL",null,null,null,null,"DEACO"]
[null,null,null,null,null,null,null,null,null,null,null,null,null,null,null,null,null,null,null,null,null,null,null,null,null,"2017+","INC","%",{"$f":"1-((1-AC34)/(1-AC26))","v":3.5281146637265781E-2},"$",{"$f":"AE30","v":212.93676133351417},10,null,null,null,null,null,null,null,null,null,null,null,null,null,null,null,null,null,null,null,null,null,null,null,null,null,null,null,null,null,null,null,null,null,null,null,"2017+","INC","%",{"$f":"1-((1-BS34)/(1-CN26))","v":3.5281146637265781E-2},"$",{"$f":"BU30","v":212.93676133351417},10,null,null,null,null,null,null,null,null,null,null,null,null,null,null,null,null,null,null,null,null,null,null,null,null,null,null,null,null,null,null,null,null,null,null,null,"2017+","INC","%",{"$f":"1-((1-DI34)/(1-CN26))","v":4.5203969128996713E-2},"$",{"$f":"DK30","v":342.78800783448548},10,null,null,null,null,null,null,null,null,null,null,null,null,null,null,null,null,null,null,null,null,null,null,null,null,null,null,null,null,null,null,null,null,null,null,null,"2017+","INC","%",{"$f":"1-((1-EY34)/(1-CN8))","v":5.8638743455497355E-2},"$",{"$f":"FA30","v":180.85022482302156},10]
[null,"START",null,null,null,null,null,null,null,null,null,null,null,null,null,null,null,null,null,null,null,null,null,null,null,null,"ABS","%",0.125,"$",{"$f":"AE26+AE33","v":481.29922983079462},"L",null,null,null,null,null,null,null,null,null,null,null,null,null,null,null,null,null,null,null,null,null,null,null,null,null,null,null,null,null,null,null,null,null,null,null,null,"ABS","%",0.125,"$",{"$f":"CP26+BU33","v":558.35493771535801},"L",null,null,null,null,null,null,null,null,null,null,null,null,null,null,null,null,null,null,null,null,null,null,null,null,null,null,null,null,null,null,null,null,null,null,null,null,"ABS","%",0.13400000000000001,"$",{"$f":"CP26+DK33","v":688.20618421632935},"L",null,null,null,null,null,null,null,null,null,null,null,null,null,null,null,null,null,null,null,null,null,null,null,null,null,null,null,null,null,null,null,null,null,null,null,null,"ABS","%",0.10100000000000001,"$",{"$f":"CP8+FA33","v":366.11344224524692},"L"]
["Gas Engine Type","I4"]
["Displacement [L]",2.2000000000000002]
["Turbocharger","None"]
["EGR system","External",null,null,null,null,null,null,null,null,null,null,null,null,null,null,null,null,null,null,null,null,null,null,null,"2012-2016","INC","%",{"$f":"AC41","v":6.857142857142895E-3},"$",{"$f":"INDEX('[1]Minivan LT'!$H$379:$X$467,MATCH(AG40,'[1]Minivan LT'!$C$379:$C$467,0),MATCH(Inputs!$C$2,'[1]Minivan LT'!$H$378:$X$378,0))","v":28.176910737789065},10,null,null,null,null,null,null,null,null,null,null,null,null,null,null,null,null,null,null,null,null,null,null,null,null,null,null,null,null,null,null,null,null,null,null,null,"2012-2016","INC","%",{"$f":"BS41","v":6.857142857142895E-3},"$",{"$f":"INDEX('[1]Minivan LT'!$H$379:$X$467,MATCH(BW40,'[1]Minivan LT'!$C$379:$C$467,0),MATCH(Inputs!$C$2,'[1]Minivan LT'!$H$378:$X$378,0))","v":28.176910737789065},10,null,null,null,null,null,null,null,null,null,null,null,null,null,null,null,null,null,null,null,null,null,null,null,null,null,null,null,null,null,null,null,null,null,null,null,"2012-2016","INC","%",{"$f":"DI41","v":0},"$",0,10,null,null,null,null,null,null,null,null,null,null,null,null,null,null,null,null,null,null,null,null,null,null,null,null,null,null,null,null,null,null,null,null,null,null,null,"2012-2016","INC","%",{"$f":"1-((1-EY39)/(1-EY31))","v":2.1505376344085891E-2},"$",{"$f":"INDEX('[1]Minivan LT'!$H$379:$X$467,MATCH(FC40,'[1]Minivan LT'!$C$379:$C$467,0),MATCH(Inputs!$C$2,'[1]Minivan LT'!$H$378:$X$378,0))*$B$14","v":90.409234428646556},10]
["Valvetrain","SOHC/ DOHC/ OHV",null,null,null,null,null,null,null,null,null,null,null,null,null,null,null,null,null,null,null,null,null,null,null,null,"ABS","%",{"$f":"1-((1-AC31)*(1-AC38))","v":0.11991501780104719},"$",{"$f":"AE31+AE38","v":415.21504282464645},"L",null,null,null,null,null,null,null,null,null,null,null,null,null,null,null,null,null,null,null,null,null,null,null,null,null,null,null,null,null,null,null,null,null,null,null,null,"ABS","%",{"$f":"1-((1-BS31)*(1-BS38))","v":0.11991501780104719},"$",{"$f":"BU31+BU38","v":492.27075070920989},"L",null,null,null,null,null,null,null,null,null,null,null,null,null,null,null,null,null,null,null,null,null,null,null,null,null,null,null,null,null,null,null,null,null,null,null,null,"ABS","%",{"$f":"1-((1-DI31)*(1-DI38))","v":0.12295328586387433},"$",{"$f":"DK31+DK38","v":593.94508647239218},"L",null,null,null,null,null,null,null,null,null,null,null,null,null,null,null,null,null,null,null,null,null,null,null,null,null,null,null,null,null,null,null,null,null,null,null,null,"ABS","%",0.09,"$",{"$f":"FA31+FA38","v":362.26157892995616},"L"]
[null,null,null,null,null,null,null,null,null,null,null,null,null,null,null,null,null,null,null,null,null,null,null,null,null,null,null,"Cylinder Deactivation\n(DEACS) - TBL",null,null,null,null,"DEACS",null,null,null,null,null,null,null,null,null,null,null,null,null,null,null,null,null,null,null,null,null,null,null,null,null,null,null,null,null,null,null,null,null,null,null,null,"Cylinder Deactivation\n(DEACD) - TBL",null,null,null,null,"DEACD",null,null,null,null,null,null,null,null,null,null,null,null,null,null,null,null,null,null,null,null,null,null,null,null,null,null,null,null,null,null,null,null,null,null,null,null,"Cylinder Deactivation\n(DEACD) - TBL",null,null,null,null,null,null,null,null,null,null,null,null,null,null,null,null,null,null,null,null,null,null,null,null,null,null,null,null,null,null,null,null,null,null,null,null,null,null,null,null,null,"Coupled Cam Phasing and DVVL\n(VVA) - TBL",null,null,null,null,"VVA"]
[null,null,null,null,null,null,null,null,null,null,null,null,null,null,null,null,null,null,null,null,null,null,null,null,null,"2017+","INC","%",{"$f":"1-((1-AC42)/(1-AC34))","v":6.857142857142895E-3},"$",{"$f":"AE38","v":28.176910737789065},10,null,null,null,null,null,null,null,null,null,null,null,null,null,null,null,null,null,null,null,null,null,null,null,null,null,null,null,null,null,null,null,null,null,null,null,"2017+","INC","%",{"$f":"1-((1-BS42)/(1-BS34))","v":6.857142857142895E-3},"$",{"$f":"BU38","v":28.176910737789065},10,null,null,null,null,null,null,null,null,null,null,null,null,null,null,null,null,null,null,null,null,null,null,null,null,null,null,null,null,null,null,null,null,null,null,null,"2017+","INC","%",{"$f":"1-((1-DI42)/(1-DI34))","v":0},"$",{"$f":"DK38","v":0},10,null,null,null,null,null,null,null,null,null,null,null,null,null,null,null,null,null,null,null,null,null,null,null,null,null,null,null,null,null,null,null,null,null,null,null,"2017+","INC","%",{"$f":"1-((1-EY42)/(1-EY34))","v":3.3370411568409364E-2},"$",{"$f":"FA38","v":90.409234428646556},10]
[null,null,null,null,null,null,null,null,null,null,null,null,null,null,null,null,null,null,null,null,null,null,null,null,null,null,"ABS","%",0.13100000000000001,"$",{"$f":"AE34+AE41","v":509.47614056858367},"L",null,null,null,null,null,null,null,null,null,null,null,null,null,null,null,null,null,null,null,null,null,null,null,null,null,null,null,null,null,null,null,null,null,null,null,null,"ABS","%",0.13100000000000001,"$",{"$f":"BU34+BU41","v":586.53184845314706},"L",null,null,null,null,null,null,null,null,null,null,null,null,null,null,null,null,null,null,null,null,null,null,null,null,null,null,null,null,null,null,null,null,null,null,null,null,"ABS","%",{"$f":"DI34","v":0.13400000000000001},"$",{"$f":"DK34+DK41","v":688.20618421632935},"L",null,null,null,null,null,null,null,null,null,null,null,null,null,null,null,null,null,null,null,null,null,null,null,null,null,null,null,null,null,null,null,null,null,null,null,null,"ABS","%",0.13100000000000001,"$",{"$f":"FA34+FA41","v":456.52267667389344},"L"]
[]
[]
[]
[null,null,null,null,null,null,null,null,null,null,null,null,null,null,null,null,null,null,null,null,null,null,null,null,null,"2012-2016","INC","%",{"$f":"AC49","v":1.4959723820483273E-2},"$",{"$f":"INDEX('[1]Minivan LT'!$H$379:$X$467,MATCH(AG48,'[1]Minivan LT'!$C$379:$C$467,0),MATCH(Inputs!$C$2,'[1]Minivan LT'!$H$378:$X$378,0))*$B$13","v":349.41793576617209},10,null,null,null,null,null,null,null,null,null,null,null,null,null,null,null,null,null,null,null,null,null,null,null,null,null,null,null,null,null,null,null,null,null,null,null,"2012-2016","INC","%",{"$f":"BS49","v":1.4959723820483273E-2},"$",{"$f":"INDEX('[1]Minivan LT'!$H$379:$X$467,MATCH(BW48,'[1]Minivan LT'!$C$379:$C$467,0),MATCH(Inputs!$C$2,'[1]Minivan LT'!$H$378:$X$378,0))*$B$13","v":349.41793576617209},10,null,null,null,null,null,null,null,null,null,null,null,null,null,null,null,null,null,null,null,null,null,null,null,null,null,null,null,null,null,null,null,null,null,null,null,"2012-2016","INC","%",{"$f":"DI49","v":1.501154734411092E-2},"$",{"$f":"INDEX('[1]Minivan LT'!$H$379:$X$467,MATCH(DM48,'[1]Minivan LT'!$C$379:$C$467,0),MATCH(Inputs!$C$2,'[1]Minivan LT'!$H$378:$X$378,0))*$B$13","v":349.41793576617209},10,null,null,null,null,null,null,null,null,null,null,null,null,null,null,null,null,null,null,null,null,null,null,null,null,null,null,null,null,null,null,null,null,null,null,null,"2012-2016","INC","%",{"$f":"1-((1-EY47)/(1-EY39))","v":1.5384615384615441E-2},"$",{"$f":"INDEX('[1]Minivan LT'!$H$379:$X$467,MATCH(FC48,'[1]Minivan LT'!$C$379:$C$467,0),MATCH(Inputs!$C$2,'[1]Minivan LT'!$H$378:$X$378,0))*$B$13","v":349.41793576617209},10]
[null,null,null,null,null,null,null,null,null,null,null,null,null,null,null,null,null,null,null,null,null,null,null,null,null,null,"ABS","%",{"$f":"1-((1-AC39)*(1-AC46))","v":0.13308084607329851},"$",{"$f":"AE39+AE46","v":764.63297859081854},"L",null,null,null,null,null,null,null,null,null,null,null,null,null,null,null,null,null,null,null,null,null,null,null,null,null,null,null,null,null,null,null,null,null,null,null,null,"ABS","%",{"$f":"1-((1-BS39)*(1-BS46))","v":0.13308084607329851},"$",{"$f":"BU39+BU46","v":841.68868647538193},"L",null,null,null,null,null,null,null,null,null,null,null,null,null,null,null,null,null,null,null,null,null,null,null,null,null,null,null,null,null,null,null,null,null,null,null,null,"ABS","%",{"$f":"1-((1-DI39)*(1-DI46))","v":0.13611911413612565},"$",{"$f":"DK39+DK46","v":943.36302223856433},"L",null,null,null,null,null,null,null,null,null,null,null,null,null,null,null,null,null,null,null,null,null,null,null,null,null,null,null,null,null,null,null,null,null,null,null,null,"ABS","%",0.104,"$",{"$f":"FA39+FA46","v":711.67951469612831},"L"]
[null,null,null,null,null,null,null,null,null,null,null,null,null,null,null,null,null,null,null,null,null,null,null,null,null,null,null,"Stoichiometric GDI\n(SGDI) - TBL",null,null,null,null,"SGDI",null,null,null,null,null,null,null,null,null,null,null,null,null,null,null,null,null,null,null,null,null,null,null,null,null,null,null,null,null,null,null,null,null,null,null,null,"Stoichiometric GDI\n(SGDI) - TBL",null,null,null,null,"SGDI",null,null,null,null,null,null,null,null,null,null,null,null,null,null,null,null,null,null,null,null,null,null,null,null,null,null,null,null,null,null,null,null,null,null,null,null,"Stoichiometric GDI\n(SGDI) - TBL",null,null,null,null,"SGDI",null,null,null,null,null,null,null,null,null,null,null,null,null,null,null,null,null,null,null,null,null,null,null,null,null,null,null,null,null,null,null,null,null,null,null,null,"Stoichiometric GDI\n(SGDIO) - TBL",null,null,null,null,"SGDIO"]
[null,null,null,null,null,null,null,null,null,null,null,null,null,null,null,null,null,null,null,null,null,null,null,null,null,"2017+","INC","%",{"$f":"1-((1-AC50)/(1-AC42))","v":1.4959723820483273E-2},"$",{"$f":"AE46","v":349.41793576617209},10,null,null,null,null,null,null,null,null,null,null,null,null,null,null,null,null,null,null,null,null,null,null,null,null,null,null,null,null,null,null,null,null,null,null,null,"2017+","INC","%",{"$f":"1-((1-BS50)/(1-BS42))","v":1.4959723820483273E-2},"$",{"$f":"BU46","v":349.41793576617209},10,null,null,null,null,null,null,null,null,null,null,null,null,null,null,null,null,null,null,null,null,null,null,null,null,null,null,null,null,null,null,null,null,null,null,null,"2017+","INC","%",{"$f":"1-((1-DI50)/(1-DI42))","v":1.501154734411092E-2},"$",{"$f":"DK46","v":349.41793576617209},10,null,null,null,null,null,null,null,null,null,null,null,null,null,null,null,null,null,null,null,null,null,null,null,null,null,null,null,null,null,null,null,null,null,null,null,"2017+","INC","%",{"$f":"1-((1-EY50)/(1-EY42))","v":1.4959723820483273E-2},"$",{"$f":"FA46","v":349.41793576617209},10]
[null,null,null,null,null,null,null,null,null,null,null,null,null,null,null,null,null,null,null,null,null,null,null,"From SOHC Path",null,null,"ABS","%",0.14399999999999999,"$",{"$f":"AE42+AE49","v":858.89407633475571},"L",null,null,null,null,null,null,null,null,null,null,null,null,null,null,null,null,null,null,null,null,null,null,null,null,null,null,null,null,null,null,null,null,null,"From DOHC w/ DVVLD Path",null,null,"ABS","%",0.14399999999999999,"$",{"$f":"BU42+BU49","v":935.9497842193191},"L",null,null,null,null,null,null,null,null,null,null,null,null,null,null,null,null,null,null,null,null,null,null,null,null,null,null,null,null,null,null,null,null,null,"From DOHC w/ CVVL Path",null,null,"ABS","%",0.14699999999999999,"$",{"$f":"DK42+DK49","v":1037.6241199825015},"L",null,null,null,null,null,null,null,null,null,null,null,null,null,null,null,null,null,null,null,null,null,null,null,null,null,null,null,null,null,null,null,null,null,"From OHV w/ CDOHC Path",null,null,"ABS","%",0.14399999999999999,"$",{"$f":"FA42+FA49","v":805.94061244006548},"L"]
[]
[]
[null,null,null,null,null,null,null,null,null,null,null,null,null,null,null,null,null,null,null,null,null,null,null,null,null,null,null,null,null,null,null,null,null,null,null,null,null,null,null,null,null,null,null,null,null,null,null,null,null,null,null,null,null,null,null,null,{"$f":"BE54-$O$54","v":0},null,{"$f":"BG54-$Q$54","v":-10.350943204492637},null,null,null,null,null,null,null,null,null,null,null,{"$f":"BS54-$AC$54","v":0},null,{"$f":"BU54-$AE$54","v":-137.49257962890812},null,null,null,null,null,null,null,null,null,null,null,{"$f":"CG54-$AQ$54","v":0},null,{"$f":"CI54-$AS$54","v":-151.06222004175237},null,null,null,null,null,null,null,null,null,null,null,{"$f":"CU54-$O$54","v":-1.1248291978206204E-2},null,{"$f":"CW54-$Q$54","v":-10.350943204492637},null,null,null,null,null,null,null,null,null,null,null,{"$f":"DI54-$AC$54","v":-3.2376110703290495E-3},null,{"$f":"DK54-$AE$54","v":-137.49257962890812},null,null,null,null,null,null,null,null,null,null,null,{"$f":"DW54-$AQ$54","v":-3.2376110703290495E-3},null,{"$f":"DY54-$AS$54","v":-151.06222004175237},null,null,null,null,null,null,null,null,null,null,null,{"$f":"EK54-$O$54","v":6.0492524063498254E-2},null,{"$f":"EM54-$Q$54","v":-420.06358424991754},null,null,null,null,null,null,null,null,null,null,null,{"$f":"EY54-$AC$54","v":0},null,{"$f":"FA54-$AE$54","v":562.75413569090051},null,null,null,null,null,null,null,null,null,null,null,{"$f":"FM54-$AQ$54","v":0},null,{"$f":"FO54-$AS$54","v":523.98042111588995}]
[null,null,null,null,null,null,null,null,null,null,null,"2012-2016","INC","%",{"$f":"O57","v":8.7449933244325706E-2},"$",{"$f":"INDEX('[1]Minivan LT'!$H$379:$X$467,MATCH(M56,'[1]Minivan LT'!$C$379:$C$467,0),MATCH(Inputs!$C$2,'[1]Minivan LT'!$H$378:$X$378,0))\n+INDEX('[1]Minivan LT'!$H$379:$X$467,MATCH(S56,'[1]Minivan LT'!$C$379:$C$467,0),MATCH(Inputs!$C$2,'[1]Minivan LT'!$H$378:$X$378,0))","v":420.06358424991754},10,null,null,null,null,null,null,null,"2012-2016","INC","%",{"$f":"AC57","v":7.9439252336448551E-2},"$",{"$f":"INDEX('[1]Minivan LT'!$H$379:$X$467,MATCH(AA56,'[1]Minivan LT'!$C$379:$C$467,0),MATCH(Inputs!$C$2,'[1]Minivan LT'!$H$378:$X$378,0))\n+INDEX('[1]Minivan LT'!$H$379:$X$467,MATCH(AG56,'[1]Minivan LT'!$C$379:$C$467,0),MATCH(Inputs!$C$2,'[1]Minivan LT'!$H$378:$X$378,0))","v":-29.267884297748708},10,null,null,null,null,null,null,null,"2012-2016","INC","%",{"$f":"AQ57","v":7.9439252336448551E-2},"$",{"$f":"INDEX('[1]Minivan LT'!$H$379:$X$467,MATCH(AO56,'[1]Minivan LT'!$C$379:$C$467,0),MATCH(Inputs!$C$2,'[1]Minivan LT'!$H$378:$X$378,0))\n+INDEX('[1]Minivan LT'!$H$379:$X$467,MATCH(AU56,'[1]Minivan LT'!$C$379:$C$467,0),MATCH(Inputs!$C$2,'[1]Minivan LT'!$H$378:$X$378,0))","v":523.48084050429873},10,null,null,null,null,null,null,null,"2012-2016","INC","%",{"$f":"BE57","v":8.7449933244325706E-2},"$",{"$f":"INDEX('[1]Subcompact PC'!$H$530:$X$541,MATCH(BC56,'[1]Subcompact PC'!$C$530:$C$541,0),MATCH(Inputs!$C$2,'[1]Subcompact PC'!$H$529:$X$529,0))\n+INDEX('[1]Subcompact PC'!$H$530:$X$541,MATCH(BI56,'[1]Subcompact PC'!$C$530:$C$541,0),MATCH(Inputs!$C$2,'[1]Subcompact PC'!$H$529:$X$529,0))","v":409.7126410454249},10,null,null,null,null,null,null,null,"2012-2016","INC","%",{"$f":"BS57","v":7.9439252336448551E-2},"$",{"$f":"INDEX('[1]Subcompact PC'!$H$530:$X$541,MATCH(BQ56,'[1]Subcompact PC'!$C$530:$C$541,0),MATCH(Inputs!$C$2,'[1]Subcompact PC'!$H$529:$X$529,0))\n+INDEX('[1]Subcompact PC'!$H$530:$X$541,MATCH(BW56,'[1]Subcompact PC'!$C$530:$C$541,0),MATCH(Inputs!$C$2,'[1]Subcompact PC'!$H$529:$X$529,0))","v":-166.76046392665683},10,null,null,null,null,null,null,null,"2012-2016","INC","%",{"$f":"CG57","v":7.9439252336448551E-2},"$",{"$f":"INDEX('[1]Subcompact PC'!$H$530:$X$541,MATCH(CE56,'[1]Subcompact PC'!$C$530:$C$541,0),MATCH(Inputs!$C$2,'[1]Subcompact PC'!$H$529:$X$529,0))\n+INDEX('[1]Subcompact PC'!$H$530:$X$541,MATCH(CK56,'[1]Subcompact PC'!$C$530:$C$541,0),MATCH(Inputs!$C$2,'[1]Subcompact PC'!$H$529:$X$529,0))","v":372.41862046254636},10,null,null,null,null,null,null,null,"2012-2016","INC","%",{"$f":"CU57","v":7.6201641266119502E-2},"$",{"$f":"INDEX('[1]Subcompact PC'!$H$530:$X$541,MATCH(CS56,'[1]Subcompact PC'!$C$530:$C$541,0),MATCH(Inputs!$C$2,'[1]Subcompact PC'!$H$529:$X$529,0))\n+INDEX('[1]Subcompact PC'!$H$530:$X$541,MATCH(CY56,'[1]Subcompact PC'!$C$530:$C$541,0),MATCH(Inputs!$C$2,'[1]Subcompact PC'!$H$529:$X$529,0))","v":409.7126410454249},10,null,null,null,null,null,null,null,"2012-2016","INC","%",{"$f":"DI57","v":7.6201641266119502E-2},"$",{"$f":"INDEX('[1]Subcompact PC'!$H$530:$X$541,MATCH(DG56,'[1]Subcompact PC'!$C$530:$C$541,0),MATCH(Inputs!$C$2,'[1]Subcompact PC'!$H$529:$X$529,0))\n+INDEX('[1]Subcompact PC'!$H$530:$X$541,MATCH(DM56,'[1]Subcompact PC'!$C$530:$C$541,0),MATCH(Inputs!$C$2,'[1]Subcompact PC'!$H$529:$X$529,0))","v":-166.76046392665683},10,null,null,null,null,null,null,null,"2012-2016","INC","%",{"$f":"DW57","v":7.6201641266119502E-2},"$",{"$f":"INDEX('[1]Subcompact PC'!$H$530:$X$541,MATCH(DU56,'[1]Subcompact PC'!$C$530:$C$541,0),MATCH(Inputs!$C$2,'[1]Subcompact PC'!$H$529:$X$529,0))\n+INDEX('[1]Subcompact PC'!$H$530:$X$541,MATCH(EA56,'[1]Subcompact PC'!$C$530:$C$541,0),MATCH(Inputs!$C$2,'[1]Subcompact PC'!$H$529:$X$529,0))","v":372.41862046254636},10,null,null,null,null,null,null,null,"2012-2016","INC","%",{"$f":"EK57","v":0.14794245730782396},"$",{"$f":"INDEX('[1]Subcompact PC'!$H$530:$X$541,MATCH(EI56,'[1]Subcompact PC'!$C$530:$C$541,0),MATCH(Inputs!$C$2,'[1]Subcompact PC'!$H$529:$X$529,0))\n+INDEX('[1]Subcompact PC'!$H$530:$X$541,MATCH(EO56,'[1]Subcompact PC'!$C$530:$C$541,0),MATCH(Inputs!$C$2,'[1]Subcompact PC'!$H$529:$X$529,0))","v":0},10,null,null,null,null,null,null,null,"2012-2016","INC","%",{"$f":"EY57","v":7.9439252336448551E-2},"$",{"$f":"INDEX('[1]Subcompact PC'!$H$530:$X$541,MATCH(EW56,'[1]Subcompact PC'!$C$530:$C$541,0),MATCH(Inputs!$C$2,'[1]Subcompact PC'!$H$529:$X$529,0))\n+INDEX('[1]Subcompact PC'!$H$530:$X$541,MATCH(FC56,'[1]Subcompact PC'!$C$530:$C$541,0),MATCH(Inputs!$C$2,'[1]Subcompact PC'!$H$529:$X$529,0))","v":533.48625139315186},10,{"$f":"INDEX('[1]Subcompact PC'!$H$530:$X$541,MATCH(EW56,'[1]Subcompact PC'!$C$530:$C$541,0),MATCH(Inputs!$C$2,'[1]Subcompact PC'!$H$529:$X$529,0))","v":229.17561542502995},{"$f":"MATCH(EW56,'[1]Subcompact PC'!$C$530:$C$541,0)","v":9},null,null,null,null,null,"2012-2016","INC","%",{"$f":"FM57","v":7.9439252336448551E-2},"$",{"$f":"INDEX('[1]Subcompact PC'!$H$530:$X$541,MATCH(FK56,'[1]Subcompact PC'!$C$530:$C$541,0),MATCH(Inputs!$C$2,'[1]Subcompact PC'!$H$529:$X$529,0))\n+INDEX('[1]Subcompact PC'!$H$530:$X$541,MATCH(FQ56,'[1]Subcompact PC'!$C$530:$C$541,0),MATCH(Inputs!$C$2,'[1]Subcompact PC'!$H$529:$X$529,0))","v":1047.4612616201887},10]
[null,null,null,null,null,null,null,null,null,null,null,null,"ABS","%",{"$f":"1-((1-AC47+AC38)*(1-O54))","v":0.2026353820403769},"$",{"$f":"AE47+Q54","v":1184.6965628407361},"L",null,null,null,null,null,null,null,null,"ABS","%",{"$f":"1-((1-AC47)*(1-AC54))","v":0.20194825549738227},"$",{"$f":"AE47+AE54","v":735.36509429306989},"L",null,null,null,null,null,null,null,null,"ABS","%",{"$f":"1-((1-AC47)*(1-AQ54))","v":0.20194825549738227},"$",{"$f":"AE47+AS54","v":1288.1138190951174},"L",null,null,null,null,null,null,null,null,"ABS","%",{"$f":"1-((1-BS47)*(1-BE54))","v":0.20889286821241593},"$",{"$f":"BU47+BG54","v":1251.4013275208067},"L",null,null,null,null,null,null,null,null,"ABS","%",{"$f":"1-((1-BS47)*(1-BS54))","v":0.20194825549738227},"$",{"$f":"BU47+BU54","v":674.9282225487251},"L",null,null,null,null,null,null,null,null,"ABS","%",{"$f":"1-((1-BS47)*(1-CG54))","v":0.20194825549738227},"$",{"$f":"BU47+CI54","v":1214.1073069379283},"L",null,null,null,null,null,null,null,null,"ABS","%",{"$f":"1-((1-DI47)*(1-CU54))","v":0.20194825549738216},"$",{"$f":"DK47+CW54","v":1353.0756632839893},"L",null,null,null,null,null,null,null,null,"ABS","%",{"$f":"1-((1-DI47)*(1-DI54))","v":0.20194825549738216},"$",{"$f":"DK47+DK54","v":776.6025583119075},"L",null,null,null,null,null,null,null,null,"ABS","%",{"$f":"1-((1-DI47)*(1-DW54))","v":0.20194825549738216},"$",{"$f":"DK47+DY54","v":1315.7816427011107},"L",null,null,null,null,null,null,null,null,"ABS","%",{"$f":"1-((1-EY47)*(1-EK54))","v":0.23655644174781021},"$",{"$f":"FA47+EM54","v":711.67951469612831},"L",null,null,null,null,null,null,null,null,"ABS","%",{"$f":"1-((1-EY47)*(1-EY54))","v":0.17517757009345791},"$",{"$f":"FA47+FA54","v":1245.1657660892802},"L",null,null,null,null,null,null,null,null,"ABS","%",{"$f":"1-((1-EY47)*(1-FM54))","v":0.17517757009345791},"$",{"$f":"FA47+FO54","v":1759.140776316317},"L"]
[null,"INTERMEDIATE",null,null,null,null,null,null,null,null,null,null,"TRBDS1_SD_TB","Turbocharging and Downsizing 1 (TRBDS1_SD) - TBL",null,null,null,null,"TRBDS1_SD_DS",null,null,null,null,null,null,null,"TRBDS1_MD_TB","Turbocharging and Downsizing 1 (TRBDS1_MD) - TBL",null,null,null,null,"TRBDS1_MD_DS",null,null,null,null,null,null,null,"TRBDS1_LD_TB","Turbocharging and Downsizing 1\n(TRBDS1_LD) - TBL",null,null,null,null,"TRBDS1_LD_DS",null,null,null,null,null,null,null,"TRBDS1_SD_TB_D",{"$f":"$N$56","v":"Turbocharging and Downsizing 1 (TRBDS1_SD) - TBL"},null,null,null,null,"TRBDS1_SD_DS_D",null,null,null,null,null,null,null,"TRBDS1_MD_TB_D","Turbocharging and Downsizing 1 (TRBDS1_MD) - TBL",null,null,null,null,"TRBDS1_MD_DS_D",null,null,null,null,null,null,null,"TRBDS1_LD_TB_D",{"$f":"$AP$56","v":"Turbocharging and Downsizing 1\n(TRBDS1_LD) - TBL"},null,null,null,null,"TRBDS1_LD_DS_D",null,null,null,null,null,null,null,"TRBDS1_SD_TB_D",{"$f":"$N$56","v":"Turbocharging and Downsizing 1 (TRBDS1_SD) - TBL"},null,null,null,null,"TRBDS1_SD_DS_D",null,null,null,null,null,null,null,"TRBDS1_MD_TB_D",{"$f":"$AB$56","v":"Turbocharging and Downsizing 1 (TRBDS1_MD) - TBL"},null,null,null,null,"TRBDS1_MD_DS_D",null,null,null,null,null,null,null,"TRBDS1_LD_TB_D",{"$f":"$AP$56","v":"Turbocharging and Downsizing 1\n(TRBDS1_LD) - TBL"},null,null,null,null,"TRBDS1_LD_DS_D",null,null,null,null,null,null,null,"TRBDS1_SD_TB_O",{"$f":"$N$56","v":"Turbocharging and Downsizing 1 (TRBDS1_SD) - TBL"},null,null,null,null,"TRBDS1_SD_DS_O",null,null,null,null,null,null,null,"TRBDS1_MD_TB_O",{"$f":"$AB$56","v":"Turbocharging and Downsizing 1 (TRBDS1_MD) - TBL"},null,null,null,null,"TRBDS1_MD_DS_O",null,null,null,null,null,null,null,"TRBDS1_LD_TB_O",{"$f":"$AP$56","v":"Turbocharging and Downsizing 1\n(TRBDS1_LD) - TBL"},null,null,null,null,"TRBDS1_LD_DS_O"]
["Gas Engine Type","I4",null,null,null,null,null,null,null,null,null,"2017+","INC","%",{"$f":"1-((1-O58-AC41)/(1-AC50))","v":8.7449933244325706E-2},"$",{"$f":"Q54","v":420.06358424991754},10,null,null,null,null,null,null,null,"2017+","INC","%",{"$f":"1-((1-AC58)/(1-AC50))","v":7.9439252336448551E-2},"$",{"$f":"AE54","v":-29.267884297748708},10,null,null,null,null,null,null,null,"2017+","INC","%",{"$f":"1-((1-AQ58)/(1-AC50))","v":7.9439252336448551E-2},"$",{"$f":"AS54","v":523.48084050429873},10,null,null,null,null,null,null,null,"2017+","INC","%",{"$f":"1-((1-BE58-BS41)/(1-BS50))","v":8.7449933244325706E-2},"$",{"$f":"BG54","v":409.7126410454249},10,null,null,null,null,null,null,null,"2017+","INC","%",{"$f":"1-((1-BS58)/(1-BS50))","v":7.9439252336448551E-2},"$",{"$f":"BU54","v":-166.76046392665683},10,null,null,null,null,null,null,null,"2017+","INC","%",{"$f":"1-((1-CG58)/(1-BS50))","v":7.9439252336448551E-2},"$",{"$f":"CI54","v":372.41862046254636},10,null,null,null,null,null,null,null,"2017+","INC","%",{"$f":"1-((1-CU58-DI41)/(1-DI50))","v":7.6201641266119502E-2},"$",{"$f":"CW54","v":409.7126410454249},10,null,null,null,null,null,null,null,"2017+","INC","%",{"$f":"1-((1-DI58)/(1-DI50))","v":7.6201641266119502E-2},"$",{"$f":"DK54","v":-166.76046392665683},10,null,null,null,null,null,null,null,"2017+","INC","%",{"$f":"1-((1-DW58)/(1-DI50))","v":7.6201641266119502E-2},"$",{"$f":"DY54","v":372.41862046254636},10,null,null,null,null,null,null,null,"2017+","INC","%",{"$f":"1-((1-EK58-EY33)/(1-EY50))","v":0.14794245730782396},"$",{"$f":"EM54","v":0},10,null,null,null,null,null,null,null,"2017+","INC","%",{"$f":"1-((1-EY58)/(1-EY50))","v":7.9439252336448551E-2},"$",{"$f":"FA54","v":533.48625139315186},10,null,null,null,null,null,null,null,"2017+","INC","%",{"$f":"1-((1-FM58)/(1-EY50))","v":7.9439252336448551E-2},"$",{"$f":"FO54","v":1047.4612616201887},10]
["Displacement [L]","1.5 to 2.0",null,null,null,null,null,null,null,null,null,null,"ABS","%",0.21199999999999999,"$",{"$f":"AE50+Q57","v":1278.9576605846732},"L",null,null,null,null,null,null,null,null,"ABS","%",{"$f":"$O58","v":0.21199999999999999},"$",{"$f":"AE50+AE57","v":829.62619203700706},"L",null,null,null,null,null,null,null,null,"ABS","%",{"$f":"$O58","v":0.21199999999999999},"$",{"$f":"AE50+AS57","v":1382.3749168390545},"L",null,null,null,null,null,null,null,null,"ABS","%",{"$f":"$O58","v":0.21199999999999999},"$",{"$f":"BU50+BG57","v":1345.6624252647439},"L",null,null,null,null,null,null,null,null,"ABS","%",{"$f":"$O58","v":0.21199999999999999},"$",{"$f":"BU50+BU57","v":769.18932029266227},"L",null,null,null,null,null,null,null,null,"ABS","%",{"$f":"$AQ58","v":0.21199999999999999},"$",{"$f":"BU50+CI57","v":1308.3684046818655},"L",null,null,null,null,null,null,null,null,"ABS","%",{"$f":"$O58","v":0.21199999999999999},"$",{"$f":"DK50+CW57","v":1447.3367610279265},"L",null,null,null,null,null,null,null,null,"ABS","%",{"$f":"$AC58","v":0.21199999999999999},"$",{"$f":"DK50+DK57","v":870.86365605584467},"L",null,null,null,null,null,null,null,null,"ABS","%",{"$f":"$AQ58","v":0.21199999999999999},"$",{"$f":"DK50+DY57","v":1410.0427404450479},"L",null,null,null,null,null,null,null,null,"ABS","%",{"$f":"$O58","v":0.21199999999999999},"$",{"$f":"FA50+EM57","v":805.94061244006548},"L",null,null,null,null,null,null,null,null,"ABS","%",{"$f":"$AC58","v":0.21199999999999999},"$",{"$f":"FA50+FA57","v":1339.4268638332173},"L",null,null,null,null,null,null,null,null,"ABS","%",{"$f":"$AQ58","v":0.21199999999999999},"$",{"$f":"FA50+FO57","v":1853.4018740602542},"L"]
["Turbocharger","FGT",null,null,null,null,null,null,null,null,null,null,null,null,null,null,null,null,null,null,null,null,null,null,null,null,null,null,null,null,null,null,null,null,null,null,null,null,null,null,null,null,null,null,null,null,null,null,null,null,null,null,null,null,null,null,{"$f":"BE57-$O$57","v":0},null,{"$f":"BG57-$Q$57","v":-10.350943204492637},null,null,null,null,null,null,null,null,null,null,null,{"$f":"BS57-$AC$57","v":0},null,{"$f":"BU57-$AE$57","v":-137.49257962890812},null,null,null,null,null,null,null,null,null,null,null,{"$f":"CG57-$AQ$57","v":0},null,{"$f":"CI57-$AS$57","v":-151.06222004175237},null,null,null,null,null,null,null,null,null,null,null,{"$f":"CU57-$O$57","v":-1.1248291978206204E-2},null,{"$f":"CW57-$Q$57","v":-10.350943204492637},null,null,null,null,null,null,null,null,null,null,null,{"$f":"DI57-$AC$57","v":-3.2376110703290495E-3},null,{"$f":"DK57-$AE$57","v":-137.49257962890812},null,null,null,null,null,null,null,null,null,null,null,{"$f":"DW57-$AQ$57","v":-3.2376110703290495E-3},null,{"$f":"DY57-$AS$57","v":-151.06222004175237},null,null,null,null,null,null,null,null,null,null,null,{"$f":"EK57-$O$57","v":6.0492524063498254E-2},null,{"$f":"EM57-$Q$57","v":-420.06358424991754},null,null,null,null,null,null,null,null,null,null,null,{"$f":"EY57-$AC$57","v":0},null,{"$f":"FA57-$AE$57","v":562.75413569090051},null,null,null,null,null,null,null,null,null,null,null,{"$f":"FM57-$AQ$57","v":0},null,{"$f":"FO57-$AS$57","v":523.98042111588995}]
["EGR system","External"]
["Valvetrain","DOHC"]
["After Treatment","3way cat",null,null,null,null,null,null,null,null,null,"2012-2016","INC","%",{"$f":"1-((1-O63)/(1-O55))","v":0},"$",0,0,null,null,null,null,null,null,null,"2012-2016","INC","%",{"$f":"1-((1-AC63)/(1-AC55))","v":0},"$",0,0,null,null,null,null,null,null,null,"2012-2016","INC","%",{"$f":"1-((1-AQ63)/(1-AQ55))","v":0},"$",0,0,null,null,null,null,null,null,null,"2012-2016","INC","%",{"$f":"1-((1-BE63)/(1-BE55))","v":0},"$",{"$f":"$Q$62","v":0},{"$f":"$R$62","v":0},null,null,null,null,null,null,null,"2012-2016","INC","%",{"$f":"1-((1-BS63)/(1-BS55))","v":0},"$",{"$f":"$AE$62","v":0},{"$f":"$AF$62","v":0},null,null,null,null,null,null,null,"2012-2016","INC","%",{"$f":"1-((1-CG63)/(1-CG55))","v":0},"$",{"$f":"$AS$62","v":0},{"$f":"$AT$62","v":0},null,null,null,null,null,null,null,"2012-2016","INC","%",{"$f":"1-((1-CU63)/(1-CU55))","v":0},"$",{"$f":"$Q$62","v":0},{"$f":"$R$62","v":0},null,null,null,null,null,null,null,"2012-2016","INC","%",{"$f":"1-((1-DI63)/(1-DI55))","v":0},"$",{"$f":"$AE$62","v":0},{"$f":"$AF$62","v":0},null,null,null,null,null,null,null,"2012-2016","INC","%",{"$f":"1-((1-DW63)/(1-DW55))","v":0},"$",{"$f":"$AS$62","v":0},{"$f":"$AT$62","v":0},null,null,null,null,null,null,null,"2012-2016","INC","%",{"$f":"$O$62","v":0},"$",{"$f":"$Q$62","v":0},{"$f":"$R$62","v":0},null,null,null,null,null,null,null,"2012-2016","INC","%",{"$f":"1-((1-EY63)/(1-EY55))","v":0},"$",{"$f":"$AE$62","v":0},{"$f":"$AF$62","v":0},null,null,null,null,null,null,null,"2012-2016","INC","%",{"$f":"1-((1-FM63)/(1-FM55))","v":0},"$",{"$f":"$AS$62","v":0},{"$f":"$AT$62","v":0}]
[null,null,null,null,null,null,null,null,null,null,null,null,"ABS","%",{"$f":"O55","v":0.2026353820403769},"$",{"$f":"Q55+Q62","v":1184.6965628407361},"L",null,null,null,null,null,null,null,null,"ABS","%",{"$f":"AC55","v":0.20194825549738227},"$",{"$f":"AE55+AE62","v":735.36509429306989},"L",null,null,null,null,null,null,null,null,"ABS","%",{"$f":"AQ55","v":0.20194825549738227},"$",{"$f":"AS55+AS62","v":1288.1138190951174},"L",null,null,null,null,null,null,null,null,"ABS","%",{"$f":"BE55","v":0.20889286821241593},"$",{"$f":"BG55+BG62","v":1251.4013275208067},"L",null,null,null,null,null,null,null,null,"ABS","%",{"$f":"BS55","v":0.20194825549738227},"$",{"$f":"BU55+BU62","v":674.9282225487251},"L",null,null,null,null,null,null,null,null,"ABS","%",{"$f":"CG55","v":0.20194825549738227},"$",{"$f":"CI55+CI62","v":1214.1073069379283},"L",null,null,null,null,null,null,null,null,"ABS","%",{"$f":"CU55","v":0.20194825549738216},"$",{"$f":"CW55+CW62","v":1353.0756632839893},"L",null,null,null,null,null,null,null,null,"ABS","%",{"$f":"DI55","v":0.20194825549738216},"$",{"$f":"DK55+DK62","v":776.6025583119075},"L",null,null,null,null,null,null,null,null,"ABS","%",{"$f":"DW55","v":0.20194825549738216},"$",{"$f":"DY55+DY62","v":1315.7816427011107},"L",null,null,null,null,null,null,null,null,"ABS","%",{"$f":"1-((1-EK55)*(1-EK62))","v":0.23655644174781021},"$",{"$f":"EM55+EM62","v":711.67951469612831},"L",null,null,null,null,null,null,null,null,"ABS","%",{"$f":"EY55","v":0.17517757009345791},"$",{"$f":"FA55+FA62","v":1245.1657660892802},"L",null,null,null,null,null,null,null,null,"ABS","%",{"$f":"FM55","v":0.17517757009345791},"$",{"$f":"FO55+FO62","v":1759.140776316317},"L"]
[null,null,null,null,null,null,null,null,null,null,null,null,"TRBDS2_SD_TB","Turbocharging and Downsizing 2\n(TRBDS2_SD) - TBL",null,null,null,null,"TRBDS2_SD_DS",null,null,null,null,null,null,null,"TRBDS2_MD_TB","Turbocharging and Downsizing 2\n(TRBDS2_MD) - TBL",null,null,null,null,"TRBDS2_MD_DS",null,null,null,null,null,null,null,"TRBDS2_LD_TB","Turbocharging and Downsizing 2\n(TRBDS2_LD) - TBL",null,null,null,null,"TRBDS2_LD_DS",null,null,null,null,null,null,null,"TRBDS2_SD_TB",{"$f":"$N$64","v":"Turbocharging and Downsizing 2\n(TRBDS2_SD) - TBL"},null,null,null,null,"TRBDS2_SD_DS",null,null,null,null,null,null,null,"TRBDS2_MD_TB",{"$f":"$AB$64","v":"Turbocharging and Downsizing 2\n(TRBDS2_MD) - TBL"},null,null,null,null,"TRBDS2_MD_DS",null,null,null,null,null,null,null,"TRBDS2_LD_TB",{"$f":"$AP$64","v":"Turbocharging and Downsizing 2\n(TRBDS2_LD) - TBL"},null,null,null,null,"TRBDS2_LD_DS",null,null,null,null,null,null,null,"TRBDS2_SD_TB",{"$f":"$N$64","v":"Turbocharging and Downsizing 2\n(TRBDS2_SD) - TBL"},null,null,null,null,"TRBDS2_SD_DS",null,null,null,null,null,null,null,"TRBDS2_MD_TB",{"$f":"$AB$64","v":"Turbocharging and Downsizing 2\n(TRBDS2_MD) - TBL"},null,null,null,null,"TRBDS2_MD_DS",null,null,null,null,null,null,null,"TRBDS2_LD_TB","Cooled EGR 1\n(CEGR1_LD) - TBL",null,null,null,null,"TRBDS2_LD_DS",null,null,null,null,null,null,null,"TRBDS2_SD_TB",{"$f":"$N$64","v":"Turbocharging and Downsizing 2\n(TRBDS2_SD) - TBL"},null,null,null,null,"TRBDS2_SD_DS",null,null,null,null,null,null,null,"TRBDS2_MD_TB",{"$f":"$AB$64","v":"Turbocharging and Downsizing 2\n(TRBDS2_MD) - TBL"},null,null,null,null,"TRBDS2_MD_DS",null,null,null,null,null,null,null,"TRBDS2_LD_TB","Cooled EGR 1\n(CEGR1_LD) - TBL",null,null,null,null,"TRBDS2_LD_DS"]
[null,"INTERMEDIATE",null,null,null,null,null,null,null,null,null,"2017+","INC","%",{"$f":"1-((1-O66)/(1-O58))","v":3.4263959390863019E-2},"$",{"$f":"INDEX('[1]Large PC'!$H$379:$X$467,MATCH(M64,'[1]Large PC'!$C$379:$C$467,0),MATCH(Inputs!$C$2,'[1]Large PC'!$H$378:$X$378,0))\n+INDEX('[1]Large PC'!$H$379:$X$467,MATCH(S64,'[1]Large PC'!$C$379:$C$467,0),MATCH(Inputs!$C$2,'[1]Large PC'!$H$378:$X$378,0))","v":19.914246875441577},10,null,null,null,null,null,null,null,"2017+","INC","%",{"$f":"1-((1-AC66)/(1-AC58))","v":3.4263959390863019E-2},"$",{"$f":"INDEX('[1]Minivan LT'!$H$379:$X$467,MATCH(AA64,'[1]Minivan LT'!$C$379:$C$467,0),MATCH(Inputs!$C$2,'[1]Minivan LT'!$H$378:$X$378,0))\n+INDEX('[1]Minivan LT'!$H$379:$X$467,MATCH(AG64,'[1]Minivan LT'!$C$379:$C$467,0),MATCH(Inputs!$C$2,'[1]Minivan LT'!$H$378:$X$378,0))","v":247.5936884943545},10,null,null,null,null,null,null,null,"2017+","INC","%",{"$f":"1-((1-AQ66)/(1-AQ58))","v":3.4263959390863019E-2},"$",{"$f":"INDEX('[1]Minivan LT'!$H$379:$X$467,MATCH(AO64,'[1]Minivan LT'!$C$379:$C$467,0),MATCH(Inputs!$C$2,'[1]Minivan LT'!$H$378:$X$378,0))\n+INDEX('[1]Minivan LT'!$H$379:$X$467,MATCH(AU64,'[1]Minivan LT'!$C$379:$C$467,0),MATCH(Inputs!$C$2,'[1]Minivan LT'!$H$378:$X$378,0))","v":417.35470758578072},10,null,null,null,null,null,null,null,"2017+","INC","%",{"$f":"1-((1-BE66)/(1-BE58))","v":3.4263959390863019E-2},"$",{"$f":"$Q65","v":19.914246875441577},{"$f":"$R$65","v":10},null,null,null,null,null,null,null,"2017+","INC","%",{"$f":"1-((1-BS66)/(1-BS58))","v":3.4263959390863019E-2},"$",{"$f":"$AE$65","v":247.5936884943545},{"$f":"$AF$65","v":10},null,null,null,null,null,null,null,"2017+","INC","%",{"$f":"1-((1-CG66)/(1-CG58))","v":3.4263959390863019E-2},"$",{"$f":"$AS$65","v":417.35470758578072},{"$f":"$AT$65","v":10},null,null,null,null,null,null,null,"2017+","INC","%",{"$f":"1-((1-CU66)/(1-CU58))","v":3.4263959390863019E-2},"$",{"$f":"$Q65","v":19.914246875441577},{"$f":"$R$65","v":10},null,null,null,null,null,null,null,"2017+","INC","%",{"$f":"1-((1-DI66)/(1-DI58))","v":3.4263959390863019E-2},"$",{"$f":"$AE$65","v":247.5936884943545},{"$f":"$AF$65","v":10},null,null,null,null,null,null,null,"2017+","INC","%",{"$f":"1-((1-DW66)/(1-DW58))","v":3.4263959390863019E-2},"$",{"$f":"$AS$65","v":417.35470758578072},{"$f":"$AT$65","v":10},null,null,null,null,null,null,null,"2017+","INC","%",{"$f":"1-((1-EK66)/(1-EK58))","v":3.4263959390863019E-2},"$",{"$f":"$Q65","v":19.914246875441577},{"$f":"$R$65","v":10},null,null,null,null,null,null,null,"2017+","INC","%",{"$f":"1-((1-EY66)/(1-EY58))","v":3.4263959390863019E-2},"$",{"$f":"$AE$65","v":247.5936884943545},{"$f":"$AF$65","v":10},null,null,null,null,null,null,null,"2017+","INC","%",{"$f":"1-((1-FM66)/(1-FM58))","v":3.4263959390863019E-2},"$",{"$f":"$AS$65","v":417.35470758578072},{"$f":"$AT$65","v":10}]
["Gas Engine Type","I4",null,null,null,null,null,null,null,null,null,null,"ABS","%",0.23899999999999999,"$",{"$f":"Q58+Q65","v":1298.8719074601149},"L",null,null,null,null,null,null,null,null,"ABS","%",{"$f":"$O66","v":0.23899999999999999},"$",{"$f":"AE58+AE65","v":1077.2198805313615},"L",null,null,null,null,null,null,null,null,"ABS","%",{"$f":"$O66","v":0.23899999999999999},"$",{"$f":"AS58+AS65","v":1799.7296244248353},"L",null,null,null,null,null,null,null,null,"ABS","%",{"$f":"$O66","v":0.23899999999999999},"$",{"$f":"BG58+BG65","v":1365.5766721401856},"L",null,null,null,null,null,null,null,null,"ABS","%",{"$f":"$O66","v":0.23899999999999999},"$",{"$f":"BU58+BU65","v":1016.7830087870168},"L",null,null,null,null,null,null,null,null,"ABS","%",{"$f":"$AQ66","v":0.23899999999999999},"$",{"$f":"CI58+CI65","v":1725.7231122676462},"L",null,null,null,null,null,null,null,null,"ABS","%",{"$f":"$O66","v":0.23899999999999999},"$",{"$f":"CW58+CW65","v":1467.2510079033682},"L",null,null,null,null,null,null,null,null,"ABS","%",{"$f":"$AC66","v":0.23899999999999999},"$",{"$f":"DK58+DK65","v":1118.4573445501992},"L",null,null,null,null,null,null,null,null,"ABS","%",{"$f":"$AQ66","v":0.23899999999999999},"$",{"$f":"DY58+DY65","v":1827.3974480308286},"L",null,null,null,null,null,null,null,null,"ABS","%",{"$f":"$O66","v":0.23899999999999999},"$",{"$f":"EM58+EM65","v":825.85485931550704},"L",null,null,null,null,null,null,null,null,"ABS","%",{"$f":"$AC66","v":0.23899999999999999},"$",{"$f":"FA58+FA65","v":1587.0205523275717},"L",null,null,null,null,null,null,null,null,"ABS","%",{"$f":"$AQ66","v":0.23899999999999999},"$",{"$f":"FO58+FO65","v":2270.7565816460346},"L"]
["Displacement [L]",1]
["Turbocharger","FGT"]
["EGR system","External"]
["Valvetrain","DOHC",null,null,null,null,null,null,null,null,null,"2012-2016","INC","%",{"$f":"1-((1-O71)/(1-O63))","v":0},"$",0,0,null,null,null,null,null,null,null,"2012-2016","INC","%",{"$f":"1-((1-AC71)/(1-AC63))","v":0},"$",0,0,null,null,null,null,null,null,null,"2012-2016","INC","%",{"$f":"1-((1-AQ71)/(1-AQ63))","v":0},"$",0,0,null,null,null,null,null,null,null,"2012-2016","INC","%",{"$f":"1-((1-BE71)/(1-BE63))","v":0},"$",{"$f":"$Q$70","v":0},{"$f":"$R$70","v":0},null,null,null,null,null,null,null,"2012-2016","INC","%",{"$f":"1-((1-BS71)/(1-BS63))","v":0},"$",{"$f":"$AE$70","v":0},{"$f":"$AF$70","v":0},null,null,null,null,null,null,null,"2012-2016","INC","%",{"$f":"1-((1-CG71)/(1-CG63))","v":0},"$",{"$f":"$AS$70","v":0},{"$f":"$AT$70","v":0},null,null,null,null,null,null,null,"2012-2016","INC","%",{"$f":"1-((1-CU71)/(1-CU63))","v":0},"$",{"$f":"$Q$70","v":0},{"$f":"$R$70","v":0},null,null,null,null,null,null,null,"2012-2016","INC","%",{"$f":"1-((1-DI71)/(1-DI63))","v":0},"$",{"$f":"$AE$70","v":0},{"$f":"$AF$70","v":0},null,null,null,null,null,null,null,"2012-2016","INC","%",{"$f":"1-((1-DW71)/(1-DW63))","v":0},"$",{"$f":"$AS$70","v":0},{"$f":"$AT$70","v":0},null,null,null,null,null,null,null,"2012-2016","INC","%",{"$f":"1-((1-EK71)/(1-EK63))","v":0},"$",{"$f":"$Q$70","v":0},{"$f":"$R$70","v":0},null,null,null,null,null,null,null,"2012-2016","INC","%",{"$f":"1-((1-EY71)/(1-EY63))","v":0},"$",{"$f":"$AE$70","v":0},{"$f":"$AF$70","v":0},null,null,null,null,null,null,null,"2012-2016","INC","%",{"$f":"1-((1-FM71)/(1-FM63))","v":0},"$",{"$f":"$AS$70","v":0},{"$f":"$AT$70","v":0}]
["After Treatment","3way cat",null,null,null,null,null,null,null,null,null,null,"ABS","%",{"$f":"O63","v":0.2026353820403769},"$",{"$f":"Q63+Q70","v":1184.6965628407361},"L",null,null,null,null,null,null,null,null,"ABS","%",{"$f":"AC63","v":0.20194825549738227},"$",{"$f":"AE63+AE70","v":735.36509429306989},"L",null,null,null,null,null,null,null,null,"ABS","%",{"$f":"AQ63","v":0.20194825549738227},"$",{"$f":"AS63+AS70","v":1288.1138190951174},"L",null,null,null,null,null,null,null,null,"ABS","%",{"$f":"BE63","v":0.20889286821241593},"$",{"$f":"BG63+BG70","v":1251.4013275208067},"L",null,null,null,null,null,null,null,null,"ABS","%",{"$f":"BS63","v":0.20194825549738227},"$",{"$f":"BU63+BU70","v":674.9282225487251},"L",null,null,null,null,null,null,null,null,"ABS","%",{"$f":"CG63","v":0.20194825549738227},"$",{"$f":"CI63+CI70","v":1214.1073069379283},"L",null,null,null,null,null,null,null,null,"ABS","%",{"$f":"CU63","v":0.20194825549738216},"$",{"$f":"CW63+CW70","v":1353.0756632839893},"L",null,null,null,null,null,null,null,null,"ABS","%",{"$f":"DI63","v":0.20194825549738216},"$",{"$f":"DK63+DK70","v":776.6025583119075},"L",null,null,null,null,null,null,null,null,"ABS","%",{"$f":"DW63","v":0.20194825549738216},"$",{"$f":"DY63+DY70","v":1315.7816427011107},"L",null,null,null,null,null,null,null,null,"ABS","%",{"$f":"EK63","v":0.23655644174781021},"$",{"$f":"EM63+EM70","v":711.67951469612831},"L",null,null,null,null,null,null,null,null,"ABS","%",{"$f":"EY63","v":0.17517757009345791},"$",{"$f":"FA63+FA70","v":1245.1657660892802},"L",null,null,null,null,null,null,null,null,"ABS","%",{"$f":"FM63","v":0.17517757009345791},"$",{"$f":"FO63+FO70","v":1759.140776316317},"L"]
[null,null,null,null,null,null,null,null,null,null,null,null,"CEGR1_SD_TB","Cooled EGR 1 \n(CEGR1_SD) - TBL",null,null,null,null,"CEGR1_SD_DS",null,null,null,null,null,null,null,"CEGR1_MD_TB","Cooled EGR 1 \n(CEGR1_MD) - TBL",null,null,null,null,"CEGR1_MD_DS",null,null,null,null,null,null,null,"CEGR1_LD_TB","Cooled EGR 1 \n(CEGR1_LD) - TBL",null,null,null,null,"CEGR1_LD_DS",null,null,null,null,null,null,null,"CEGR1_SD_TB",{"$f":"$N$72","v":"Cooled EGR 1 \n(CEGR1_SD) - TBL"},null,null,null,null,"CEGR1_SD_DS",null,null,null,null,null,null,null,"CEGR1_MD_TB",{"$f":"$AB$72","v":"Cooled EGR 1 \n(CEGR1_MD) - TBL"},null,null,null,null,"CEGR1_MD_DS",null,null,null,null,null,null,null,"CEGR1_LD_TB",{"$f":"$AP$72","v":"Cooled EGR 1 \n(CEGR1_LD) - TBL"},null,null,null,null,"CEGR1_LD_DS",null,null,null,null,null,null,null,"CEGR1_SD_TB",{"$f":"$N$72","v":"Cooled EGR 1 \n(CEGR1_SD) - TBL"},null,null,null,null,"CEGR1_SD_DS",null,null,null,null,null,null,null,"CEGR1_MD_TB",{"$f":"$AB$72","v":"Cooled EGR 1 \n(CEGR1_MD) - TBL"},null,null,null,null,"CEGR1_MD_DS",null,null,null,null,null,null,null,"CEGR1_LD_TB",{"$f":"$AP$72","v":"Cooled EGR 1 \n(CEGR1_LD) - TBL"},null,null,null,null,"CEGR1_LD_DS",null,null,null,null,null,null,null,"CEGR1_SD_TB",{"$f":"$N$72","v":"Cooled EGR 1 \n(CEGR1_SD) - TBL"},null,null,null,null,"CEGR1_SD_DS",null,null,null,null,null,null,null,"CEGR1_MD_TB",{"$f":"$AB$72","v":"Cooled EGR 1 \n(CEGR1_MD) - TBL"},null,null,null,null,"CEGR1_MD_DS",null,null,null,null,null,null,null,"CEGR1_LD_TB",{"$f":"$AP$72","v":"Cooled EGR 1 \n(CEGR1_LD) - TBL"},null,null,null,null,"CEGR1_LD_DS"]
[null,null,null,null,null,null,null,null,null,null,null,"2017+","INC","%",{"$f":"1-((1-O74)/(1-O66))","v":3.5479632063074917E-2},"$",{"$f":"INDEX('[1]Large Perf. PC'!$H$379:$X$467,MATCH(M72,'[1]Large Perf. PC'!$C$379:$C$467,0),MATCH(Inputs!$C$2,'[1]Large Perf. PC'!$H$378:$X$378,0))\n+INDEX('[1]Large Perf. PC'!$H$379:$X$467,MATCH(S72,'[1]Large Perf. PC'!$C$379:$C$467,0),MATCH(Inputs!$C$2,'[1]Large Perf. PC'!$H$378:$X$378,0))","v":285.15466932220613},10,null,null,null,null,null,null,null,"2017+","INC","%",{"$f":"1-((1-AC74)/(1-AC66))","v":3.5479632063074917E-2},"$",{"$f":"INDEX('[1]Minivan LT'!$H$379:$X$467,MATCH(AA72,'[1]Minivan LT'!$C$379:$C$467,0),MATCH(Inputs!$C$2,'[1]Minivan LT'!$H$378:$X$378,0))\n+INDEX('[1]Minivan LT'!$H$379:$X$467,MATCH(AG72,'[1]Minivan LT'!$C$379:$C$467,0),MATCH(Inputs!$C$2,'[1]Minivan LT'!$H$378:$X$378,0))","v":285.15466932220613},10,null,null,null,null,null,null,null,"2017+","INC","%",{"$f":"1-((1-AQ74)/(1-AQ66))","v":3.5479632063074917E-2},"$",{"$f":"INDEX('[1]Minivan LT'!$H$379:$X$467,MATCH(AO72,'[1]Minivan LT'!$C$379:$C$467,0),MATCH(Inputs!$C$2,'[1]Minivan LT'!$H$378:$X$378,0))\n+INDEX('[1]Minivan LT'!$H$379:$X$467,MATCH(AU72,'[1]Minivan LT'!$C$379:$C$467,0),MATCH(Inputs!$C$2,'[1]Minivan LT'!$H$378:$X$378,0))","v":285.15466932220613},10,null,null,null,null,null,null,null,"2017+","INC","%",{"$f":"$O$73","v":3.5479632063074917E-2},"$",{"$f":"$Q$73","v":285.15466932220613},{"$f":"$R$73","v":10},null,null,null,null,null,null,null,"2017+","INC","%",{"$f":"$AC$73","v":3.5479632063074917E-2},"$",{"$f":"$AE$73","v":285.15466932220613},{"$f":"$AF$73","v":10},null,null,null,null,null,null,null,"2017+","INC","%",{"$f":"$AQ$73","v":3.5479632063074917E-2},"$",{"$f":"$AS$73","v":285.15466932220613},{"$f":"$AT$73","v":10},null,null,null,null,null,null,null,"2017+","INC","%",{"$f":"$O$73","v":3.5479632063074917E-2},"$",{"$f":"$Q$73","v":285.15466932220613},{"$f":"$R$73","v":10},null,null,null,null,null,null,null,"2017+","INC","%",{"$f":"$AC$73","v":3.5479632063074917E-2},"$",{"$f":"$AE$73","v":285.15466932220613},{"$f":"$AF$73","v":10},null,null,null,null,null,null,null,"2017+","INC","%",{"$f":"$AQ$73","v":3.5479632063074917E-2},"$",{"$f":"$AS$73","v":285.15466932220613},{"$f":"$AT$73","v":10},null,null,null,null,null,null,null,"2017+","INC","%",{"$f":"$O$73","v":3.5479632063074917E-2},"$",{"$f":"$Q$73","v":285.15466932220613},{"$f":"$R$73","v":10},null,null,null,null,null,null,null,"2017+","INC","%",{"$f":"$AC$73","v":3.5479632063074917E-2},"$",{"$f":"$AE$73","v":285.15466932220613},{"$f":"$AF$73","v":10},null,null,null,null,null,null,null,"2017+","INC","%",{"$f":"$AQ$73","v":3.5479632063074917E-2},"$",{"$f":"$AS$73","v":285.15466932220613},{"$f":"$AT$73","v":10}]
[null,null,null,null,null,null,null,null,null,null,null,null,"ABS","%",0.26600000000000001,"$",{"$f":"Q66+Q73","v":1584.0265767823212},"L",null,null,null,null,null,null,null,null,"ABS","%",{"$f":"O74","v":0.26600000000000001},"$",{"$f":"AE66+AE73","v":1362.3745498535677},"L",null,null,null,null,null,null,null,null,"ABS","%",{"$f":"O74","v":0.26600000000000001},"$",{"$f":"AS66+AS73","v":2084.8842937470413},"L",null,null,null,null,null,null,null,null,"ABS","%",{"$f":"1-((1-BE66)*(1-BE73))","v":0.26600000000000001},"$",{"$f":"BG66+BG73","v":1650.7313414623918},"L",null,null,null,null,null,null,null,null,"ABS","%",{"$f":"$O74","v":0.26600000000000001},"$",{"$f":"BU66+BU73","v":1301.9376781092228},"L",null,null,null,null,null,null,null,null,"ABS","%",{"$f":"$AQ74","v":0.26600000000000001},"$",{"$f":"CI66+CI73","v":2010.8777815898525},"L",null,null,null,null,null,null,null,null,"ABS","%",{"$f":"$O74","v":0.26600000000000001},"$",{"$f":"CW66+CW73","v":1752.4056772255744},"L",null,null,null,null,null,null,null,null,"ABS","%",{"$f":"$AC74","v":0.26600000000000001},"$",{"$f":"DK66+DK73","v":1403.6120138724054},"L",null,null,null,null,null,null,null,null,"ABS","%",{"$f":"$AQ74","v":0.26600000000000001},"$",{"$f":"DY66+DY73","v":2112.5521173530346},"L",null,null,null,null,null,null,null,null,"ABS","%",{"$f":"$O74","v":0.26600000000000001},"$",{"$f":"EM66+EM73","v":1111.0095286377132},"L",null,null,null,null,null,null,null,null,"ABS","%",{"$f":"$AC74","v":0.26600000000000001},"$",{"$f":"FA66+FA73","v":1872.175221649778},"L",null,null,null,null,null,null,null,null,"ABS","%",{"$f":"$AQ74","v":0.26600000000000001},"$",{"$f":"FO66+FO73","v":2555.9112509682409},"L"]
[]
[]
[]
[null,null,null,null,null,null,null,null,null,null,null,"2012-2016","INC","%",{"$f":"1-((1-O79)/(1-O71))","v":0},"$",0,0,null,null,null,null,null,null,null,"2012-2016","INC","%",{"$f":"1-((1-AC79)/(1-AC71))","v":0},"$",0,0,null,null,null,null,null,null,null,"2012-2016","INC","%",{"$f":"1-((1-AQ79)/(1-AQ71))","v":0},"$",0,0,null,null,null,null,null,null,null,"2012-2016","INC","%",{"$f":"1-((1-BE79)/(1-BE71))","v":0},"$",{"$f":"$Q$78","v":0},{"$f":"$R$78","v":0},null,null,null,null,null,null,null,"2012-2016","INC","%",{"$f":"1-((1-BS79)/(1-BS71))","v":0},"$",{"$f":"$AE$78","v":0},{"$f":"$AF$78","v":0},null,null,null,null,null,null,null,"2012-2016","INC","%",{"$f":"1-((1-CG79)/(1-CG71))","v":0},"$",{"$f":"$AS$78","v":0},{"$f":"$AT$78","v":0},null,null,null,null,null,null,null,"2012-2016","INC","%",{"$f":"1-((1-CU79)/(1-CU71))","v":0},"$",{"$f":"$Q$78","v":0},{"$f":"$R$78","v":0},null,null,null,null,null,null,null,"2012-2016","INC","%",{"$f":"1-((1-DI79)/(1-DI71))","v":0},"$",{"$f":"$AE$78","v":0},{"$f":"$AF$78","v":0},null,null,null,null,null,null,null,"2012-2016","INC","%",{"$f":"1-((1-DW79)/(1-DW71))","v":0},"$",{"$f":"$AS$78","v":0},{"$f":"$AT$78","v":0},null,null,null,null,null,null,null,"2012-2016","INC","%",{"$f":"1-((1-EK79)/(1-EK71))","v":0},"$",{"$f":"$Q$78","v":0},{"$f":"$R$78","v":0},null,null,null,null,null,null,null,"2012-2016","INC","%",{"$f":"1-((1-EY79)/(1-EY71))","v":0},"$",{"$f":"$AE$78","v":0},{"$f":"$AF$78","v":0},null,null,null,null,null,null,null,"2012-2016","INC","%",{"$f":"1-((1-FM79)/(1-FM71))","v":0},"$",{"$f":"$AS$78","v":0},{"$f":"$AT$78","v":0}]
[null,null,null,null,null,null,null,null,null,null,null,null,"ABS","%",{"$f":"O71","v":0.2026353820403769},"$",{"$f":"Q71+Q78","v":1184.6965628407361},"L",null,null,null,null,null,null,null,null,"ABS","%",{"$f":"AC71","v":0.20194825549738227},"$",{"$f":"AE71+AE78","v":735.36509429306989},"L",null,null,null,null,null,null,null,null,"ABS","%",{"$f":"AQ71","v":0.20194825549738227},"$",{"$f":"AS71+AS78","v":1288.1138190951174},"L",null,null,null,null,null,null,null,null,"ABS","%",{"$f":"BE71","v":0.20889286821241593},"$",{"$f":"BG71+BG78","v":1251.4013275208067},"L",null,null,null,null,null,null,null,null,"ABS","%",{"$f":"BS71","v":0.20194825549738227},"$",{"$f":"BU71+BU78","v":674.9282225487251},"L",null,null,null,null,null,null,null,null,"ABS","%",{"$f":"CG71","v":0.20194825549738227},"$",{"$f":"CI71+CI78","v":1214.1073069379283},"L",null,null,null,null,null,null,null,null,"ABS","%",{"$f":"CU71","v":0.20194825549738216},"$",{"$f":"CW71+CW78","v":1353.0756632839893},"L",null,null,null,null,null,null,null,null,"ABS","%",{"$f":"DI71","v":0.20194825549738216},"$",{"$f":"DK71+DK78","v":776.6025583119075},"L",null,null,null,null,null,null,null,null,"ABS","%",{"$f":"DW71","v":0.20194825549738216},"$",{"$f":"DY71+DY78","v":1315.7816427011107},"L",null,null,null,null,null,null,null,null,"ABS","%",{"$f":"EK71","v":0.23655644174781021},"$",{"$f":"EM71+EM78","v":711.67951469612831},"L",null,null,null,null,null,null,null,null,"ABS","%",{"$f":"EY71","v":0.17517757009345791},"$",{"$f":"FA71+FA78","v":1245.1657660892802},"L",null,null,null,null,null,null,null,null,"ABS","%",{"$f":"FM71","v":0.17517757009345791},"$",{"$f":"FO71+FO78","v":1759.140776316317},"L"]
[null,null,null,null,null,null,null,null,null,null,null,null,"CEGR2_SD_TB","Cooled EGR 2\n(CEGR2_SD) - TBL",null,null,null,null,"CEGR2_SD_DS",null,null,null,null,null,null,null,"CEGR2_MD_TB","Cooled EGR 2\n(CEGR2_MD) - TBL",null,null,null,null,"CEGR2_MD_DS",null,null,null,null,null,null,null,"CEGR2_LD_TB","Cooled EGR 2\n(CEGR2_LD) - TBL",null,null,null,null,"CEGR2_LD_DS",null,null,null,null,null,null,null,"CEGR2_SD_TB",{"$f":"$N$80","v":"Cooled EGR 2\n(CEGR2_SD) - TBL"},null,null,null,null,"CEGR2_SD_DS",null,null,null,null,null,null,null,"CEGR2_MD_TB",{"$f":"$AB$80","v":"Cooled EGR 2\n(CEGR2_MD) - TBL"},null,null,null,null,"CEGR2_MD_DS",null,null,null,null,null,null,null,"CEGR2_LD_TB",{"$f":"$AP$80","v":"Cooled EGR 2\n(CEGR2_LD) - TBL"},null,null,null,null,"CEGR2_LD_DS",null,null,null,null,null,null,null,"CEGR2_SD_TB",{"$f":"$N$80","v":"Cooled EGR 2\n(CEGR2_SD) - TBL"},null,null,null,null,"CEGR2_SD_DS",null,null,null,null,null,null,null,"CEGR2_MD_TB",{"$f":"$AB$80","v":"Cooled EGR 2\n(CEGR2_MD) - TBL"},null,null,null,null,"CEGR2_MD_DS",null,null,null,null,null,null,null,"CEGR2_LD_TB",{"$f":"$AP$80","v":"Cooled EGR 2\n(CEGR2_LD) - TBL"},null,null,null,null,"CEGR2_LD_DS",null,null,null,null,null,null,null,"CEGR2_SD_TB",{"$f":"$N$80","v":"Cooled EGR 2\n(CEGR2_SD) - TBL"},null,null,null,null,"CEGR2_SD_DS",null,null,null,null,null,null,null,"CEGR2_MD_TB",{"$f":"$AB$80","v":"Cooled EGR 2\n(CEGR2_MD) - TBL"},null,null,null,null,"CEGR2_MD_DS",null,null,null,null,null,null,null,"CEGR2_LD_TB",{"$f":"$AP$80","v":"Cooled EGR 2\n(CEGR2_LD) - TBL"},null,null,null,null,"CEGR2_LD_DS"]
[null,"STOP",null,null,null,null,null,null,null,null,null,"2017+","INC","%",{"$f":"1-((1-O82)/(1-O74))","v":1.0899182561307952E-2},"$",{"$f":"INDEX('[1]Minivan LT'!$H$379:$X$467,MATCH(M80,'[1]Minivan LT'!$C$379:$C$467,0),MATCH(Inputs!$C$2,'[1]Minivan LT'!$H$378:$X$378,0))\n+INDEX('[1]Minivan LT'!$H$379:$X$467,MATCH(S80,'[1]Minivan LT'!$C$379:$C$467,0),MATCH(Inputs!$C$2,'[1]Minivan LT'!$H$378:$X$378,0))","v":495.18737698870899},10,null,null,null,null,null,null,null,"2017+","INC","%",{"$f":"1-((1-AC82)/(1-AC74))","v":1.0899182561307952E-2},"$",{"$f":"INDEX('[1]Minivan LT'!$H$379:$X$467,MATCH(AA80,'[1]Minivan LT'!$C$379:$C$467,0),MATCH(Inputs!$C$2,'[1]Minivan LT'!$H$378:$X$378,0))\n+INDEX('[1]Minivan LT'!$H$379:$X$467,MATCH(AG80,'[1]Minivan LT'!$C$379:$C$467,0),MATCH(Inputs!$C$2,'[1]Minivan LT'!$H$378:$X$378,0))","v":495.18737698870899},10,null,null,null,null,null,null,null,"2017+","INC","%",{"$f":"1-((1-AQ82)/(1-AQ74))","v":1.0899182561307952E-2},"$",{"$f":"INDEX('[1]Minivan LT'!$H$379:$X$467,MATCH(AO80,'[1]Minivan LT'!$C$379:$C$467,0),MATCH(Inputs!$C$2,'[1]Minivan LT'!$H$378:$X$378,0))\n+INDEX('[1]Minivan LT'!$H$379:$X$467,MATCH(AU80,'[1]Minivan LT'!$C$379:$C$467,0),MATCH(Inputs!$C$2,'[1]Minivan LT'!$H$378:$X$378,0))","v":-296.67298355204559},10,null,null,null,null,null,null,null,"2017+","INC","%",{"$f":"$O$81","v":1.0899182561307952E-2},"$",{"$f":"$Q$81","v":495.18737698870899},{"$f":"$R$81","v":10},null,null,null,null,null,null,null,"2017+","INC","%",{"$f":"$AC$81","v":1.0899182561307952E-2},"$",{"$f":"$AE$81","v":495.18737698870899},{"$f":"$AF$81","v":10},null,null,null,null,null,null,null,"2017+","INC","%",{"$f":"$AQ$81","v":1.0899182561307952E-2},"$",{"$f":"$AS$81","v":-296.67298355204559},{"$f":"$AT$81","v":10},null,null,null,null,null,null,null,"2017+","INC","%",{"$f":"$O$81","v":1.0899182561307952E-2},"$",{"$f":"$Q$81","v":495.18737698870899},{"$f":"$R$81","v":10},null,null,null,null,null,null,null,"2017+","INC","%",{"$f":"$AC$81","v":1.0899182561307952E-2},"$",{"$f":"$AE$81","v":495.18737698870899},{"$f":"$AF$81","v":10},null,null,null,null,null,null,null,"2017+","INC","%",{"$f":"$AQ$81","v":1.0899182561307952E-2},"$",{"$f":"$AS$81","v":-296.67298355204559},{"$f":"$AT$81","v":10},null,null,null,null,null,null,null,"2017+","INC","%",{"$f":"$O$81","v":1.0899182561307952E-2},"$",{"$f":"$Q$81","v":495.18737698870899},{"$f":"$R$81","v":10},null,null,null,null,null,null,null,"2017+","INC","%",{"$f":"$AC$81","v":1.0899182561307952E-2},"$",{"$f":"$AE$81","v":495.18737698870899},{"$f":"$AF$81","v":10},null,null,null,null,null,null,null,"2017+","INC","%",{"$f":"$AQ$81","v":1.0899182561307952E-2},"$",{"$f":"$AS$81","v":-296.67298355204559},{"$f":"$AT$81","v":10}]
["Diesel Engine Type","I4",null,null,null,null,null,null,null,null,null,null,"ABS","%",0.27400000000000002,"$",{"$f":"Q74+Q81","v":2079.21395377103},"L",null,null,null,null,null,null,null,null,"ABS","%",{"$f":"O82","v":0.27400000000000002},"$",{"$f":"AE74+AE81","v":1857.5619268422768},"L",null,null,null,null,null,null,null,null,"ABS","%",{"$f":"O82","v":0.27400000000000002},"$",{"$f":"AS74+AS81","v":1788.2113101949958},"L",null,null,null,null,null,null,null,null,"ABS","%",{"$f":"1-((1-BE74)*(1-BE81))","v":0.27400000000000002},"$",{"$f":"BG74+BG81","v":2145.9187184511006},"L",null,null,null,null,null,null,null,null,"ABS","%",{"$f":"$O82","v":0.27400000000000002},"$",{"$f":"BU74+BU81","v":1797.1250550979319},"L",null,null,null,null,null,null,null,null,"ABS","%",{"$f":"$AQ82","v":0.27400000000000002},"$",{"$f":"CI74+CI81","v":1714.204798037807},"L",null,null,null,null,null,null,null,null,"ABS","%",{"$f":"$O82","v":0.27400000000000002},"$",{"$f":"CW74+CW81","v":2247.5930542142833},"L",null,null,null,null,null,null,null,null,"ABS","%",{"$f":"$AC82","v":0.27400000000000002},"$",{"$f":"DK74+DK81","v":1898.7993908611145},"L",null,null,null,null,null,null,null,null,"ABS","%",{"$f":"$AQ82","v":0.27400000000000002},"$",{"$f":"DY74+DY81","v":1815.8791338009892},"L",null,null,null,null,null,null,null,null,"ABS","%",{"$f":"$O82","v":0.27400000000000002},"$",{"$f":"EM74+EM81","v":1606.1969056264222},"L",null,null,null,null,null,null,null,null,"ABS","%",{"$f":"$AC82","v":0.27400000000000002},"$",{"$f":"FA74+FA81","v":2367.3625986384868},"L",null,null,null,null,null,null,null,null,"ABS","%",{"$f":"$AQ82","v":0.27400000000000002},"$",{"$f":"FO74+FO81","v":2259.2382674161954},"L"]
["Displacement [L]","1.5 to 2.0"]
["Turbocharger","VNT"]
["EGR system","cooler+vlv+bypass vlv"]
["FIE","HPCR 1800bar solenoid",null,null,"2012-2016","INC","%",{"$f":"1-((1-H87)/(1-O79))","v":0},"$",0,"L","2012-2016","INC","%",0,"$",0,0,"2012-2016","INC","%",{"$f":"1-((1-V87)/(1-AC79))","v":0},"$",0,"L","2012-2016","INC","%",0,"$",0,0,"2012-2016","INC","%",{"$f":"1-((1-AJ87)/(1-AQ79))","v":0},"$",0,"L","2012-2016","INC","%",0,"$",0,0,"2012-2016","INC","%",{"$f":"1-((1-AX87)/(1-BE79))","v":-7.9097835433483699E-3},"$",0,"L","2012-2016","INC","%",0,"$",0,0,"2012-2016","INC","%",{"$f":"1-((1-BL87)/(1-BS79))","v":0},"$",0,"L","2012-2016","INC","%",0,"$",0,0,"2012-2016","INC","%",{"$f":"1-((1-BZ87)/(1-CG79))","v":0},"$",0,"L","2012-2016","INC","%",0,"$",0,0,"2012-2016","INC","%",{"$f":"1-((1-CN87)/(1-CU79))","v":8.6100500090124932E-4},"$",0,"L","2012-2016","INC","%",0,"$",0,0,"2012-2016","INC","%",{"$f":"1-((1-DB87)/(1-DI79))","v":0},"$",0,"L","2012-2016","INC","%",0,"$",0,0,"2012-2016","INC","%",{"$f":"1-((1-DP87)/(1-DW79))","v":0},"$",0,"L","2012-2016","INC","%",0,"$",0,0,"2012-2016","INC","%",{"$f":"1-((1-ED87)/(1-EK79))","v":-4.4431653579069197E-2},"$",0,"L","2012-2016","INC","%",0,"$",0,0,"2012-2016","INC","%",{"$f":"1-((1-ER87)/(1-EY79))","v":3.2456301421092126E-2},"$",0,"L","2012-2016","INC","%",0,"$",0,0,"2012-2016","INC","%",{"$f":"1-((1-FF87)/(1-FM79))","v":3.2456301421092126E-2},"$",0,"L","2012-2016","INC","%",0,"$",0,0]
["Valvetrain","4-valve DOHC",null,null,null,"ABS","%",{"$f":"O79","v":0.2026353820403769},"$",{"$f":"J86+Q79","v":1184.6965628407361},150,null,"ABS","%",{"$f":"1-((1-O79)*(1-O86))","v":0.2026353820403769},"$",{"$f":"Q79+Q86","v":1184.6965628407361},"L",null,"ABS","%",{"$f":"AC79","v":0.20194825549738227},"$",{"$f":"X86+AE79","v":735.36509429306989},200,null,"ABS","%",{"$f":"1-((1-AC79)*(1-AC86))","v":0.20194825549738227},"$",{"$f":"AE79+AE86","v":735.36509429306989},"L",null,"ABS","%",{"$f":"AQ79","v":0.20194825549738227},"$",{"$f":"AL86+AS79","v":1288.1138190951174},500,null,"ABS","%",{"$f":"1-((1-AQ79)*(1-AQ86))","v":0.20194825549738227},"$",{"$f":"AS79+AS86","v":1288.1138190951174},"L",null,"ABS","%",{"$f":"$H$87","v":0.2026353820403769},"$",{"$f":"AZ86+BG79","v":1251.4013275208067},{"$f":"$K$87","v":150},null,"ABS","%",{"$f":"1-((1-BE79)*(1-BE86))","v":0.20889286821241593},"$",{"$f":"BG79+BG86","v":1251.4013275208067},"L",null,"ABS","%",{"$f":"$V$87","v":0.20194825549738227},"$",{"$f":"BN86+BU79","v":674.9282225487251},{"$f":"$Y$87","v":200},null,"ABS","%",{"$f":"1-((1-BS79)*(1-BS86))","v":0.20194825549738227},"$",{"$f":"BU79+BU86","v":674.9282225487251},"L",null,"ABS","%",{"$f":"$AJ$87","v":0.20194825549738227},"$",{"$f":"CB86+CI79","v":1214.1073069379283},{"$f":"$AM$87","v":500},null,"ABS","%",{"$f":"1-((1-CG79)*(1-CG86))","v":0.20194825549738227},"$",{"$f":"CI79+CI86","v":1214.1073069379283},"L",null,"ABS","%",{"$f":"$H$87","v":0.2026353820403769},"$",{"$f":"CP86+CW79","v":1353.0756632839893},{"$f":"$K$87","v":150},null,"ABS","%",{"$f":"1-((1-CU79)*(1-CU86))","v":0.20194825549738216},"$",{"$f":"CW79+CW86","v":1353.0756632839893},"L",null,"ABS","%",{"$f":"$V$87","v":0.20194825549738227},"$",{"$f":"DD86+DK79","v":776.6025583119075},{"$f":"$Y$87","v":200},null,"ABS","%",{"$f":"1-((1-DI79)*(1-DI86))","v":0.20194825549738216},"$",{"$f":"DK79+DK86","v":776.6025583119075},"L",null,"ABS","%",{"$f":"$AJ$87","v":0.20194825549738227},"$",{"$f":"DR86+DY79","v":1315.7816427011107},{"$f":"$AM$87","v":500},null,"ABS","%",{"$f":"1-((1-DW79)*(1-DW86))","v":0.20194825549738216},"$",{"$f":"DY79+DY86","v":1315.7816427011107},"L",null,"ABS","%",{"$f":"$H$87","v":0.2026353820403769},"$",{"$f":"EF86+EM79","v":711.67951469612831},{"$f":"$K$87","v":150},null,"ABS","%",{"$f":"1-((1-EK79)*(1-EK86))","v":0.23655644174781021},"$",{"$f":"EM79+EM86","v":711.67951469612831},"L",null,"ABS","%",{"$f":"$V$87","v":0.20194825549738227},"$",{"$f":"ET86+FA79","v":1245.1657660892802},{"$f":"$Y$87","v":200},null,"ABS","%",{"$f":"1-((1-EY79)*(1-EY86))","v":0.17517757009345791},"$",{"$f":"FA79+FA86","v":1245.1657660892802},"L",null,"ABS","%",{"$f":"$AJ$87","v":0.20194825549738227},"$",{"$f":"FH86+FO79","v":1759.140776316317},{"$f":"$AM$87","v":500},null,"ABS","%",{"$f":"1-((1-FM79)*(1-FM86))","v":0.17517757009345791},"$",{"$f":"FO79+FO86","v":1759.140776316317},"L"]
["Valvetrain option","N/A",null,null,null,null,"Advanced Diesel\n(ADSL_SD) - TBL",null,null,null,null,"ADSL_SD",null,"To Strong Hybrids",null,null,null,null,null,null,"Advanced Diesel\n(ADSL_MD) - TBL",null,null,null,null,"ADSL_MD",null,"To Strong Hybrids",null,null,null,null,null,null,"Advanced Diesel\n(ADSL_LD) - TBL",null,null,null,null,"ADSL_LD",null,"To Strong Hybrids",null,null,null,null,null,null,"Advanced Diesel\n(ADSL_SD) - TBL",null,null,null,null,"ADSL_SD",null,"To Strong Hybrids",null,null,null,null,null,null,"Advanced Diesel\n(ADSL_MD) - TBL",null,null,null,null,"ADSL_SD",null,"To Strong Hybrids",null,null,null,null,null,null,"Advanced Diesel\n(ADSL_LD) - TBL",null,null,null,null,"ADSL_SD",null,"To Strong Hybrids",null,null,null,null,null,null,"Advanced Diesel\n(ADSL_SD) - TBL",null,null,null,null,"ADSL_SD",null,"To Strong Hybrids",null,null,null,null,null,null,"Advanced Diesel\n(ADSL_MD) - TBL",null,null,null,null,"ADSL_SD",null,"To Strong Hybrids",null,null,null,null,null,null,"Advanced Diesel\n(ADSL_LD) - TBL",null,null,null,null,"ADSL_SD",null,"To Strong Hybrids",null,null,null,null,null,null,"Advanced Diesel\n(ADSL_SD) - TBL",null,null,null,null,"ADSL_SD",null,"To Strong Hybrids",null,null,null,null,null,null,"Advanced Diesel\n(ADSL_MD) - TBL",null,null,null,null,"ADSL_SD",null,"To Strong Hybrids",null,null,null,null,null,null,"Advanced Diesel\n(ADSL_LD) - TBL",null,null,null,null,"ADSL_SD",null,"To Strong Hybrids"]
["After Treatment","DOC+LNT+DPF",null,null,"2017+","INC","%",{"$f":"1-((1-H90)/(1-O82))","v":3.4435261707988829E-2},"$",{"$f":"INDEX('[1]Minivan LT'!$H$379:$X$467,MATCH(L88,'[1]Minivan LT'!$C$379:$C$467,0),MATCH(Inputs!$C$2,'[1]Minivan LT'!$H$378:$X$378,0))","v":911.04083256975923},"L","2017+","INC","%",0,"$",{"$f":"Q86","v":0},0,"2017+","INC","%",{"$f":"1-((1-V90)/(1-AC82))","v":3.4435261707988829E-2},"$",{"$f":"INDEX('[1]Minivan LT'!$H$379:$X$467,MATCH(Z88,'[1]Minivan LT'!$C$379:$C$467,0),MATCH(Inputs!$C$2,'[1]Minivan LT'!$H$378:$X$378,0))","v":927.85441038425756},"L","2017+","INC","%",0,"$",{"$f":"AE86","v":0},0,"2017+","INC","%",{"$f":"1-((1-AJ90)/(1-AQ82))","v":3.4435261707988829E-2},"$",{"$f":"INDEX('[1]Minivan LT'!$H$379:$X$467,MATCH(AN88,'[1]Minivan LT'!$C$379:$C$467,0),MATCH(Inputs!$C$2,'[1]Minivan LT'!$H$378:$X$378,0))","v":1811.581549062259},"L","2017+","INC","%",0,"$",{"$f":"AS86","v":0},0,"2017+","INC","%",{"$f":"1-((1-AX90)/(1-BE82))","v":3.4435261707988829E-2},"$",{"$f":"$J$89","v":911.04083256975923},"L","2017+","INC","%",0,"$",{"$f":"BG86","v":0},0,"2017+","INC","%",{"$f":"1-((1-BL90)/(1-BS82))","v":3.4435261707988829E-2},"$",{"$f":"$X$89","v":927.85441038425756},"L","2017+","INC","%",0,"$",{"$f":"BU86","v":0},0,"2017+","INC","%",{"$f":"1-((1-BZ90)/(1-CG82))","v":3.4435261707988829E-2},"$",{"$f":"$AL$89","v":1811.581549062259},"L","2017+","INC","%",0,"$",{"$f":"CI86","v":0},0,"2017+","INC","%",{"$f":"1-((1-CN90)/(1-CU82))","v":3.4435261707988829E-2},"$",{"$f":"$J$89","v":911.04083256975923},"L","2017+","INC","%",0,"$",{"$f":"CW86","v":0},0,"2017+","INC","%",{"$f":"1-((1-DB90)/(1-DI82))","v":3.4435261707988829E-2},"$",{"$f":"$X$89","v":927.85441038425756},"L","2017+","INC","%",0,"$",{"$f":"DK86","v":0},0,"2017+","INC","%",{"$f":"1-((1-DP90)/(1-DW82))","v":3.4435261707988829E-2},"$",{"$f":"$AL$89","v":1811.581549062259},"L","2017+","INC","%",0,"$",{"$f":"DY86","v":0},0,"2017+","INC","%",{"$f":"1-((1-ED90)/(1-EK82))","v":3.4435261707988829E-2},"$",{"$f":"$J$89","v":911.04083256975923},"L","2017+","INC","%",0,"$",{"$f":"EM86","v":0},0,"2017+","INC","%",{"$f":"1-((1-ER90)/(1-EY82))","v":3.4435261707988829E-2},"$",{"$f":"$X$89","v":927.85441038425756},"L","2017+","INC","%",0,"$",{"$f":"FA86","v":0},0,"2017+","INC","%",{"$f":"1-((1-FF90)/(1-FM82))","v":3.4435261707988829E-2},"$",{"$f":"$AL$89","v":1811.581549062259},"L","2017+","INC","%",0,"$",{"$f":"FO86","v":0},0]
[null,null,null,null,null,"ABS","%",0.29899999999999999,"$",{"$f":"Q82+J89","v":2990.254786340789},150,null,"ABS","%",{"$f":"1-((1-O82)*(1-O89))","v":0.27400000000000002},"$",{"$f":"Q82+Q89","v":2079.21395377103},"L",null,"ABS","%",{"$f":"H90","v":0.29899999999999999},"$",{"$f":"AE82+X89","v":2785.4163372265343},200,null,"ABS","%",{"$f":"1-((1-AC82)*(1-AC89))","v":0.27400000000000002},"$",{"$f":"AE82+AE89","v":1857.5619268422768},"L",null,"ABS","%",{"$f":"H90","v":0.29899999999999999},"$",{"$f":"AS82+AL89","v":3599.7928592572548},500,null,"ABS","%",{"$f":"1-((1-AQ82)*(1-AQ89))","v":0.27400000000000002},"$",{"$f":"AS82+AS89","v":1788.2113101949958},"L",null,"ABS","%",{"$f":"$H$90","v":0.29899999999999999},"$",{"$f":"$J$90","v":2990.254786340789},{"$f":"$K$90","v":150},null,"ABS","%",{"$f":"1-((1-BE82)*(1-BE89))","v":0.27400000000000002},"$",{"$f":"BG82+BG89","v":2145.9187184511006},"L",null,"ABS","%",{"$f":"$V$90","v":0.29899999999999999},"$",{"$f":"$X$90","v":2785.4163372265343},{"$f":"$Y$90","v":200},null,"ABS","%",{"$f":"1-((1-BS82)*(1-BS89))","v":0.27400000000000002},"$",{"$f":"BU82+BU89","v":1797.1250550979319},"L",null,"ABS","%",{"$f":"$AJ$90","v":0.29899999999999999},"$",{"$f":"$AL$90","v":3599.7928592572548},{"$f":"$AM$90","v":500},null,"ABS","%",{"$f":"1-((1-CG82)*(1-CG89))","v":0.27400000000000002},"$",{"$f":"CI82+CI89","v":1714.204798037807},"L",null,"ABS","%",{"$f":"$H$90","v":0.29899999999999999},"$",{"$f":"$J$90","v":2990.254786340789},{"$f":"$K$90","v":150},null,"ABS","%",{"$f":"1-((1-CU82)*(1-CU89))","v":0.27400000000000002},"$",{"$f":"CW82+CW89","v":2247.5930542142833},"L",null,"ABS","%",{"$f":"$V$90","v":0.29899999999999999},"$",{"$f":"$X$90","v":2785.4163372265343},{"$f":"$Y$90","v":200},null,"ABS","%",{"$f":"1-((1-DI82)*(1-DI89))","v":0.27400000000000002},"$",{"$f":"DK82+DK89","v":1898.7993908611145},"L",null,"ABS","%",{"$f":"$AJ$90","v":0.29899999999999999},"$",{"$f":"$AL$90","v":3599.7928592572548},{"$f":"$AM$90","v":500},null,"ABS","%",{"$f":"1-((1-DW82)*(1-DW89))","v":0.27400000000000002},"$",{"$f":"DY82+DY89","v":1815.8791338009892},"L",null,"ABS","%",{"$f":"$H$90","v":0.29899999999999999},"$",{"$f":"$J$90","v":2990.254786340789},{"$f":"$K$90","v":150},null,"ABS","%",{"$f":"1-((1-EK82)*(1-EK89))","v":0.27400000000000002},"$",{"$f":"EM82+EM89","v":1606.1969056264222},"L",null,"ABS","%",{"$f":"$V$90","v":0.29899999999999999},"$",{"$f":"$X$90","v":2785.4163372265343},{"$f":"$Y$90","v":200},null,"ABS","%",{"$f":"1-((1-EY82)*(1-EY89))","v":0.27400000000000002},"$",{"$f":"FA82+FA89","v":2367.3625986384868},"L",null,"ABS","%",{"$f":"$AJ$90","v":0.29899999999999999},"$",{"$f":"$AL$90","v":3599.7928592572548},{"$f":"$AM$90","v":500},null,"ABS","%",{"$f":"1-((1-FM82)*(1-FM89))","v":0.27400000000000002},"$",{"$f":"FO82+FO89","v":2259.2382674161954},"L"]
[]
[]
[]
[]
[]
[]
[]
["Expanded Trans/Hybrid Technology Decision Tree"]
[]
[]
[null,null,null,null,"Electrification",null,null,null,null,null,null,null,null,null,null,null,null,null,null,null,null,"Manual Trans",null,null,null,null,null,null,null,null,null,null,null,"Auto Trans"]
[]
[null,"START",null,null,"2012-2016","INC","%",0.01,"$",{"$f":"INDEX('[1]Minivan LT'!$H$379:$X$467,MATCH(L105,'[1]Minivan LT'!$C$379:$C$467,0),MATCH(Inputs!$C$2,'[1]Minivan LT'!$H$378:$X$378,0))","v":98.103282519162363},95.93,null,null,null,"START",null,null,null,"2012-2016","INC","%",2.24E-2,"$",{"$f":"INDEX('[1]Minivan LT'!$H$379:$X$467,MATCH(Z105,'[1]Minivan LT'!$C$379:$C$467,0),MATCH(Inputs!$C$2,'[1]Minivan LT'!$H$378:$X$378,0))","v":250.31750824336308},225.33,null,null,null,"START",null,null,null,"2012-2016","INC","%",2.9000000000000001E-2,"$",{"$f":"INDEX('[1]Minivan LT'!$H$379:$X$467,MATCH(AN105,'[1]Minivan LT'!$C$379:$C$467,0),MATCH(Inputs!$C$2,'[1]Minivan LT'!$H$378:$X$378,0))","v":55.807948333210945},54.17]
["Curb Weight (lbs)",4260,null,null,null,"ABS","%",{"$f":"H103","v":0.01},"$",{"$f":"J103","v":98.103282519162363},"L",null,null,null,"5-spd",null,null,null,null,"ABS","%",{"$f":"V103","v":2.24E-2},"$",{"$f":"X103","v":250.31750824336308},"L",null,null,null,"4/5-spd",null,null,null,null,"ABS","%",{"$f":"AJ103","v":2.9000000000000001E-2},"$",{"$f":"AL103","v":55.807948333210945},"L"]
["Engine Displacement [L]",3.6,null,null,null,null,"Electric Power\nSteering (EPS) - TBL",null,null,null,null,"EPS",null,null,"Manual",null,null,null,null,null,"6 Speed Man/Imp.\nInternals (6MAN) - TBL",null,null,null,null,"6MAN",null,null,"Auto",null,null,null,null,null,"Imp. Auto Trans Cnrt./\nExternals (IATC) - TBL",null,null,null,null,"IATC"]
["Engine Power (HP)",249.5,null,null,"2017+","INC","%",{"$f":"H103","v":0.01},"$",{"$f":"J103","v":98.103282519162363},{"$f":"K103","v":95.93},null,null,null,null,null,null,null,"2017+","INC","%",2.24E-2,"$",{"$f":"X103","v":250.31750824336308},225.33,null,null,null,null,null,null,null,"2017+","INC","%",{"$f":"AJ103","v":2.9000000000000001E-2},"$",{"$f":"AL103","v":55.807948333210945},54.17]
["Engine Torque (ft-lbf)",256,null,null,null,"ABS","%",{"$f":"H106","v":0.01},"$",{"$f":"J106","v":98.103282519162363},"L",null,null,null,null,null,null,null,null,"ABS","%",{"$f":"V106","v":2.24E-2},"$",{"$f":"X106","v":250.31750824336308},"L",null,null,null,null,null,null,null,null,"ABS","%",{"$f":"AJ106","v":2.9000000000000001E-2},"$",{"$f":"AL106","v":55.807948333210945},"L"]
["Footprint (ft2)",50.2]
[]
[]
[null,null,null,null,"2012-2016","INC","%",{"$f":"1-((1-H112)/(1-H104))","v":9.0909090909091494E-3},"$",{"$f":"INDEX('[1]Minivan LT'!$H$379:$X$467,MATCH(L113,'[1]Minivan LT'!$C$379:$C$467,0),MATCH(Inputs!$C$2,'[1]Minivan LT'!$H$378:$X$378,0))","v":79.784981333734891},115.2,null,null,null,null,null,null,null,"2012-2016","INC","%",0,"$",0,100.55,null,null,null,null,null,null,null,"2012-2016","INC","%",{"$f":"1-((1-AJ112)/(1-AJ104))","v":2.0269352813748753E-2},"$",{"$f":"INDEX('[1]Minivan LT'!$H$379:$X$467,MATCH(AN113,'[1]Minivan LT'!$C$379:$C$467,0),MATCH(Inputs!$C$2,'[1]Minivan LT'!$H$378:$X$378,0))","v":-37.91558007744085},100.55]
[null,null,null,null,null,"ABS","%",1.9E-2,"$",{"$f":"J104+J111","v":177.88826385289724},"L",null,null,null,null,null,null,null,null,"ABS","%",{"$f":"V104","v":2.24E-2},"$",{"$f":"X111+X104","v":250.31750824336308},"L",null,null,null,null,null,null,null,null,"ABS","%",{"$f":"1-((1-6.2%)/(1-1.4%))","v":4.8681541582150101E-2},"$",{"$f":"AL111+AL104","v":17.892368255770094},"L"]
[null,null,null,null,null,null,"Improved Accessories 1\n(IACC1) - TBL",null,null,null,null,"IACC1",null,null,"From Engine Path\n2012-2016 ",null,null,null,null,null,"High Eff. Gearbox \n(Manual) -  (HETRANSM) - TBL",null,null,null,null,"HETRANS",null,null,null,null,null,null,null,null,"6-spd Auto Trans w/Imp\nInternals (NAUTO) - TBL",null,null,null,null,"NAUTO"]
[null,null,null,null,"2017+","INC","%",{"$f":"1-((1-H115)/(1-H107))","v":9.0909090909091494E-3},"$",{"$f":"J111","v":79.784981333734891},{"$f":"K111","v":115.2},null,null,null,null,null,null,null,"2017+","INC","%",{"$f":"1-((1-V115)/(1-V107))","v":3.7081046699233955E-2},"$",{"$f":"INDEX('[1]Minivan LT'!$H$379:$X$467,MATCH(Z113,'[1]Minivan LT'!$C$379:$C$467,0),MATCH(Inputs!$C$2,'[1]Minivan LT'!$H$378:$X$378,0))","v":227.42624881754446},10,null,null,null,null,null,null,null,"2017+","INC","%",{"$f":"1-((1-AJ115)/(1-AJ107))","v":2.0269352813748753E-2},"$",{"$f":"AL111","v":-37.91558007744085},10]
[null,null,null,null,null,"ABS","%",{"$f":"H112","v":1.9E-2},"$",{"$f":"J107+J114","v":177.88826385289724},"L",null,null,null,null,null,null,null,null,"ABS","%",{"$f":"1-((1-7.23%)/(1-1.45%))","v":5.8650431253171043E-2},"$",{"$f":"X107+X114","v":477.74375706090757},"L",null,null,null,null,null,null,null,null,"ABS","%",{"$f":"AJ112","v":4.8681541582150101E-2},"$",{"$f":"AL107+AL114","v":17.892368255770094},"L"]
[]
[]
[]
[null,null,null,null,"2012-2016","INC","%",{"$f":"1-((1-H120)/(1-H112))","v":0},"$",0,0,"2012-2016","INC","%",{"$f":"1-((1-O120)/(((1-$O$87)*(1-$H$136)*(1-AJ144))))","v":-3.3374568548334427E-3},"$",{"$f":"INDEX('[1]Minivan LT'!$H$379:$X$467,MATCH(M121,'[1]Minivan LT'!$C$379:$C$467,0),MATCH(Inputs!$C$2,'[1]Minivan LT'!$H$378:$X$378,0))\n+INDEX('[1]Minivan LT'!$H$379:$X$467,MATCH(S121,'[1]Minivan LT'!$C$379:$C$467,0),MATCH(Inputs!$C$2,'[1]Minivan LT'!$H$378:$X$378,0))","v":2191.3651158337243},"L",null,null,null,null,null,null,null,null,null,null,null,null,null,null,"2012-2016","INC","%",0,"$",{"$f":"INDEX('[1]Minivan LT'!$H$379:$X$467,MATCH(AN121,'[1]Minivan LT'!$C$379:$C$467,0),MATCH(Inputs!$C$2,'[1]Minivan LT'!$H$378:$X$378,0))","v":0},-10.47]
[null,null,null,null,null,"ABS","%",{"$f":"H112","v":1.9E-2},"$",{"$f":"J112+J119","v":177.88826385289724},"L",null,"ABS","%",0.34599999999999997,"$",{"$f":"J136+Q119+AE87+AL144","v":4436.0326163767159},33.86,null,null,null,null,null,null,null,null,null,null,null,null,null,null,null,"ABS","%",{"$f":"AJ119+AJ112","v":4.8681541582150101E-2},"$",{"$f":"AL119+AL112","v":17.892368255770094},"L"]
[null,null,null,null,null,null,"Improved Accessories 2\n(IACC2) - TBL",null,null,null,null,"IACC2","SHEV1_B","Strong Hybrid (Powersplit or 2-Mode) (SHEV1) - VBL",null,null,null,null,"SHEV1_NB",null,null,"From Engine Path\n2017+ ",null,null,null,null,null,null,null,null,null,null,null,null,"6-spd Dual Clutch Trans\n(DCT) - TBL",null,null,null,null,"DCT"]
[null,null,null,null,"2017+","INC","%",{"$f":"1-((1-H123)/(1-H115))","v":2.3445463812436285E-2},"$",{"$f":"INDEX('[1]Minivan LT'!$H$379:$X$467,MATCH(L121,'[1]Minivan LT'!$C$379:$C$467,0),MATCH(Inputs!$C$2,'[1]Minivan LT'!$H$378:$X$378,0))","v":50.780571415814975},0,"2017+","INC","%",0,"$",0,"L",null,null,null,null,null,null,null,null,null,null,null,null,null,null,"2017+","INC","%",{"$f":"1-((1-AJ123)/(1-AJ115))","v":0},"$",{"$f":"AL119","v":0},{"$f":"AM119","v":-10.47}]
[null,null,null,null,null,"ABS","%",4.2000000000000003E-2,"$",{"$f":"J115+J122","v":228.6688352687122},"L",null,"ABS","%",0,"$",{"$f":"Q116+Q122","v":0},0,null,null,null,null,null,null,null,null,null,null,null,null,null,null,null,"ABS","%",{"$f":"AJ120","v":4.8681541582150101E-2},"$",{"$f":"AL115+AL122","v":17.892368255770094},"L"]
[]
[]
[]
[null,null,null,null,"2012-2016","INC","%",{"$f":"H130","v":2.087682672233826E-2},"$",{"$f":"INDEX('[1]Minivan LT'!$H$379:$X$467,MATCH(L129,'[1]Minivan LT'!$C$379:$C$467,0),MATCH(Inputs!$C$2,'[1]Minivan LT'!$H$378:$X$378,0))","v":349.31408178071149},259.67,"2012-2016","INC","%","n/a","$","n/a","L","2012-2016","INC","%",{"$f":"1-((1-V128)/(((1-$O$87)*(1-$H$136)*(1-AJ144))))","v":-0.53415513280555582},"$",0,"L",null,null,null,null,null,null,null,"2012-2016","INC","%",{"$f":"1-((1-AJ128)/(1-AJ120))","v":4.9040511727078795E-2},"$",{"$f":"INDEX('[1]Minivan LT'!$H$379:$X$467,MATCH(AN129,'[1]Minivan LT'!$C$379:$C$467,0),MATCH(Inputs!$C$2,'[1]Minivan LT'!$H$378:$X$378,0))","v":69.69840640099504},0]
[null,null,null,null,null,"ABS","%",{"$f":"H127+H120","v":3.9876826722338263E-2},"$",{"$f":"J120+J127","v":527.20234563360873},"L",null,"ABS","%","n/a","$","n/a",0,null,"ABS","%",0,"$",0,0,null,null,null,null,null,null,null,null,"ABS","%",{"$f":"1-((1-10.8%)/(1-1.4%))","v":9.5334685598377211E-2},"$",{"$f":"AL120+AL127","v":87.590774656765134},"M"]
[null,null,null,null,null,null,"12V Micro Hybrid - Stop-Start\n(MHEV) - TBL",null,null,null,null,"MHEV",null,"SHEV1 --> SHEV2",null,null,null,null,null,"SHEV2_B","Strong Hybrid (P2 Parallel or 2-Mode) (SHEV2) - VBL",null,null,null,null,"SHEV2_NB",null,null,null,null,null,null,null,null,"8-spd Trans (Auto or DCT)\n(8SPD) - TBL",null,null,null,null,"8SPD"]
[null,null,null,null,"2017+","INC","%",{"$f":"1-((1-H131)/(1-H123))","v":2.087682672233826E-2},"$",{"$f":"J127","v":349.31408178071149},{"$f":"K127","v":259.67},"2017+","INC","%",{"$f":"1-((1-V131)/(1-O120))","v":0.17125382262996935},"$",{"$f":"Q131-Q120","v":1623.5680642659554},"L","2017+","INC","%",{"$f":"1-((1-V131)/(((1-$O$90)*(1-$H$139)*(1-AJ147))))","v":-3.3253367621357555E-3},"$",{"$f":"INDEX('[1]Minivan LT'!$H$379:$X$467,MATCH(T129,'[1]Minivan LT'!$C$379:$C$467,0),MATCH(Inputs!$C$2,'[1]Minivan LT'!$H$378:$X$378,0))\n+INDEX('[1]Minivan LT'!$H$379:$X$467,MATCH(Z129,'[1]Minivan LT'!$C$379:$C$467,0),MATCH(Inputs!$C$2,'[1]Minivan LT'!$H$378:$X$378,0))","v":2191.3651158337243},"L",null,null,null,null,null,null,null,"2017+","INC","%",{"$f":"1-((1-AJ131)/(1-AJ123))","v":4.9040511727078795E-2},"$",{"$f":"AL127","v":69.69840640099504},10]
[null,null,null,null,null,"ABS","%",6.2E-2,"$",{"$f":"J123+J130","v":577.98291704942369},"L",null,"ABS","%",{"$f":"V131","v":0.45800000000000002},"$",{"$f":"X130+J139+Q90+AL147","v":6059.6006806426713},0,null,"ABS","%",0.45800000000000002,"$",{"$f":"X130+J139+AE90+AL147","v":5837.9486537139182},33.86,null,null,null,null,null,null,null,null,"ABS","%",{"$f":"AJ128","v":9.5334685598377211E-2},"$",{"$f":"AL123+AL130","v":87.590774656765134},"L"]
[]
[]
[]
[null,null,null,null,"2012-2016","INC","%",{"$f":"H138","v":5.6503198294242996E-2},"$",{"$f":"INDEX('[1]Large Perf. PC'!$H$379:$X$467,MATCH(F137,'[1]Large Perf. PC'!$C$379:$C$467,0),MATCH(Inputs!$C$2,'[1]Large Perf. PC'!$H$378:$X$378,0))\n+INDEX('[1]Large Perf. PC'!$H$379:$X$467,MATCH(L137,'[1]Large Perf. PC'!$C$379:$C$467,0),MATCH(Inputs!$C$2,'[1]Large Perf. PC'!$H$378:$X$378,0))","v":894.50928595954747},"L",null,null,null,null,null,null,null,"2012-2016","INC","%",{"$f":"1-((1-V136)/(1-V128))","v":0.35},"$",0,"L",null,null,null,null,null,null,null,"2012-2016","INC","%",{"$f":"1-((1-AJ136)/(1-AJ128))","v":0},"$",0,10]
[null,null,null,null,null,"ABS","%",{"$f":"H135+H128","v":9.6380025016581258E-2},"$",{"$f":"J128+J135","v":1421.7116315931562},33.86,null,null,null,null,null,null,null,null,"ABS","%",0.35,"$",{"$f":"X135+X128","v":0},33.86,null,null,null,null,null,null,null,null,"ABS","%",{"$f":"AJ128","v":9.5334685598377211E-2},"$",{"$f":"AL128+AL135","v":87.590774656765134},"L"]
[null,null,null,null,null,"ISG_B","Integrated Starter Generator\n(ISG) - VBL",null,null,null,null,"ISG_NB",null,null,null,null,null,null,null,"PHEV2_B","Plug-in Hybrid - 30 Mile Range  (PHEV1) - VBL",null,null,null,null,"PHEV2_NB",null,null,null,null,null,null,null,null,"High Eff. Gearbox\n(Auto or DCT) -  (HETRANS) - TBL",null,null,null,null,"HETRANS"]
[null,null,null,null,"2017+","INC","%",{"$f":"1-((1-H139)/(1-H131))","v":5.6503198294242996E-2},"$",{"$f":"J135","v":894.50928595954747},"L",null,null,null,null,null,null,null,"2017+","INC","%",0.40649999999999997,"$",{"$f":"INDEX('[1]Minivan LT'!$H$379:$X$467,MATCH(T137,'[1]Minivan LT'!$C$379:$C$467,0),MATCH(Inputs!$C$2,'[1]Minivan LT'!$H$378:$X$378,0))\n+INDEX('[1]Minivan LT'!$H$379:$X$467,MATCH(Z138,'[1]Minivan LT'!$C$379:$C$467,0),MATCH(Inputs!$C$2,'[1]Minivan LT'!$H$378:$X$378,0))\n+INDEX('[1]Minivan LT'!$H$379:$X$467,MATCH(Z139,'[1]Minivan LT'!$C$379:$C$467,0),MATCH(Inputs!$C$2,'[1]Minivan LT'!$H$378:$X$378,0))\n+INDEX('[1]Minivan LT'!$H$379:$X$467,MATCH(Z137,'[1]Minivan LT'!$C$379:$C$467,0),MATCH(Inputs!$C$2,'[1]Minivan LT'!$H$378:$X$378,0))","v":-2315.6609783821696},"L","PHEV2_C",null,null,null,null,null,null,"2017+","INC","%",{"$f":"1-((1-AJ139)/(1-AJ131))","v":3.1390134529148073E-2},"$",{"$f":"INDEX('[1]Minivan LT'!$H$379:$X$467,MATCH(AN137,'[1]Minivan LT'!$C$379:$C$467,0),MATCH(Inputs!$C$2,'[1]Minivan LT'!$H$378:$X$378,0))","v":227.42624881754446},10]
[null,null,null,null,null,"ABS","%",{"$f":"10.5%+H106","v":0.11499999999999999},"$",{"$f":"J131+J138","v":1472.492203008971},33.86,null,null,null,null,null,null,null,null,"ABS","%",{"$f":"1-((1-V131)*(1-V138))","v":0.67832300000000001},"$",{"$f":"X138+X131","v":3522.2876753317487},33.86,"CHRG_L",null,null,null,null,null,null,null,"ABS","%",{"$f":"1-((1-13.6%)/(1-1.4%))","v":0.12373225152129819},"$",{"$f":"AL131+AL138","v":315.01702347430961},"L"]
[]
[]
[]
[null,null,null,null,null,null,null,null,null,null,null,null,null,null,null,null,null,null,"2012-2016","INC","%",{"$f":"1-((1-V144)/(1-V136))","v":0},"$",0,"L",null,null,null,null,null,null,null,"2012-2016","INC","%",{"$f":"1-((1-AJ144)/(1-AJ136))","v":0},"$",0,10]
[null,null,null,null,null,null,null,null,null,null,null,null,null,null,null,null,null,null,null,"ABS","%",0.35,"$",{"$f":"X143+X136","v":0},33.86,null,null,null,null,null,null,null,null,"ABS","%",{"$f":"AJ136","v":9.5334685598377211E-2},"$",{"$f":"AL136+AL143","v":87.590774656765134},"L"]
[null,null,null,null,null,null,null,null,null,"To Strong\nHybrid",null,null,null,null,null,null,null,null,null,"PHEV2_B","Plug-in Hybrid - VBL",null,null,null,null,"PHEV2_NB",null,null,null,null,null,null,null,null,"Shift Optimizer\n (SHFTOPT) - TBL",null,null,null,null,"SHFTOPT"]
[null,null,null,null,null,null,null,null,null,null,null,null,null,null,null,null,null,null,"2017+","INC","%",0,"$",0,"L","PHEV2_C",null,null,null,null,null,null,"2017+","INC","%",{"$f":"1-((1-AJ147)/(1-AJ139))","v":4.05092592592593E-2},"$",{"$f":"INDEX('[1]Minivan LT'!$H$379:$X$467,MATCH(AN145,'[1]Minivan LT'!$C$379:$C$467,0),MATCH(Inputs!$C$2,'[1]Minivan LT'!$H$378:$X$378,0))","v":1.5123845546366708},10]
[null,null,null,null,null,null,null,null,null,null,null,null,null,null,null,null,null,null,null,"ABS","%",{"$f":"1-((1-V139)*(1-V146))","v":0.67832300000000001},"$",{"$f":"X146+X139","v":3522.2876753317487},33.86,null,null,null,null,null,null,null,null,"ABS","%",{"$f":"1-((1-17.1%)/(1-1.4%))","v":0.15922920892494929},"$",{"$f":"AL139+AL146","v":316.52940802894631},"L"]
[]
[]
[]
[null,null,null,null,null,null,null,null,null,null,null,null,null,null,null,null,null,null,"2012-2016","INC","%",{"$f":"1-((1-V152)/(1-V144))","v":0},"$",0,"L",null,null,null,null,null,null,null,null,null,null,null,"To Strong\n     Hybrid"]
[null,null,null,null,null,null,null,null,null,null,null,null,null,null,null,null,null,null,null,"ABS","%",0.35,"$",{"$f":"X151+X144","v":0},33.86]
[null,null,null,null,null,null,null,null,null,null,null,null,null,null,null,null,null,null,null,"EV1_B","Electric Vehicle - Early Adopter \n75 Mile Range - (EV1) - VBL",null,null,null,null,"EV1_NB"]
[null,null,null,null,null,null,null,null,null,null,null,null,null,null,null,null,null,null,"2017+","INC","%",0.68540000000000001,"$",{"$f":"INDEX('[1]Minivan LT'!$H$379:$X$467,MATCH(T153,'[1]Minivan LT'!$C$379:$C$467,0),MATCH(Inputs!$C$2,'[1]Minivan LT'!$H$378:$X$378,0))\n+INDEX('[1]Minivan LT'!$H$379:$X$467,MATCH(Z154,'[1]Minivan LT'!$C$379:$C$467,0),MATCH(Inputs!$C$2,'[1]Minivan LT'!$H$378:$X$378,0))\n+INDEX('[1]Minivan LT'!$H$379:$X$467,MATCH(Z153,'[1]Minivan LT'!$C$379:$C$467,0),MATCH(Inputs!$C$2,'[1]Minivan LT'!$H$378:$X$378,0))","v":31.417146381578902},"L","EV_C"]
[null,null,null,null,null,null,null,null,null,null,null,null,null,null,null,null,null,null,null,"ABS","%",{"$f":"1-((1-V147)*(1-V154))","v":0.89880041580000003},"$",{"$f":"X154+X147","v":3553.7048217133274},33.86]
[]
[]
[]
[null,null,null,null,null,null,null,null,null,null,null,null,null,null,null,null,null,null,"2012-2016","INC","%",{"$f":"1-((1-V160)/(1-V152))","v":0},"$",0,"L"]
[null,null,null,null,null,null,null,null,null,null,null,null,null,null,null,null,null,null,null,"ABS","%",0.35,"$",{"$f":"X159+X152","v":0},33.86]
[null,null,null,null,null,null,null,null,null,null,null,null,null,null,null,null,null,null,null,"EV2_B","Electric Vehicle - Early Adopter \n100 Mile Range - (EV2) - VBL",null,null,null,null,"EV2_NB"]
[null,null,null,null,null,null,null,null,null,null,null,null,null,null,null,null,null,null,"2017+","INC","%",0,"$",0,"L"]
[null,null,null,null,null,null,null,null,null,null,null,null,null,null,null,null,null,null,null,"ABS","%",{"$f":"1-((1-V155)*(1-V162))","v":0.89880041580000003},"$",{"$f":"X162+X155","v":3553.7048217133274},33.86]
[]
[]
[]
[null,null,null,null,null,null,null,null,null,null,null,null,null,null,null,null,null,null,"2012-2016","INC","%",{"$f":"1-((1-V168)/(1-V160))","v":0},"$",0,"L"]
[null,null,null,null,null,null,null,null,null,null,null,null,null,null,null,null,null,null,null,"ABS","%",0.35,"$",{"$f":"X167+X160","v":0},33.86]
[null,null,null,null,null,null,null,null,null,null,null,null,null,null,null,null,null,null,null,"EV3_B","Electric Vehicle - Early Adopter \n150 Mile Range - (EV3) - VBL",null,null,null,null,"EV3_NB"]
[null,null,null,null,null,null,null,null,null,null,null,null,null,null,null,null,null,null,"2017+","INC","%",0,"$",0,"L"]
[null,null,null,null,null,null,null,null,null,null,null,null,null,null,null,null,null,null,null,"ABS","%",{"$f":"1-((1-V163)*(1-V170))","v":0.89880041580000003},"$",{"$f":"X170+X163","v":3553.7048217133274},33.86]
[]
[]
[]
[null,null,null,null,null,null,null,null,null,null,null,"2012-2016","INC","%",{"$f":"1-((1-O176)/(1-V168))","v":0},"$",0,"L",null,null,null,null,null,null,null,"2012-2016","INC","%",{"$f":"1-((1-AC176)/(1-V168))","v":0},"$",0,"L"]
[null,null,null,null,null,null,null,null,null,null,null,null,"ABS","%",0.35,"$",{"$f":"Q175+X168","v":0},33.86,null,null,null,null,null,null,null,null,"ABS","%",0.35,"$",{"$f":"AE175+X168","v":0},33.86]
[null,null,null,null,null,null,null,null,null,null,null,null,"EV4_B","Electric Vehicle - Mass Market \n150 Mile Range - (EV4) - VBL",null,null,null,null,"EV4_NB",null,null,null,null,null,null,null,"FCV_B","Fuel Cell Vehicle\n(FCV) - VBL",null,null,null,null,"FCV_NB"]
[null,null,null,null,null,null,null,null,null,null,null,"2017+","INC","%",0,"$",{"$f":"INDEX('[1]Minivan LT'!$H$379:$X$467,MATCH(M177,'[1]Minivan LT'!$C$379:$C$467,0),MATCH(Inputs!$C$2,'[1]Minivan LT'!$H$378:$X$378,0))\n+INDEX('[1]Minivan LT'!$H$379:$X$467,MATCH(S177,'[1]Minivan LT'!$C$379:$C$467,0),MATCH(Inputs!$C$2,'[1]Minivan LT'!$H$378:$X$378,0))","v":0},"L",null,null,null,null,null,null,null,"2017+","INC","%",0,"$",{"$f":"INDEX('[1]Minivan LT'!$H$379:$X$467,MATCH(AA177,'[1]Minivan LT'!$C$379:$C$467,0),MATCH(Inputs!$C$2,'[1]Minivan LT'!$H$378:$X$378,0))\n+INDEX('[1]Minivan LT'!$H$379:$X$467,MATCH(AG177,'[1]Minivan LT'!$C$379:$C$467,0),MATCH(Inputs!$C$2,'[1]Minivan LT'!$H$378:$X$378,0))","v":{"$error":"#N/A"}},"L"]
[null,null,null,null,null,null,null,null,null,null,null,null,"ABS","%",{"$f":"1-((1-V171)*(1-O178))","v":0.89880041580000003},"$",{"$f":"Q178+X171","v":3553.7048217133274},33.86,null,null,null,null,null,null,null,null,"ABS","%",{"$f":"1-((1-V171)*(1-AC178))","v":0.89880041580000003},"$",{"$f":"AE178+X171","v":{"$error":"#N/A"}},33.86]
[]
[]
[]
[]
[]
["Vehicle Technology Decision Tree"]
[]
[]
[]
[null,null,"ABS - WR",{"$f":"'[1]Minivan LT'!$M$82","v":1.4999999999999999E-2},"2012-2016","INC","%",{"$f":"IF(D189<5%, D189*(3.5/10), D189*(5.1/10))","v":5.2499999999999995E-3},"$",{"$f":"INDEX('[1]Minivan LT'!$H$379:$X$467,MATCH(L191,'[1]Minivan LT'!$C$379:$C$467,0),MATCH(Inputs!$C$2,'[1]Minivan LT'!$H$378:$X$378,0))","v":6.9721687344265801E-2},1.33,null,null,null,null,null,null,null,"2012-2016","INC","%",1.9E-2,"$",{"$f":"INDEX('[1]Minivan LT'!$H$379:$X$467,MATCH(Z191,'[1]Minivan LT'!$C$379:$C$467,0),MATCH(Inputs!$C$2,'[1]Minivan LT'!$H$378:$X$378,0))","v":6.4396392400348512},5.15,null,null,null,null,null,null,null,"2012-2016","INC","%",8.0000000000000002E-3,"$",{"$f":"INDEX('[1]Minivan LT'!$H$379:$X$467,MATCH(AN191,'[1]Minivan LT'!$C$379:$C$467,0),MATCH(Inputs!$C$2,'[1]Minivan LT'!$H$378:$X$378,0))","v":70.836031640383368},5.15,null,null,null,null,null,null,null,"2012-2016","INC","%",2.3E-2,"$",{"$f":"INDEX('[1]Minivan LT'!$H$379:$X$467,MATCH(BB191,'[1]Minivan LT'!$C$379:$C$467,0),MATCH(Inputs!$C$2,'[1]Minivan LT'!$H$378:$X$378,0))","v":43.857938067390236},5.15]
[null,null,null,null,null,"ABS","%",{"$f":"H189","v":5.2499999999999995E-3},"$",{"$f":"J189","v":6.9721687344265801E-2},"L",null,null,null,null,null,null,null,null,"ABS","%",{"$f":"V189","v":1.9E-2},"$",{"$f":"X189","v":6.4396392400348512},"L",null,null,null,null,null,null,null,null,"ABS","%",{"$f":"AJ189","v":8.0000000000000002E-3},"$",{"$f":"AL189","v":70.836031640383368},"L",null,null,null,null,null,null,null,null,"ABS","%",{"$f":"AX189","v":2.3E-2},"$",{"$f":"AZ189","v":43.857938067390236},"L"]
[null,null,null,null,null,null,"Mass Reduction\n(MR1) - ($/pound) - TBL",null,null,null,null,"MR1",null,null,null,null,null,null,null,null,"Low Roll Resistance Tires 1\n (ROLL1) - No Learning Applied",null,null,null,null,"ROLL1",null,null,null,null,null,null,null,null,"Low Drag Brakes (LDB)\nNo Learning Applied",null,null,null,null,"LDB",null,null,null,null,null,null,null,null,"Aerodynamic Drag Reduction 1\n (AERO1) - No Learming Applied",null,null,null,null,"AERO1"]
[null,null,null,null,"2017+","INC","%",{"$f":"H189","v":5.2499999999999995E-3},"$",{"$f":"J189","v":6.9721687344265801E-2},1.33,null,null,null,null,null,null,null,"2017+","INC","%",{"$f":"V189","v":1.9E-2},"$",{"$f":"X189","v":6.4396392400348512},5.15,null,null,null,null,null,null,null,"2017+","INC","%",{"$f":"AJ189","v":8.0000000000000002E-3},"$",{"$f":"AL189","v":70.836031640383368},5.15,null,null,null,null,null,null,null,"2017+","INC","%",{"$f":"AX189","v":2.3E-2},"$",{"$f":"AZ189","v":43.857938067390236},5.15]
[null,null,null,null,null,"ABS","%",{"$f":"H192","v":5.2499999999999995E-3},"$",{"$f":"J192","v":6.9721687344265801E-2},"L",null,null,null,null,null,null,null,null,"ABS","%",{"$f":"V192","v":1.9E-2},"$",{"$f":"X192","v":6.4396392400348512},"L",null,null,null,null,null,null,null,null,"ABS","%",{"$f":"AJ192","v":8.0000000000000002E-3},"$",{"$f":"AL192","v":70.836031640383368},"L",null,null,null,null,null,null,null,null,"ABS","%",{"$f":"AX192","v":2.3E-2},"$",{"$f":"AZ192","v":43.857938067390236},"L"]
[]
[]
[]
[null,null,"INC - WR",{"$f":"'[1]Minivan LT'!$M$83","v":0.06},"2012-2016","INC","%",{"$f":"1-((1-H198)/(1-H190))","v":3.3174164362905323E-2},"$",{"$f":"INDEX('[1]Minivan LT'!$H$379:$X$467,MATCH(L199,'[1]Minivan LT'!$C$379:$C$467,0),MATCH(Inputs!$C$2,'[1]Minivan LT'!$H$378:$X$378,0))","v":0.41833012406559472},1.33,null,null,null,null,null,null,null,"2012-2016","INC","%",{"$f":"1-((1-V198)/(1-V190))","v":2.0387359836901098E-2},"$",{"$f":"0","v":0},5.15,null,null,null,null,null,null,null,"2012-2016","INC","%",1.2999999999999999E-2,"$",{"$f":"INDEX('[1]Minivan LT'!$H$379:$X$467,MATCH(AN199,'[1]Minivan LT'!$C$379:$C$467,0),MATCH(Inputs!$C$2,'[1]Minivan LT'!$H$378:$X$378,0))","v":87.568251496242709},5.15,null,null,null,null,null,null,null,"2012-2016","INC","%",{"$f":"1-((1-AX198)/(1-AX190))","v":2.4564994882292801E-2},"$",{"$f":"INDEX('[1]Minivan LT'!$H$379:$X$467,MATCH(BB199,'[1]Minivan LT'!$C$379:$C$467,0),MATCH(Inputs!$C$2,'[1]Minivan LT'!$H$378:$X$378,0))","v":154.95277498661324},5.15]
[null,null,"ABS - WR",{"$f":"D197+D189","v":7.4999999999999997E-2},null,"ABS","%",{"$f":"IF(D198<5%,D198 D198*(3.5/10), D198*(5.1/10))","v":3.8249999999999999E-2},"$",{"$f":"J197","v":0.41833012406559472},"L",null,null,null,null,null,null,null,null,"ABS","%",3.9E-2,"$",{"$f":"X190+X197","v":6.4396392400348512},"L",null,null,null,null,null,null,null,null,"ABS","%",{"$f":"1-(1-AJ190)*(1-AJ197)","v":2.0896000000000026E-2},"$",{"$f":"AL190+AL197","v":158.40428313662608},"L",null,null,null,null,null,null,null,null,"ABS","%",4.7E-2,"$",{"$f":"AZ190+AZ197","v":198.81071305400349},"L"]
[null,null,null,null,null,null,"Mass Reduction\n(MR2) - ($/pound) - TBL",null,null,null,null,"MR2",null,null,null,null,null,null,null,null,"Low Roll Resistance Tires 2\n (ROLL2) - No Learning Applied",null,null,null,null,"ROLL2",null,null,null,null,null,null,null,null,"Secondary Axle Discon. (SAXU/SAXL)\nTBL",null,null,null,null,"SAX",null,null,null,null,null,null,null,null,"Aerodynamic Drag Reduction 2\n (AERO2) - No Learming Applied",null,null,null,null,"AERO2"]
[null,null,null,null,"2017+","INC","%",{"$f":"1-((1-H201)/(1-H193))","v":3.3174164362905323E-2},"$",{"$f":"J197","v":0.41833012406559472},1.33,null,null,null,null,null,null,null,"2017+","INC","%",{"$f":"1-((1-V201)/(1-V193))","v":2.0387359836901098E-2},"$",{"$f":"INDEX('[1]Minivan LT'!$H$379:$X$467,MATCH(Z199,'[1]Minivan LT'!$C$379:$C$467,0),MATCH(Inputs!$C$2,'[1]Minivan LT'!$H$378:$X$378,0))","v":50.173232527734726},5.15,null,null,null,null,null,null,null,"2017+","INC","%",{"$f":"AJ197","v":1.2999999999999999E-2},"$",{"$f":"AL197","v":87.568251496242709},5.15,null,null,null,null,null,null,null,"2017+","INC","%",{"$f":"1-((1-AX201)/(1-AX193))","v":2.4564994882292801E-2},"$",{"$f":"AZ197","v":154.95277498661324},5.15]
[null,null,null,null,null,"ABS","%",{"$f":"IF(D198<5%, D198*(3.5/10), D198*(5.1/10))","v":3.8249999999999999E-2},"$",{"$f":"J200","v":0.41833012406559472},"L",null,null,null,null,null,null,null,null,"ABS","%",{"$f":"V198","v":3.9E-2},"$",{"$f":"X193+X200","v":56.612871767769576},"L",null,null,null,null,null,null,null,null,"ABS","%",{"$f":"1-(1-AJ193)*(1-AJ200)","v":2.0896000000000026E-2},"$",{"$f":"AL193+AL200","v":158.40428313662608},"L",null,null,null,null,null,null,null,null,"ABS","%",{"$f":"AX198","v":4.7E-2},"$",{"$f":"AZ193+AZ200","v":198.81071305400349},"L"]
[]
[]
[]
[null,null,"INC - WR",{"$f":"'[1]Minivan LT'!$M$84","v":2.5000000000000008E-2},"2012-2016","INC","%",{"$f":"1-((1-H206)/(1-H198))","v":1.3257083441642892E-2},"$",{"$f":"INDEX('[1]Minivan LT'!$H$379:$X$467,MATCH(L207,'[1]Minivan LT'!$C$379:$C$467,0),MATCH(Inputs!$C$2,'[1]Minivan LT'!$H$378:$X$378,0))","v":0.81341968568310108},1.33,null,null,null,null,null,null,null,"2012-2016","INC","%",0,"$",0,0]
[null,null,"ABS - WR",{"$f":"D205+D198","v":0.1},null,"ABS","%",{"$f":"IF(D206<5%, D206*(3.5/10), D206*(5.1/10))","v":5.1000000000000004E-2},"$",{"$f":"J205","v":0.81341968568310108},"L",null,null,null,null,null,null,null,null,"ABS","%",{"$f":"1-((1-V198)*(1-V205))","v":3.9000000000000035E-2},"$",{"$f":"X198+X205","v":6.4396392400348512},"L"]
[null,null,null,null,null,null,"Mass Reduction\n(MR3) - ($/pound) - TBL",null,null,null,null,"MR3",null,null,null,null,null,null,null,null,"Low Roll Resistance Tires 3\n (ROLL3) - No Learning Applied"]
[null,null,null,null,"2017+","INC","%",{"$f":"1-((1-H209)/(1-H201))","v":1.3257083441642892E-2},"$",{"$f":"J205","v":0.81341968568310108},1.33,null,null,null,null,null,null,null,"2017+","INC","%",0,"$",{"$f":"X205","v":0},0]
[null,null,null,null,null,"ABS","%",{"$f":"IF(D206<5%, D206*(3.5/10), D206*(5.1/10))","v":5.1000000000000004E-2},"$",{"$f":"J208","v":0.81341968568310108},"L",null,null,null,null,null,null,null,null,"ABS","%",{"$f":"1-((1-V201)*(1-V208))","v":3.9000000000000035E-2},"$",{"$f":"X201+X208","v":56.612871767769576},"L"]
[]
[]
[]
[null,null,"INC - WR",{"$f":"'[1]Minivan LT'!$M$85","v":4.9999999999999989E-2},"2012-2016","INC","%",{"$f":"1-((1-H214)/(1-H206))","v":2.6870389884088519E-2},"$",{"$f":"INDEX('[1]Minivan LT'!$H$379:$X$467,MATCH(L215,'[1]Minivan LT'!$C$379:$C$467,0),MATCH(Inputs!$C$2,'[1]Minivan LT'!$H$378:$X$378,0))","v":1.3672281720989994},1.33]
[null,null,"ABS - WR",{"$f":"D213+D206","v":0.15},null,"ABS","%",{"$f":"IF(D214<5%, D214*(3.5/10), D214*(5.1/10))","v":7.6499999999999999E-2},"$",{"$f":"J213","v":1.3672281720989994},"L"]
[null,null,null,null,null,null,"Mass Reduction\n(MR4) - ($/pound) - TBL",null,null,null,null,"MR4"]
[null,null,null,null,"2017+","INC","%",{"$f":"1-((1-H217)/(1-H209))","v":2.6870389884088519E-2},"$",{"$f":"J213","v":1.3672281720989994},1.33]
[null,null,null,null,null,"ABS","%",{"$f":"IF(D214<5%, D214*(3.5/10), D214*(5.1/10))","v":7.6499999999999999E-2},"$",{"$f":"J216","v":1.3672281720989994},"L"]
[]
[]
[]
[null,null,"INC - WR",{"$f":"'[1]Minivan LT'!$M$86","v":5.0000000000000017E-2},"2012-2016","INC","%",{"$f":"1-((1-H222)/(1-H214))","v":2.761234434217652E-2},"$",{"$f":"INDEX('[1]Minivan LT'!$H$379:$X$467,MATCH(L223,'[1]Minivan LT'!$C$379:$C$467,0),MATCH(Inputs!$C$2,'[1]Minivan LT'!$H$378:$X$378,0))","v":1.9141194409385998},1.33]
[null,null,"ABS - WR",{"$f":"D221+D214","v":0.2},null,"ABS","%",{"$f":"IF(D222<5%, D222*(3.5/10), D222*(5.1/10))","v":0.10200000000000001},"$",{"$f":"J221","v":1.9141194409385998},"L"]
[null,null,null,null,null,null,"Mass Reduction\n(MR5) - ($/pound) - TBL",null,null,null,null,"MR5"]
[null,null,null,null,"2017+","INC","%",{"$f":"1-((1-H225)/(1-H217))","v":2.761234434217652E-2},"$",{"$f":"J221","v":1.9141194409385998},1.33]
[null,null,null,null,null,"ABS","%",{"$f":"IF(D222<5%, D222*(3.5/10), D222*(5.1/10))","v":0.10200000000000001},"$",{"$f":"J224","v":1.9141194409385998},"L"]

{"sheet":"Midsize LT","index":12,"n_rows":225,"n_cols":173,"rows_kept":225,"cut":false,"hidden":false,"merged":[[5,62,5,66],[5,76,5,80],[5,90,5,94],[6,31,7,31],[6,32,7,32],[6,60,7,60],[6,74,7,74],[6,88,7,88],[0,0,0,172],[1,0,2,0],[3,31,4,31],[3,32,4,32],[3,60,4,60],[3,74,4,74],[3,88,4,88],[23,153,23,157],[24,25,25,25],[24,88,25,88],[24,151,25,151],[13,88,14,88],[15,90,15,94],[16,88,17,88],[21,25,22,25],[21,88,22,88],[21,151,22,151],[29,25,30,25],[29,67,30,67],[29,109,30,109],[29,151,30,151],[31,27,31,31],[31,69,31,73],[31,111,31,115],[23,27,23,31],[23,90,23,94],[39,153,39,157],[40,25,41,25],[40,67,41,67],[40,109,41,109],[40,151,41,151],[31,153,31,157],[32,25,33,25],[32,67,33,67],[32,109,33,109],[32,151,33,151],[37,25,38,25],[37,67,38,67],[37,109,38,109],[37,151,38,151],[45,25,46,25],[45,67,46,67],[45,109,46,109],[45,151,46,151],[47,27,47,31],[47,69,47,73],[47,111,47,115],[39,27,39,31],[39,69,39,73],[39,111,39,115],[47,153,47,157],[48,25,49,25],[48,67,49,67],[48,109,49,109],[48,151,49,151],[53,11,54,11],[53,25,54,25],[53,39,54,39],[53,53,54,53],[53,67,54,67],[53,165,54,165],[55,13,55,17],[55,27,55,31],[55,41,55,45],[55,55,55,59],[55,69,55,73],[55,83,55,87],[55,97,55,101],[55,111,55,115],[55,125,55,129],[53,81,54,81],[53,95,54,95],[53,109,54,109],[53,123,54,123],[53,137,54,137],[53,151,54,151],[55,139,55,143],[55,153,55,157],[55,167,55,171],[56,11,57,11],[56,25,57,25],[56,39,57,39],[56,53,57,53],[56,67,57,67],[56,81,57,81],[56,95,57,95],[56,109,57,109],[56,123,57,123],[56,137,57,137],[56,151,57,151],[56,165,57,165],[61,11,62,11],[61,25,62,25],[61,39,62,39],[61,53,62,53],[61,67,62,67],[61,165,62,165],[63,13,63,17],[63,27,63,31],[63,41,63,45],[63,55,63,59],[63,69,63,73],[63,83,63,87],[63,97,63,101],[63,111,63,115],[63,125,63,129],[61,81,62,81],[61,95,62,95],[61,109,62,109],[61,123,62,123],[61,137,62,137],[61,151,62,151],[63,139,63,143],[63,153,63,157],[63,167,63,171],[64,11,65,11],[64,25,65,25],[64,39,65,39],[64,53,65,53],[64,67,65,67],[64,81,65,81],[64,95,65,95],[64,109,65,109],[64,123,65,123],[64,137,65,137],[64,151,65,151],[64,165,65,165],[69,11,70,11],[69,25,70,25],[69,39,70,39],[69,53,70,53],[69,67,70,67],[69,165,70,165],[71,13,71,17],[71,27,71,31],[71,41,71,45],[71,55,71,59],[71,69,71,73],[71,83,71,87],[71,97,71,101],[71,111,71,115],[71,125,71,129],[69,81,70,81],[69,95,70,95],[69,109,70,109],[69,123,70,123],[69,137,70,137],[69,151,70,151],[71,139,71,143],[71,153,71,157],[77,88,78,88],[77,95,78,95],[77,102,78,102],[77,109,78,109],[71,167,71,171],[72,11,73,11],[72,25,73,25],[72,39,73,39],[72,53,73,53],[72,67,73,67],[72,81,73,81],[72,95,73,95],[72,109,73,109],[72,123,73,123],[72,137,73,137],[72,151,73,151],[72,165,73,165],[77,67,78,67],[77,74,78,74],[79,167,79,171],[80,4,81,4],[80,11,81,11],[80,18,81,18],[80,25,81,25],[80,32,81,32],[80,39,81,39],[77,165,78,165],[80,46,81,46],[80,53,81,53],[80,60,81,60],[80,67,81,67],[80,74,81,74],[80,81,81,81],[80,130,81,130],[80,137,81,137],[80,144,81,144],[77,4,78,4],[77,11,78,11],[77,18,78,18],[77,25,78,25],[77,32,78,32],[80,151,81,151],[80,158,81,158],[77,172,78,172],[79,13,79,17],[79,27,79,31],[79,41,79,45],[79,55,79,59],[79,69,79,73],[79,83,79,87],[79,97,79,101],[79,111,79,115],[77,123,78,123],[77,130,78,130],[77,137,78,137],[77,144,78,144],[77,151,78,151],[77,158,78,158],[77,81,78,81],[79,125,79,129],[79,139,79,143],[79,153,79,157],[77,116,78,116],[77,39,78,39],[77,46,78,46],[77,53,78,53],[77,60,78,60],[80,165,81,165],[80,88,81,88],[80,95,81,95],[80,102,81,102],[80,109,81,109],[80,116,81,116],[80,123,81,123],[85,46,86,46],[85,53,86,53],[85,60,86,60],[85,67,86,67],[85,74,86,74],[85,81,86,81],[85,151,86,151],[85,158,86,158],[85,165,86,165],[85,4,86,4],[85,11,86,11],[85,18,86,18],[85,25,86,25],[85,32,86,32],[85,39,86,39],[85,130,86,130],[85,137,86,137],[85,144,86,144],[85,88,86,88],[85,95,86,95],[85,102,86,102],[85,109,86,109],[85,116,86,116],[85,123,86,123],[87,48,87,52],[87,55,87,59],[87,62,87,66],[87,69,87,73],[87,76,87,80],[87,83,87,87],[87,6,87,10],[87,13,87,17],[87,20,87,24],[87,27,87,31],[87,34,87,38],[87,41,87,45],[87,132,87,136],[87,139,87,143],[87,146,87,150],[87,153,87,157],[87,160,87,164],[87,167,87,171],[87,90,87,94],[87,97,87,101],[87,104,87,108],[87,111,87,115],[87,118,87,122],[87,125,87,129],[88,144,89,144],[88,151,89,151],[88,158,89,158],[88,165,89,165],[88,88,89,88],[88,95,89,95],[88,102,89,102],[88,109,89,109],[88,116,89,116],[88,123,89,123],[97,0,97,38],[100,4,100,11],[100,21,100,23],[100,33,100,38],[102,4,103,4],[102,18,103,18],[102,32,103,32],[88,130,89,130],[88,137,89,137],[88,46,89,46],[88,53,89,53],[88,60,89,60],[88,67,89,67],[88,74,89,74],[88,81,89,81],[88,4,89,4],[88,11,89,11],[88,18,89,18],[88,25,89,25],[88,32,89,32],[88,39,89,39],[110,4,111,4],[110,32,111,32],[112,6,112,10],[112,14,114,16],[112,34,112,38],[113,4,114,4],[113,32,114,32],[104,6,104,10],[104,20,104,24],[104,34,104,38],[105,4,106,4],[105,18,106,18],[105,32,106,32],[110,18,111,18],[112,20,112,24],[113,18,114,18],[126,4,127,4],[126,32,127,32],[128,6,128,10],[128,13,128,17],[128,20,128,24],[128,34,128,38],[118,4,119,4],[118,32,119,32],[120,6,120,10],[120,13,120,17],[120,21,122,23],[120,34,120,38],[121,4,122,4],[121,32,122,32],[136,34,136,38],[137,4,138,4],[137,32,138,32],[142,32,143,32],[144,9,149,10],[144,20,144,24],[144,34,144,38],[145,32,146,32],[129,4,130,4],[129,32,130,32],[134,4,135,4],[134,32,135,32],[136,6,136,10],[136,20,136,24],[185,113,185,116],[185,148,185,151],[188,4,189,4],[188,18,189,18],[188,32,189,32],[188,46,189,46],[150,36,152,37],[152,20,152,24],[160,20,160,24],[168,20,168,24],[176,13,176,17],[176,27,176,31],[190,6,190,10],[190,20,190,24],[190,34,190,38],[190,48,190,52],[190,81,190,85],[191,4,192,4],[191,18,192,18],[191,32,192,32],[191,46,192,46],[191,80,192,80],[198,48,198,52],[199,4,200,4],[199,18,200,18],[199,32,200,32],[199,46,200,46],[200,95,201,95],[196,4,197,4],[196,18,197,18],[196,32,197,32],[196,46,197,46],[198,6,198,10],[198,20,198,24],[198,34,198,38],[200,151,201,151],[204,4,205,4],[204,18,205,18],[204,32,205,32],[206,6,206,10],[206,20,206,24],[200,102,201,102],[200,109,201,109],[200,116,201,116],[200,130,201,130],[200,137,201,137],[200,144,201,144],[215,4,216,4],[220,4,221,4],[222,6,222,10],[223,4,224,4],[207,4,208,4],[207,18,208,18],[207,32,208,32],[209,32,210,32],[212,4,213,4],[214,6,214,10]]}
["Full Engine Technology Decision Tree"]
[]
[null,"START"]
["Gas Engine Type","V6",null,null,null,null,null,null,null,null,null,null,null,null,null,null,null,null,null,null,null,null,null,null,null,null,null,null,null,null,null,null,null,null,null,null,null,null,null,null,null,null,null,null,null,null,null,null,null,null,null,null,null,null,null,null,null,null,null,null,"2012-2016","INC","%",7.0000000000000001E-3,"$",{"$f":"INDEX('[1]Midsize LT'!$H$379:$X$467,MATCH(BP6,'[1]Midsize LT'!$C$379:$C$467,0),MATCH(Inputs!$C$2,'[1]Midsize LT'!$H$378:$X$378,0))","v":3.8637835440209107},10,null,null,null,null,null,null,null,"2012-2016","INC","%",2.5999999999999999E-2,"$",{"$f":"INDEX('[1]Midsize LT'!$H$379:$X$467,MATCH(CD6,'[1]Midsize LT'!$C$379:$C$467,0),MATCH(Inputs!$C$2,'[1]Midsize LT'!$H$378:$X$378,0))*$B$13","v":87.138336134267149},10,null,null,null,null,null,null,null,"2012-2016","INC","%",{"$f":"1-((1-CN5)/(1-BZ5))","v":0},"$",0,"L"]
["Displacement [L]",3.5,null,null,null,null,null,null,null,null,null,null,null,null,null,null,null,null,null,null,null,null,null,null,null,null,null,null,null,null,null,null,null,null,null,null,null,null,null,null,null,null,null,null,null,null,null,null,null,null,null,null,null,null,null,null,null,null,null,null,null,"ABS","%",{"$f":"BL4","v":7.0000000000000001E-3},"$",{"$f":"BN4","v":3.8637835440209107},"L",null,null,null,null,null,null,null,null,"ABS","%",{"$f":"1-((1-BL5)*(1-BZ4))","v":3.2818000000000014E-2},"$",{"$f":"BN5+CB4","v":91.002119678288054},"L",null,null,null,null,null,null,null,null,"ABS","%",{"$f":"BZ5","v":3.2818000000000014E-2},"$",{"$f":"CB5","v":91.002119678288054},0]
["Turbocharger","None",null,null,null,null,null,null,null,null,null,null,null,null,null,null,null,null,null,null,null,null,null,null,null,null,null,null,null,null,null,null,null,null,null,null,null,null,null,null,null,null,null,null,null,null,null,null,null,null,null,null,null,null,null,null,null,null,null,null,null,null,"Low-Friction Lubricants 1\n(LUB1) - No Learning Applied",null,null,null,null,"LUB1",null,null,null,null,null,null,null,null,"Engine Friction Reduction 1\n(EFR1) - No Learning Applied",null,null,null,null,"EFR1",null,null,null,null,null,null,null,null,"Low-Friction Lub & Engine Friction\nRedux 2 (LUB2_EFR2) - \nNo Learning Applied",null,null,null,null,"LUB2_EFR2"]
["EGR system","None/internal",null,null,null,null,null,null,null,null,null,null,null,null,null,null,null,null,null,null,null,null,null,null,null,null,null,null,null,null,null,null,null,null,null,null,null,null,null,null,null,null,null,null,null,null,null,null,null,null,null,null,null,null,null,null,null,null,null,null,"2017+","INC","%",{"$f":"BL4","v":7.0000000000000001E-3},"$",{"$f":"BN4","v":3.8637835440209107},10,null,null,null,null,null,null,null,"2017+","INC","%",{"$f":"BZ4","v":2.5999999999999999E-2},"$",{"$f":"CB4","v":87.138336134267149},10,null,null,null,null,null,null,null,"2017+","INC","%",{"$f":"1-((1-CN8)/(1-BZ8))","v":1.2595354338687081E-2},"$",{"$f":"INDEX('[1]Midsize LT'!$H$379:$X$467,MATCH(CR6,'[1]Midsize LT'!$C$379:$C$467,0),MATCH(Inputs!$C$2,'[1]Midsize LT'!$H$378:$X$378,0))*$B$13","v":94.26109774393727},"L"]
["Valvetrain","SOHC/ DOHC/ OHV",null,null,null,null,null,null,null,null,null,null,null,null,null,null,null,null,null,null,null,null,null,null,null,null,null,null,null,null,null,null,null,null,null,null,null,null,null,null,null,null,null,null,null,null,null,null,null,null,null,null,null,null,null,null,null,null,null,null,null,"ABS","%",{"$f":"BL7","v":7.0000000000000001E-3},"$",{"$f":"BN7","v":3.8637835440209107},"L",null,null,null,null,null,null,null,null,"ABS","%",{"$f":"1-((1-BL8)*(1-BZ7))","v":3.2818000000000014E-2},"$",{"$f":"BN8+CB7","v":91.002119678288054},"L",null,null,null,null,null,null,null,null,"ABS","%",4.4999999999999998E-2,"$",{"$f":"CB8+CP7","v":185.26321742222532},33.86]
["After Treatment","3way cat"]
[]
[null,null,null,null,null,null,null,null,null,null,null,null,null,null,null,null,null,null,null,null,null,null,null,null,null,null,null,null,null,null,"SOHC",null,null,null,null,null,null,null,null,null,null,null,null,null,null,null,null,null,null,null,null,null,null,null,null,null,null,null,null,null,null,null,null,null,null,null,null,null,null,null,null,null,null,null,null,null,null,null,null,null,null,null,null,null,null,null,null,null,null,null,null,null,null,"DOHC",null,null,null,null,null,null,null,null,null,null,null,null,null,null,null,null,null,null,null,null,null,null,null,null,null,null,null,null,null,null,null,null,null,null,null,null,null,null,null,null,null,null,null,null,null,null,null,null,null,null,null,null,null,null,null,null,null,null,null,"OHV"]
[]
["Cylinders",{"$f":"IF(B4=\"I4\",4,IF(B4=\"V6\",6,8))","v":6}]
["Cylinder Banks",{"$f":"IF(B4=\"I4\",1,2)","v":2},null,null,null,null,null,null,null,null,null,null,null,null,null,null,null,null,null,null,null,null,null,null,null,null,null,null,null,null,null,null,null,null,null,null,null,null,null,null,null,null,null,null,null,null,null,null,null,null,null,null,null,null,null,null,null,null,null,null,null,null,null,null,null,null,null,null,null,null,null,null,null,null,null,null,null,null,null,null,null,null,null,null,null,null,null,null,"2012-2016","INC","%",{"$f":"CN17","v":2.5130890052355914E-2},"$",{"$f":"INDEX('[1]Midsize LT'!$H$379:$X$467,MATCH(CR16,'[1]Midsize LT'!$C$379:$C$467,0),MATCH(Inputs!$C$2,'[1]Midsize LT'!$H$378:$X$378,0))*$B$14","v":83.099251075055165},10]
[null,null,null,null,null,null,null,null,null,null,null,null,null,null,null,null,null,null,null,null,null,null,null,null,null,null,null,null,null,null,null,null,null,null,null,null,null,null,null,null,null,null,null,null,null,null,null,null,null,null,null,null,null,null,null,null,null,null,null,null,null,null,null,null,null,null,null,null,null,null,null,null,null,null,null,null,null,null,null,null,null,null,null,null,null,null,null,null,null,"ABS","%",{"$f":"1-((1-CN5)*(1-CN14))","v":5.7124144502617713E-2},"$",{"$f":"CP5+CP14","v":174.10137075334322},"L"]
[null,null,null,null,null,null,null,null,null,null,null,null,null,null,null,null,null,null,null,null,null,null,null,null,null,null,null,null,null,null,null,null,null,null,null,null,null,null,null,null,null,null,null,null,null,null,null,null,null,null,null,null,null,null,null,null,null,null,null,null,null,null,null,null,null,null,null,null,null,null,null,null,null,null,null,null,null,null,null,null,null,null,null,null,null,null,null,null,null,null,"Intake Cam Phasing\n(ICP) - TBL",null,null,null,null,"ICP"]
[null,null,null,null,null,null,null,null,null,null,null,null,null,null,null,null,null,null,null,null,null,null,null,null,null,null,null,null,null,null,null,null,null,null,null,null,null,null,null,null,null,null,null,null,null,null,null,null,null,null,null,null,null,null,null,null,null,null,null,null,null,null,null,null,null,null,null,null,null,null,null,null,null,null,null,null,null,null,null,null,null,null,null,null,null,null,null,null,"2017+","INC","%",{"$f":"1-((1-CN18)/(1-CN8))","v":2.5130890052355914E-2},"$",{"$f":"CP14","v":83.099251075055165},10]
[null,null,null,null,null,null,null,null,null,null,null,null,null,null,null,null,null,null,null,null,null,null,null,null,null,null,null,null,null,null,null,null,null,null,null,null,null,null,null,null,null,null,null,null,null,null,null,null,null,null,null,null,null,null,null,null,null,null,null,null,null,null,null,null,null,null,null,null,null,null,null,null,null,null,null,null,null,null,null,null,null,null,null,null,null,null,null,null,null,"ABS","%",6.9000000000000006E-2,"$",{"$f":"CP8+CP17","v":268.36246849728047},"L"]
[]
[]
[]
["Notes: ","(1) All costs shown in $2009",null,null,null,null,null,null,null,null,null,null,null,null,null,null,null,null,null,null,null,null,null,null,null,"2012-2016","INC","%",{"$f":"AC25","v":5.0261780104711939E-2},"$",{"$f":"INDEX('[1]Midsize LT'!$H$379:$X$467,MATCH(AG24,'[1]Midsize LT'!$C$379:$C$467,0),MATCH(Inputs!$C$2,'[1]Midsize LT'!$H$378:$X$378,0))*$B$14","v":83.099251075055165},10,null,null,null,null,null,null,null,null,null,null,null,null,null,null,null,null,null,null,null,null,null,null,null,null,null,null,null,null,null,null,null,null,null,null,null,null,null,null,null,null,null,null,null,null,null,null,null,null,null,null,null,null,null,null,null,null,"2012-2016","INC","%",{"$f":"CN25","v":2.5778732545649885E-2},"$",{"$f":"INDEX('[1]Midsize LT'!$H$379:$X$467,MATCH(CR24,'[1]Midsize LT'!$C$379:$C$467,0),MATCH(Inputs!$C$2,'[1]Midsize LT'!$H$378:$X$378,0))*$B$14","v":77.055707884563404},10]
[null,null,null,null,null,null,null,null,null,null,null,null,null,null,null,null,null,null,null,null,null,null,null,null,null,null,"ABS","%",{"$f":"1-((1-CN5)*(1-AC22))","v":8.1430289005235523E-2},"$",{"$f":"CP5+AE22","v":174.10137075334322},"L",null,null,null,null,null,null,null,null,null,null,null,null,null,null,null,null,null,null,null,null,null,null,null,null,null,null,null,null,null,null,null,null,null,null,null,null,null,null,null,null,null,null,null,null,null,null,null,null,null,null,null,null,null,null,null,null,null,"ABS","%",{"$f":"1-((1-CN15)*(1-CN22))","v":8.1430289005235523E-2},"$",{"$f":"CP15+CP22","v":251.15707863790664},"L"]
[null,null,null,null,null,null,null,null,null,null,null,null,null,null,null,null,null,null,null,null,null,null,null,null,null,null,null,"Coupled Cam Phasing\n(CCPS) - TBL",null,null,null,null,"CCPS",null,null,null,null,null,null,null,null,null,null,null,null,null,null,null,null,null,null,null,null,null,null,null,null,null,null,null,null,null,null,null,null,null,null,null,null,null,null,null,null,null,null,null,null,null,null,null,null,null,null,null,null,null,null,null,null,null,"Dual Cam Phasing\n(DCP) - TBL",null,null,null,null,"DCP"]
[null,null,null,null,null,null,null,null,null,null,null,null,null,null,null,null,null,null,null,null,null,null,null,null,null,"2017+","INC","%",{"$f":"1-((1-AC26)/(1-CN8))","v":5.0261780104711939E-2},"$",{"$f":"AE22","v":83.099251075055165},10,null,null,null,null,null,null,null,null,null,null,null,null,null,null,null,null,null,null,null,null,null,null,null,null,null,null,null,null,null,null,null,null,null,null,null,null,null,null,null,null,null,null,null,null,null,null,null,null,null,null,null,null,null,null,null,null,"2017+","INC","%",{"$f":"1-((1-CN26)/(1-CN18))","v":2.5778732545649885E-2},"$",{"$f":"CP22","v":77.055707884563404},10]
["L",null,null,null,null,null,null,null,null,null,null,null,null,null,null,null,null,null,null,null,null,null,null,null,null,null,"ABS","%",9.2999999999999999E-2,"$",{"$f":"CP8+AE25","v":268.36246849728047},"L",null,null,null,null,null,null,null,null,null,null,null,null,null,null,null,null,null,null,null,null,null,null,null,null,null,null,null,null,null,null,null,null,null,null,null,null,null,null,null,null,null,null,null,null,null,null,null,null,null,null,null,null,null,null,null,null,null,"ABS","%",9.2999999999999999E-2,"$",{"$f":"CP18+CP25","v":345.41817638184386},"L"]
["M"]
["H"]
["VH"]
[null,null,null,null,null,null,null,null,null,null,null,null,null,null,null,null,null,null,null,null,null,null,null,null,null,"2012-2016","INC","%",{"$f":"AC33","v":3.5281146637265781E-2},"$",{"$f":"INDEX('[1]Midsize LT'!$H$379:$X$467,MATCH(AG32,'[1]Midsize LT'!$C$379:$C$467,0),MATCH(Inputs!$C$2,'[1]Midsize LT'!$H$378:$X$378,0))*$B$13","v":212.93676133351417},10,null,null,null,null,null,null,null,null,null,null,null,null,null,null,null,null,null,null,null,null,null,null,null,null,null,null,null,null,null,null,null,null,null,null,null,"2012-2016","INC","%",{"$f":"BS33","v":3.5281146637265781E-2},"$",{"$f":"INDEX('[1]Midsize LT'!$H$379:$X$467,MATCH(BW32,'[1]Midsize LT'!$C$379:$C$467,0),MATCH(Inputs!$C$2,'[1]Midsize LT'!$H$378:$X$378,0))*$B$13","v":212.93676133351417},10,null,null,null,null,null,null,null,null,null,null,null,null,null,null,null,null,null,null,null,null,null,null,null,null,null,null,null,null,null,null,null,null,null,null,null,"2012-2016","INC","%",{"$f":"DI33","v":4.5203969128996713E-2},"$",{"$f":"INDEX('[1]Midsize LT'!$H$379:$X$467,MATCH(DM32,'[1]Midsize LT'!$C$379:$C$467,0),MATCH(Inputs!$C$2,'[1]Midsize LT'!$H$378:$X$378,0))*$B$13","v":342.78800783448548},10,null,null,null,null,null,null,null,null,null,null,null,null,null,null,null,null,null,null,null,null,null,null,null,null,null,null,null,null,null,null,null,null,null,null,null,"2012-2016","INC","%",{"$f":"1-((1-EY31)/(1-CN5))","v":3.8443643492124591E-2},"$",{"$f":"INDEX('[1]Midsize LT'!$H$379:$X$467,MATCH(FC32,'[1]Midsize LT'!$C$379:$C$467,0),MATCH(Inputs!$C$2,'[1]Midsize LT'!$H$378:$X$378,0))","v":180.85022482302156},10]
[null,null,null,null,null,null,null,null,null,null,null,null,null,null,null,null,null,null,null,null,null,null,null,null,null,null,"ABS","%",{"$f":"1-((1-AC23)*(1-AC30))","v":0.11383848167539268},"$",{"$f":"AE23+AE30","v":387.03813208685739},"L",null,null,null,null,null,null,null,null,null,null,null,null,null,null,null,null,null,null,null,null,null,null,null,null,null,null,null,null,null,null,null,null,null,null,null,null,"ABS","%",{"$f":"1-((1-CN23)*(1-BS30))","v":0.11383848167539268},"$",{"$f":"CP23+BU30","v":464.09383997142083},"L",null,null,null,null,null,null,null,null,null,null,null,null,null,null,null,null,null,null,null,null,null,null,null,null,null,null,null,null,null,null,null,null,null,null,null,null,"ABS","%",{"$f":"1-((1-CN23)*(1-DI30))","v":0.12295328586387433},"$",{"$f":"CP23+DK30","v":593.94508647239218},"L",null,null,null,null,null,null,null,null,null,null,null,null,null,null,null,null,null,null,null,null,null,null,null,null,null,null,null,null,null,null,null,null,null,null,null,null,"ABS","%",7.0000000000000007E-2,"$",{"$f":"CP5+FA30","v":271.85234450130963},"L"]
[null,null,null,null,null,null,null,null,null,null,null,null,null,null,null,null,null,null,null,null,null,null,null,null,null,null,null,"Discrete VVL\n(DVVLS) - TBL",null,null,null,null,"DVVLS",null,null,null,null,null,null,null,null,null,null,null,null,null,null,null,null,null,null,null,null,null,null,null,null,null,null,null,null,null,null,null,null,null,null,null,null,"Discrete VVL\n(DVVLD) - TBL",null,null,null,null,"DVVLD",null,null,null,null,null,null,null,null,null,null,null,null,null,null,null,null,null,null,null,null,null,null,null,null,null,null,null,null,null,null,null,null,null,null,null,null,"Continuous VVL\n(CVVL) - TBL",null,null,null,null,"CVVL",null,null,null,null,null,null,null,null,null,null,null,null,null,null,null,null,null,null,null,null,null,null,null,null,null,null,null,null,null,null,null,null,null,null,null,null,"Cylinder Deactivation\n(DEACO) - TBL",null,null,null,null,"DEACO"]
[null,null,null,null,null,null,null,null,null,null,null,null,null,null,null,null,null,null,null,null,null,null,null,null,null,"2017+","INC","%",{"$f":"1-((1-AC34)/(1-AC26))","v":3.5281146637265781E-2},"$",{"$f":"AE30","v":212.93676133351417},10,null,null,null,null,null,null,null,null,null,null,null,null,null,null,null,null,null,null,null,null,null,null,null,null,null,null,null,null,null,null,null,null,null,null,null,"2017+","INC","%",{"$f":"1-((1-BS34)/(1-CN26))","v":3.5281146637265781E-2},"$",{"$f":"BU30","v":212.93676133351417},10,null,null,null,null,null,null,null,null,null,null,null,null,null,null,null,null,null,null,null,null,null,null,null,null,null,null,null,null,null,null,null,null,null,null,null,"2017+","INC","%",{"$f":"1-((1-DI34)/(1-CN26))","v":4.5203969128996713E-2},"$",{"$f":"DK30","v":342.78800783448548},10,null,null,null,null,null,null,null,null,null,null,null,null,null,null,null,null,null,null,null,null,null,null,null,null,null,null,null,null,null,null,null,null,null,null,null,"2017+","INC","%",{"$f":"1-((1-EY34)/(1-CN8))","v":5.8638743455497355E-2},"$",{"$f":"FA30","v":180.85022482302156},10]
[null,"START",null,null,null,null,null,null,null,null,null,null,null,null,null,null,null,null,null,null,null,null,null,null,null,null,"ABS","%",0.125,"$",{"$f":"AE26+AE33","v":481.29922983079462},"L",null,null,null,null,null,null,null,null,null,null,null,null,null,null,null,null,null,null,null,null,null,null,null,null,null,null,null,null,null,null,null,null,null,null,null,null,"ABS","%",0.125,"$",{"$f":"CP26+BU33","v":558.35493771535801},"L",null,null,null,null,null,null,null,null,null,null,null,null,null,null,null,null,null,null,null,null,null,null,null,null,null,null,null,null,null,null,null,null,null,null,null,null,"ABS","%",0.13400000000000001,"$",{"$f":"CP26+DK33","v":688.20618421632935},"L",null,null,null,null,null,null,null,null,null,null,null,null,null,null,null,null,null,null,null,null,null,null,null,null,null,null,null,null,null,null,null,null,null,null,null,null,"ABS","%",0.10100000000000001,"$",{"$f":"CP8+FA33","v":366.11344224524692},"L"]
["Gas Engine Type","I4"]
["Displacement [L]",2.2000000000000002]
["Turbocharger","None"]
["EGR system","External",null,null,null,null,null,null,null,null,null,null,null,null,null,null,null,null,null,null,null,null,null,null,null,"2012-2016","INC","%",{"$f":"AC41","v":6.857142857142895E-3},"$",{"$f":"INDEX('[1]Midsize LT'!$H$379:$X$467,MATCH(AG40,'[1]Midsize LT'!$C$379:$C$467,0),MATCH(Inputs!$C$2,'[1]Midsize LT'!$H$378:$X$378,0))","v":28.176910737789065},10,null,null,null,null,null,null,null,null,null,null,null,null,null,null,null,null,null,null,null,null,null,null,null,null,null,null,null,null,null,null,null,null,null,null,null,"2012-2016","INC","%",{"$f":"BS41","v":6.857142857142895E-3},"$",{"$f":"INDEX('[1]Midsize LT'!$H$379:$X$467,MATCH(BW40,'[1]Midsize LT'!$C$379:$C$467,0),MATCH(Inputs!$C$2,'[1]Midsize LT'!$H$378:$X$378,0))","v":28.176910737789065},10,null,null,null,null,null,null,null,null,null,null,null,null,null,null,null,null,null,null,null,null,null,null,null,null,null,null,null,null,null,null,null,null,null,null,null,"2012-2016","INC","%",{"$f":"DI41","v":0},"$",0,10,null,null,null,null,null,null,null,null,null,null,null,null,null,null,null,null,null,null,null,null,null,null,null,null,null,null,null,null,null,null,null,null,null,null,null,"2012-2016","INC","%",{"$f":"1-((1-EY39)/(1-EY31))","v":2.1505376344085891E-2},"$",{"$f":"INDEX('[1]Midsize LT'!$H$379:$X$467,MATCH(FC40,'[1]Midsize LT'!$C$379:$C$467,0),MATCH(Inputs!$C$2,'[1]Midsize LT'!$H$378:$X$378,0))*$B$14","v":90.409234428646556},10]
["Valvetrain","SOHC/ DOHC/ OHV",null,null,null,null,null,null,null,null,null,null,null,null,null,null,null,null,null,null,null,null,null,null,null,null,"ABS","%",{"$f":"1-((1-AC31)*(1-AC38))","v":0.11991501780104719},"$",{"$f":"AE31+AE38","v":415.21504282464645},"L",null,null,null,null,null,null,null,null,null,null,null,null,null,null,null,null,null,null,null,null,null,null,null,null,null,null,null,null,null,null,null,null,null,null,null,null,"ABS","%",{"$f":"1-((1-BS31)*(1-BS38))","v":0.11991501780104719},"$",{"$f":"BU31+BU38","v":492.27075070920989},"L",null,null,null,null,null,null,null,null,null,null,null,null,null,null,null,null,null,null,null,null,null,null,null,null,null,null,null,null,null,null,null,null,null,null,null,null,"ABS","%",{"$f":"1-((1-DI31)*(1-DI38))","v":0.12295328586387433},"$",{"$f":"DK31+DK38","v":593.94508647239218},"L",null,null,null,null,null,null,null,null,null,null,null,null,null,null,null,null,null,null,null,null,null,null,null,null,null,null,null,null,null,null,null,null,null,null,null,null,"ABS","%",0.09,"$",{"$f":"FA31+FA38","v":362.26157892995616},"L"]
[null,null,null,null,null,null,null,null,null,null,null,null,null,null,null,null,null,null,null,null,null,null,null,null,null,null,null,"Cylinder Deactivation\n(DEACS) - TBL",null,null,null,null,"DEACS",null,null,null,null,null,null,null,null,null,null,null,null,null,null,null,null,null,null,null,null,null,null,null,null,null,null,null,null,null,null,null,null,null,null,null,null,"Cylinder Deactivation\n(DEACD) - TBL",null,null,null,null,"DEACD",null,null,null,null,null,null,null,null,null,null,null,null,null,null,null,null,null,null,null,null,null,null,null,null,null,null,null,null,null,null,null,null,null,null,null,null,"Cylinder Deactivation\n(DEACD) - TBL",null,null,null,null,null,null,null,null,null,null,null,null,null,null,null,null,null,null,null,null,null,null,null,null,null,null,null,null,null,null,null,null,null,null,null,null,null,null,null,null,null,"Coupled Cam Phasing and DVVL\n(VVA) - TBL",null,null,null,null,"VVA"]
[null,null,null,null,null,null,null,null,null,null,null,null,null,null,null,null,null,null,null,null,null,null,null,null,null,"2017+","INC","%",{"$f":"1-((1-AC42)/(1-AC34))","v":6.857142857142895E-3},"$",{"$f":"AE38","v":28.176910737789065},10,null,null,null,null,null,null,null,null,null,null,null,null,null,null,null,null,null,null,null,null,null,null,null,null,null,null,null,null,null,null,null,null,null,null,null,"2017+","INC","%",{"$f":"1-((1-BS42)/(1-BS34))","v":6.857142857142895E-3},"$",{"$f":"BU38","v":28.176910737789065},10,null,null,null,null,null,null,null,null,null,null,null,null,null,null,null,null,null,null,null,null,null,null,null,null,null,null,null,null,null,null,null,null,null,null,null,"2017+","INC","%",{"$f":"1-((1-DI42)/(1-DI34))","v":0},"$",{"$f":"DK38","v":0},10,null,null,null,null,null,null,null,null,null,null,null,null,null,null,null,null,null,null,null,null,null,null,null,null,null,null,null,null,null,null,null,null,null,null,null,"2017+","INC","%",{"$f":"1-((1-EY42)/(1-EY34))","v":3.3370411568409364E-2},"$",{"$f":"FA38","v":90.409234428646556},10]
[null,null,null,null,null,null,null,null,null,null,null,null,null,null,null,null,null,null,null,null,null,null,null,null,null,null,"ABS","%",0.13100000000000001,"$",{"$f":"AE34+AE41","v":509.47614056858367},"L",null,null,null,null,null,null,null,null,null,null,null,null,null,null,null,null,null,null,null,null,null,null,null,null,null,null,null,null,null,null,null,null,null,null,null,null,"ABS","%",0.13100000000000001,"$",{"$f":"BU34+BU41","v":586.53184845314706},"L",null,null,null,null,null,null,null,null,null,null,null,null,null,null,null,null,null,null,null,null,null,null,null,null,null,null,null,null,null,null,null,null,null,null,null,null,"ABS","%",{"$f":"DI34","v":0.13400000000000001},"$",{"$f":"DK34+DK41","v":688.20618421632935},"L",null,null,null,null,null,null,null,null,null,null,null,null,null,null,null,null,null,null,null,null,null,null,null,null,null,null,null,null,null,null,null,null,null,null,null,null,"ABS","%",0.13100000000000001,"$",{"$f":"FA34+FA41","v":456.52267667389344},"L"]
[]
[]
[]
[null,null,null,null,null,null,null,null,null,null,null,null,null,null,null,null,null,null,null,null,null,null,null,null,null,"2012-2016","INC","%",{"$f":"AC49","v":1.4959723820483273E-2},"$",{"$f":"INDEX('[1]Midsize LT'!$H$379:$X$467,MATCH(AG48,'[1]Midsize LT'!$C$379:$C$467,0),MATCH(Inputs!$C$2,'[1]Midsize LT'!$H$378:$X$378,0))*$B$13","v":349.41793576617209},10,null,null,null,null,null,null,null,null,null,null,null,null,null,null,null,null,null,null,null,null,null,null,null,null,null,null,null,null,null,null,null,null,null,null,null,"2012-2016","INC","%",{"$f":"BS49","v":1.4959723820483273E-2},"$",{"$f":"INDEX('[1]Midsize LT'!$H$379:$X$467,MATCH(BW48,'[1]Midsize LT'!$C$379:$C$467,0),MATCH(Inputs!$C$2,'[1]Midsize LT'!$H$378:$X$378,0))*$B$13","v":349.41793576617209},10,null,null,null,null,null,null,null,null,null,null,null,null,null,null,null,null,null,null,null,null,null,null,null,null,null,null,null,null,null,null,null,null,null,null,null,"2012-2016","INC","%",{"$f":"DI49","v":1.501154734411092E-2},"$",{"$f":"INDEX('[1]Midsize LT'!$H$379:$X$467,MATCH(DM48,'[1]Midsize LT'!$C$379:$C$467,0),MATCH(Inputs!$C$2,'[1]Midsize LT'!$H$378:$X$378,0))*$B$13","v":349.41793576617209},10,null,null,null,null,null,null,null,null,null,null,null,null,null,null,null,null,null,null,null,null,null,null,null,null,null,null,null,null,null,null,null,null,null,null,null,"2012-2016","INC","%",{"$f":"1-((1-EY47)/(1-EY39))","v":1.5384615384615441E-2},"$",{"$f":"INDEX('[1]Midsize LT'!$H$379:$X$467,MATCH(FC48,'[1]Midsize LT'!$C$379:$C$467,0),MATCH(Inputs!$C$2,'[1]Midsize LT'!$H$378:$X$378,0))*$B$13","v":349.41793576617209},10]
[null,null,null,null,null,null,null,null,null,null,null,null,null,null,null,null,null,null,null,null,null,null,null,null,null,null,"ABS","%",{"$f":"1-((1-AC39)*(1-AC46))","v":0.13308084607329851},"$",{"$f":"AE39+AE46","v":764.63297859081854},"L",null,null,null,null,null,null,null,null,null,null,null,null,null,null,null,null,null,null,null,null,null,null,null,null,null,null,null,null,null,null,null,null,null,null,null,null,"ABS","%",{"$f":"1-((1-BS39)*(1-BS46))","v":0.13308084607329851},"$",{"$f":"BU39+BU46","v":841.68868647538193},"L",null,null,null,null,null,null,null,null,null,null,null,null,null,null,null,null,null,null,null,null,null,null,null,null,null,null,null,null,null,null,null,null,null,null,null,null,"ABS","%",{"$f":"1-((1-DI39)*(1-DI46))","v":0.13611911413612565},"$",{"$f":"DK39+DK46","v":943.36302223856433},"L",null,null,null,null,null,null,null,null,null,null,null,null,null,null,null,null,null,null,null,null,null,null,null,null,null,null,null,null,null,null,null,null,null,null,null,null,"ABS","%",0.104,"$",{"$f":"FA39+FA46","v":711.67951469612831},"L"]
[null,null,null,null,null,null,null,null,null,null,null,null,null,null,null,null,null,null,null,null,null,null,null,null,null,null,null,"Stoichiometric GDI\n(SGDI) - TBL",null,null,null,null,"SGDI",null,null,null,null,null,null,null,null,null,null,null,null,null,null,null,null,null,null,null,null,null,null,null,null,null,null,null,null,null,null,null,null,null,null,null,null,"Stoichiometric GDI\n(SGDI) - TBL",null,null,null,null,"SGDI",null,null,null,null,null,null,null,null,null,null,null,null,null,null,null,null,null,null,null,null,null,null,null,null,null,null,null,null,null,null,null,null,null,null,null,null,"Stoichiometric GDI\n(SGDI) - TBL",null,null,null,null,"SGDI",null,null,null,null,null,null,null,null,null,null,null,null,null,null,null,null,null,null,null,null,null,null,null,null,null,null,null,null,null,null,null,null,null,null,null,null,"Stoichiometric GDI\n(SGDIO) - TBL",null,null,null,null,"SGDIO"]
[null,null,null,null,null,null,null,null,null,null,null,null,null,null,null,null,null,null,null,null,null,null,null,null,null,"2017+","INC","%",{"$f":"1-((1-AC50)/(1-AC42))","v":1.4959723820483273E-2},"$",{"$f":"AE46","v":349.41793576617209},10,null,null,null,null,null,null,null,null,null,null,null,null,null,null,null,null,null,null,null,null,null,null,null,null,null,null,null,null,null,null,null,null,null,null,null,"2017+","INC","%",{"$f":"1-((1-BS50)/(1-BS42))","v":1.4959723820483273E-2},"$",{"$f":"BU46","v":349.41793576617209},10,null,null,null,null,null,null,null,null,null,null,null,null,null,null,null,null,null,null,null,null,null,null,null,null,null,null,null,null,null,null,null,null,null,null,null,"2017+","INC","%",{"$f":"1-((1-DI50)/(1-DI42))","v":1.501154734411092E-2},"$",{"$f":"DK46","v":349.41793576617209},10,null,null,null,null,null,null,null,null,null,null,null,null,null,null,null,null,null,null,null,null,null,null,null,null,null,null,null,null,null,null,null,null,null,null,null,"2017+","INC","%",{"$f":"1-((1-EY50)/(1-EY42))","v":1.4959723820483273E-2},"$",{"$f":"FA46","v":349.41793576617209},10]
[null,null,null,null,null,null,null,null,null,null,null,null,null,null,null,null,null,null,null,null,null,null,null,"From SOHC Path",null,null,"ABS","%",0.14399999999999999,"$",{"$f":"AE42+AE49","v":858.89407633475571},"L",null,null,null,null,null,null,null,null,null,null,null,null,null,null,null,null,null,null,null,null,null,null,null,null,null,null,null,null,null,null,null,null,null,"From DOHC w/ DVVLD Path",null,null,"ABS","%",0.14399999999999999,"$",{"$f":"BU42+BU49","v":935.9497842193191},"L",null,null,null,null,null,null,null,null,null,null,null,null,null,null,null,null,null,null,null,null,null,null,null,null,null,null,null,null,null,null,null,null,null,"From DOHC w/ CVVL Path",null,null,"ABS","%",0.14699999999999999,"$",{"$f":"DK42+DK49","v":1037.6241199825015},"L",null,null,null,null,null,null,null,null,null,null,null,null,null,null,null,null,null,null,null,null,null,null,null,null,null,null,null,null,null,null,null,null,null,"From OHV w/ CDOHC Path",null,null,"ABS","%",0.14399999999999999,"$",{"$f":"FA42+FA49","v":805.94061244006548},"L"]
[]
[]
[null,null,null,null,null,null,null,null,null,null,null,null,null,null,null,null,null,null,null,null,null,null,null,null,null,null,null,null,null,null,null,null,null,null,null,null,null,null,null,null,null,null,null,null,null,null,null,null,null,null,null,null,null,null,null,null,{"$f":"BE54-$O$54","v":0},null,{"$f":"BG54-$Q$54","v":-10.350943204492637},null,null,null,null,null,null,null,null,null,null,null,{"$f":"BS54-$AC$54","v":0},null,{"$f":"BU54-$AE$54","v":-137.49257962890812},null,null,null,null,null,null,null,null,null,null,null,{"$f":"CG54-$AQ$54","v":0},null,{"$f":"CI54-$AS$54","v":-151.06222004175237},null,null,null,null,null,null,null,null,null,null,null,{"$f":"CU54-$O$54","v":-1.1248291978206204E-2},null,{"$f":"CW54-$Q$54","v":-10.350943204492637},null,null,null,null,null,null,null,null,null,null,null,{"$f":"DI54-$AC$54","v":-3.2376110703290495E-3},null,{"$f":"DK54-$AE$54","v":-137.49257962890812},null,null,null,null,null,null,null,null,null,null,null,{"$f":"DW54-$AQ$54","v":-3.2376110703290495E-3},null,{"$f":"DY54-$AS$54","v":-151.06222004175237},null,null,null,null,null,null,null,null,null,null,null,{"$f":"EK54-$O$54","v":6.0492524063498254E-2},null,{"$f":"EM54-$Q$54","v":-420.06358424991754},null,null,null,null,null,null,null,null,null,null,null,{"$f":"EY54-$AC$54","v":0},null,{"$f":"FA54-$AE$54","v":562.75413569090051},null,null,null,null,null,null,null,null,null,null,null,{"$f":"FM54-$AQ$54","v":0},null,{"$f":"FO54-$AS$54","v":523.98042111588995}]
[null,null,null,null,null,null,null,null,null,null,null,"2012-2016","INC","%",{"$f":"O57","v":8.7449933244325706E-2},"$",{"$f":"INDEX('[1]Midsize LT'!$H$379:$X$467,MATCH(M56,'[1]Midsize LT'!$C$379:$C$467,0),MATCH(Inputs!$C$2,'[1]Midsize LT'!$H$378:$X$378,0))\n+INDEX('[1]Midsize LT'!$H$379:$X$467,MATCH(S56,'[1]Midsize LT'!$C$379:$C$467,0),MATCH(Inputs!$C$2,'[1]Midsize LT'!$H$378:$X$378,0))","v":420.06358424991754},10,null,null,null,null,null,null,null,"2012-2016","INC","%",{"$f":"AC57","v":7.9439252336448551E-2},"$",{"$f":"INDEX('[1]Midsize LT'!$H$379:$X$467,MATCH(AA56,'[1]Midsize LT'!$C$379:$C$467,0),MATCH(Inputs!$C$2,'[1]Midsize LT'!$H$378:$X$378,0))\n+INDEX('[1]Midsize LT'!$H$379:$X$467,MATCH(AG56,'[1]Midsize LT'!$C$379:$C$467,0),MATCH(Inputs!$C$2,'[1]Midsize LT'!$H$378:$X$378,0))","v":-29.267884297748708},10,null,null,null,null,null,null,null,"2012-2016","INC","%",{"$f":"AQ57","v":7.9439252336448551E-2},"$",{"$f":"INDEX('[1]Midsize LT'!$H$379:$X$467,MATCH(AO56,'[1]Midsize LT'!$C$379:$C$467,0),MATCH(Inputs!$C$2,'[1]Midsize LT'!$H$378:$X$378,0))\n+INDEX('[1]Midsize LT'!$H$379:$X$467,MATCH(AU56,'[1]Midsize LT'!$C$379:$C$467,0),MATCH(Inputs!$C$2,'[1]Midsize LT'!$H$378:$X$378,0))","v":523.48084050429873},10,null,null,null,null,null,null,null,"2012-2016","INC","%",{"$f":"BE57","v":8.7449933244325706E-2},"$",{"$f":"INDEX('[1]Subcompact PC'!$H$530:$X$541,MATCH(BC56,'[1]Subcompact PC'!$C$530:$C$541,0),MATCH(Inputs!$C$2,'[1]Subcompact PC'!$H$529:$X$529,0))\n+INDEX('[1]Subcompact PC'!$H$530:$X$541,MATCH(BI56,'[1]Subcompact PC'!$C$530:$C$541,0),MATCH(Inputs!$C$2,'[1]Subcompact PC'!$H$529:$X$529,0))","v":409.7126410454249},10,null,null,null,null,null,null,null,"2012-2016","INC","%",{"$f":"BS57","v":7.9439252336448551E-2},"$",{"$f":"INDEX('[1]Subcompact PC'!$H$530:$X$541,MATCH(BQ56,'[1]Subcompact PC'!$C$530:$C$541,0),MATCH(Inputs!$C$2,'[1]Subcompact PC'!$H$529:$X$529,0))\n+INDEX('[1]Subcompact PC'!$H$530:$X$541,MATCH(BW56,'[1]Subcompact PC'!$C$530:$C$541,0),MATCH(Inputs!$C$2,'[1]Subcompact PC'!$H$529:$X$529,0))","v":-166.76046392665683},10,null,null,null,null,null,null,null,"2012-2016","INC","%",{"$f":"CG57","v":7.9439252336448551E-2},"$",{"$f":"INDEX('[1]Subcompact PC'!$H$530:$X$541,MATCH(CE56,'[1]Subcompact PC'!$C$530:$C$541,0),MATCH(Inputs!$C$2,'[1]Subcompact PC'!$H$529:$X$529,0))\n+INDEX('[1]Subcompact PC'!$H$530:$X$541,MATCH(CK56,'[1]Subcompact PC'!$C$530:$C$541,0),MATCH(Inputs!$C$2,'[1]Subcompact PC'!$H$529:$X$529,0))","v":372.41862046254636},10,null,null,null,null,null,null,null,"2012-2016","INC","%",{"$f":"CU57","v":7.6201641266119502E-2},"$",{"$f":"INDEX('[1]Subcompact PC'!$H$530:$X$541,MATCH(CS56,'[1]Subcompact PC'!$C$530:$C$541,0),MATCH(Inputs!$C$2,'[1]Subcompact PC'!$H$529:$X$529,0))\n+INDEX('[1]Subcompact PC'!$H$530:$X$541,MATCH(CY56,'[1]Subcompact PC'!$C$530:$C$541,0),MATCH(Inputs!$C$2,'[1]Subcompact PC'!$H$529:$X$529,0))","v":409.7126410454249},10,null,null,null,null,null,null,null,"2012-2016","INC","%",{"$f":"DI57","v":7.6201641266119502E-2},"$",{"$f":"INDEX('[1]Subcompact PC'!$H$530:$X$541,MATCH(DG56,'[1]Subcompact PC'!$C$530:$C$541,0),MATCH(Inputs!$C$2,'[1]Subcompact PC'!$H$529:$X$529,0))\n+INDEX('[1]Subcompact PC'!$H$530:$X$541,MATCH(DM56,'[1]Subcompact PC'!$C$530:$C$541,0),MATCH(Inputs!$C$2,'[1]Subcompact PC'!$H$529:$X$529,0))","v":-166.76046392665683},10,null,null,null,null,null,null,null,"2012-2016","INC","%",{"$f":"DW57","v":7.6201641266119502E-2},"$",{"$f":"INDEX('[1]Subcompact PC'!$H$530:$X$541,MATCH(DU56,'[1]Subcompact PC'!$C$530:$C$541,0),MATCH(Inputs!$C$2,'[1]Subcompact PC'!$H$529:$X$529,0))\n+INDEX('[1]Subcompact PC'!$H$530:$X$541,MATCH(EA56,'[1]Subcompact PC'!$C$530:$C$541,0),MATCH(Inputs!$C$2,'[1]Subcompact PC'!$H$529:$X$529,0))","v":372.41862046254636},10,null,null,null,null,null,null,null,"2012-2016","INC","%",{"$f":"EK57","v":0.14794245730782396},"$",{"$f":"INDEX('[1]Subcompact PC'!$H$530:$X$541,MATCH(EI56,'[1]Subcompact PC'!$C$530:$C$541,0),MATCH(Inputs!$C$2,'[1]Subcompact PC'!$H$529:$X$529,0))\n+INDEX('[1]Subcompact PC'!$H$530:$X$541,MATCH(EO56,'[1]Subcompact PC'!$C$530:$C$541,0),MATCH(Inputs!$C$2,'[1]Subcompact PC'!$H$529:$X$529,0))","v":0},10,null,null,null,null,null,null,null,"2012-2016","INC","%",{"$f":"EY57","v":7.9439252336448551E-2},"$",{"$f":"INDEX('[1]Subcompact PC'!$H$530:$X$541,MATCH(EW56,'[1]Subcompact PC'!$C$530:$C$541,0),MATCH(Inputs!$C$2,'[1]Subcompact PC'!$H$529:$X$529,0))\n+INDEX('[1]Subcompact PC'!$H$530:$X$541,MATCH(FC56,'[1]Subcompact PC'!$C$530:$C$541,0),MATCH(Inputs!$C$2,'[1]Subcompact PC'!$H$529:$X$529,0))","v":533.48625139315186},10,{"$f":"INDEX('[1]Subcompact PC'!$H$530:$X$541,MATCH(EW56,'[1]Subcompact PC'!$C$530:$C$541,0),MATCH(Inputs!$C$2,'[1]Subcompact PC'!$H$529:$X$529,0))","v":229.17561542502995},{"$f":"MATCH(EW56,'[1]Subcompact PC'!$C$530:$C$541,0)","v":9},null,null,null,null,null,"2012-2016","INC","%",{"$f":"FM57","v":7.9439252336448551E-2},"$",{"$f":"INDEX('[1]Subcompact PC'!$H$530:$X$541,MATCH(FK56,'[1]Subcompact PC'!$C$530:$C$541,0),MATCH(Inputs!$C$2,'[1]Subcompact PC'!$H$529:$X$529,0))\n+INDEX('[1]Subcompact PC'!$H$530:$X$541,MATCH(FQ56,'[1]Subcompact PC'!$C$530:$C$541,0),MATCH(Inputs!$C$2,'[1]Subcompact PC'!$H$529:$X$529,0))","v":1047.4612616201887},10]
[null,null,null,null,null,null,null,null,null,null,null,null,"ABS","%",{"$f":"1-((1-AC47+AC38)*(1-O54))","v":0.2026353820403769},"$",{"$f":"AE47+Q54","v":1184.6965628407361},"L",null,null,null,null,null,null,null,null,"ABS","%",{"$f":"1-((1-AC47)*(1-AC54))","v":0.20194825549738227},"$",{"$f":"AE47+AE54","v":735.36509429306989},"L",null,null,null,null,null,null,null,null,"ABS","%",{"$f":"1-((1-AC47)*(1-AQ54))","v":0.20194825549738227},"$",{"$f":"AE47+AS54","v":1288.1138190951174},"L",null,null,null,null,null,null,null,null,"ABS","%",{"$f":"1-((1-BS47)*(1-BE54))","v":0.20889286821241593},"$",{"$f":"BU47+BG54","v":1251.4013275208067},"L",null,null,null,null,null,null,null,null,"ABS","%",{"$f":"1-((1-BS47)*(1-BS54))","v":0.20194825549738227},"$",{"$f":"BU47+BU54","v":674.9282225487251},"L",null,null,null,null,null,null,null,null,"ABS","%",{"$f":"1-((1-BS47)*(1-CG54))","v":0.20194825549738227},"$",{"$f":"BU47+CI54","v":1214.1073069379283},"L",null,null,null,null,null,null,null,null,"ABS","%",{"$f":"1-((1-DI47)*(1-CU54))","v":0.20194825549738216},"$",{"$f":"DK47+CW54","v":1353.0756632839893},"L",null,null,null,null,null,null,null,null,"ABS","%",{"$f":"1-((1-DI47)*(1-DI54))","v":0.20194825549738216},"$",{"$f":"DK47+DK54","v":776.6025583119075},"L",null,null,null,null,null,null,null,null,"ABS","%",{"$f":"1-((1-DI47)*(1-DW54))","v":0.20194825549738216},"$",{"$f":"DK47+DY54","v":1315.7816427011107},"L",null,null,null,null,null,null,null,null,"ABS","%",{"$f":"1-((1-EY47)*(1-EK54))","v":0.23655644174781021},"$",{"$f":"FA47+EM54","v":711.67951469612831},"L",null,null,null,null,null,null,null,null,"ABS","%",{"$f":"1-((1-EY47)*(1-EY54))","v":0.17517757009345791},"$",{"$f":"FA47+FA54","v":1245.1657660892802},"L",null,null,null,null,null,null,null,null,"ABS","%",{"$f":"1-((1-EY47)*(1-FM54))","v":0.17517757009345791},"$",{"$f":"FA47+FO54","v":1759.140776316317},"L"]
[null,"INTERMEDIATE",null,null,null,null,null,null,null,null,null,null,"TRBDS1_SD_TB","Turbocharging and Downsizing 1 (TRBDS1_SD) - TBL",null,null,null,null,"TRBDS1_SD_DS",null,null,null,null,null,null,null,"TRBDS1_MD_TB","Turbocharging and Downsizing 1 (TRBDS1_MD) - TBL",null,null,null,null,"TRBDS1_MD_DS",null,null,null,null,null,null,null,"TRBDS1_LD_TB","Turbocharging and Downsizing 1\n(TRBDS1_LD) - TBL",null,null,null,null,"TRBDS1_LD_DS",null,null,null,null,null,null,null,"TRBDS1_SD_TB_D",{"$f":"$N$56","v":"Turbocharging and Downsizing 1 (TRBDS1_SD) - TBL"},null,null,null,null,"TRBDS1_SD_DS_D",null,null,null,null,null,null,null,"TRBDS1_MD_TB_D","Turbocharging and Downsizing 1 (TRBDS1_MD) - TBL",null,null,null,null,"TRBDS1_MD_DS_D",null,null,null,null,null,null,null,"TRBDS1_LD_TB_D",{"$f":"$AP$56","v":"Turbocharging and Downsizing 1\n(TRBDS1_LD) - TBL"},null,null,null,null,"TRBDS1_LD_DS_D",null,null,null,null,null,null,null,"TRBDS1_SD_TB_D",{"$f":"$N$56","v":"Turbocharging and Downsizing 1 (TRBDS1_SD) - TBL"},null,null,null,null,"TRBDS1_SD_DS_D",null,null,null,null,null,null,null,"TRBDS1_MD_TB_D",{"$f":"$AB$56","v":"Turbocharging and Downsizing 1 (TRBDS1_MD) - TBL"},null,null,null,null,"TRBDS1_MD_DS_D",null,null,null,null,null,null,null,"TRBDS1_LD_TB_D",{"$f":"$AP$56","v":"Turbocharging and Downsizing 1\n(TRBDS1_LD) - TBL"},null,null,null,null,"TRBDS1_LD_DS_D",null,null,null,null,null,null,null,"TRBDS1_SD_TB_O",{"$f":"$N$56","v":"Turbocharging and Downsizing 1 (TRBDS1_SD) - TBL"},null,null,null,null,"TRBDS1_SD_DS_O",null,null,null,null,null,null,null,"TRBDS1_MD_TB_O",{"$f":"$AB$56","v":"Turbocharging and Downsizing 1 (TRBDS1_MD) - TBL"},null,null,null,null,"TRBDS1_MD_DS_O",null,null,null,null,null,null,null,"TRBDS1_LD_TB_O",{"$f":"$AP$56","v":"Turbocharging and Downsizing 1\n(TRBDS1_LD) - TBL"},null,null,null,null,"TRBDS1_LD_DS_O"]
["Gas Engine Type","I4",null,null,null,null,null,null,null,null,null,"2017+","INC","%",{"$f":"1-((1-O58-AC41)/(1-AC50))","v":8.7449933244325706E-2},"$",{"$f":"Q54","v":420.06358424991754},10,null,null,null,null,null,null,null,"2017+","INC","%",{"$f":"1-((1-AC58)/(1-AC50))","v":7.9439252336448551E-2},"$",{"$f":"AE54","v":-29.267884297748708},10,null,null,null,null,null,null,null,"2017+","INC","%",{"$f":"1-((1-AQ58)/(1-AC50))","v":7.9439252336448551E-2},"$",{"$f":"AS54","v":523.48084050429873},10,null,null,null,null,null,null,null,"2017+","INC","%",{"$f":"1-((1-BE58-BS41)/(1-BS50))","v":8.7449933244325706E-2},"$",{"$f":"BG54","v":409.7126410454249},10,null,null,null,null,null,null,null,"2017+","INC","%",{"$f":"1-((1-BS58)/(1-BS50))","v":7.9439252336448551E-2},"$",{"$f":"BU54","v":-166.76046392665683},10,null,null,null,null,null,null,null,"2017+","INC","%",{"$f":"1-((1-CG58)/(1-BS50))","v":7.9439252336448551E-2},"$",{"$f":"CI54","v":372.41862046254636},10,null,null,null,null,null,null,null,"2017+","INC","%",{"$f":"1-((1-CU58-DI41)/(1-DI50))","v":7.6201641266119502E-2},"$",{"$f":"CW54","v":409.7126410454249},10,null,null,null,null,null,null,null,"2017+","INC","%",{"$f":"1-((1-DI58)/(1-DI50))","v":7.6201641266119502E-2},"$",{"$f":"DK54","v":-166.76046392665683},10,null,null,null,null,null,null,null,"2017+","INC","%",{"$f":"1-((1-DW58)/(1-DI50))","v":7.6201641266119502E-2},"$",{"$f":"DY54","v":372.41862046254636},10,null,null,null,null,null,null,null,"2017+","INC","%",{"$f":"1-((1-EK58-EY33)/(1-EY50))","v":0.14794245730782396},"$",{"$f":"EM54","v":0},10,null,null,null,null,null,null,null,"2017+","INC","%",{"$f":"1-((1-EY58)/(1-EY50))","v":7.9439252336448551E-2},"$",{"$f":"FA54","v":533.48625139315186},10,null,null,null,null,null,null,null,"2017+","INC","%",{"$f":"1-((1-FM58)/(1-EY50))","v":7.9439252336448551E-2},"$",{"$f":"FO54","v":1047.4612616201887},10]
["Displacement [L]","1.5 to 2.0",null,null,null,null,null,null,null,null,null,null,"ABS","%",0.21199999999999999,"$",{"$f":"AE50+Q57","v":1278.9576605846732},"L",null,null,null,null,null,null,null,null,"ABS","%",{"$f":"$O58","v":0.21199999999999999},"$",{"$f":"AE50+AE57","v":829.62619203700706},"L",null,null,null,null,null,null,null,null,"ABS","%",{"$f":"$O58","v":0.21199999999999999},"$",{"$f":"AE50+AS57","v":1382.3749168390545},"L",null,null,null,null,null,null,null,null,"ABS","%",{"$f":"$O58","v":0.21199999999999999},"$",{"$f":"BU50+BG57","v":1345.6624252647439},"L",null,null,null,null,null,null,null,null,"ABS","%",{"$f":"$O58","v":0.21199999999999999},"$",{"$f":"BU50+BU57","v":769.18932029266227},"L",null,null,null,null,null,null,null,null,"ABS","%",{"$f":"$AQ58","v":0.21199999999999999},"$",{"$f":"BU50+CI57","v":1308.3684046818655},"L",null,null,null,null,null,null,null,null,"ABS","%",{"$f":"$O58","v":0.21199999999999999},"$",{"$f":"DK50+CW57","v":1447.3367610279265},"L",null,null,null,null,null,null,null,null,"ABS","%",{"$f":"$AC58","v":0.21199999999999999},"$",{"$f":"DK50+DK57","v":870.86365605584467},"L",null,null,null,null,null,null,null,null,"ABS","%",{"$f":"$AQ58","v":0.21199999999999999},"$",{"$f":"DK50+DY57","v":1410.0427404450479},"L",null,null,null,null,null,null,null,null,"ABS","%",{"$f":"$O58","v":0.21199999999999999},"$",{"$f":"FA50+EM57","v":805.94061244006548},"L",null,null,null,null,null,null,null,null,"ABS","%",{"$f":"$AC58","v":0.21199999999999999},"$",{"$f":"FA50+FA57","v":1339.4268638332173},"L",null,null,null,null,null,null,null,null,"ABS","%",{"$f":"$AQ58","v":0.21199999999999999},"$",{"$f":"FA50+FO57","v":1853.4018740602542},"L"]
["Turbocharger","FGT",null,null,null,null,null,null,null,null,null,null,null,null,null,null,null,null,null,null,null,null,null,null,null,null,null,null,null,null,null,null,null,null,null,null,null,null,null,null,null,null,null,null,null,null,null,null,null,null,null,null,null,null,null,null,{"$f":"BE57-$O$57","v":0},null,{"$f":"BG57-$Q$57","v":-10.350943204492637},null,null,null,null,null,null,null,null,null,null,null,{"$f":"BS57-$AC$57","v":0},null,{"$f":"BU57-$AE$57","v":-137.49257962890812},null,null,null,null,null,null,null,null,null,null,null,{"$f":"CG57-$AQ$57","v":0},null,{"$f":"CI57-$AS$57","v":-151.06222004175237},null,null,null,null,null,null,null,null,null,null,null,{"$f":"CU57-$O$57","v":-1.1248291978206204E-2},null,{"$f":"CW57-$Q$57","v":-10.350943204492637},null,null,null,null,null,null,null,null,null,null,null,{"$f":"DI57-$AC$57","v":-3.2376110703290495E-3},null,{"$f":"DK57-$AE$57","v":-137.49257962890812},null,null,null,null,null,null,null,null,null,null,null,{"$f":"DW57-$AQ$57","v":-3.2376110703290495E-3},null,{"$f":"DY57-$AS$57","v":-151.06222004175237},null,null,null,null,null,null,null,null,null,null,null,{"$f":"EK57-$O$57","v":6.0492524063498254E-2},null,{"$f":"EM57-$Q$57","v":-420.06358424991754},null,null,null,null,null,null,null,null,null,null,null,{"$f":"EY57-$AC$57","v":0},null,{"$f":"FA57-$AE$57","v":562.75413569090051},null,null,null,null,null,null,null,null,null,null,null,{"$f":"FM57-$AQ$57","v":0},null,{"$f":"FO57-$AS$57","v":523.98042111588995}]
["EGR system","External"]
["Valvetrain","DOHC"]
["After Treatment","3way cat",null,null,null,null,null,null,null,null,null,"2012-2016","INC","%",{"$f":"1-((1-O63)/(1-O55))","v":0},"$",0,0,null,null,null,null,null,null,null,"2012-2016","INC","%",{"$f":"1-((1-AC63)/(1-AC55))","v":0},"$",0,0,null,null,null,null,null,null,null,"2012-2016","INC","%",{"$f":"1-((1-AQ63)/(1-AQ55))","v":0},"$",0,0,null,null,null,null,null,null,null,"2012-2016","INC","%",{"$f":"1-((1-BE63)/(1-BE55))","v":0},"$",{"$f":"$Q$62","v":0},{"$f":"$R$62","v":0},null,null,null,null,null,null,null,"2012-2016","INC","%",{"$f":"1-((1-BS63)/(1-BS55))","v":0},"$",{"$f":"$AE$62","v":0},{"$f":"$AF$62","v":0},null,null,null,null,null,null,null,"2012-2016","INC","%",{"$f":"1-((1-CG63)/(1-CG55))","v":0},"$",{"$f":"$AS$62","v":0},{"$f":"$AT$62","v":0},null,null,null,null,null,null,null,"2012-2016","INC","%",{"$f":"1-((1-CU63)/(1-CU55))","v":0},"$",{"$f":"$Q$62","v":0},{"$f":"$R$62","v":0},null,null,null,null,null,null,null,"2012-2016","INC","%",{"$f":"1-((1-DI63)/(1-DI55))","v":0},"$",{"$f":"$AE$62","v":0},{"$f":"$AF$62","v":0},null,null,null,null,null,null,null,"2012-2016","INC","%",{"$f":"1-((1-DW63)/(1-DW55))","v":0},"$",{"$f":"$AS$62","v":0},{"$f":"$AT$62","v":0},null,null,null,null,null,null,null,"2012-2016","INC","%",{"$f":"$O$62","v":0},"$",{"$f":"$Q$62","v":0},{"$f":"$R$62","v":0},null,null,null,null,null,null,null,"2012-2016","INC","%",{"$f":"1-((1-EY63)/(1-EY55))","v":0},"$",{"$f":"$AE$62","v":0},{"$f":"$AF$62","v":0},null,null,null,null,null,null,null,"2012-2016","INC","%",{"$f":"1-((1-FM63)/(1-FM55))","v":0},"$",{"$f":"$AS$62","v":0},{"$f":"$AT$62","v":0}]
[null,null,null,null,null,null,null,null,null,null,null,null,"ABS","%",{"$f":"O55","v":0.2026353820403769},"$",{"$f":"Q55+Q62","v":1184.6965628407361},"L",null,null,null,null,null,null,null,null,"ABS","%",{"$f":"AC55","v":0.20194825549738227},"$",{"$f":"AE55+AE62","v":735.36509429306989},"L",null,null,null,null,null,null,null,null,"ABS","%",{"$f":"AQ55","v":0.20194825549738227},"$",{"$f":"AS55+AS62","v":1288.1138190951174},"L",null,null,null,null,null,null,null,null,"ABS","%",{"$f":"BE55","v":0.20889286821241593},"$",{"$f":"BG55+BG62","v":1251.4013275208067},"L",null,null,null,null,null,null,null,null,"ABS","%",{"$f":"BS55","v":0.20194825549738227},"$",{"$f":"BU55+BU62","v":674.9282225487251},"L",null,null,null,null,null,null,null,null,"ABS","%",{"$f":"CG55","v":0.20194825549738227},"$",{"$f":"CI55+CI62","v":1214.1073069379283},"L",null,null,null,null,null,null,null,null,"ABS","%",{"$f":"CU55","v":0.20194825549738216},"$",{"$f":"CW55+CW62","v":1353.0756632839893},"L",null,null,null,null,null,null,null,null,"ABS","%",{"$f":"DI55","v":0.20194825549738216},"$",{"$f":"DK55+DK62","v":776.6025583119075},"L",null,null,null,null,null,null,null,null,"ABS","%",{"$f":"DW55","v":0.20194825549738216},"$",{"$f":"DY55+DY62","v":1315.7816427011107},"L",null,null,null,null,null,null,null,null,"ABS","%",{"$f":"1-((1-EK55)*(1-EK62))","v":0.23655644174781021},"$",{"$f":"EM55+EM62","v":711.67951469612831},"L",null,null,null,null,null,null,null,null,"ABS","%",{"$f":"EY55","v":0.17517757009345791},"$",{"$f":"FA55+FA62","v":1245.1657660892802},"L",null,null,null,null,null,null,null,null,"ABS","%",{"$f":"FM55","v":0.17517757009345791},"$",{"$f":"FO55+FO62","v":1759.140776316317},"L"]
[null,null,null,null,null,null,null,null,null,null,null,null,"TRBDS2_SD_TB","Turbocharging and Downsizing 2\n(TRBDS2_SD) - TBL",null,null,null,null,"TRBDS2_SD_DS",null,null,null,null,null,null,null,"TRBDS2_MD_TB","Turbocharging and Downsizing 2\n(TRBDS2_MD) - TBL",null,null,null,null,"TRBDS2_MD_DS",null,null,null,null,null,null,null,"TRBDS2_LD_TB","Turbocharging and Downsizing 2\n(TRBDS2_LD) - TBL",null,null,null,null,"TRBDS2_LD_DS",null,null,null,null,null,null,null,"TRBDS2_SD_TB",{"$f":"$N$64","v":"Turbocharging and Downsizing 2\n(TRBDS2_SD) - TBL"},null,null,null,null,"TRBDS2_SD_DS",null,null,null,null,null,null,null,"TRBDS2_MD_TB",{"$f":"$AB$64","v":"Turbocharging and Downsizing 2\n(TRBDS2_MD) - TBL"},null,null,null,null,"TRBDS2_MD_DS",null,null,null,null,null,null,null,"TRBDS2_LD_TB",{"$f":"$AP$64","v":"Turbocharging and Downsizing 2\n(TRBDS2_LD) - TBL"},null,null,null,null,"TRBDS2_LD_DS",null,null,null,null,null,null,null,"TRBDS2_SD_TB",{"$f":"$N$64","v":"Turbocharging and Downsizing 2\n(TRBDS2_SD) - TBL"},null,null,null,null,"TRBDS2_SD_DS",null,null,null,null,null,null,null,"TRBDS2_MD_TB",{"$f":"$AB$64","v":"Turbocharging and Downsizing 2\n(TRBDS2_MD) - TBL"},null,null,null,null,"TRBDS2_MD_DS",null,null,null,null,null,null,null,"TRBDS2_LD_TB","Cooled EGR 1\n(CEGR1_LD) - TBL",null,null,null,null,"TRBDS2_LD_DS",null,null,null,null,null,null,null,"TRBDS2_SD_TB",{"$f":"$N$64","v":"Turbocharging and Downsizing 2\n(TRBDS2_SD) - TBL"},null,null,null,null,"TRBDS2_SD_DS",null,null,null,null,null,null,null,"TRBDS2_MD_TB",{"$f":"$AB$64","v":"Turbocharging and Downsizing 2\n(TRBDS2_MD) - TBL"},null,null,null,null,"TRBDS2_MD_DS",null,null,null,null,null,null,null,"TRBDS2_LD_TB","Cooled EGR 1\n(CEGR1_LD) - TBL",null,null,null,null,"TRBDS2_LD_DS"]
[null,"INTERMEDIATE",null,null,null,null,null,null,null,null,null,"2017+","INC","%",{"$f":"1-((1-O66)/(1-O58))","v":3.4263959390863019E-2},"$",{"$f":"INDEX('[1]Large PC'!$H$379:$X$467,MATCH(M64,'[1]Large PC'!$C$379:$C$467,0),MATCH(Inputs!$C$2,'[1]Large PC'!$H$378:$X$378,0))\n+INDEX('[1]Large PC'!$H$379:$X$467,MATCH(S64,'[1]Large PC'!$C$379:$C$467,0),MATCH(Inputs!$C$2,'[1]Large PC'!$H$378:$X$378,0))","v":19.914246875441577},10,null,null,null,null,null,null,null,"2017+","INC","%",{"$f":"1-((1-AC66)/(1-AC58))","v":3.4263959390863019E-2},"$",{"$f":"INDEX('[1]Midsize LT'!$H$379:$X$467,MATCH(AA64,'[1]Midsize LT'!$C$379:$C$467,0),MATCH(Inputs!$C$2,'[1]Midsize LT'!$H$378:$X$378,0))\n+INDEX('[1]Midsize LT'!$H$379:$X$467,MATCH(AG64,'[1]Midsize LT'!$C$379:$C$467,0),MATCH(Inputs!$C$2,'[1]Midsize LT'!$H$378:$X$378,0))","v":247.5936884943545},10,null,null,null,null,null,null,null,"2017+","INC","%",{"$f":"1-((1-AQ66)/(1-AQ58))","v":3.4263959390863019E-2},"$",{"$f":"INDEX('[1]Midsize LT'!$H$379:$X$467,MATCH(AO64,'[1]Midsize LT'!$C$379:$C$467,0),MATCH(Inputs!$C$2,'[1]Midsize LT'!$H$378:$X$378,0))\n+INDEX('[1]Midsize LT'!$H$379:$X$467,MATCH(AU64,'[1]Midsize LT'!$C$379:$C$467,0),MATCH(Inputs!$C$2,'[1]Midsize LT'!$H$378:$X$378,0))","v":417.35470758578072},10,null,null,null,null,null,null,null,"2017+","INC","%",{"$f":"1-((1-BE66)/(1-BE58))","v":3.4263959390863019E-2},"$",{"$f":"$Q65","v":19.914246875441577},{"$f":"$R$65","v":10},null,null,null,null,null,null,null,"2017+","INC","%",{"$f":"1-((1-BS66)/(1-BS58))","v":3.4263959390863019E-2},"$",{"$f":"$AE$65","v":247.5936884943545},{"$f":"$AF$65","v":10},null,null,null,null,null,null,null,"2017+","INC","%",{"$f":"1-((1-CG66)/(1-CG58))","v":3.4263959390863019E-2},"$",{"$f":"$AS$65","v":417.35470758578072},{"$f":"$AT$65","v":10},null,null,null,null,null,null,null,"2017+","INC","%",{"$f":"1-((1-CU66)/(1-CU58))","v":3.4263959390863019E-2},"$",{"$f":"$Q65","v":19.914246875441577},{"$f":"$R$65","v":10},null,null,null,null,null,null,null,"2017+","INC","%",{"$f":"1-((1-DI66)/(1-DI58))","v":3.4263959390863019E-2},"$",{"$f":"$AE$65","v":247.5936884943545},{"$f":"$AF$65","v":10},null,null,null,null,null,null,null,"2017+","INC","%",{"$f":"1-((1-DW66)/(1-DW58))","v":3.4263959390863019E-2},"$",{"$f":"$AS$65","v":417.35470758578072},{"$f":"$AT$65","v":10},null,null,null,null,null,null,null,"2017+","INC","%",{"$f":"1-((1-EK66)/(1-EK58))","v":3.4263959390863019E-2},"$",{"$f":"$Q65","v":19.914246875441577},{"$f":"$R$65","v":10},null,null,null,null,null,null,null,"2017+","INC","%",{"$f":"1-((1-EY66)/(1-EY58))","v":3.4263959390863019E-2},"$",{"$f":"$AE$65","v":247.5936884943545},{"$f":"$AF$65","v":10},null,null,null,null,null,null,null,"2017+","INC","%",{"$f":"1-((1-FM66)/(1-FM58))","v":3.4263959390863019E-2},"$",{"$f":"$AS$65","v":417.35470758578072},{"$f":"$AT$65","v":10}]
["Gas Engine Type","I4",null,null,null,null,null,null,null,null,null,null,"ABS","%",0.23899999999999999,"$",{"$f":"Q58+Q65","v":1298.8719074601149},"L",null,null,null,null,null,null,null,null,"ABS","%",{"$f":"$O66","v":0.23899999999999999},"$",{"$f":"AE58+AE65","v":1077.2198805313615},"L",null,null,null,null,null,null,null,null,"ABS","%",{"$f":"$O66","v":0.23899999999999999},"$",{"$f":"AS58+AS65","v":1799.7296244248353},"L",null,null,null,null,null,null,null,null,"ABS","%",{"$f":"$O66","v":0.23899999999999999},"$",{"$f":"BG58+BG65","v":1365.5766721401856},"L",null,null,null,null,null,null,null,null,"ABS","%",{"$f":"$O66","v":0.23899999999999999},"$",{"$f":"BU58+BU65","v":1016.7830087870168},"L",null,null,null,null,null,null,null,null,"ABS","%",{"$f":"$AQ66","v":0.23899999999999999},"$",{"$f":"CI58+CI65","v":1725.7231122676462},"L",null,null,null,null,null,null,null,null,"ABS","%",{"$f":"$O66","v":0.23899999999999999},"$",{"$f":"CW58+CW65","v":1467.2510079033682},"L",null,null,null,null,null,null,null,null,"ABS","%",{"$f":"$AC66","v":0.23899999999999999},"$",{"$f":"DK58+DK65","v":1118.4573445501992},"L",null,null,null,null,null,null,null,null,"ABS","%",{"$f":"$AQ66","v":0.23899999999999999},"$",{"$f":"DY58+DY65","v":1827.3974480308286},"L",null,null,null,null,null,null,null,null,"ABS","%",{"$f":"$O66","v":0.23899999999999999},"$",{"$f":"EM58+EM65","v":825.85485931550704},"L",null,null,null,null,null,null,null,null,"ABS","%",{"$f":"$AC66","v":0.23899999999999999},"$",{"$f":"FA58+FA65","v":1587.0205523275717},"L",null,null,null,null,null,null,null,null,"ABS","%",{"$f":"$AQ66","v":0.23899999999999999},"$",{"$f":"FO58+FO65","v":2270.7565816460346},"L"]
["Displacement [L]",1]
["Turbocharger","FGT"]
["EGR system","External"]
["Valvetrain","DOHC",null,null,null,null,null,null,null,null,null,"2012-2016","INC","%",{"$f":"1-((1-O71)/(1-O63))","v":0},"$",0,0,null,null,null,null,null,null,null,"2012-2016","INC","%",{"$f":"1-((1-AC71)/(1-AC63))","v":0},"$",0,0,null,null,null,null,null,null,null,"2012-2016","INC","%",{"$f":"1-((1-AQ71)/(1-AQ63))","v":0},"$",0,0,null,null,null,null,null,null,null,"2012-2016","INC","%",{"$f":"1-((1-BE71)/(1-BE63))","v":0},"$",{"$f":"$Q$70","v":0},{"$f":"$R$70","v":0},null,null,null,null,null,null,null,"2012-2016","INC","%",{"$f":"1-((1-BS71)/(1-BS63))","v":0},"$",{"$f":"$AE$70","v":0},{"$f":"$AF$70","v":0},null,null,null,null,null,null,null,"2012-2016","INC","%",{"$f":"1-((1-CG71)/(1-CG63))","v":0},"$",{"$f":"$AS$70","v":0},{"$f":"$AT$70","v":0},null,null,null,null,null,null,null,"2012-2016","INC","%",{"$f":"1-((1-CU71)/(1-CU63))","v":0},"$",{"$f":"$Q$70","v":0},{"$f":"$R$70","v":0},null,null,null,null,null,null,null,"2012-2016","INC","%",{"$f":"1-((1-DI71)/(1-DI63))","v":0},"$",{"$f":"$AE$70","v":0},{"$f":"$AF$70","v":0},null,null,null,null,null,null,null,"2012-2016","INC","%",{"$f":"1-((1-DW71)/(1-DW63))","v":0},"$",{"$f":"$AS$70","v":0},{"$f":"$AT$70","v":0},null,null,null,null,null,null,null,"2012-2016","INC","%",{"$f":"1-((1-EK71)/(1-EK63))","v":0},"$",{"$f":"$Q$70","v":0},{"$f":"$R$70","v":0},null,null,null,null,null,null,null,"2012-2016","INC","%",{"$f":"1-((1-EY71)/(1-EY63))","v":0},"$",{"$f":"$AE$70","v":0},{"$f":"$AF$70","v":0},null,null,null,null,null,null,null,"2012-2016","INC","%",{"$f":"1-((1-FM71)/(1-FM63))","v":0},"$",{"$f":"$AS$70","v":0},{"$f":"$AT$70","v":0}]
["After Treatment","3way cat",null,null,null,null,null,null,null,null,null,null,"ABS","%",{"$f":"O63","v":0.2026353820403769},"$",{"$f":"Q63+Q70","v":1184.6965628407361},"L",null,null,null,null,null,null,null,null,"ABS","%",{"$f":"AC63","v":0.20194825549738227},"$",{"$f":"AE63+AE70","v":735.36509429306989},"L",null,null,null,null,null,null,null,null,"ABS","%",{"$f":"AQ63","v":0.20194825549738227},"$",{"$f":"AS63+AS70","v":1288.1138190951174},"L",null,null,null,null,null,null,null,null,"ABS","%",{"$f":"BE63","v":0.20889286821241593},"$",{"$f":"BG63+BG70","v":1251.4013275208067},"L",null,null,null,null,null,null,null,null,"ABS","%",{"$f":"BS63","v":0.20194825549738227},"$",{"$f":"BU63+BU70","v":674.9282225487251},"L",null,null,null,null,null,null,null,null,"ABS","%",{"$f":"CG63","v":0.20194825549738227},"$",{"$f":"CI63+CI70","v":1214.1073069379283},"L",null,null,null,null,null,null,null,null,"ABS","%",{"$f":"CU63","v":0.20194825549738216},"$",{"$f":"CW63+CW70","v":1353.0756632839893},"L",null,null,null,null,null,null,null,null,"ABS","%",{"$f":"DI63","v":0.20194825549738216},"$",{"$f":"DK63+DK70","v":776.6025583119075},"L",null,null,null,null,null,null,null,null,"ABS","%",{"$f":"DW63","v":0.20194825549738216},"$",{"$f":"DY63+DY70","v":1315.7816427011107},"L",null,null,null,null,null,null,null,null,"ABS","%",{"$f":"EK63","v":0.23655644174781021},"$",{"$f":"EM63+EM70","v":711.67951469612831},"L",null,null,null,null,null,null,null,null,"ABS","%",{"$f":"EY63","v":0.17517757009345791},"$",{"$f":"FA63+FA70","v":1245.1657660892802},"L",null,null,null,null,null,null,null,null,"ABS","%",{"$f":"FM63","v":0.17517757009345791},"$",{"$f":"FO63+FO70","v":1759.140776316317},"L"]
[null,null,null,null,null,null,null,null,null,null,null,null,"CEGR1_SD_TB","Cooled EGR 1 \n(CEGR1_SD) - TBL",null,null,null,null,"CEGR1_SD_DS",null,null,null,null,null,null,null,"CEGR1_MD_TB","Cooled EGR 1 \n(CEGR1_MD) - TBL",null,null,null,null,"CEGR1_MD_DS",null,null,null,null,null,null,null,"CEGR1_LD_TB","Cooled EGR 1 \n(CEGR1_LD) - TBL",null,null,null,null,"CEGR1_LD_DS",null,null,null,null,null,null,null,"CEGR1_SD_TB",{"$f":"$N$72","v":"Cooled EGR 1 \n(CEGR1_SD) - TBL"},null,null,null,null,"CEGR1_SD_DS",null,null,null,null,null,null,null,"CEGR1_MD_TB",{"$f":"$AB$72","v":"Cooled EGR 1 \n(CEGR1_MD) - TBL"},null,null,null,null,"CEGR1_MD_DS",null,null,null,null,null,null,null,"CEGR1_LD_TB",{"$f":"$AP$72","v":"Cooled EGR 1 \n(CEGR1_LD) - TBL"},null,null,null,null,"CEGR1_LD_DS",null,null,null,null,null,null,null,"CEGR1_SD_TB",{"$f":"$N$72","v":"Cooled EGR 1 \n(CEGR1_SD) - TBL"},null,null,null,null,"CEGR1_SD_DS",null,null,null,null,null,null,null,"CEGR1_MD_TB",{"$f":"$AB$72","v":"Cooled EGR 1 \n(CEGR1_MD) - TBL"},null,null,null,null,"CEGR1_MD_DS",null,null,null,null,null,null,null,"CEGR1_LD_TB",{"$f":"$AP$72","v":"Cooled EGR 1 \n(CEGR1_LD) - TBL"},null,null,null,null,"CEGR1_LD_DS",null,null,null,null,null,null,null,"CEGR1_SD_TB",{"$f":"$N$72","v":"Cooled EGR 1 \n(CEGR1_SD) - TBL"},null,null,null,null,"CEGR1_SD_DS",null,null,null,null,null,null,null,"CEGR1_MD_TB",{"$f":"$AB$72","v":"Cooled EGR 1 \n(CEGR1_MD) - TBL"},null,null,null,null,"CEGR1_MD_DS",null,null,null,null,null,null,null,"CEGR1_LD_TB",{"$f":"$AP$72","v":"Cooled EGR 1 \n(CEGR1_LD) - TBL"},null,null,null,null,"CEGR1_LD_DS"]
[null,null,null,null,null,null,null,null,null,null,null,"2017+","INC","%",{"$f":"1-((1-O74)/(1-O66))","v":3.5479632063074917E-2},"$",{"$f":"INDEX('[1]Large Perf. PC'!$H$379:$X$467,MATCH(M72,'[1]Large Perf. PC'!$C$379:$C$467,0),MATCH(Inputs!$C$2,'[1]Large Perf. PC'!$H$378:$X$378,0))\n+INDEX('[1]Large Perf. PC'!$H$379:$X$467,MATCH(S72,'[1]Large Perf. PC'!$C$379:$C$467,0),MATCH(Inputs!$C$2,'[1]Large Perf. PC'!$H$378:$X$378,0))","v":285.15466932220613},10,null,null,null,null,null,null,null,"2017+","INC","%",{"$f":"1-((1-AC74)/(1-AC66))","v":3.5479632063074917E-2},"$",{"$f":"INDEX('[1]Midsize LT'!$H$379:$X$467,MATCH(AA72,'[1]Midsize LT'!$C$379:$C$467,0),MATCH(Inputs!$C$2,'[1]Midsize LT'!$H$378:$X$378,0))\n+INDEX('[1]Midsize LT'!$H$379:$X$467,MATCH(AG72,'[1]Midsize LT'!$C$379:$C$467,0),MATCH(Inputs!$C$2,'[1]Midsize LT'!$H$378:$X$378,0))","v":285.15466932220613},10,null,null,null,null,null,null,null,"2017+","INC","%",{"$f":"1-((1-AQ74)/(1-AQ66))","v":3.5479632063074917E-2},"$",{"$f":"INDEX('[1]Midsize LT'!$H$379:$X$467,MATCH(AO72,'[1]Midsize LT'!$C$379:$C$467,0),MATCH(Inputs!$C$2,'[1]Midsize LT'!$H$378:$X$378,0))\n+INDEX('[1]Midsize LT'!$H$379:$X$467,MATCH(AU72,'[1]Midsize LT'!$C$379:$C$467,0),MATCH(Inputs!$C$2,'[1]Midsize LT'!$H$378:$X$378,0))","v":285.15466932220613},10,null,null,null,null,null,null,null,"2017+","INC","%",{"$f":"$O$73","v":3.5479632063074917E-2},"$",{"$f":"$Q$73","v":285.15466932220613},{"$f":"$R$73","v":10},null,null,null,null,null,null,null,"2017+","INC","%",{"$f":"$AC$73","v":3.5479632063074917E-2},"$",{"$f":"$AE$73","v":285.15466932220613},{"$f":"$AF$73","v":10},null,null,null,null,null,null,null,"2017+","INC","%",{"$f":"$AQ$73","v":3.5479632063074917E-2},"$",{"$f":"$AS$73","v":285.15466932220613},{"$f":"$AT$73","v":10},null,null,null,null,null,null,null,"2017+","INC","%",{"$f":"$O$73","v":3.5479632063074917E-2},"$",{"$f":"$Q$73","v":285.15466932220613},{"$f":"$R$73","v":10},null,null,null,null,null,null,null,"2017+","INC","%",{"$f":"$AC$73","v":3.5479632063074917E-2},"$",{"$f":"$AE$73","v":285.15466932220613},{"$f":"$AF$73","v":10},null,null,null,null,null,null,null,"2017+","INC","%",{"$f":"$AQ$73","v":3.5479632063074917E-2},"$",{"$f":"$AS$73","v":285.15466932220613},{"$f":"$AT$73","v":10},null,null,null,null,null,null,null,"2017+","INC","%",{"$f":"$O$73","v":3.5479632063074917E-2},"$",{"$f":"$Q$73","v":285.15466932220613},{"$f":"$R$73","v":10},null,null,null,null,null,null,null,"2017+","INC","%",{"$f":"$AC$73","v":3.5479632063074917E-2},"$",{"$f":"$AE$73","v":285.15466932220613},{"$f":"$AF$73","v":10},null,null,null,null,null,null,null,"2017+","INC","%",{"$f":"$AQ$73","v":3.5479632063074917E-2},"$",{"$f":"$AS$73","v":285.15466932220613},{"$f":"$AT$73","v":10}]
[null,null,null,null,null,null,null,null,null,null,null,null,"ABS","%",0.26600000000000001,"$",{"$f":"Q66+Q73","v":1584.0265767823212},"L",null,null,null,null,null,null,null,null,"ABS","%",{"$f":"O74","v":0.26600000000000001},"$",{"$f":"AE66+AE73","v":1362.3745498535677},"L",null,null,null,null,null,null,null,null,"ABS","%",{"$f":"O74","v":0.26600000000000001},"$",{"$f":"AS66+AS73","v":2084.8842937470413},"L",null,null,null,null,null,null,null,null,"ABS","%",{"$f":"1-((1-BE66)*(1-BE73))","v":0.26600000000000001},"$",{"$f":"BG66+BG73","v":1650.7313414623918},"L",null,null,null,null,null,null,null,null,"ABS","%",{"$f":"$O74","v":0.26600000000000001},"$",{"$f":"BU66+BU73","v":1301.9376781092228},"L",null,null,null,null,null,null,null,null,"ABS","%",{"$f":"$AQ74","v":0.26600000000000001},"$",{"$f":"CI66+CI73","v":2010.8777815898525},"L",null,null,null,null,null,null,null,null,"ABS","%",{"$f":"$O74","v":0.26600000000000001},"$",{"$f":"CW66+CW73","v":1752.4056772255744},"L",null,null,null,null,null,null,null,null,"ABS","%",{"$f":"$AC74","v":0.26600000000000001},"$",{"$f":"DK66+DK73","v":1403.6120138724054},"L",null,null,null,null,null,null,null,null,"ABS","%",{"$f":"$AQ74","v":0.26600000000000001},"$",{"$f":"DY66+DY73","v":2112.5521173530346},"L",null,null,null,null,null,null,null,null,"ABS","%",{"$f":"$O74","v":0.26600000000000001},"$",{"$f":"EM66+EM73","v":1111.0095286377132},"L",null,null,null,null,null,null,null,null,"ABS","%",{"$f":"$AC74","v":0.26600000000000001},"$",{"$f":"FA66+FA73","v":1872.175221649778},"L",null,null,null,null,null,null,null,null,"ABS","%",{"$f":"$AQ74","v":0.26600000000000001},"$",{"$f":"FO66+FO73","v":2555.9112509682409},"L"]
[]
[]
[]
[null,null,null,null,null,null,null,null,null,null,null,"2012-2016","INC","%",{"$f":"1-((1-O79)/(1-O71))","v":0},"$",0,0,null,null,null,null,null,null,null,"2012-2016","INC","%",{"$f":"1-((1-AC79)/(1-AC71))","v":0},"$",0,0,null,null,null,null,null,null,null,"2012-2016","INC","%",{"$f":"1-((1-AQ79)/(1-AQ71))","v":0},"$",0,0,null,null,null,null,null,null,null,"2012-2016","INC","%",{"$f":"1-((1-BE79)/(1-BE71))","v":0},"$",{"$f":"$Q$78","v":0},{"$f":"$R$78","v":0},null,null,null,null,null,null,null,"2012-2016","INC","%",{"$f":"1-((1-BS79)/(1-BS71))","v":0},"$",{"$f":"$AE$78","v":0},{"$f":"$AF$78","v":0},null,null,null,null,null,null,null,"2012-2016","INC","%",{"$f":"1-((1-CG79)/(1-CG71))","v":0},"$",{"$f":"$AS$78","v":0},{"$f":"$AT$78","v":0},null,null,null,null,null,null,null,"2012-2016","INC","%",{"$f":"1-((1-CU79)/(1-CU71))","v":0},"$",{"$f":"$Q$78","v":0},{"$f":"$R$78","v":0},null,null,null,null,null,null,null,"2012-2016","INC","%",{"$f":"1-((1-DI79)/(1-DI71))","v":0},"$",{"$f":"$AE$78","v":0},{"$f":"$AF$78","v":0},null,null,null,null,null,null,null,"2012-2016","INC","%",{"$f":"1-((1-DW79)/(1-DW71))","v":0},"$",{"$f":"$AS$78","v":0},{"$f":"$AT$78","v":0},null,null,null,null,null,null,null,"2012-2016","INC","%",{"$f":"1-((1-EK79)/(1-EK71))","v":0},"$",{"$f":"$Q$78","v":0},{"$f":"$R$78","v":0},null,null,null,null,null,null,null,"2012-2016","INC","%",{"$f":"1-((1-EY79)/(1-EY71))","v":0},"$",{"$f":"$AE$78","v":0},{"$f":"$AF$78","v":0},null,null,null,null,null,null,null,"2012-2016","INC","%",{"$f":"1-((1-FM79)/(1-FM71))","v":0},"$",{"$f":"$AS$78","v":0},{"$f":"$AT$78","v":0}]
[null,null,null,null,null,null,null,null,null,null,null,null,"ABS","%",{"$f":"O71","v":0.2026353820403769},"$",{"$f":"Q71+Q78","v":1184.6965628407361},"L",null,null,null,null,null,null,null,null,"ABS","%",{"$f":"AC71","v":0.20194825549738227},"$",{"$f":"AE71+AE78","v":735.36509429306989},"L",null,null,null,null,null,null,null,null,"ABS","%",{"$f":"AQ71","v":0.20194825549738227},"$",{"$f":"AS71+AS78","v":1288.1138190951174},"L",null,null,null,null,null,null,null,null,"ABS","%",{"$f":"BE71","v":0.20889286821241593},"$",{"$f":"BG71+BG78","v":1251.4013275208067},"L",null,null,null,null,null,null,null,null,"ABS","%",{"$f":"BS71","v":0.20194825549738227},"$",{"$f":"BU71+BU78","v":674.9282225487251},"L",null,null,null,null,null,null,null,null,"ABS","%",{"$f":"CG71","v":0.20194825549738227},"$",{"$f":"CI71+CI78","v":1214.1073069379283},"L",null,null,null,null,null,null,null,null,"ABS","%",{"$f":"CU71","v":0.20194825549738216},"$",{"$f":"CW71+CW78","v":1353.0756632839893},"L",null,null,null,null,null,null,null,null,"ABS","%",{"$f":"DI71","v":0.20194825549738216},"$",{"$f":"DK71+DK78","v":776.6025583119075},"L",null,null,null,null,null,null,null,null,"ABS","%",{"$f":"DW71","v":0.20194825549738216},"$",{"$f":"DY71+DY78","v":1315.7816427011107},"L",null,null,null,null,null,null,null,null,"ABS","%",{"$f":"EK71","v":0.23655644174781021},"$",{"$f":"EM71+EM78","v":711.67951469612831},"L",null,null,null,null,null,null,null,null,"ABS","%",{"$f":"EY71","v":0.17517757009345791},"$",{"$f":"FA71+FA78","v":1245.1657660892802},"L",null,null,null,null,null,null,null,null,"ABS","%",{"$f":"FM71","v":0.17517757009345791},"$",{"$f":"FO71+FO78","v":1759.140776316317},"L"]
[null,null,null,null,null,null,null,null,null,null,null,null,"CEGR2_SD_TB","Cooled EGR 2\n(CEGR2_SD) - TBL",null,null,null,null,"CEGR2_SD_DS",null,null,null,null,null,null,null,"CEGR2_MD_TB","Cooled EGR 2\n(CEGR2_MD) - TBL",null,null,null,null,"CEGR2_MD_DS",null,null,null,null,null,null,null,"CEGR2_LD_TB","Cooled EGR 2\n(CEGR2_LD) - TBL",null,null,null,null,"CEGR2_LD_DS",null,null,null,null,null,null,null,"CEGR2_SD_TB",{"$f":"$N$80","v":"Cooled EGR 2\n(CEGR2_SD) - TBL"},null,null,null,null,"CEGR2_SD_DS",null,null,null,null,null,null,null,"CEGR2_MD_TB",{"$f":"$AB$80","v":"Cooled EGR 2\n(CEGR2_MD) - TBL"},null,null,null,null,"CEGR2_MD_DS",null,null,null,null,null,null,null,"CEGR2_LD_TB",{"$f":"$AP$80","v":"Cooled EGR 2\n(CEGR2_LD) - TBL"},null,null,null,null,"CEGR2_LD_DS",null,null,null,null,null,null,null,"CEGR2_SD_TB",{"$f":"$N$80","v":"Cooled EGR 2\n(CEGR2_SD) - TBL"},null,null,null,null,"CEGR2_SD_DS",null,null,null,null,null,null,null,"CEGR2_MD_TB",{"$f":"$AB$80","v":"Cooled EGR 2\n(CEGR2_MD) - TBL"},null,null,null,null,"CEGR2_MD_DS",null,null,null,null,null,null,null,"CEGR2_LD_TB",{"$f":"$AP$80","v":"Cooled EGR 2\n(CEGR2_LD) - TBL"},null,null,null,null,"CEGR2_LD_DS",null,null,null,null,null,null,null,"CEGR2_SD_TB",{"$f":"$N$80","v":"Cooled EGR 2\n(CEGR2_SD) - TBL"},null,null,null,null,"CEGR2_SD_DS",null,null,null,null,null,null,null,"CEGR2_MD_TB",{"$f":"$AB$80","v":"Cooled EGR 2\n(CEGR2_MD) - TBL"},null,null,null,null,"CEGR2_MD_DS",null,null,null,null,null,null,null,"CEGR2_LD_TB",{"$f":"$AP$80","v":"Cooled EGR 2\n(CEGR2_LD) - TBL"},null,null,null,null,"CEGR2_LD_DS"]
[null,"STOP",null,null,null,null,null,null,null,null,null,"2017+","INC","%",{"$f":"1-((1-O82)/(1-O74))","v":1.0899182561307952E-2},"$",{"$f":"INDEX('[1]Midsize LT'!$H$379:$X$467,MATCH(M80,'[1]Midsize LT'!$C$379:$C$467,0),MATCH(Inputs!$C$2,'[1]Midsize LT'!$H$378:$X$378,0))\n+INDEX('[1]Midsize LT'!$H$379:$X$467,MATCH(S80,'[1]Midsize LT'!$C$379:$C$467,0),MATCH(Inputs!$C$2,'[1]Midsize LT'!$H$378:$X$378,0))","v":495.18737698870899},10,null,null,null,null,null,null,null,"2017+","INC","%",{"$f":"1-((1-AC82)/(1-AC74))","v":1.0899182561307952E-2},"$",{"$f":"INDEX('[1]Midsize LT'!$H$379:$X$467,MATCH(AA80,'[1]Midsize LT'!$C$379:$C$467,0),MATCH(Inputs!$C$2,'[1]Midsize LT'!$H$378:$X$378,0))\n+INDEX('[1]Midsize LT'!$H$379:$X$467,MATCH(AG80,'[1]Midsize LT'!$C$379:$C$467,0),MATCH(Inputs!$C$2,'[1]Midsize LT'!$H$378:$X$378,0))","v":495.18737698870899},10,null,null,null,null,null,null,null,"2017+","INC","%",{"$f":"1-((1-AQ82)/(1-AQ74))","v":1.0899182561307952E-2},"$",{"$f":"INDEX('[1]Midsize LT'!$H$379:$X$467,MATCH(AO80,'[1]Midsize LT'!$C$379:$C$467,0),MATCH(Inputs!$C$2,'[1]Midsize LT'!$H$378:$X$378,0))\n+INDEX('[1]Midsize LT'!$H$379:$X$467,MATCH(AU80,'[1]Midsize LT'!$C$379:$C$467,0),MATCH(Inputs!$C$2,'[1]Midsize LT'!$H$378:$X$378,0))","v":-296.67298355204559},10,null,null,null,null,null,null,null,"2017+","INC","%",{"$f":"$O$81","v":1.0899182561307952E-2},"$",{"$f":"$Q$81","v":495.18737698870899},{"$f":"$R$81","v":10},null,null,null,null,null,null,null,"2017+","INC","%",{"$f":"$AC$81","v":1.0899182561307952E-2},"$",{"$f":"$AE$81","v":495.18737698870899},{"$f":"$AF$81","v":10},null,null,null,null,null,null,null,"2017+","INC","%",{"$f":"$AQ$81","v":1.0899182561307952E-2},"$",{"$f":"$AS$81","v":-296.67298355204559},{"$f":"$AT$81","v":10},null,null,null,null,null,null,null,"2017+","INC","%",{"$f":"$O$81","v":1.0899182561307952E-2},"$",{"$f":"$Q$81","v":495.18737698870899},{"$f":"$R$81","v":10},null,null,null,null,null,null,null,"2017+","INC","%",{"$f":"$AC$81","v":1.0899182561307952E-2},"$",{"$f":"$AE$81","v":495.18737698870899},{"$f":"$AF$81","v":10},null,null,null,null,null,null,null,"2017+","INC","%",{"$f":"$AQ$81","v":1.0899182561307952E-2},"$",{"$f":"$AS$81","v":-296.67298355204559},{"$f":"$AT$81","v":10},null,null,null,null,null,null,null,"2017+","INC","%",{"$f":"$O$81","v":1.0899182561307952E-2},"$",{"$f":"$Q$81","v":495.18737698870899},{"$f":"$R$81","v":10},null,null,null,null,null,null,null,"2017+","INC","%",{"$f":"$AC$81","v":1.0899182561307952E-2},"$",{"$f":"$AE$81","v":495.18737698870899},{"$f":"$AF$81","v":10},null,null,null,null,null,null,null,"2017+","INC","%",{"$f":"$AQ$81","v":1.0899182561307952E-2},"$",{"$f":"$AS$81","v":-296.67298355204559},{"$f":"$AT$81","v":10}]
["Diesel Engine Type","I4",null,null,null,null,null,null,null,null,null,null,"ABS","%",0.27400000000000002,"$",{"$f":"Q74+Q81","v":2079.21395377103},"L",null,null,null,null,null,null,null,null,"ABS","%",{"$f":"O82","v":0.27400000000000002},"$",{"$f":"AE74+AE81","v":1857.5619268422768},"L",null,null,null,null,null,null,null,null,"ABS","%",{"$f":"O82","v":0.27400000000000002},"$",{"$f":"AS74+AS81","v":1788.2113101949958},"L",null,null,null,null,null,null,null,null,"ABS","%",{"$f":"1-((1-BE74)*(1-BE81))","v":0.27400000000000002},"$",{"$f":"BG74+BG81","v":2145.9187184511006},"L",null,null,null,null,null,null,null,null,"ABS","%",{"$f":"$O82","v":0.27400000000000002},"$",{"$f":"BU74+BU81","v":1797.1250550979319},"L",null,null,null,null,null,null,null,null,"ABS","%",{"$f":"$AQ82","v":0.27400000000000002},"$",{"$f":"CI74+CI81","v":1714.204798037807},"L",null,null,null,null,null,null,null,null,"ABS","%",{"$f":"$O82","v":0.27400000000000002},"$",{"$f":"CW74+CW81","v":2247.5930542142833},"L",null,null,null,null,null,null,null,null,"ABS","%",{"$f":"$AC82","v":0.27400000000000002},"$",{"$f":"DK74+DK81","v":1898.7993908611145},"L",null,null,null,null,null,null,null,null,"ABS","%",{"$f":"$AQ82","v":0.27400000000000002},"$",{"$f":"DY74+DY81","v":1815.8791338009892},"L",null,null,null,null,null,null,null,null,"ABS","%",{"$f":"$O82","v":0.27400000000000002},"$",{"$f":"EM74+EM81","v":1606.1969056264222},"L",null,null,null,null,null,null,null,null,"ABS","%",{"$f":"$AC82","v":0.27400000000000002},"$",{"$f":"FA74+FA81","v":2367.3625986384868},"L",null,null,null,null,null,null,null,null,"ABS","%",{"$f":"$AQ82","v":0.27400000000000002},"$",{"$f":"FO74+FO81","v":2259.2382674161954},"L"]
["Displacement [L]","1.5 to 2.0"]
["Turbocharger","VNT"]
["EGR system","cooler+vlv+bypass vlv"]
["FIE","HPCR 1800bar solenoid",null,null,"2012-2016","INC","%",{"$f":"1-((1-H87)/(1-O79))","v":0},"$",0,"L","2012-2016","INC","%",0,"$",0,0,"2012-2016","INC","%",{"$f":"1-((1-V87)/(1-AC79))","v":0},"$",0,"L","2012-2016","INC","%",0,"$",0,0,"2012-2016","INC","%",{"$f":"1-((1-AJ87)/(1-AQ79))","v":0},"$",0,"L","2012-2016","INC","%",0,"$",0,0,"2012-2016","INC","%",{"$f":"1-((1-AX87)/(1-BE79))","v":-7.9097835433483699E-3},"$",0,"L","2012-2016","INC","%",0,"$",0,0,"2012-2016","INC","%",{"$f":"1-((1-BL87)/(1-BS79))","v":0},"$",0,"L","2012-2016","INC","%",0,"$",0,0,"2012-2016","INC","%",{"$f":"1-((1-BZ87)/(1-CG79))","v":0},"$",0,"L","2012-2016","INC","%",0,"$",0,0,"2012-2016","INC","%",{"$f":"1-((1-CN87)/(1-CU79))","v":8.6100500090124932E-4},"$",0,"L","2012-2016","INC","%",0,"$",0,0,"2012-2016","INC","%",{"$f":"1-((1-DB87)/(1-DI79))","v":0},"$",0,"L","2012-2016","INC","%",0,"$",0,0,"2012-2016","INC","%",{"$f":"1-((1-DP87)/(1-DW79))","v":0},"$",0,"L","2012-2016","INC","%",0,"$",0,0,"2012-2016","INC","%",{"$f":"1-((1-ED87)/(1-EK79))","v":-4.4431653579069197E-2},"$",0,"L","2012-2016","INC","%",0,"$",0,0,"2012-2016","INC","%",{"$f":"1-((1-ER87)/(1-EY79))","v":3.2456301421092126E-2},"$",0,"L","2012-2016","INC","%",0,"$",0,0,"2012-2016","INC","%",{"$f":"1-((1-FF87)/(1-FM79))","v":3.2456301421092126E-2},"$",0,"L","2012-2016","INC","%",0,"$",0,0]
["Valvetrain","4-valve DOHC",null,null,null,"ABS","%",{"$f":"O79","v":0.2026353820403769},"$",{"$f":"J86+Q79","v":1184.6965628407361},150,null,"ABS","%",{"$f":"1-((1-O79)*(1-O86))","v":0.2026353820403769},"$",{"$f":"Q79+Q86","v":1184.6965628407361},"L",null,"ABS","%",{"$f":"AC79","v":0.20194825549738227},"$",{"$f":"X86+AE79","v":735.36509429306989},200,null,"ABS","%",{"$f":"1-((1-AC79)*(1-AC86))","v":0.20194825549738227},"$",{"$f":"AE79+AE86","v":735.36509429306989},"L",null,"ABS","%",{"$f":"AQ79","v":0.20194825549738227},"$",{"$f":"AL86+AS79","v":1288.1138190951174},500,null,"ABS","%",{"$f":"1-((1-AQ79)*(1-AQ86))","v":0.20194825549738227},"$",{"$f":"AS79+AS86","v":1288.1138190951174},"L",null,"ABS","%",{"$f":"$H$87","v":0.2026353820403769},"$",{"$f":"AZ86+BG79","v":1251.4013275208067},{"$f":"$K$87","v":150},null,"ABS","%",{"$f":"1-((1-BE79)*(1-BE86))","v":0.20889286821241593},"$",{"$f":"BG79+BG86","v":1251.4013275208067},"L",null,"ABS","%",{"$f":"$V$87","v":0.20194825549738227},"$",{"$f":"BN86+BU79","v":674.9282225487251},{"$f":"$Y$87","v":200},null,"ABS","%",{"$f":"1-((1-BS79)*(1-BS86))","v":0.20194825549738227},"$",{"$f":"BU79+BU86","v":674.9282225487251},"L",null,"ABS","%",{"$f":"$AJ$87","v":0.20194825549738227},"$",{"$f":"CB86+CI79","v":1214.1073069379283},{"$f":"$AM$87","v":500},null,"ABS","%",{"$f":"1-((1-CG79)*(1-CG86))","v":0.20194825549738227},"$",{"$f":"CI79+CI86","v":1214.1073069379283},"L",null,"ABS","%",{"$f":"$H$87","v":0.2026353820403769},"$",{"$f":"CP86+CW79","v":1353.0756632839893},{"$f":"$K$87","v":150},null,"ABS","%",{"$f":"1-((1-CU79)*(1-CU86))","v":0.20194825549738216},"$",{"$f":"CW79+CW86","v":1353.0756632839893},"L",null,"ABS","%",{"$f":"$V$87","v":0.20194825549738227},"$",{"$f":"DD86+DK79","v":776.6025583119075},{"$f":"$Y$87","v":200},null,"ABS","%",{"$f":"1-((1-DI79)*(1-DI86))","v":0.20194825549738216},"$",{"$f":"DK79+DK86","v":776.6025583119075},"L",null,"ABS","%",{"$f":"$AJ$87","v":0.20194825549738227},"$",{"$f":"DR86+DY79","v":1315.7816427011107},{"$f":"$AM$87","v":500},null,"ABS","%",{"$f":"1-((1-DW79)*(1-DW86))","v":0.20194825549738216},"$",{"$f":"DY79+DY86","v":1315.7816427011107},"L",null,"ABS","%",{"$f":"$H$87","v":0.2026353820403769},"$",{"$f":"EF86+EM79","v":711.67951469612831},{"$f":"$K$87","v":150},null,"ABS","%",{"$f":"1-((1-EK79)*(1-EK86))","v":0.23655644174781021},"$",{"$f":"EM79+EM86","v":711.67951469612831},"L",null,"ABS","%",{"$f":"$V$87","v":0.20194825549738227},"$",{"$f":"ET86+FA79","v":1245.1657660892802},{"$f":"$Y$87","v":200},null,"ABS","%",{"$f":"1-((1-EY79)*(1-EY86))","v":0.17517757009345791},"$",{"$f":"FA79+FA86","v":1245.1657660892802},"L",null,"ABS","%",{"$f":"$AJ$87","v":0.20194825549738227},"$",{"$f":"FH86+FO79","v":1759.140776316317},{"$f":"$AM$87","v":500},null,"ABS","%",{"$f":"1-((1-FM79)*(1-FM86))","v":0.17517757009345791},"$",{"$f":"FO79+FO86","v":1759.140776316317},"L"]
["Valvetrain option","N/A",null,null,null,null,"Advanced Diesel\n(ADSL_SD) - TBL",null,null,null,null,"ADSL_SD",null,"To Strong Hybrids",null,null,null,null,null,null,"Advanced Diesel\n(ADSL_MD) - TBL",null,null,null,null,"ADSL_MD",null,"To Strong Hybrids",null,null,null,null,null,null,"Advanced Diesel\n(ADSL_LD) - TBL",null,null,null,null,"ADSL_LD",null,"To Strong Hybrids",null,null,null,null,null,null,"Advanced Diesel\n(ADSL_SD) - TBL",null,null,null,null,"ADSL_SD",null,"To Strong Hybrids",null,null,null,null,null,null,"Advanced Diesel\n(ADSL_MD) - TBL",null,null,null,null,"ADSL_SD",null,"To Strong Hybrids",null,null,null,null,null,null,"Advanced Diesel\n(ADSL_LD) - TBL",null,null,null,null,"ADSL_SD",null,"To Strong Hybrids",null,null,null,null,null,null,"Advanced Diesel\n(ADSL_SD) - TBL",null,null,null,null,"ADSL_SD",null,"To Strong Hybrids",null,null,null,null,null,null,"Advanced Diesel\n(ADSL_MD) - TBL",null,null,null,null,"ADSL_SD",null,"To Strong Hybrids",null,null,null,null,null,null,"Advanced Diesel\n(ADSL_LD) - TBL",null,null,null,null,"ADSL_SD",null,"To Strong Hybrids",null,null,null,null,null,null,"Advanced Diesel\n(ADSL_SD) - TBL",null,null,null,null,"ADSL_SD",null,"To Strong Hybrids",null,null,null,null,null,null,"Advanced Diesel\n(ADSL_MD) - TBL",null,null,null,null,"ADSL_SD",null,"To Strong Hybrids",null,null,null,null,null,null,"Advanced Diesel\n(ADSL_LD) - TBL",null,null,null,null,"ADSL_SD",null,"To Strong Hybrids"]
["After Treatment","DOC+LNT+DPF",null,null,"2017+","INC","%",{"$f":"1-((1-H90)/(1-O82))","v":3.4435261707988829E-2},"$",{"$f":"INDEX('[1]Midsize LT'!$H$379:$X$467,MATCH(L88,'[1]Midsize LT'!$C$379:$C$467,0),MATCH(Inputs!$C$2,'[1]Midsize LT'!$H$378:$X$378,0))","v":911.04083256975923},"L","2017+","INC","%",0,"$",{"$f":"Q86","v":0},0,"2017+","INC","%",{"$f":"1-((1-V90)/(1-AC82))","v":3.4435261707988829E-2},"$",{"$f":"INDEX('[1]Midsize LT'!$H$379:$X$467,MATCH(Z88,'[1]Midsize LT'!$C$379:$C$467,0),MATCH(Inputs!$C$2,'[1]Midsize LT'!$H$378:$X$378,0))","v":927.85441038425756},"L","2017+","INC","%",0,"$",{"$f":"AE86","v":0},0,"2017+","INC","%",{"$f":"1-((1-AJ90)/(1-AQ82))","v":3.4435261707988829E-2},"$",{"$f":"INDEX('[1]Midsize LT'!$H$379:$X$467,MATCH(AN88,'[1]Midsize LT'!$C$379:$C$467,0),MATCH(Inputs!$C$2,'[1]Midsize LT'!$H$378:$X$378,0))","v":1811.581549062259},"L","2017+","INC","%",0,"$",{"$f":"AS86","v":0},0,"2017+","INC","%",{"$f":"1-((1-AX90)/(1-BE82))","v":3.4435261707988829E-2},"$",{"$f":"$J$89","v":911.04083256975923},"L","2017+","INC","%",0,"$",{"$f":"BG86","v":0},0,"2017+","INC","%",{"$f":"1-((1-BL90)/(1-BS82))","v":3.4435261707988829E-2},"$",{"$f":"$X$89","v":927.85441038425756},"L","2017+","INC","%",0,"$",{"$f":"BU86","v":0},0,"2017+","INC","%",{"$f":"1-((1-BZ90)/(1-CG82))","v":3.4435261707988829E-2},"$",{"$f":"$AL$89","v":1811.581549062259},"L","2017+","INC","%",0,"$",{"$f":"CI86","v":0},0,"2017+","INC","%",{"$f":"1-((1-CN90)/(1-CU82))","v":3.4435261707988829E-2},"$",{"$f":"$J$89","v":911.04083256975923},"L","2017+","INC","%",0,"$",{"$f":"CW86","v":0},0,"2017+","INC","%",{"$f":"1-((1-DB90)/(1-DI82))","v":3.4435261707988829E-2},"$",{"$f":"$X$89","v":927.85441038425756},"L","2017+","INC","%",0,"$",{"$f":"DK86","v":0},0,"2017+","INC","%",{"$f":"1-((1-DP90)/(1-DW82))","v":3.4435261707988829E-2},"$",{"$f":"$AL$89","v":1811.581549062259},"L","2017+","INC","%",0,"$",{"$f":"DY86","v":0},0,"2017+","INC","%",{"$f":"1-((1-ED90)/(1-EK82))","v":3.4435261707988829E-2},"$",{"$f":"$J$89","v":911.04083256975923},"L","2017+","INC","%",0,"$",{"$f":"EM86","v":0},0,"2017+","INC","%",{"$f":"1-((1-ER90)/(1-EY82))","v":3.4435261707988829E-2},"$",{"$f":"$X$89","v":927.85441038425756},"L","2017+","INC","%",0,"$",{"$f":"FA86","v":0},0,"2017+","INC","%",{"$f":"1-((1-FF90)/(1-FM82))","v":3.4435261707988829E-2},"$",{"$f":"$AL$89","v":1811.581549062259},"L","2017+","INC","%",0,"$",{"$f":"FO86","v":0},0]
[null,null,null,null,null,"ABS","%",0.29899999999999999,"$",{"$f":"Q82+J89","v":2990.254786340789},150,null,"ABS","%",{"$f":"1-((1-O82)*(1-O89))","v":0.27400000000000002},"$",{"$f":"Q82+Q89","v":2079.21395377103},"L",null,"ABS","%",{"$f":"H90","v":0.29899999999999999},"$",{"$f":"AE82+X89","v":2785.4163372265343},200,null,"ABS","%",{"$f":"1-((1-AC82)*(1-AC89))","v":0.27400000000000002},"$",{"$f":"AE82+AE89","v":1857.5619268422768},"L",null,"ABS","%",{"$f":"H90","v":0.29899999999999999},"$",{"$f":"AS82+AL89","v":3599.7928592572548},500,null,"ABS","%",{"$f":"1-((1-AQ82)*(1-AQ89))","v":0.27400000000000002},"$",{"$f":"AS82+AS89","v":1788.2113101949958},"L",null,"ABS","%",{"$f":"$H$90","v":0.29899999999999999},"$",{"$f":"$J$90","v":2990.254786340789},{"$f":"$K$90","v":150},null,"ABS","%",{"$f":"1-((1-BE82)*(1-BE89))","v":0.27400000000000002},"$",{"$f":"BG82+BG89","v":2145.9187184511006},"L",null,"ABS","%",{"$f":"$V$90","v":0.29899999999999999},"$",{"$f":"$X$90","v":2785.4163372265343},{"$f":"$Y$90","v":200},null,"ABS","%",{"$f":"1-((1-BS82)*(1-BS89))","v":0.27400000000000002},"$",{"$f":"BU82+BU89","v":1797.1250550979319},"L",null,"ABS","%",{"$f":"$AJ$90","v":0.29899999999999999},"$",{"$f":"$AL$90","v":3599.7928592572548},{"$f":"$AM$90","v":500},null,"ABS","%",{"$f":"1-((1-CG82)*(1-CG89))","v":0.27400000000000002},"$",{"$f":"CI82+CI89","v":1714.204798037807},"L",null,"ABS","%",{"$f":"$H$90","v":0.29899999999999999},"$",{"$f":"$J$90","v":2990.254786340789},{"$f":"$K$90","v":150},null,"ABS","%",{"$f":"1-((1-CU82)*(1-CU89))","v":0.27400000000000002},"$",{"$f":"CW82+CW89","v":2247.5930542142833},"L",null,"ABS","%",{"$f":"$V$90","v":0.29899999999999999},"$",{"$f":"$X$90","v":2785.4163372265343},{"$f":"$Y$90","v":200},null,"ABS","%",{"$f":"1-((1-DI82)*(1-DI89))","v":0.27400000000000002},"$",{"$f":"DK82+DK89","v":1898.7993908611145},"L",null,"ABS","%",{"$f":"$AJ$90","v":0.29899999999999999},"$",{"$f":"$AL$90","v":3599.7928592572548},{"$f":"$AM$90","v":500},null,"ABS","%",{"$f":"1-((1-DW82)*(1-DW89))","v":0.27400000000000002},"$",{"$f":"DY82+DY89","v":1815.8791338009892},"L",null,"ABS","%",{"$f":"$H$90","v":0.29899999999999999},"$",{"$f":"$J$90","v":2990.254786340789},{"$f":"$K$90","v":150},null,"ABS","%",{"$f":"1-((1-EK82)*(1-EK89))","v":0.27400000000000002},"$",{"$f":"EM82+EM89","v":1606.1969056264222},"L",null,"ABS","%",{"$f":"$V$90","v":0.29899999999999999},"$",{"$f":"$X$90","v":2785.4163372265343},{"$f":"$Y$90","v":200},null,"ABS","%",{"$f":"1-((1-EY82)*(1-EY89))","v":0.27400000000000002},"$",{"$f":"FA82+FA89","v":2367.3625986384868},"L",null,"ABS","%",{"$f":"$AJ$90","v":0.29899999999999999},"$",{"$f":"$AL$90","v":3599.7928592572548},{"$f":"$AM$90","v":500},null,"ABS","%",{"$f":"1-((1-FM82)*(1-FM89))","v":0.27400000000000002},"$",{"$f":"FO82+FO89","v":2259.2382674161954},"L"]
[]
[]
[]
[]
[]
[]
[]
["Expanded Trans/Hybrid Technology Decision Tree"]
[]
[]
[null,null,null,null,"Electrification",null,null,null,null,null,null,null,null,null,null,null,null,null,null,null,null,"Manual Trans",null,null,null,null,null,null,null,null,null,null,null,"Auto Trans"]
[]
[null,"START",null,null,"2012-2016","INC","%",0.01,"$",{"$f":"INDEX('[1]Midsize LT'!$H$379:$X$467,MATCH(L105,'[1]Midsize LT'!$C$379:$C$467,0),MATCH(Inputs!$C$2,'[1]Midsize LT'!$H$378:$X$378,0))","v":98.103282519162363},95.93,null,null,null,"START",null,null,null,"2012-2016","INC","%",2.24E-2,"$",{"$f":"INDEX('[1]Midsize LT'!$H$379:$X$467,MATCH(Z105,'[1]Midsize LT'!$C$379:$C$467,0),MATCH(Inputs!$C$2,'[1]Midsize LT'!$H$378:$X$378,0))","v":250.31750824336308},225.33,null,null,null,"START",null,null,null,"2012-2016","INC","%",2.9000000000000001E-2,"$",{"$f":"INDEX('[1]Midsize LT'!$H$379:$X$467,MATCH(AN105,'[1]Midsize LT'!$C$379:$C$467,0),MATCH(Inputs!$C$2,'[1]Midsize LT'!$H$378:$X$378,0))","v":55.807948333210945},54.17]
["Curb Weight (lbs)",4260,null,null,null,"ABS","%",{"$f":"H103","v":0.01},"$",{"$f":"J103","v":98.103282519162363},"L",null,null,null,"5-spd",null,null,null,null,"ABS","%",{"$f":"V103","v":2.24E-2},"$",{"$f":"X103","v":250.31750824336308},"L",null,null,null,"4/5-spd",null,null,null,null,"ABS","%",{"$f":"AJ103","v":2.9000000000000001E-2},"$",{"$f":"AL103","v":55.807948333210945},"L"]
["Engine Displacement [L]",3.6,null,null,null,null,"Electric Power\nSteering (EPS) - TBL",null,null,null,null,"EPS",null,null,"Manual",null,null,null,null,null,"6 Speed Man/Imp.\nInternals (6MAN) - TBL",null,null,null,null,"6MAN",null,null,"Auto",null,null,null,null,null,"Imp. Auto Trans Cnrt./\nExternals (IATC) - TBL",null,null,null,null,"IATC"]
["Engine Power (HP)",249.5,null,null,"2017+","INC","%",{"$f":"H103","v":0.01},"$",{"$f":"J103","v":98.103282519162363},{"$f":"K103","v":95.93},null,null,null,null,null,null,null,"2017+","INC","%",2.24E-2,"$",{"$f":"X103","v":250.31750824336308},225.33,null,null,null,null,null,null,null,"2017+","INC","%",{"$f":"AJ103","v":2.9000000000000001E-2},"$",{"$f":"AL103","v":55.807948333210945},54.17]
["Engine Torque (ft-lbf)",256,null,null,null,"ABS","%",{"$f":"H106","v":0.01},"$",{"$f":"J106","v":98.103282519162363},"L",null,null,null,null,null,null,null,null,"ABS","%",{"$f":"V106","v":2.24E-2},"$",{"$f":"X106","v":250.31750824336308},"L",null,null,null,null,null,null,null,null,"ABS","%",{"$f":"AJ106","v":2.9000000000000001E-2},"$",{"$f":"AL106","v":55.807948333210945},"L"]
["Footprint (ft2)",50.2]
[]
[]
[null,null,null,null,"2012-2016","INC","%",{"$f":"1-((1-H112)/(1-H104))","v":9.0909090909091494E-3},"$",{"$f":"INDEX('[1]Midsize LT'!$H$379:$X$467,MATCH(L113,'[1]Midsize LT'!$C$379:$C$467,0),MATCH(Inputs!$C$2,'[1]Midsize LT'!$H$378:$X$378,0))","v":79.784981333734891},115.2,null,null,null,null,null,null,null,"2012-2016","INC","%",0,"$",0,100.55,null,null,null,null,null,null,null,"2012-2016","INC","%",{"$f":"1-((1-AJ112)/(1-AJ104))","v":2.0269352813748753E-2},"$",{"$f":"INDEX('[1]Midsize LT'!$H$379:$X$467,MATCH(AN113,'[1]Midsize LT'!$C$379:$C$467,0),MATCH(Inputs!$C$2,'[1]Midsize LT'!$H$378:$X$378,0))","v":-37.91558007744085},100.55]
[null,null,null,null,null,"ABS","%",1.9E-2,"$",{"$f":"J104+J111","v":177.88826385289724},"L",null,null,null,null,null,null,null,null,"ABS","%",{"$f":"V104","v":2.24E-2},"$",{"$f":"X111+X104","v":250.31750824336308},"L",null,null,null,null,null,null,null,null,"ABS","%",{"$f":"1-((1-6.2%)/(1-1.4%))","v":4.8681541582150101E-2},"$",{"$f":"AL111+AL104","v":17.892368255770094},"L"]
[null,null,null,null,null,null,"Improved Accessories 1\n(IACC1) - TBL",null,null,null,null,"IACC1",null,null,"From Engine Path\n2012-2016 ",null,null,null,null,null,"High Eff. Gearbox \n(Manual) -  (HETRANSM) - TBL",null,null,null,null,"HETRANS",null,null,null,null,null,null,null,null,"6-spd Auto Trans w/Imp\nInternals (NAUTO) - TBL",null,null,null,null,"NAUTO"]
[null,null,null,null,"2017+","INC","%",{"$f":"1-((1-H115)/(1-H107))","v":9.0909090909091494E-3},"$",{"$f":"J111","v":79.784981333734891},{"$f":"K111","v":115.2},null,null,null,null,null,null,null,"2017+","INC","%",{"$f":"1-((1-V115)/(1-V107))","v":3.7081046699233955E-2},"$",{"$f":"INDEX('[1]Midsize LT'!$H$379:$X$467,MATCH(Z113,'[1]Midsize LT'!$C$379:$C$467,0),MATCH(Inputs!$C$2,'[1]Midsize LT'!$H$378:$X$378,0))","v":227.42624881754446},10,null,null,null,null,null,null,null,"2017+","INC","%",{"$f":"1-((1-AJ115)/(1-AJ107))","v":2.0269352813748753E-2},"$",{"$f":"AL111","v":-37.91558007744085},10]
[null,null,null,null,null,"ABS","%",{"$f":"H112","v":1.9E-2},"$",{"$f":"J107+J114","v":177.88826385289724},"L",null,null,null,null,null,null,null,null,"ABS","%",{"$f":"1-((1-7.23%)/(1-1.45%))","v":5.8650431253171043E-2},"$",{"$f":"X107+X114","v":477.74375706090757},"L",null,null,null,null,null,null,null,null,"ABS","%",{"$f":"AJ112","v":4.8681541582150101E-2},"$",{"$f":"AL107+AL114","v":17.892368255770094},"L"]
[]
[]
[]
[null,null,null,null,"2012-2016","INC","%",{"$f":"1-((1-H120)/(1-H112))","v":0},"$",0,0,"2012-2016","INC","%",{"$f":"1-((1-O120)/(((1-$O$87)*(1-$H$136)*(1-AJ144))))","v":-3.3374568548334427E-3},"$",{"$f":"INDEX('[1]Midsize LT'!$H$379:$X$467,MATCH(M121,'[1]Midsize LT'!$C$379:$C$467,0),MATCH(Inputs!$C$2,'[1]Midsize LT'!$H$378:$X$378,0))\n+INDEX('[1]Midsize LT'!$H$379:$X$467,MATCH(S121,'[1]Midsize LT'!$C$379:$C$467,0),MATCH(Inputs!$C$2,'[1]Midsize LT'!$H$378:$X$378,0))","v":2191.3651158337243},"L",null,null,null,null,null,null,null,null,null,null,null,null,null,null,"2012-2016","INC","%",0,"$",{"$f":"INDEX('[1]Midsize LT'!$H$379:$X$467,MATCH(AN121,'[1]Midsize LT'!$C$379:$C$467,0),MATCH(Inputs!$C$2,'[1]Midsize LT'!$H$378:$X$378,0))","v":0},-10.47]
[null,null,null,null,null,"ABS","%",{"$f":"H112","v":1.9E-2},"$",{"$f":"J112+J119","v":177.88826385289724},"L",null,"ABS","%",0.34599999999999997,"$",{"$f":"J136+Q119+AE87+AL144","v":4444.6110915619711},33.86,null,null,null,null,null,null,null,null,null,null,null,null,null,null,null,"ABS","%",{"$f":"AJ119+AJ112","v":4.8681541582150101E-2},"$",{"$f":"AL119+AL112","v":17.892368255770094},"L"]
[null,null,null,null,null,null,"Improved Accessories 2\n(IACC2) - TBL",null,null,null,null,"IACC2","SHEV1_B","Strong Hybrid (Powersplit or 2-Mode) (SHEV1) - VBL",null,null,null,null,"SHEV1_NB",null,null,"From Engine Path\n2017+ ",null,null,null,null,null,null,null,null,null,null,null,null,"6-spd Dual Clutch Trans\n(DCT) - TBL",null,null,null,null,"DCT"]
[null,null,null,null,"2017+","INC","%",{"$f":"1-((1-H123)/(1-H115))","v":2.3445463812436285E-2},"$",{"$f":"INDEX('[1]Midsize LT'!$H$379:$X$467,MATCH(L121,'[1]Midsize LT'!$C$379:$C$467,0),MATCH(Inputs!$C$2,'[1]Midsize LT'!$H$378:$X$378,0))","v":50.780571415814975},0,"2017+","INC","%",{"$f":"O119","v":-3.3374568548334427E-3},"$",0,"L",null,null,null,null,null,null,null,null,null,null,null,null,null,null,"2017+","INC","%",{"$f":"1-((1-AJ123)/(1-AJ115))","v":0},"$",{"$f":"AL119","v":0},{"$f":"AM119","v":-10.47}]
[null,null,null,null,null,"ABS","%",4.2000000000000003E-2,"$",{"$f":"J115+J122","v":228.6688352687122},"L",null,"ABS","%",{"$f":"1-(1-O122)*(((1-$O$90)*(1-$H$128)*(1-AJ147)))","v":0.41198525858935209},"$",{"$f":"Q116+Q122","v":0},0,null,null,null,null,null,null,null,null,null,null,null,null,null,null,null,"ABS","%",{"$f":"AJ120","v":4.8681541582150101E-2},"$",{"$f":"AL115+AL122","v":17.892368255770094},"L"]
[]
[]
[]
[null,null,null,null,"2012-2016","INC","%",{"$f":"H130","v":2.087682672233826E-2},"$",{"$f":"INDEX('[1]Midsize LT'!$H$379:$X$467,MATCH(L129,'[1]Midsize LT'!$C$379:$C$467,0),MATCH(Inputs!$C$2,'[1]Midsize LT'!$H$378:$X$378,0))","v":357.89255696596626},259.67,"2012-2016","INC","%","n/a","$","n/a","L","2012-2016","INC","%",{"$f":"1-((1-V128)/(((1-$O$87)*(1-$H$136)*(1-AJ144))))","v":-0.53415513280555582},"$",0,"L",null,null,null,null,null,null,null,"2012-2016","INC","%",{"$f":"1-((1-AJ128)/(1-AJ120))","v":4.9040511727078795E-2},"$",{"$f":"INDEX('[1]Midsize LT'!$H$379:$X$467,MATCH(AN129,'[1]Midsize LT'!$C$379:$C$467,0),MATCH(Inputs!$C$2,'[1]Midsize LT'!$H$378:$X$378,0))","v":69.69840640099504},0]
[null,null,null,null,null,"ABS","%",{"$f":"H127+H120","v":3.9876826722338263E-2},"$",{"$f":"J120+J127","v":535.7808208188635},"L",null,"ABS","%","n/a","$","n/a",0,null,"ABS","%",0,"$",0,0,null,null,null,null,null,null,null,null,"ABS","%",{"$f":"1-((1-10.8%)/(1-1.4%))","v":9.5334685598377211E-2},"$",{"$f":"AL120+AL127","v":87.590774656765134},"M"]
[null,null,null,null,null,null,"12V Micro Hybrid - Stop-Start\n(MHEV) - TBL",null,null,null,null,"MHEV",null,"SHEV1 --> SHEV2",null,null,null,null,null,"SHEV2_B","Strong Hybrid (P2 Parallel or 2-Mode) (SHEV2) - VBL",null,null,null,null,"SHEV2_NB",null,null,null,null,null,null,null,null,"8-spd Trans (Auto or DCT)\n(8SPD) - TBL",null,null,null,null,"8SPD"]
[null,null,null,null,"2017+","INC","%",{"$f":"1-((1-H131)/(1-H123))","v":2.087682672233826E-2},"$",{"$f":"J127","v":357.89255696596626},{"$f":"K127","v":259.67},"2017+","INC","%",{"$f":"1-((1-V131)/(1-O120))","v":0.17125382262996935},"$",{"$f":"Q131-Q120","v":1623.5680642659545},"L","2017+","INC","%",{"$f":"1-((1-V131)/(((1-$O$90)*(1-$H$139)*(1-AJ147))))","v":-3.3253367621357555E-3},"$",{"$f":"INDEX('[1]Midsize LT'!$H$379:$X$467,MATCH(T129,'[1]Midsize LT'!$C$379:$C$467,0),MATCH(Inputs!$C$2,'[1]Midsize LT'!$H$378:$X$378,0))\n+INDEX('[1]Midsize LT'!$H$379:$X$467,MATCH(Z129,'[1]Midsize LT'!$C$379:$C$467,0),MATCH(Inputs!$C$2,'[1]Midsize LT'!$H$378:$X$378,0))","v":2191.3651158337243},"L",null,null,null,null,null,null,null,"2017+","INC","%",{"$f":"1-((1-AJ131)/(1-AJ123))","v":4.9040511727078795E-2},"$",{"$f":"AL127","v":69.69840640099504},10]
[null,null,null,null,null,"ABS","%",6.2E-2,"$",{"$f":"J123+J130","v":586.56139223467846},"L",null,"ABS","%",{"$f":"V131","v":0.45800000000000002},"$",{"$f":"X130+J139+Q90+AL147","v":6068.1791558279256},0,null,"ABS","%",0.45800000000000002,"$",{"$f":"X130+J139+AE90+AL147","v":5846.5271288991726},33.86,null,null,null,null,null,null,null,null,"ABS","%",{"$f":"AJ128","v":9.5334685598377211E-2},"$",{"$f":"AL123+AL130","v":87.590774656765134},"L"]
[]
[]
[]
[null,null,null,null,"2012-2016","INC","%",{"$f":"H138","v":5.6503198294242996E-2},"$",{"$f":"INDEX('[1]Large Perf. PC'!$H$379:$X$467,MATCH(F137,'[1]Large Perf. PC'!$C$379:$C$467,0),MATCH(Inputs!$C$2,'[1]Large Perf. PC'!$H$378:$X$378,0))\n+INDEX('[1]Large Perf. PC'!$H$379:$X$467,MATCH(L137,'[1]Large Perf. PC'!$C$379:$C$467,0),MATCH(Inputs!$C$2,'[1]Large Perf. PC'!$H$378:$X$378,0))","v":894.50928595954747},"L",null,null,null,null,null,null,null,"2012-2016","INC","%",{"$f":"1-((1-V136)/(1-V128))","v":0.35},"$",0,"L",null,null,null,null,null,null,null,"2012-2016","INC","%",{"$f":"1-((1-AJ136)/(1-AJ128))","v":0},"$",0,10]
[null,null,null,null,null,"ABS","%",{"$f":"H135+H128","v":9.6380025016581258E-2},"$",{"$f":"J128+J135","v":1430.290106778411},33.86,null,null,null,null,null,null,null,null,"ABS","%",0.35,"$",{"$f":"X135+X128","v":0},33.86,null,null,null,null,null,null,null,null,"ABS","%",{"$f":"AJ128","v":9.5334685598377211E-2},"$",{"$f":"AL128+AL135","v":87.590774656765134},"L"]
[null,null,null,null,null,"ISG_B","Integrated Starter Generator\n(ISG) - VBL",null,null,null,null,"ISG_NB",null,null,null,null,null,null,null,"PHEV2_B","Plug-in Hybrid - 30 Mile Range  (PHEV1) - VBL",null,null,null,null,"PHEV2_NB",null,null,null,null,null,null,null,null,"High Eff. Gearbox\n(Auto or DCT) -  (HETRANS) - TBL",null,null,null,null,"HETRANS"]
[null,null,null,null,"2017+","INC","%",{"$f":"1-((1-H139)/(1-H131))","v":5.6503198294242996E-2},"$",{"$f":"J135","v":894.50928595954747},"L",null,null,null,null,null,null,null,"2017+","INC","%",0.40649999999999997,"$",{"$f":"INDEX('[1]Midsize LT'!$H$379:$X$467,MATCH(T137,'[1]Midsize LT'!$C$379:$C$467,0),MATCH(Inputs!$C$2,'[1]Midsize LT'!$H$378:$X$378,0))\n+INDEX('[1]Midsize LT'!$H$379:$X$467,MATCH(Z138,'[1]Midsize LT'!$C$379:$C$467,0),MATCH(Inputs!$C$2,'[1]Midsize LT'!$H$378:$X$378,0))\n+INDEX('[1]Midsize LT'!$H$379:$X$467,MATCH(Z139,'[1]Midsize LT'!$C$379:$C$467,0),MATCH(Inputs!$C$2,'[1]Midsize LT'!$H$378:$X$378,0))\n+INDEX('[1]Midsize LT'!$H$379:$X$467,MATCH(Z137,'[1]Midsize LT'!$C$379:$C$467,0),MATCH(Inputs!$C$2,'[1]Midsize LT'!$H$378:$X$378,0))","v":-2315.6609783821696},"L","PHEV2_C",null,null,null,null,null,null,"2017+","INC","%",{"$f":"1-((1-AJ139)/(1-AJ131))","v":3.1390134529148073E-2},"$",{"$f":"INDEX('[1]Midsize LT'!$H$379:$X$467,MATCH(AN137,'[1]Midsize LT'!$C$379:$C$467,0),MATCH(Inputs!$C$2,'[1]Midsize LT'!$H$378:$X$378,0))","v":227.42624881754446},10]
[null,null,null,null,null,"ABS","%",{"$f":"10.5%+H106","v":0.11499999999999999},"$",{"$f":"J131+J138","v":1481.0706781942258},33.86,null,null,null,null,null,null,null,null,"ABS","%",{"$f":"1-((1-V131)*(1-V138))","v":0.67832300000000001},"$",{"$f":"X138+X131","v":3530.866150517003},33.86,"CHRG_L",null,null,null,null,null,null,null,"ABS","%",{"$f":"1-((1-13.6%)/(1-1.4%))","v":0.12373225152129819},"$",{"$f":"AL131+AL138","v":315.01702347430961},"L"]
[]
[]
[]
[null,null,null,null,null,null,null,null,null,null,null,null,null,null,null,null,null,null,"2012-2016","INC","%",{"$f":"1-((1-V144)/(1-V136))","v":0},"$",0,"L",null,null,null,null,null,null,null,"2012-2016","INC","%",{"$f":"1-((1-AJ144)/(1-AJ136))","v":0},"$",0,10]
[null,null,null,null,null,null,null,null,null,null,null,null,null,null,null,null,null,null,null,"ABS","%",0.35,"$",{"$f":"X143+X136","v":0},33.86,null,null,null,null,null,null,null,null,"ABS","%",{"$f":"AJ136","v":9.5334685598377211E-2},"$",{"$f":"AL136+AL143","v":87.590774656765134},"L"]
[null,null,null,null,null,null,null,null,null,"To Strong\nHybrid",null,null,null,null,null,null,null,null,null,"PHEV2_B","Plug-in Hybrid - VBL",null,null,null,null,"PHEV2_NB",null,null,null,null,null,null,null,null,"Shift Optimizer\n (SHFTOPT) - TBL",null,null,null,null,"SHFTOPT"]
[null,null,null,null,null,null,null,null,null,null,null,null,null,null,null,null,null,null,"2017+","INC","%",0,"$",0,"L","PHEV2_C",null,null,null,null,null,null,"2017+","INC","%",{"$f":"1-((1-AJ147)/(1-AJ139))","v":4.05092592592593E-2},"$",{"$f":"INDEX('[1]Midsize LT'!$H$379:$X$467,MATCH(AN145,'[1]Midsize LT'!$C$379:$C$467,0),MATCH(Inputs!$C$2,'[1]Midsize LT'!$H$378:$X$378,0))","v":1.5123845546366708},10]
[null,null,null,null,null,null,null,null,null,null,null,null,null,null,null,null,null,null,null,"ABS","%",{"$f":"1-((1-V139)*(1-V146))","v":0.67832300000000001},"$",{"$f":"X146+X139","v":3530.866150517003},33.86,null,null,null,null,null,null,null,null,"ABS","%",{"$f":"1-((1-17.1%)/(1-1.4%))","v":0.15922920892494929},"$",{"$f":"AL139+AL146","v":316.52940802894631},"L"]
[]
[]
[]
[null,null,null,null,null,null,null,null,null,null,null,null,null,null,null,null,null,null,"2012-2016","INC","%",{"$f":"1-((1-V152)/(1-V144))","v":0},"$",0,"L",null,null,null,null,null,null,null,null,null,null,null,"To Strong\n     Hybrid"]
[null,null,null,null,null,null,null,null,null,null,null,null,null,null,null,null,null,null,null,"ABS","%",0.35,"$",{"$f":"X151+X144","v":0},33.86]
[null,null,null,null,null,null,null,null,null,null,null,null,null,null,null,null,null,null,null,"EV1_B","Electric Vehicle - Early Adopter \n75 Mile Range - (EV1) - VBL",null,null,null,null,"EV1_NB"]
[null,null,null,null,null,null,null,null,null,null,null,null,null,null,null,null,null,null,"2017+","INC","%",0.68540000000000001,"$",{"$f":"INDEX('[1]Midsize LT'!$H$379:$X$467,MATCH(T153,'[1]Midsize LT'!$C$379:$C$467,0),MATCH(Inputs!$C$2,'[1]Midsize LT'!$H$378:$X$378,0))\n+INDEX('[1]Midsize LT'!$H$379:$X$467,MATCH(Z154,'[1]Midsize LT'!$C$379:$C$467,0),MATCH(Inputs!$C$2,'[1]Midsize LT'!$H$378:$X$378,0))\n+INDEX('[1]Midsize LT'!$H$379:$X$467,MATCH(Z153,'[1]Midsize LT'!$C$379:$C$467,0),MATCH(Inputs!$C$2,'[1]Midsize LT'!$H$378:$X$378,0))","v":31.417146381578902},"L","EV_C"]
[null,null,null,null,null,null,null,null,null,null,null,null,null,null,null,null,null,null,null,"ABS","%",{"$f":"1-((1-V147)*(1-V154))","v":0.89880041580000003},"$",{"$f":"X154+X147","v":3562.2832968985817},33.86]
[]
[]
[]
[null,null,null,null,null,null,null,null,null,null,null,null,null,null,null,null,null,null,"2012-2016","INC","%",{"$f":"1-((1-V160)/(1-V152))","v":0},"$",0,"L"]
[null,null,null,null,null,null,null,null,null,null,null,null,null,null,null,null,null,null,null,"ABS","%",0.35,"$",{"$f":"X159+X152","v":0},33.86]
[null,null,null,null,null,null,null,null,null,null,null,null,null,null,null,null,null,null,null,"EV2_B","Electric Vehicle - Early Adopter \n100 Mile Range - (EV2) - VBL",null,null,null,null,"EV2_NB"]
[null,null,null,null,null,null,null,null,null,null,null,null,null,null,null,null,null,null,"2017+","INC","%",0,"$",0,"L"]
[null,null,null,null,null,null,null,null,null,null,null,null,null,null,null,null,null,null,null,"ABS","%",{"$f":"1-((1-V155)*(1-V162))","v":0.89880041580000003},"$",{"$f":"X162+X155","v":3562.2832968985817},33.86]
[]
[]
[]
[null,null,null,null,null,null,null,null,null,null,null,null,null,null,null,null,null,null,"2012-2016","INC","%",{"$f":"1-((1-V168)/(1-V160))","v":0},"$",0,"L"]
[null,null,null,null,null,null,null,null,null,null,null,null,null,null,null,null,null,null,null,"ABS","%",0.35,"$",{"$f":"X167+X160","v":0},33.86]
[null,null,null,null,null,null,null,null,null,null,null,null,null,null,null,null,null,null,null,"EV3_B","Electric Vehicle - Early Adopter \n150 Mile Range - (EV3) - VBL",null,null,null,null,"EV3_NB"]
[null,null,null,null,null,null,null,null,null,null,null,null,null,null,null,null,null,null,"2017+","INC","%",0,"$",0,"L"]
[null,null,null,null,null,null,null,null,null,null,null,null,null,null,null,null,null,null,null,"ABS","%",{"$f":"1-((1-V163)*(1-V170))","v":0.89880041580000003},"$",{"$f":"X170+X163","v":3562.2832968985817},33.86]
[]
[]
[]
[null,null,null,null,null,null,null,null,null,null,null,"2012-2016","INC","%",{"$f":"1-((1-O176)/(1-V168))","v":0},"$",0,"L",null,null,null,null,null,null,null,"2012-2016","INC","%",{"$f":"1-((1-AC176)/(1-V168))","v":0},"$",0,"L"]
[null,null,null,null,null,null,null,null,null,null,null,null,"ABS","%",0.35,"$",{"$f":"Q175+X168","v":0},33.86,null,null,null,null,null,null,null,null,"ABS","%",0.35,"$",{"$f":"AE175+X168","v":0},33.86]
[null,null,null,null,null,null,null,null,null,null,null,null,"EV4_B","Electric Vehicle - Mass Market \n150 Mile Range - (EV4) - VBL",null,null,null,null,"EV4_NB",null,null,null,null,null,null,null,"FCV_B","Fuel Cell Vehicle\n(FCV) - VBL",null,null,null,null,"FCV_NB"]
[null,null,null,null,null,null,null,null,null,null,null,"2017+","INC","%",0,"$",{"$f":"INDEX('[1]Midsize LT'!$H$379:$X$467,MATCH(M177,'[1]Midsize LT'!$C$379:$C$467,0),MATCH(Inputs!$C$2,'[1]Midsize LT'!$H$378:$X$378,0))\n+INDEX('[1]Midsize LT'!$H$379:$X$467,MATCH(S177,'[1]Midsize LT'!$C$379:$C$467,0),MATCH(Inputs!$C$2,'[1]Midsize LT'!$H$378:$X$378,0))","v":0},"L",null,null,null,null,null,null,null,"2017+","INC","%",0,"$",{"$f":"INDEX('[1]Midsize LT'!$H$379:$X$467,MATCH(AA177,'[1]Midsize LT'!$C$379:$C$467,0),MATCH(Inputs!$C$2,'[1]Midsize LT'!$H$378:$X$378,0))\n+INDEX('[1]Midsize LT'!$H$379:$X$467,MATCH(AG177,'[1]Midsize LT'!$C$379:$C$467,0),MATCH(Inputs!$C$2,'[1]Midsize LT'!$H$378:$X$378,0))","v":{"$error":"#N/A"}},"L"]
[null,null,null,null,null,null,null,null,null,null,null,null,"ABS","%",{"$f":"1-((1-V171)*(1-O178))","v":0.89880041580000003},"$",{"$f":"Q178+X171","v":3562.2832968985817},33.86,null,null,null,null,null,null,null,null,"ABS","%",{"$f":"1-((1-V171)*(1-AC178))","v":0.89880041580000003},"$",{"$f":"AE178+X171","v":{"$error":"#N/A"}},33.86]
[]
[]
[]
[]
[]
["Vehicle Technology Decision Tree"]
[]
[]
[]
[null,null,"ABS - WR",{"$f":"'[1]Midsize LT'!$M$82","v":1.4999999999999999E-2},"2012-2016","INC","%",{"$f":"IF(D189<5%, D189*(3.5/10), D189*(5.1/10))","v":5.2499999999999995E-3},"$",{"$f":"INDEX('[1]Midsize LT'!$H$379:$X$467,MATCH(L191,'[1]Midsize LT'!$C$379:$C$467,0),MATCH(Inputs!$C$2,'[1]Midsize LT'!$H$378:$X$378,0))","v":6.9721687344265801E-2},1.33,null,null,null,null,null,null,null,"2012-2016","INC","%",1.9E-2,"$",{"$f":"INDEX('[1]Midsize LT'!$H$379:$X$467,MATCH(Z191,'[1]Midsize LT'!$C$379:$C$467,0),MATCH(Inputs!$C$2,'[1]Midsize LT'!$H$378:$X$378,0))","v":6.4396392400348512},5.15,null,null,null,null,null,null,null,"2012-2016","INC","%",8.0000000000000002E-3,"$",{"$f":"INDEX('[1]Midsize LT'!$H$379:$X$467,MATCH(AN191,'[1]Midsize LT'!$C$379:$C$467,0),MATCH(Inputs!$C$2,'[1]Midsize LT'!$H$378:$X$378,0))","v":70.836031640383368},5.15,null,null,null,null,null,null,null,"2012-2016","INC","%",2.3E-2,"$",{"$f":"INDEX('[1]Midsize LT'!$H$379:$X$467,MATCH(BB191,'[1]Midsize LT'!$C$379:$C$467,0),MATCH(Inputs!$C$2,'[1]Midsize LT'!$H$378:$X$378,0))","v":43.857938067390236},5.15]
[null,null,null,null,null,"ABS","%",{"$f":"H189","v":5.2499999999999995E-3},"$",{"$f":"J189","v":6.9721687344265801E-2},"L",null,null,null,null,null,null,null,null,"ABS","%",{"$f":"V189","v":1.9E-2},"$",{"$f":"X189","v":6.4396392400348512},"L",null,null,null,null,null,null,null,null,"ABS","%",{"$f":"AJ189","v":8.0000000000000002E-3},"$",{"$f":"AL189","v":70.836031640383368},"L",null,null,null,null,null,null,null,null,"ABS","%",{"$f":"AX189","v":2.3E-2},"$",{"$f":"AZ189","v":43.857938067390236},"L"]
[null,null,null,null,null,null,"Mass Reduction\n(MR1) - ($/pound) - TBL",null,null,null,null,"MR1",null,null,null,null,null,null,null,null,"Low Roll Resistance Tires 1\n (ROLL1) - No Learning Applied",null,null,null,null,"ROLL1",null,null,null,null,null,null,null,null,"Low Drag Brakes (LDB)\nNo Learning Applied",null,null,null,null,"LDB",null,null,null,null,null,null,null,null,"Aerodynamic Drag Reduction 1\n (AERO1) - No Learming Applied",null,null,null,null,"AERO1"]
[null,null,null,null,"2017+","INC","%",{"$f":"H189","v":5.2499999999999995E-3},"$",{"$f":"J189","v":6.9721687344265801E-2},1.33,null,null,null,null,null,null,null,"2017+","INC","%",{"$f":"V189","v":1.9E-2},"$",{"$f":"X189","v":6.4396392400348512},5.15,null,null,null,null,null,null,null,"2017+","INC","%",{"$f":"AJ189","v":8.0000000000000002E-3},"$",{"$f":"AL189","v":70.836031640383368},5.15,null,null,null,null,null,null,null,"2017+","INC","%",{"$f":"AX189","v":2.3E-2},"$",{"$f":"AZ189","v":43.857938067390236},5.15]
[null,null,null,null,null,"ABS","%",{"$f":"H192","v":5.2499999999999995E-3},"$",{"$f":"J192","v":6.9721687344265801E-2},"L",null,null,null,null,null,null,null,null,"ABS","%",{"$f":"V192","v":1.9E-2},"$",{"$f":"X192","v":6.4396392400348512},"L",null,null,null,null,null,null,null,null,"ABS","%",{"$f":"AJ192","v":8.0000000000000002E-3},"$",{"$f":"AL192","v":70.836031640383368},"L",null,null,null,null,null,null,null,null,"ABS","%",{"$f":"AX192","v":2.3E-2},"$",{"$f":"AZ192","v":43.857938067390236},"L"]
[]
[]
[]
[null,null,"INC - WR",{"$f":"'[1]Midsize LT'!$M$83","v":0.06},"2012-2016","INC","%",{"$f":"1-((1-H198)/(1-H190))","v":3.3174164362905323E-2},"$",{"$f":"INDEX('[1]Midsize LT'!$H$379:$X$467,MATCH(L199,'[1]Midsize LT'!$C$379:$C$467,0),MATCH(Inputs!$C$2,'[1]Midsize LT'!$H$378:$X$378,0))","v":0.41833012406559472},1.33,null,null,null,null,null,null,null,"2012-2016","INC","%",{"$f":"1-((1-V198)/(1-V190))","v":2.0387359836901098E-2},"$",{"$f":"0","v":0},5.15,null,null,null,null,null,null,null,"2012-2016","INC","%",1.2999999999999999E-2,"$",{"$f":"INDEX('[1]Midsize LT'!$H$379:$X$467,MATCH(AN199,'[1]Midsize LT'!$C$379:$C$467,0),MATCH(Inputs!$C$2,'[1]Midsize LT'!$H$378:$X$378,0))","v":87.568251496242709},5.15,null,null,null,null,null,null,null,"2012-2016","INC","%",{"$f":"1-((1-AX198)/(1-AX190))","v":2.4564994882292801E-2},"$",{"$f":"INDEX('[1]Midsize LT'!$H$379:$X$467,MATCH(BB199,'[1]Midsize LT'!$C$379:$C$467,0),MATCH(Inputs!$C$2,'[1]Midsize LT'!$H$378:$X$378,0))","v":154.95277498661324},5.15]
[null,null,"ABS - WR",{"$f":"D197+D189","v":7.4999999999999997E-2},null,"ABS","%",{"$f":"IF(D198<5%,D198 D198*(3.5/10), D198*(5.1/10))","v":3.8249999999999999E-2},"$",{"$f":"J197","v":0.41833012406559472},"L",null,null,null,null,null,null,null,null,"ABS","%",3.9E-2,"$",{"$f":"X190+X197","v":6.4396392400348512},"L",null,null,null,null,null,null,null,null,"ABS","%",{"$f":"1-(1-AJ190)*(1-AJ197)","v":2.0896000000000026E-2},"$",{"$f":"AL190+AL197","v":158.40428313662608},"L",null,null,null,null,null,null,null,null,"ABS","%",4.7E-2,"$",{"$f":"AZ190+AZ197","v":198.81071305400349},"L"]
[null,null,null,null,null,null,"Mass Reduction\n(MR2) - ($/pound) - TBL",null,null,null,null,"MR2",null,null,null,null,null,null,null,null,"Low Roll Resistance Tires 2\n (ROLL2) - No Learning Applied",null,null,null,null,"ROLL2",null,null,null,null,null,null,null,null,"Secondary Axle Discon. (SAXU/SAXL)\nTBL",null,null,null,null,"SAX",null,null,null,null,null,null,null,null,"Aerodynamic Drag Reduction 2\n (AERO2) - No Learming Applied",null,null,null,null,"AERO2"]
[null,null,null,null,"2017+","INC","%",{"$f":"1-((1-H201)/(1-H193))","v":3.3174164362905323E-2},"$",{"$f":"J197","v":0.41833012406559472},1.33,null,null,null,null,null,null,null,"2017+","INC","%",{"$f":"1-((1-V201)/(1-V193))","v":2.0387359836901098E-2},"$",{"$f":"INDEX('[1]Midsize LT'!$H$379:$X$467,MATCH(Z199,'[1]Midsize LT'!$C$379:$C$467,0),MATCH(Inputs!$C$2,'[1]Midsize LT'!$H$378:$X$378,0))","v":50.173232527734726},5.15,null,null,null,null,null,null,null,"2017+","INC","%",{"$f":"AJ197","v":1.2999999999999999E-2},"$",{"$f":"AL197","v":87.568251496242709},5.15,null,null,null,null,null,null,null,"2017+","INC","%",{"$f":"1-((1-AX201)/(1-AX193))","v":2.4564994882292801E-2},"$",{"$f":"AZ197","v":154.95277498661324},5.15]
[null,null,null,null,null,"ABS","%",{"$f":"IF(D198<5%, D198*(3.5/10), D198*(5.1/10))","v":3.8249999999999999E-2},"$",{"$f":"J200","v":0.41833012406559472},"L",null,null,null,null,null,null,null,null,"ABS","%",{"$f":"V198","v":3.9E-2},"$",{"$f":"X193+X200","v":56.612871767769576},"L",null,null,null,null,null,null,null,null,"ABS","%",{"$f":"1-(1-AJ193)*(1-AJ200)","v":2.0896000000000026E-2},"$",{"$f":"AL193+AL200","v":158.40428313662608},"L",null,null,null,null,null,null,null,null,"ABS","%",{"$f":"AX198","v":4.7E-2},"$",{"$f":"AZ193+AZ200","v":198.81071305400349},"L"]
[]
[]
[]
[null,null,"INC - WR",{"$f":"'[1]Midsize LT'!$M$84","v":2.5000000000000008E-2},"2012-2016","INC","%",{"$f":"1-((1-H206)/(1-H198))","v":1.3257083441642892E-2},"$",{"$f":"INDEX('[1]Midsize LT'!$H$379:$X$467,MATCH(L207,'[1]Midsize LT'!$C$379:$C$467,0),MATCH(Inputs!$C$2,'[1]Midsize LT'!$H$378:$X$378,0))","v":0.81341968568310108},1.33,null,null,null,null,null,null,null,"2012-2016","INC","%",0,"$",0,0]
[null,null,"ABS - WR",{"$f":"D205+D198","v":0.1},null,"ABS","%",{"$f":"IF(D206<5%, D206*(3.5/10), D206*(5.1/10))","v":5.1000000000000004E-2},"$",{"$f":"J205","v":0.81341968568310108},"L",null,null,null,null,null,null,null,null,"ABS","%",{"$f":"1-((1-V198)*(1-V205))","v":3.9000000000000035E-2},"$",{"$f":"X198+X205","v":6.4396392400348512},"L"]
[null,null,null,null,null,null,"Mass Reduction\n(MR3) - ($/pound) - TBL",null,null,null,null,"MR3",null,null,null,null,null,null,null,null,"Low Roll Resistance Tires 3\n (ROLL3) - No Learning Applied"]
[null,null,null,null,"2017+","INC","%",{"$f":"1-((1-H209)/(1-H201))","v":1.3257083441642892E-2},"$",{"$f":"J205","v":0.81341968568310108},1.33,null,null,null,null,null,null,null,"2017+","INC","%",0,"$",{"$f":"X205","v":0},0]
[null,null,null,null,null,"ABS","%",{"$f":"IF(D206<5%, D206*(3.5/10), D206*(5.1/10))","v":5.1000000000000004E-2},"$",{"$f":"J208","v":0.81341968568310108},"L",null,null,null,null,null,null,null,null,"ABS","%",{"$f":"1-((1-V201)*(1-V208))","v":3.9000000000000035E-2},"$",{"$f":"X201+X208","v":56.612871767769576},"L"]
[]
[]
[]
[null,null,"INC - WR",{"$f":"'[1]Midsize LT'!$M$85","v":4.9999999999999989E-2},"2012-2016","INC","%",{"$f":"1-((1-H214)/(1-H206))","v":2.6870389884088519E-2},"$",{"$f":"INDEX('[1]Midsize LT'!$H$379:$X$467,MATCH(L215,'[1]Midsize LT'!$C$379:$C$467,0),MATCH(Inputs!$C$2,'[1]Midsize LT'!$H$378:$X$378,0))","v":1.3672281720989994},1.33]
[null,null,"ABS - WR",{"$f":"D213+D206","v":0.15},null,"ABS","%",{"$f":"IF(D214<5%, D214*(3.5/10), D214*(5.1/10))","v":7.6499999999999999E-2},"$",{"$f":"J213","v":1.3672281720989994},"L"]
[null,null,null,null,null,null,"Mass Reduction\n(MR4) - ($/pound) - TBL",null,null,null,null,"MR4"]
[null,null,null,null,"2017+","INC","%",{"$f":"1-((1-H217)/(1-H209))","v":2.6870389884088519E-2},"$",{"$f":"J213","v":1.3672281720989994},1.33]
[null,null,null,null,null,"ABS","%",{"$f":"IF(D214<5%, D214*(3.5/10), D214*(5.1/10))","v":7.6499999999999999E-2},"$",{"$f":"J216","v":1.3672281720989994},"L"]
[]
[]
[]
[null,null,"INC - WR",{"$f":"'[1]Midsize LT'!$M$86","v":5.0000000000000017E-2},"2012-2016","INC","%",{"$f":"1-((1-H222)/(1-H214))","v":2.761234434217652E-2},"$",{"$f":"INDEX('[1]Midsize LT'!$H$379:$X$467,MATCH(L223,'[1]Midsize LT'!$C$379:$C$467,0),MATCH(Inputs!$C$2,'[1]Midsize LT'!$H$378:$X$378,0))","v":1.9141194409385998},1.33]
[null,null,"ABS - WR",{"$f":"D221+D214","v":0.2},null,"ABS","%",{"$f":"IF(D222<5%, D222*(3.5/10), D222*(5.1/10))","v":0.10200000000000001},"$",{"$f":"J221","v":1.9141194409385998},"L"]
[null,null,null,null,null,null,"Mass Reduction\n(MR5) - ($/pound) - TBL",null,null,null,null,"MR5"]
[null,null,null,null,"2017+","INC","%",{"$f":"1-((1-H225)/(1-H217))","v":2.761234434217652E-2},"$",{"$f":"J221","v":1.9141194409385998},1.33]
[null,null,null,null,null,"ABS","%",{"$f":"IF(D222<5%, D222*(3.5/10), D222*(5.1/10))","v":0.10200000000000001},"$",{"$f":"J224","v":1.9141194409385998},"L"]

{"sheet":"Large LT","index":13,"n_rows":225,"n_cols":173,"rows_kept":225,"cut":false,"hidden":false,"merged":[[5,62,5,66],[5,76,5,80],[5,90,5,94],[6,31,7,31],[6,32,7,32],[6,60,7,60],[6,74,7,74],[6,88,7,88],[0,0,0,172],[1,0,2,0],[3,31,4,31],[3,32,4,32],[3,60,4,60],[3,74,4,74],[3,88,4,88],[23,153,23,157],[24,25,25,25],[24,88,25,88],[24,151,25,151],[13,88,14,88],[15,90,15,94],[16,88,17,88],[21,25,22,25],[21,88,22,88],[21,151,22,151],[29,25,30,25],[29,67,30,67],[29,109,30,109],[29,151,30,151],[31,27,31,31],[31,69,31,73],[31,111,31,115],[23,27,23,31],[23,90,23,94],[39,153,39,157],[40,25,41,25],[40,67,41,67],[40,109,41,109],[40,151,41,151],[31,153,31,157],[32,25,33,25],[32,67,33,67],[32,109,33,109],[32,151,33,151],[37,25,38,25],[37,67,38,67],[37,109,38,109],[37,151,38,151],[45,25,46,25],[45,67,46,67],[45,109,46,109],[45,151,46,151],[47,27,47,31],[47,69,47,73],[47,111,47,115],[39,27,39,31],[39,69,39,73],[39,111,39,115],[47,153,47,157],[48,25,49,25],[48,67,49,67],[48,109,49,109],[48,151,49,151],[53,11,54,11],[53,25,54,25],[53,39,54,39],[53,53,54,53],[53,67,54,67],[53,165,54,165],[55,13,55,17],[55,27,55,31],[55,41,55,45],[55,55,55,59],[55,69,55,73],[55,83,55,87],[55,97,55,101],[55,111,55,115],[55,125,55,129],[53,81,54,81],[53,95,54,95],[53,109,54,109],[53,123,54,123],[53,137,54,137],[53,151,54,151],[55,139,55,143],[55,153,55,157],[55,167,55,171],[56,11,57,11],[56,25,57,25],[56,39,57,39],[56,53,57,53],[56,67,57,67],[56,81,57,81],[56,95,57,95],[56,109,57,109],[56,123,57,123],[56,137,57,137],[56,151,57,151],[56,165,57,165],[61,11,62,11],[61,25,62,25],[61,39,62,39],[61,53,62,53],[61,67,62,67],[61,165,62,165],[63,13,63,17],[63,27,63,31],[63,41,63,45],[63,55,63,59],[63,69,63,73],[63,83,63,87],[63,97,63,101],[63,111,63,115],[63,125,63,129],[61,81,62,81],[61,95,62,95],[61,109,62,109],[61,123,62,123],[61,137,62,137],[61,151,62,151],[63,139,63,143],[63,153,63,157],[63,167,63,171],[64,11,65,11],[64,25,65,25],[64,39,65,39],[64,53,65,53],[64,67,65,67],[64,81,65,81],[64,95,65,95],[64,109,65,109],[64,123,65,123],[64,137,65,137],[64,151,65,151],[64,165,65,165],[69,11,70,11],[69,25,70,25],[69,39,70,39],[69,53,70,53],[69,67,70,67],[69,165,70,165],[71,13,71,17],[71,27,71,31],[71,41,71,45],[71,55,71,59],[71,69,71,73],[71,83,71,87],[71,97,71,101],[71,111,71,115],[71,125,71,129],[69,81,70,81],[69,95,70,95],[69,109,70,109],[69,123,70,123],[69,137,70,137],[69,151,70,151],[71,139,71,143],[71,153,71,157],[77,88,78,88],[77,95,78,95],[77,102,78,102],[77,109,78,109],[71,167,71,171],[72,11,73,11],[72,25,73,25],[72,39,73,39],[72,53,73,53],[72,67,73,67],[72,81,73,81],[72,95,73,95],[72,109,73,109],[72,123,73,123],[72,137,73,137],[72,151,73,151],[72,165,73,165],[77,67,78,67],[77,74,78,74],[79,167,79,171],[80,4,81,4],[80,11,81,11],[80,18,81,18],[80,25,81,25],[80,32,81,32],[80,39,81,39],[77,165,78,165],[80,46,81,46],[80,53,81,53],[80,60,81,60],[80,67,81,67],[80,74,81,74],[80,81,81,81],[80,130,81,130],[80,137,81,137],[80,144,81,144],[77,4,78,4],[77,11,78,11],[77,18,78,18],[77,25,78,25],[77,32,78,32],[80,151,81,151],[80,158,81,158],[77,172,78,172],[79,13,79,17],[79,27,79,31],[79,41,79,45],[79,55,79,59],[79,69,79,73],[79,83,79,87],[79,97,79,101],[79,111,79,115],[77,123,78,123],[77,130,78,130],[77,137,78,137],[77,144,78,144],[77,151,78,151],[77,158,78,158],[77,81,78,81],[79,125,79,129],[79,139,79,143],[79,153,79,157],[77,116,78,116],[77,39,78,39],[77,46,78,46],[77,53,78,53],[77,60,78,60],[80,165,81,165],[80,88,81,88],[80,95,81,95],[80,102,81,102],[80,109,81,109],[80,116,81,116],[80,123,81,123],[85,46,86,46],[85,53,86,53],[85,60,86,60],[85,67,86,67],[85,74,86,74],[85,81,86,81],[85,151,86,151],[85,158,86,158],[85,165,86,165],[85,4,86,4],[85,11,86,11],[85,18,86,18],[85,25,86,25],[85,32,86,32],[85,39,86,39],[85,130,86,130],[85,137,86,137],[85,144,86,144],[85,88,86,88],[85,95,86,95],[85,102,86,102],[85,109,86,109],[85,116,86,116],[85,123,86,123],[87,48,87,52],[87,55,87,59],[87,62,87,66],[87,69,87,73],[87,76,87,80],[87,83,87,87],[87,6,87,10],[87,13,87,17],[87,20,87,24],[87,27,87,31],[87,34,87,38],[87,41,87,45],[87,132,87,136],[87,139,87,143],[87,146,87,150],[87,153,87,157],[87,160,87,164],[87,167,87,171],[87,90,87,94],[87,97,87,101],[87,104,87,108],[87,111,87,115],[87,118,87,122],[87,125,87,129],[88,144,89,144],[88,151,89,151],[88,158,89,158],[88,165,89,165],[88,88,89,88],[88,95,89,95],[88,102,89,102],[88,109,89,109],[88,116,89,116],[88,123,89,123],[97,0,97,38],[100,4,100,11],[100,21,100,23],[100,33,100,38],[102,4,103,4],[102,18,103,18],[102,32,103,32],[88,130,89,130],[88,137,89,137],[88,46,89,46],[88,53,89,53],[88,60,89,60],[88,67,89,67],[88,74,89,74],[88,81,89,81],[88,4,89,4],[88,11,89,11],[88,18,89,18],[88,25,89,25],[88,32,89,32],[88,39,89,39],[110,4,111,4],[110,32,111,32],[112,6,112,10],[112,14,114,16],[112,34,112,38],[113,4,114,4],[113,32,114,32],[104,6,104,10],[104,20,104,24],[104,34,104,38],[105,4,106,4],[105,18,106,18],[105,32,106,32],[110,18,111,18],[112,20,112,24],[113,18,114,18],[126,4,127,4],[126,32,127,32],[128,6,128,10],[128,13,128,17],[128,20,128,24],[128,34,128,38],[118,4,119,4],[118,32,119,32],[120,6,120,10],[120,13,120,17],[120,21,122,23],[120,34,120,38],[121,4,122,4],[121,32,122,32],[136,34,136,38],[137,4,138,4],[137,32,138,32],[142,32,143,32],[144,9,149,10],[144,20,144,24],[144,34,144,38],[145,32,146,32],[129,4,130,4],[129,32,130,32],[134,4,135,4],[134,32,135,32],[136,6,136,10],[136,20,136,24],[185,113,185,116],[185,148,185,151],[188,4,189,4],[188,18,189,18],[188,32,189,32],[188,46,189,46],[150,36,152,37],[152,20,152,24],[160,20,160,24],[168,20,168,24],[176,13,176,17],[176,27,176,31],[190,6,190,10],[190,20,190,24],[190,34,190,38],[190,48,190,52],[190,81,190,85],[191,4,192,4],[191,18,192,18],[191,32,192,32],[191,46,192,46],[191,80,192,80],[198,48,198,52],[199,4,200,4],[199,18,200,18],[199,32,200,32],[199,46,200,46],[200,95,201,95],[196,4,197,4],[196,18,197,18],[196,32,197,32],[196,46,197,46],[198,6,198,10],[198,20,198,24],[198,34,198,38],[200,151,201,151],[204,4,205,4],[204,18,205,18],[204,32,205,32],[206,6,206,10],[206,20,206,24],[200,102,201,102],[200,109,201,109],[200,116,201,116],[200,130,201,130],[200,137,201,137],[200,144,201,144],[215,4,216,4],[220,4,221,4],[222,6,222,10],[223,4,224,4],[207,4,208,4],[207,18,208,18],[207,32,208,32],[209,32,210,32],[212,4,213,4],[214,6,214,10]]}
["Full Engine Technology Decision Tree"]
[]
[null,"START"]
["Gas Engine Type","V8",null,null,null,null,null,null,null,null,null,null,null,null,null,null,null,null,null,null,null,null,null,null,null,null,null,null,null,null,null,null,null,null,null,null,null,null,null,null,null,null,null,null,null,null,null,null,null,null,null,null,null,null,null,null,null,null,null,null,"2012-2016","INC","%",7.0000000000000001E-3,"$",{"$f":"INDEX('[1]Large LT'!$H$379:$X$467,MATCH(BP6,'[1]Large LT'!$C$379:$C$467,0),MATCH(Inputs!$C$2,'[1]Large LT'!$H$378:$X$378,0))","v":3.8637835440209107},10,null,null,null,null,null,null,null,"2012-2016","INC","%",2.4E-2,"$",{"$f":"INDEX('[1]Large LT'!$H$379:$X$467,MATCH(CD6,'[1]Large LT'!$C$379:$C$467,0),MATCH(Inputs!$C$2,'[1]Large LT'!$H$378:$X$378,0))*$B$13","v":116.18444817902287},10,null,null,null,null,null,null,null,"2012-2016","INC","%",{"$f":"1-((1-CN5)/(1-BZ5))","v":0},"$",0,"L"]
["Displacement [L]",5.3,null,null,null,null,null,null,null,null,null,null,null,null,null,null,null,null,null,null,null,null,null,null,null,null,null,null,null,null,null,null,null,null,null,null,null,null,null,null,null,null,null,null,null,null,null,null,null,null,null,null,null,null,null,null,null,null,null,null,null,"ABS","%",{"$f":"BL4","v":7.0000000000000001E-3},"$",{"$f":"BN4","v":3.8637835440209107},"L",null,null,null,null,null,null,null,null,"ABS","%",{"$f":"1-((1-BL5)*(1-BZ4))","v":3.0832000000000082E-2},"$",{"$f":"BN5+CB4","v":120.04823172304377},"L",null,null,null,null,null,null,null,null,"ABS","%",{"$f":"BZ5","v":3.0832000000000082E-2},"$",{"$f":"CB5","v":120.04823172304377},0]
["Turbocharger","None",null,null,null,null,null,null,null,null,null,null,null,null,null,null,null,null,null,null,null,null,null,null,null,null,null,null,null,null,null,null,null,null,null,null,null,null,null,null,null,null,null,null,null,null,null,null,null,null,null,null,null,null,null,null,null,null,null,null,null,null,"Low-Friction Lubricants 1\n(LUB1) - No Learning Applied",null,null,null,null,"LUB1",null,null,null,null,null,null,null,null,"Engine Friction Reduction 1\n(EFR1) - No Learning Applied",null,null,null,null,"EFR1",null,null,null,null,null,null,null,null,"Low-Friction Lub & Engine Friction\nRedux 2 (LUB2_EFR2) - \nNo Learning Applied",null,null,null,null,"LUB2_EFR2"]
["EGR system","None",null,null,null,null,null,null,null,null,null,null,null,null,null,null,null,null,null,null,null,null,null,null,null,null,null,null,null,null,null,null,null,null,null,null,null,null,null,null,null,null,null,null,null,null,null,null,null,null,null,null,null,null,null,null,null,null,null,null,"2017+","INC","%",{"$f":"BL4","v":7.0000000000000001E-3},"$",{"$f":"BN4","v":3.8637835440209107},10,null,null,null,null,null,null,null,"2017+","INC","%",{"$f":"BZ4","v":2.4E-2},"$",{"$f":"CB4","v":116.18444817902287},10,null,null,null,null,null,null,null,"2017+","INC","%",{"$f":"1-((1-CN8)/(1-BZ8))","v":1.1523285952487083E-2},"$",{"$f":"INDEX('[1]Large LT'!$H$379:$X$467,MATCH(CR6,'[1]Large LT'!$C$379:$C$467,0),MATCH(Inputs!$C$2,'[1]Large LT'!$H$378:$X$378,0))*$B$13","v":125.68146365858303},"L"]
["Valvetrain","SOHC/ DOHC/ OHV",null,null,null,null,null,null,null,null,null,null,null,null,null,null,null,null,null,null,null,null,null,null,null,null,null,null,null,null,null,null,null,null,null,null,null,null,null,null,null,null,null,null,null,null,null,null,null,null,null,null,null,null,null,null,null,null,null,null,null,"ABS","%",{"$f":"BL7","v":7.0000000000000001E-3},"$",{"$f":"BN7","v":3.8637835440209107},"L",null,null,null,null,null,null,null,null,"ABS","%",{"$f":"1-((1-BL8)*(1-BZ7))","v":3.0832000000000082E-2},"$",{"$f":"BN8+CB7","v":120.04823172304377},"L",null,null,null,null,null,null,null,null,"ABS","%",4.2000000000000003E-2,"$",{"$f":"CB8+CP7","v":245.72969538162681},33.86]
["After Treatment","3way cat"]
[]
[null,null,null,null,null,null,null,null,null,null,null,null,null,null,null,null,null,null,null,null,null,null,null,null,null,null,null,null,null,null,"SOHC",null,null,null,null,null,null,null,null,null,null,null,null,null,null,null,null,null,null,null,null,null,null,null,null,null,null,null,null,null,null,null,null,null,null,null,null,null,null,null,null,null,null,null,null,null,null,null,null,null,null,null,null,null,null,null,null,null,null,null,null,null,null,"DOHC",null,null,null,null,null,null,null,null,null,null,null,null,null,null,null,null,null,null,null,null,null,null,null,null,null,null,null,null,null,null,null,null,null,null,null,null,null,null,null,null,null,null,null,null,null,null,null,null,null,null,null,null,null,null,null,null,null,null,null,"OHV"]
[]
["Cylinders",{"$f":"IF(B4=\"I4\",4,IF(B4=\"V6\",6,8))","v":8}]
["Cylinder Banks",{"$f":"IF(B4=\"I4\",1,2)","v":2},null,null,null,null,null,null,null,null,null,null,null,null,null,null,null,null,null,null,null,null,null,null,null,null,null,null,null,null,null,null,null,null,null,null,null,null,null,null,null,null,null,null,null,null,null,null,null,null,null,null,null,null,null,null,null,null,null,null,null,null,null,null,null,null,null,null,null,null,null,null,null,null,null,null,null,null,null,null,null,null,null,null,null,null,null,null,"2012-2016","INC","%",{"$f":"CN17","v":2.5052192066805867E-2},"$",{"$f":"INDEX('[1]Large LT'!$H$379:$X$467,MATCH(CR16,'[1]Large LT'!$C$379:$C$467,0),MATCH(Inputs!$C$2,'[1]Large LT'!$H$378:$X$378,0))*$B$14","v":83.099251075055165},10]
[null,null,null,null,null,null,null,null,null,null,null,null,null,null,null,null,null,null,null,null,null,null,null,null,null,null,null,null,null,null,null,null,null,null,null,null,null,null,null,null,null,null,null,null,null,null,null,null,null,null,null,null,null,null,null,null,null,null,null,null,null,null,null,null,null,null,null,null,null,null,null,null,null,null,null,null,null,null,null,null,null,null,null,null,null,null,null,null,null,"ABS","%",{"$f":"1-((1-CN5)*(1-CN14))","v":5.5111782881002158E-2},"$",{"$f":"CP5+CP14","v":203.14748279809893},"L"]
[null,null,null,null,null,null,null,null,null,null,null,null,null,null,null,null,null,null,null,null,null,null,null,null,null,null,null,null,null,null,null,null,null,null,null,null,null,null,null,null,null,null,null,null,null,null,null,null,null,null,null,null,null,null,null,null,null,null,null,null,null,null,null,null,null,null,null,null,null,null,null,null,null,null,null,null,null,null,null,null,null,null,null,null,null,null,null,null,null,null,"Intake Cam Phasing\n(ICP) - TBL",null,null,null,null,"ICP"]
[null,null,null,null,null,null,null,null,null,null,null,null,null,null,null,null,null,null,null,null,null,null,null,null,null,null,null,null,null,null,null,null,null,null,null,null,null,null,null,null,null,null,null,null,null,null,null,null,null,null,null,null,null,null,null,null,null,null,null,null,null,null,null,null,null,null,null,null,null,null,null,null,null,null,null,null,null,null,null,null,null,null,null,null,null,null,null,null,"2017+","INC","%",{"$f":"1-((1-CN18)/(1-CN8))","v":2.5052192066805867E-2},"$",{"$f":"CP14","v":83.099251075055165},10]
[null,null,null,null,null,null,null,null,null,null,null,null,null,null,null,null,null,null,null,null,null,null,null,null,null,null,null,null,null,null,null,null,null,null,null,null,null,null,null,null,null,null,null,null,null,null,null,null,null,null,null,null,null,null,null,null,null,null,null,null,null,null,null,null,null,null,null,null,null,null,null,null,null,null,null,null,null,null,null,null,null,null,null,null,null,null,null,null,null,"ABS","%",6.6000000000000003E-2,"$",{"$f":"CP8+CP17","v":328.82894645668199},"L"]
[]
[]
[]
["Notes: ","(1) All costs shown in $2009",null,null,null,null,null,null,null,null,null,null,null,null,null,null,null,null,null,null,null,null,null,null,null,"2012-2016","INC","%",{"$f":"AC25","v":4.801670146137782E-2},"$",{"$f":"INDEX('[1]Large LT'!$H$379:$X$467,MATCH(AG24,'[1]Large LT'!$C$379:$C$467,0),MATCH(Inputs!$C$2,'[1]Large LT'!$H$378:$X$378,0))*$B$14","v":83.099251075055165},10,null,null,null,null,null,null,null,null,null,null,null,null,null,null,null,null,null,null,null,null,null,null,null,null,null,null,null,null,null,null,null,null,null,null,null,null,null,null,null,null,null,null,null,null,null,null,null,null,null,null,null,null,null,null,null,null,"2012-2016","INC","%",{"$f":"CN25","v":2.3554603854389677E-2},"$",{"$f":"INDEX('[1]Large LT'!$H$379:$X$467,MATCH(CR24,'[1]Large LT'!$C$379:$C$467,0),MATCH(Inputs!$C$2,'[1]Large LT'!$H$378:$X$378,0))*$B$14","v":77.055707884563404},10]
[null,null,null,null,null,null,null,null,null,null,null,null,null,null,null,null,null,null,null,null,null,null,null,null,null,null,"ABS","%",{"$f":"1-((1-CN5)*(1-AC22))","v":7.7368250521920645E-2},"$",{"$f":"CP5+AE22","v":203.14748279809893},"L",null,null,null,null,null,null,null,null,null,null,null,null,null,null,null,null,null,null,null,null,null,null,null,null,null,null,null,null,null,null,null,null,null,null,null,null,null,null,null,null,null,null,null,null,null,null,null,null,null,null,null,null,null,null,null,null,null,"ABS","%",{"$f":"1-((1-CN15)*(1-CN22))","v":7.7368250521920645E-2},"$",{"$f":"CP15+CP22","v":280.20319068266235},"L"]
[null,null,null,null,null,null,null,null,null,null,null,null,null,null,null,null,null,null,null,null,null,null,null,null,null,null,null,"Coupled Cam Phasing\n(CCPS) - TBL",null,null,null,null,"CCPS",null,null,null,null,null,null,null,null,null,null,null,null,null,null,null,null,null,null,null,null,null,null,null,null,null,null,null,null,null,null,null,null,null,null,null,null,null,null,null,null,null,null,null,null,null,null,null,null,null,null,null,null,null,null,null,null,null,"Dual Cam Phasing\n(DCP) - TBL",null,null,null,null,"DCP"]
[null,null,null,null,null,null,null,null,null,null,null,null,null,null,null,null,null,null,null,null,null,null,null,null,null,"2017+","INC","%",{"$f":"1-((1-AC26)/(1-CN8))","v":4.801670146137782E-2},"$",{"$f":"AE22","v":83.099251075055165},10,null,null,null,null,null,null,null,null,null,null,null,null,null,null,null,null,null,null,null,null,null,null,null,null,null,null,null,null,null,null,null,null,null,null,null,null,null,null,null,null,null,null,null,null,null,null,null,null,null,null,null,null,null,null,null,null,"2017+","INC","%",{"$f":"1-((1-CN26)/(1-CN18))","v":2.3554603854389677E-2},"$",{"$f":"CP22","v":77.055707884563404},10]
["L",null,null,null,null,null,null,null,null,null,null,null,null,null,null,null,null,null,null,null,null,null,null,null,null,null,"ABS","%",8.7999999999999995E-2,"$",{"$f":"CP8+AE25","v":328.82894645668199},"L",null,null,null,null,null,null,null,null,null,null,null,null,null,null,null,null,null,null,null,null,null,null,null,null,null,null,null,null,null,null,null,null,null,null,null,null,null,null,null,null,null,null,null,null,null,null,null,null,null,null,null,null,null,null,null,null,null,"ABS","%",8.7999999999999995E-2,"$",{"$f":"CP18+CP25","v":405.88465434124538},"L"]
["M"]
["H"]
["VH"]
[null,null,null,null,null,null,null,null,null,null,null,null,null,null,null,null,null,null,null,null,null,null,null,null,null,"2012-2016","INC","%",{"$f":"AC33","v":3.3991228070175517E-2},"$",{"$f":"INDEX('[1]Large LT'!$H$379:$X$467,MATCH(AG32,'[1]Large LT'!$C$379:$C$467,0),MATCH(Inputs!$C$2,'[1]Large LT'!$H$378:$X$378,0))*$B$13","v":283.91568177801889},10,null,null,null,null,null,null,null,null,null,null,null,null,null,null,null,null,null,null,null,null,null,null,null,null,null,null,null,null,null,null,null,null,null,null,null,"2012-2016","INC","%",{"$f":"BS33","v":3.3991228070175517E-2},"$",{"$f":"INDEX('[1]Large LT'!$H$379:$X$467,MATCH(BW32,'[1]Large LT'!$C$379:$C$467,0),MATCH(Inputs!$C$2,'[1]Large LT'!$H$378:$X$378,0))*$B$13","v":283.91568177801889},10,null,null,null,null,null,null,null,null,null,null,null,null,null,null,null,null,null,null,null,null,null,null,null,null,null,null,null,null,null,null,null,null,null,null,null,"2012-2016","INC","%",{"$f":"DI33","v":4.2763157894736836E-2},"$",{"$f":"INDEX('[1]Large LT'!$H$379:$X$467,MATCH(DM32,'[1]Large LT'!$C$379:$C$467,0),MATCH(Inputs!$C$2,'[1]Large LT'!$H$378:$X$378,0))*$B$13","v":457.05067711264735},10,null,null,null,null,null,null,null,null,null,null,null,null,null,null,null,null,null,null,null,null,null,null,null,null,null,null,null,null,null,null,null,null,null,null,null,"2012-2016","INC","%",{"$f":"1-((1-EY31)/(1-CN5))","v":4.0414045862017689E-2},"$",{"$f":"INDEX('[1]Large LT'!$H$379:$X$467,MATCH(FC32,'[1]Large LT'!$C$379:$C$467,0),MATCH(Inputs!$C$2,'[1]Large LT'!$H$378:$X$378,0))","v":180.85022482302156},10]
[null,null,null,null,null,null,null,null,null,null,null,null,null,null,null,null,null,null,null,null,null,null,null,null,null,null,"ABS","%",{"$f":"1-((1-AC23)*(1-AC30))","v":0.10872963674321512},"$",{"$f":"AE23+AE30","v":487.06316457611786},"L",null,null,null,null,null,null,null,null,null,null,null,null,null,null,null,null,null,null,null,null,null,null,null,null,null,null,null,null,null,null,null,null,null,null,null,null,"ABS","%",{"$f":"1-((1-CN23)*(1-BS30))","v":0.10872963674321512},"$",{"$f":"CP23+BU30","v":564.11887246068125},"L",null,null,null,null,null,null,null,null,null,null,null,null,null,null,null,null,null,null,null,null,null,null,null,null,null,null,null,null,null,null,null,null,null,null,null,null,"ABS","%",{"$f":"1-((1-CN23)*(1-DI30))","v":0.11682289770354903},"$",{"$f":"CP23+DK30","v":737.2538677953097},"L",null,null,null,null,null,null,null,null,null,null,null,null,null,null,null,null,null,null,null,null,null,null,null,null,null,null,null,null,null,null,null,null,null,null,null,null,"ABS","%",7.0000000000000007E-2,"$",{"$f":"CP5+FA30","v":300.89845654606535},"L"]
[null,null,null,null,null,null,null,null,null,null,null,null,null,null,null,null,null,null,null,null,null,null,null,null,null,null,null,"Discrete VVL\n(DVVLS) - TBL",null,null,null,null,"DVVLS",null,null,null,null,null,null,null,null,null,null,null,null,null,null,null,null,null,null,null,null,null,null,null,null,null,null,null,null,null,null,null,null,null,null,null,null,"Discrete VVL\n(DVVLD) - TBL",null,null,null,null,"DVVLD",null,null,null,null,null,null,null,null,null,null,null,null,null,null,null,null,null,null,null,null,null,null,null,null,null,null,null,null,null,null,null,null,null,null,null,null,"Continuous VVL\n(CVVL) - TBL",null,null,null,null,"CVVL",null,null,null,null,null,null,null,null,null,null,null,null,null,null,null,null,null,null,null,null,null,null,null,null,null,null,null,null,null,null,null,null,null,null,null,null,"Cylinder Deactivation\n(DEACO) - TBL",null,null,null,null,"DEACO"]
[null,null,null,null,null,null,null,null,null,null,null,null,null,null,null,null,null,null,null,null,null,null,null,null,null,"2017+","INC","%",{"$f":"1-((1-AC34)/(1-AC26))","v":3.3991228070175517E-2},"$",{"$f":"AE30","v":283.91568177801889},10,null,null,null,null,null,null,null,null,null,null,null,null,null,null,null,null,null,null,null,null,null,null,null,null,null,null,null,null,null,null,null,null,null,null,null,"2017+","INC","%",{"$f":"1-((1-BS34)/(1-CN26))","v":3.3991228070175517E-2},"$",{"$f":"BU30","v":283.91568177801889},10,null,null,null,null,null,null,null,null,null,null,null,null,null,null,null,null,null,null,null,null,null,null,null,null,null,null,null,null,null,null,null,null,null,null,null,"2017+","INC","%",{"$f":"1-((1-DI34)/(1-CN26))","v":4.2763157894736836E-2},"$",{"$f":"DK30","v":457.05067711264735},10,null,null,null,null,null,null,null,null,null,null,null,null,null,null,null,null,null,null,null,null,null,null,null,null,null,null,null,null,null,null,null,null,null,null,null,"2017+","INC","%",{"$f":"1-((1-EY34)/(1-CN8))","v":5.5323590814196133E-2},"$",{"$f":"FA30","v":180.85022482302156},10]
[null,"START",null,null,null,null,null,null,null,null,null,null,null,null,null,null,null,null,null,null,null,null,null,null,null,null,"ABS","%",0.11899999999999999,"$",{"$f":"AE26+AE33","v":612.74462823470094},"L",null,null,null,null,null,null,null,null,null,null,null,null,null,null,null,null,null,null,null,null,null,null,null,null,null,null,null,null,null,null,null,null,null,null,null,null,"ABS","%",0.11899999999999999,"$",{"$f":"CP26+BU33","v":689.80033611926433},"L",null,null,null,null,null,null,null,null,null,null,null,null,null,null,null,null,null,null,null,null,null,null,null,null,null,null,null,null,null,null,null,null,null,null,null,null,"ABS","%",0.127,"$",{"$f":"CP26+DK33","v":862.93533145389279},"L",null,null,null,null,null,null,null,null,null,null,null,null,null,null,null,null,null,null,null,null,null,null,null,null,null,null,null,null,null,null,null,null,null,null,null,null,"ABS","%",9.5000000000000001E-2,"$",{"$f":"CP8+FA33","v":426.57992020464837},"L"]
["Gas Engine Type","I4"]
["Displacement [L]",2.2000000000000002]
["Turbocharger","None"]
["EGR system","External",null,null,null,null,null,null,null,null,null,null,null,null,null,null,null,null,null,null,null,null,null,null,null,"2012-2016","INC","%",{"$f":"AC41","v":5.6753688989784612E-3},"$",{"$f":"INDEX('[1]Large LT'!$H$379:$X$467,MATCH(AG40,'[1]Large LT'!$C$379:$C$467,0),MATCH(Inputs!$C$2,'[1]Large LT'!$H$378:$X$378,0))","v":28.176910737789065},10,null,null,null,null,null,null,null,null,null,null,null,null,null,null,null,null,null,null,null,null,null,null,null,null,null,null,null,null,null,null,null,null,null,null,null,"2012-2016","INC","%",{"$f":"BS41","v":5.6753688989784612E-3},"$",{"$f":"INDEX('[1]Large LT'!$H$379:$X$467,MATCH(BW40,'[1]Large LT'!$C$379:$C$467,0),MATCH(Inputs!$C$2,'[1]Large LT'!$H$378:$X$378,0))","v":28.176910737789065},10,null,null,null,null,null,null,null,null,null,null,null,null,null,null,null,null,null,null,null,null,null,null,null,null,null,null,null,null,null,null,null,null,null,null,null,"2012-2016","INC","%",{"$f":"DI41","v":0},"$",0,10,null,null,null,null,null,null,null,null,null,null,null,null,null,null,null,null,null,null,null,null,null,null,null,null,null,null,null,null,null,null,null,null,null,null,null,"2012-2016","INC","%",{"$f":"1-((1-EY39)/(1-EY31))","v":2.1505376344085891E-2},"$",{"$f":"INDEX('[1]Large LT'!$H$379:$X$467,MATCH(FC40,'[1]Large LT'!$C$379:$C$467,0),MATCH(Inputs!$C$2,'[1]Large LT'!$H$378:$X$378,0))*$B$14","v":90.409234428646556},10]
["Valvetrain","SOHC/ DOHC/ OHV",null,null,null,null,null,null,null,null,null,null,null,null,null,null,null,null,null,null,null,null,null,null,null,null,"ABS","%",{"$f":"1-((1-AC31)*(1-AC38))","v":0.11378792484342393},"$",{"$f":"AE31+AE38","v":515.24007531390691},"L",null,null,null,null,null,null,null,null,null,null,null,null,null,null,null,null,null,null,null,null,null,null,null,null,null,null,null,null,null,null,null,null,null,null,null,null,"ABS","%",{"$f":"1-((1-BS31)*(1-BS38))","v":0.11378792484342393},"$",{"$f":"BU31+BU38","v":592.2957831984703},"L",null,null,null,null,null,null,null,null,null,null,null,null,null,null,null,null,null,null,null,null,null,null,null,null,null,null,null,null,null,null,null,null,null,null,null,null,"ABS","%",{"$f":"1-((1-DI31)*(1-DI38))","v":0.11682289770354903},"$",{"$f":"DK31+DK38","v":737.2538677953097},"L",null,null,null,null,null,null,null,null,null,null,null,null,null,null,null,null,null,null,null,null,null,null,null,null,null,null,null,null,null,null,null,null,null,null,null,null,"ABS","%",0.09,"$",{"$f":"FA31+FA38","v":391.30769097471193},"L"]
[null,null,null,null,null,null,null,null,null,null,null,null,null,null,null,null,null,null,null,null,null,null,null,null,null,null,null,"Cylinder Deactivation\n(DEACS) - TBL",null,null,null,null,"DEACS",null,null,null,null,null,null,null,null,null,null,null,null,null,null,null,null,null,null,null,null,null,null,null,null,null,null,null,null,null,null,null,null,null,null,null,null,"Cylinder Deactivation\n(DEACD) - TBL",null,null,null,null,"DEACD",null,null,null,null,null,null,null,null,null,null,null,null,null,null,null,null,null,null,null,null,null,null,null,null,null,null,null,null,null,null,null,null,null,null,null,null,"Cylinder Deactivation\n(DEACD) - TBL",null,null,null,null,null,null,null,null,null,null,null,null,null,null,null,null,null,null,null,null,null,null,null,null,null,null,null,null,null,null,null,null,null,null,null,null,null,null,null,null,null,"Coupled Cam Phasing and DVVL\n(VVA) - TBL",null,null,null,null,"VVA"]
[null,null,null,null,null,null,null,null,null,null,null,null,null,null,null,null,null,null,null,null,null,null,null,null,null,"2017+","INC","%",{"$f":"1-((1-AC42)/(1-AC34))","v":5.6753688989784612E-3},"$",{"$f":"AE38","v":28.176910737789065},10,null,null,null,null,null,null,null,null,null,null,null,null,null,null,null,null,null,null,null,null,null,null,null,null,null,null,null,null,null,null,null,null,null,null,null,"2017+","INC","%",{"$f":"1-((1-BS42)/(1-BS34))","v":5.6753688989784612E-3},"$",{"$f":"BU38","v":28.176910737789065},10,null,null,null,null,null,null,null,null,null,null,null,null,null,null,null,null,null,null,null,null,null,null,null,null,null,null,null,null,null,null,null,null,null,null,null,"2017+","INC","%",{"$f":"1-((1-DI42)/(1-DI34))","v":0},"$",{"$f":"DK38","v":0},10,null,null,null,null,null,null,null,null,null,null,null,null,null,null,null,null,null,null,null,null,null,null,null,null,null,null,null,null,null,null,null,null,null,null,null,"2017+","INC","%",{"$f":"1-((1-EY42)/(1-EY34))","v":3.2044198895027631E-2},"$",{"$f":"FA38","v":90.409234428646556},10]
[null,null,null,null,null,null,null,null,null,null,null,null,null,null,null,null,null,null,null,null,null,null,null,null,null,null,"ABS","%",0.124,"$",{"$f":"AE34+AE41","v":640.92153897249},"L",null,null,null,null,null,null,null,null,null,null,null,null,null,null,null,null,null,null,null,null,null,null,null,null,null,null,null,null,null,null,null,null,null,null,null,null,"ABS","%",0.124,"$",{"$f":"BU34+BU41","v":717.97724685705339},"L",null,null,null,null,null,null,null,null,null,null,null,null,null,null,null,null,null,null,null,null,null,null,null,null,null,null,null,null,null,null,null,null,null,null,null,null,"ABS","%",{"$f":"DI34","v":0.127},"$",{"$f":"DK34+DK41","v":862.93533145389279},"L",null,null,null,null,null,null,null,null,null,null,null,null,null,null,null,null,null,null,null,null,null,null,null,null,null,null,null,null,null,null,null,null,null,null,null,null,"ABS","%",0.124,"$",{"$f":"FA34+FA41","v":516.9891546332949},"L"]
[]
[]
[]
[null,null,null,null,null,null,null,null,null,null,null,null,null,null,null,null,null,null,null,null,null,null,null,null,null,"2012-2016","INC","%",{"$f":"AC49","v":1.4840182648401812E-2},"$",{"$f":"INDEX('[1]Large LT'!$H$379:$X$467,MATCH(AG48,'[1]Large LT'!$C$379:$C$467,0),MATCH(Inputs!$C$2,'[1]Large LT'!$H$378:$X$378,0))*$B$13","v":465.89058102156281},10,null,null,null,null,null,null,null,null,null,null,null,null,null,null,null,null,null,null,null,null,null,null,null,null,null,null,null,null,null,null,null,null,null,null,null,"2012-2016","INC","%",{"$f":"BS49","v":1.4840182648401812E-2},"$",{"$f":"INDEX('[1]Large LT'!$H$379:$X$467,MATCH(BW48,'[1]Large LT'!$C$379:$C$467,0),MATCH(Inputs!$C$2,'[1]Large LT'!$H$378:$X$378,0))*$B$13","v":465.89058102156281},10,null,null,null,null,null,null,null,null,null,null,null,null,null,null,null,null,null,null,null,null,null,null,null,null,null,null,null,null,null,null,null,null,null,null,null,"2012-2016","INC","%",{"$f":"DI49","v":1.4891179839633506E-2},"$",{"$f":"INDEX('[1]Large LT'!$H$379:$X$467,MATCH(DM48,'[1]Large LT'!$C$379:$C$467,0),MATCH(Inputs!$C$2,'[1]Large LT'!$H$378:$X$378,0))*$B$13","v":465.89058102156281},10,null,null,null,null,null,null,null,null,null,null,null,null,null,null,null,null,null,null,null,null,null,null,null,null,null,null,null,null,null,null,null,null,null,null,null,"2012-2016","INC","%",{"$f":"1-((1-EY47)/(1-EY39))","v":1.5384615384615441E-2},"$",{"$f":"INDEX('[1]Large LT'!$H$379:$X$467,MATCH(FC48,'[1]Large LT'!$C$379:$C$467,0),MATCH(Inputs!$C$2,'[1]Large LT'!$H$378:$X$378,0))*$B$13","v":465.89058102156281},10]
[null,null,null,null,null,null,null,null,null,null,null,null,null,null,null,null,null,null,null,null,null,null,null,null,null,null,"ABS","%",{"$f":"1-((1-AC39)*(1-AC46))","v":0.12693947390396676},"$",{"$f":"AE39+AE46","v":981.13065633546967},"L",null,null,null,null,null,null,null,null,null,null,null,null,null,null,null,null,null,null,null,null,null,null,null,null,null,null,null,null,null,null,null,null,null,null,null,null,"ABS","%",{"$f":"1-((1-BS39)*(1-BS46))","v":0.12693947390396676},"$",{"$f":"BU39+BU46","v":1058.1863642200331},"L",null,null,null,null,null,null,null,null,null,null,null,null,null,null,null,null,null,null,null,null,null,null,null,null,null,null,null,null,null,null,null,null,null,null,null,null,"ABS","%",{"$f":"1-((1-DI39)*(1-DI46))","v":0.12997444676409187},"$",{"$f":"DK39+DK46","v":1203.1444488168725},"L",null,null,null,null,null,null,null,null,null,null,null,null,null,null,null,null,null,null,null,null,null,null,null,null,null,null,null,null,null,null,null,null,null,null,null,null,"ABS","%",0.104,"$",{"$f":"FA39+FA46","v":857.1982719962748},"L"]
[null,null,null,null,null,null,null,null,null,null,null,null,null,null,null,null,null,null,null,null,null,null,null,null,null,null,null,"Stoichiometric GDI\n(SGDI) - TBL",null,null,null,null,"SGDI",null,null,null,null,null,null,null,null,null,null,null,null,null,null,null,null,null,null,null,null,null,null,null,null,null,null,null,null,null,null,null,null,null,null,null,null,"Stoichiometric GDI\n(SGDI) - TBL",null,null,null,null,"SGDI",null,null,null,null,null,null,null,null,null,null,null,null,null,null,null,null,null,null,null,null,null,null,null,null,null,null,null,null,null,null,null,null,null,null,null,null,"Stoichiometric GDI\n(SGDI) - TBL",null,null,null,null,"SGDI",null,null,null,null,null,null,null,null,null,null,null,null,null,null,null,null,null,null,null,null,null,null,null,null,null,null,null,null,null,null,null,null,null,null,null,null,"Stoichiometric GDI\n(SGDIO) - TBL",null,null,null,null,"SGDIO"]
[null,null,null,null,null,null,null,null,null,null,null,null,null,null,null,null,null,null,null,null,null,null,null,null,null,"2017+","INC","%",{"$f":"1-((1-AC50)/(1-AC42))","v":1.4840182648401812E-2},"$",{"$f":"AE46","v":465.89058102156281},10,null,null,null,null,null,null,null,null,null,null,null,null,null,null,null,null,null,null,null,null,null,null,null,null,null,null,null,null,null,null,null,null,null,null,null,"2017+","INC","%",{"$f":"1-((1-BS50)/(1-BS42))","v":1.4840182648401812E-2},"$",{"$f":"BU46","v":465.89058102156281},10,null,null,null,null,null,null,null,null,null,null,null,null,null,null,null,null,null,null,null,null,null,null,null,null,null,null,null,null,null,null,null,null,null,null,null,"2017+","INC","%",{"$f":"1-((1-DI50)/(1-DI42))","v":1.4891179839633506E-2},"$",{"$f":"DK46","v":465.89058102156281},10,null,null,null,null,null,null,null,null,null,null,null,null,null,null,null,null,null,null,null,null,null,null,null,null,null,null,null,null,null,null,null,null,null,null,null,"2017+","INC","%",{"$f":"1-((1-EY50)/(1-EY42))","v":1.4840182648401812E-2},"$",{"$f":"FA46","v":465.89058102156281},10]
[null,null,null,null,null,null,null,null,null,null,null,null,null,null,null,null,null,null,null,null,null,null,null,"From SOHC Path",null,null,"ABS","%",0.13700000000000001,"$",{"$f":"AE42+AE49","v":1106.8121199940529},"L",null,null,null,null,null,null,null,null,null,null,null,null,null,null,null,null,null,null,null,null,null,null,null,null,null,null,null,null,null,null,null,null,null,"From DOHC w/ DVVLD Path",null,null,"ABS","%",0.13700000000000001,"$",{"$f":"BU42+BU49","v":1183.8678278786163},"L",null,null,null,null,null,null,null,null,null,null,null,null,null,null,null,null,null,null,null,null,null,null,null,null,null,null,null,null,null,null,null,null,null,"From DOHC w/ CVVL Path",null,null,"ABS","%",0.14000000000000001,"$",{"$f":"DK42+DK49","v":1328.8259124754557},"L",null,null,null,null,null,null,null,null,null,null,null,null,null,null,null,null,null,null,null,null,null,null,null,null,null,null,null,null,null,null,null,null,null,"From OHV w/ CDOHC Path",null,null,"ABS","%",0.13700000000000001,"$",{"$f":"FA42+FA49","v":982.87973565485777},"L"]
[]
[]
[null,null,null,null,null,null,null,null,null,null,null,null,null,null,null,null,null,null,null,null,null,null,null,null,null,null,null,null,null,null,null,null,null,null,null,null,null,null,null,null,null,null,null,null,null,null,null,null,null,null,null,null,null,null,null,null,{"$f":"BE54-$O$54","v":0},null,{"$f":"BG54-$Q$54","v":-10.350943204492637},null,null,null,null,null,null,null,null,null,null,null,{"$f":"BS54-$AC$54","v":0},null,{"$f":"BU54-$AE$54","v":-137.49257962890812},null,null,null,null,null,null,null,null,null,null,null,{"$f":"CG54-$AQ$54","v":0},null,{"$f":"CI54-$AS$54","v":-151.06222004175237},null,null,null,null,null,null,null,null,null,null,null,{"$f":"CU54-$O$54","v":-9.8100423793708869E-3},null,{"$f":"CW54-$Q$54","v":-10.350943204492637},null,null,null,null,null,null,null,null,null,null,null,{"$f":"DI54-$AC$54","v":-3.2337168880864908E-3},null,{"$f":"DK54-$AE$54","v":-137.49257962890812},null,null,null,null,null,null,null,null,null,null,null,{"$f":"DW54-$AQ$54","v":-3.2337168880864908E-3},null,{"$f":"DY54-$AS$54","v":-151.06222004175237},null,null,null,null,null,null,null,null,null,null,null,{"$f":"EK54-$O$54","v":5.7529805232001907E-2},null,{"$f":"EM54-$Q$54","v":-420.06358424991754},null,null,null,null,null,null,null,null,null,null,null,{"$f":"EY54-$AC$54","v":0},null,{"$f":"FA54-$AE$54","v":562.75413569090051},null,null,null,null,null,null,null,null,null,null,null,{"$f":"FM54-$AQ$54","v":0},null,{"$f":"FO54-$AS$54","v":523.98042111588995}]
[null,null,null,null,null,null,null,null,null,null,null,"2012-2016","INC","%",{"$f":"O57","v":7.9577484239835905E-2},"$",{"$f":"INDEX('[1]Large LT'!$H$379:$X$467,MATCH(M56,'[1]Large LT'!$C$379:$C$467,0),MATCH(Inputs!$C$2,'[1]Large LT'!$H$378:$X$378,0))\n+INDEX('[1]Large LT'!$H$379:$X$467,MATCH(S56,'[1]Large LT'!$C$379:$C$467,0),MATCH(Inputs!$C$2,'[1]Large LT'!$H$378:$X$378,0))","v":420.06358424991754},10,null,null,null,null,null,null,null,"2012-2016","INC","%",{"$f":"AC57","v":7.3001158748551509E-2},"$",{"$f":"INDEX('[1]Large LT'!$H$379:$X$467,MATCH(AA56,'[1]Large LT'!$C$379:$C$467,0),MATCH(Inputs!$C$2,'[1]Large LT'!$H$378:$X$378,0))\n+INDEX('[1]Large LT'!$H$379:$X$467,MATCH(AG56,'[1]Large LT'!$C$379:$C$467,0),MATCH(Inputs!$C$2,'[1]Large LT'!$H$378:$X$378,0))","v":-29.267884297748708},10,null,null,null,null,null,null,null,"2012-2016","INC","%",{"$f":"AQ57","v":7.3001158748551509E-2},"$",{"$f":"INDEX('[1]Large LT'!$H$379:$X$467,MATCH(AO56,'[1]Large LT'!$C$379:$C$467,0),MATCH(Inputs!$C$2,'[1]Large LT'!$H$378:$X$378,0))\n+INDEX('[1]Large LT'!$H$379:$X$467,MATCH(AU56,'[1]Large LT'!$C$379:$C$467,0),MATCH(Inputs!$C$2,'[1]Large LT'!$H$378:$X$378,0))","v":523.48084050429873},10,null,null,null,null,null,null,null,"2012-2016","INC","%",{"$f":"BE57","v":7.9577484239835905E-2},"$",{"$f":"INDEX('[1]Subcompact PC'!$H$530:$X$541,MATCH(BC56,'[1]Subcompact PC'!$C$530:$C$541,0),MATCH(Inputs!$C$2,'[1]Subcompact PC'!$H$529:$X$529,0))\n+INDEX('[1]Subcompact PC'!$H$530:$X$541,MATCH(BI56,'[1]Subcompact PC'!$C$530:$C$541,0),MATCH(Inputs!$C$2,'[1]Subcompact PC'!$H$529:$X$529,0))","v":409.7126410454249},10,null,null,null,null,null,null,null,"2012-2016","INC","%",{"$f":"BS57","v":7.3001158748551509E-2},"$",{"$f":"INDEX('[1]Subcompact PC'!$H$530:$X$541,MATCH(BQ56,'[1]Subcompact PC'!$C$530:$C$541,0),MATCH(Inputs!$C$2,'[1]Subcompact PC'!$H$529:$X$529,0))\n+INDEX('[1]Subcompact PC'!$H$530:$X$541,MATCH(BW56,'[1]Subcompact PC'!$C$530:$C$541,0),MATCH(Inputs!$C$2,'[1]Subcompact PC'!$H$529:$X$529,0))","v":-166.76046392665683},10,null,null,null,null,null,null,null,"2012-2016","INC","%",{"$f":"CG57","v":7.3001158748551509E-2},"$",{"$f":"INDEX('[1]Subcompact PC'!$H$530:$X$541,MATCH(CE56,'[1]Subcompact PC'!$C$530:$C$541,0),MATCH(Inputs!$C$2,'[1]Subcompact PC'!$H$529:$X$529,0))\n+INDEX('[1]Subcompact PC'!$H$530:$X$541,MATCH(CK56,'[1]Subcompact PC'!$C$530:$C$541,0),MATCH(Inputs!$C$2,'[1]Subcompact PC'!$H$529:$X$529,0))","v":372.41862046254636},10,null,null,null,null,null,null,null,"2012-2016","INC","%",{"$f":"CU57","v":6.9767441860465018E-2},"$",{"$f":"INDEX('[1]Subcompact PC'!$H$530:$X$541,MATCH(CS56,'[1]Subcompact PC'!$C$530:$C$541,0),MATCH(Inputs!$C$2,'[1]Subcompact PC'!$H$529:$X$529,0))\n+INDEX('[1]Subcompact PC'!$H$530:$X$541,MATCH(CY56,'[1]Subcompact PC'!$C$530:$C$541,0),MATCH(Inputs!$C$2,'[1]Subcompact PC'!$H$529:$X$529,0))","v":409.7126410454249},10,null,null,null,null,null,null,null,"2012-2016","INC","%",{"$f":"DI57","v":6.9767441860465018E-2},"$",{"$f":"INDEX('[1]Subcompact PC'!$H$530:$X$541,MATCH(DG56,'[1]Subcompact PC'!$C$530:$C$541,0),MATCH(Inputs!$C$2,'[1]Subcompact PC'!$H$529:$X$529,0))\n+INDEX('[1]Subcompact PC'!$H$530:$X$541,MATCH(DM56,'[1]Subcompact PC'!$C$530:$C$541,0),MATCH(Inputs!$C$2,'[1]Subcompact PC'!$H$529:$X$529,0))","v":-166.76046392665683},10,null,null,null,null,null,null,null,"2012-2016","INC","%",{"$f":"DW57","v":6.9767441860465018E-2},"$",{"$f":"INDEX('[1]Subcompact PC'!$H$530:$X$541,MATCH(DU56,'[1]Subcompact PC'!$C$530:$C$541,0),MATCH(Inputs!$C$2,'[1]Subcompact PC'!$H$529:$X$529,0))\n+INDEX('[1]Subcompact PC'!$H$530:$X$541,MATCH(EA56,'[1]Subcompact PC'!$C$530:$C$541,0),MATCH(Inputs!$C$2,'[1]Subcompact PC'!$H$529:$X$529,0))","v":372.41862046254636},10,null,null,null,null,null,null,null,"2012-2016","INC","%",{"$f":"EK57","v":0.13710728947183781},"$",{"$f":"INDEX('[1]Subcompact PC'!$H$530:$X$541,MATCH(EI56,'[1]Subcompact PC'!$C$530:$C$541,0),MATCH(Inputs!$C$2,'[1]Subcompact PC'!$H$529:$X$529,0))\n+INDEX('[1]Subcompact PC'!$H$530:$X$541,MATCH(EO56,'[1]Subcompact PC'!$C$530:$C$541,0),MATCH(Inputs!$C$2,'[1]Subcompact PC'!$H$529:$X$529,0))","v":0},10,null,null,null,null,null,null,null,"2012-2016","INC","%",{"$f":"EY57","v":7.3001158748551509E-2},"$",{"$f":"INDEX('[1]Subcompact PC'!$H$530:$X$541,MATCH(EW56,'[1]Subcompact PC'!$C$530:$C$541,0),MATCH(Inputs!$C$2,'[1]Subcompact PC'!$H$529:$X$529,0))\n+INDEX('[1]Subcompact PC'!$H$530:$X$541,MATCH(FC56,'[1]Subcompact PC'!$C$530:$C$541,0),MATCH(Inputs!$C$2,'[1]Subcompact PC'!$H$529:$X$529,0))","v":533.48625139315186},10,{"$f":"INDEX('[1]Subcompact PC'!$H$530:$X$541,MATCH(EW56,'[1]Subcompact PC'!$C$530:$C$541,0),MATCH(Inputs!$C$2,'[1]Subcompact PC'!$H$529:$X$529,0))","v":229.17561542502995},{"$f":"MATCH(EW56,'[1]Subcompact PC'!$C$530:$C$541,0)","v":9},null,null,null,null,null,"2012-2016","INC","%",{"$f":"FM57","v":7.3001158748551509E-2},"$",{"$f":"INDEX('[1]Subcompact PC'!$H$530:$X$541,MATCH(FK56,'[1]Subcompact PC'!$C$530:$C$541,0),MATCH(Inputs!$C$2,'[1]Subcompact PC'!$H$529:$X$529,0))\n+INDEX('[1]Subcompact PC'!$H$530:$X$541,MATCH(FQ56,'[1]Subcompact PC'!$C$530:$C$541,0),MATCH(Inputs!$C$2,'[1]Subcompact PC'!$H$529:$X$529,0))","v":1047.4612616201887},10]
[null,null,null,null,null,null,null,null,null,null,null,null,"ABS","%",{"$f":"1-((1-AC47+AC38)*(1-O54))","v":0.19119169683993198},"$",{"$f":"AE47+Q54","v":1401.1942405853872},"L",null,null,null,null,null,null,null,null,"ABS","%",{"$f":"1-((1-AC47)*(1-AC54))","v":0.19067390396659722},"$",{"$f":"AE47+AE54","v":951.86277203772102},"L",null,null,null,null,null,null,null,null,"ABS","%",{"$f":"1-((1-AC47)*(1-AQ54))","v":0.19067390396659722},"$",{"$f":"AE47+AS54","v":1504.6114968397683},"L",null,null,null,null,null,null,null,null,"ABS","%",{"$f":"1-((1-BS47)*(1-BE54))","v":0.19641543415979668},"$",{"$f":"BU47+BG54","v":1467.8990052654581},"L",null,null,null,null,null,null,null,null,"ABS","%",{"$f":"1-((1-BS47)*(1-BS54))","v":0.19067390396659722},"$",{"$f":"BU47+BU54","v":891.42590029337623},"L",null,null,null,null,null,null,null,null,"ABS","%",{"$f":"1-((1-BS47)*(1-CG54))","v":0.19067390396659722},"$",{"$f":"BU47+CI54","v":1430.6049846825795},"L",null,null,null,null,null,null,null,null,"ABS","%",{"$f":"1-((1-DI47)*(1-CU54))","v":0.190673903966597},"$",{"$f":"DK47+CW54","v":1612.8570898622975},"L",null,null,null,null,null,null,null,null,"ABS","%",{"$f":"1-((1-DI47)*(1-DI54))","v":0.190673903966597},"$",{"$f":"DK47+DK54","v":1036.3839848902157},"L",null,null,null,null,null,null,null,null,"ABS","%",{"$f":"1-((1-DI47)*(1-DW54))","v":0.190673903966597},"$",{"$f":"DK47+DY54","v":1575.5630692794189},"L",null,null,null,null,null,null,null,null,"ABS","%",{"$f":"1-((1-EY47)*(1-EK54))","v":0.22684813136676663},"$",{"$f":"FA47+EM54","v":857.1982719962748},"L",null,null,null,null,null,null,null,null,"ABS","%",{"$f":"1-((1-EY47)*(1-EY54))","v":0.16940903823870213},"$",{"$f":"FA47+FA54","v":1390.6845233894267},"L",null,null,null,null,null,null,null,null,"ABS","%",{"$f":"1-((1-EY47)*(1-FM54))","v":0.16940903823870213},"$",{"$f":"FA47+FO54","v":1904.6595336164635},"L"]
[null,"INTERMEDIATE",null,null,null,null,null,null,null,null,null,null,"TRBDS1_SD_TB","Turbocharging and Downsizing 1 (TRBDS1_SD) - TBL",null,null,null,null,"TRBDS1_SD_DS",null,null,null,null,null,null,null,"TRBDS1_MD_TB","Turbocharging and Downsizing 1 (TRBDS1_MD) - TBL",null,null,null,null,"TRBDS1_MD_DS",null,null,null,null,null,null,null,"TRBDS1_LD_TB","Turbocharging and Downsizing 1\n(TRBDS1_LD) - TBL",null,null,null,null,"TRBDS1_LD_DS",null,null,null,null,null,null,null,"TRBDS1_SD_TB_D",{"$f":"$N$56","v":"Turbocharging and Downsizing 1 (TRBDS1_SD) - TBL"},null,null,null,null,"TRBDS1_SD_DS_D",null,null,null,null,null,null,null,"TRBDS1_MD_TB_D","Turbocharging and Downsizing 1 (TRBDS1_MD) - TBL",null,null,null,null,"TRBDS1_MD_DS_D",null,null,null,null,null,null,null,"TRBDS1_LD_TB_D",{"$f":"$AP$56","v":"Turbocharging and Downsizing 1\n(TRBDS1_LD) - TBL"},null,null,null,null,"TRBDS1_LD_DS_D",null,null,null,null,null,null,null,"TRBDS1_SD_TB_D",{"$f":"$N$56","v":"Turbocharging and Downsizing 1 (TRBDS1_SD) - TBL"},null,null,null,null,"TRBDS1_SD_DS_D",null,null,null,null,null,null,null,"TRBDS1_MD_TB_D",{"$f":"$AB$56","v":"Turbocharging and Downsizing 1 (TRBDS1_MD) - TBL"},null,null,null,null,"TRBDS1_MD_DS_D",null,null,null,null,null,null,null,"TRBDS1_LD_TB_D",{"$f":"$AP$56","v":"Turbocharging and Downsizing 1\n(TRBDS1_LD) - TBL"},null,null,null,null,"TRBDS1_LD_DS_D",null,null,null,null,null,null,null,"TRBDS1_SD_TB_O",{"$f":"$N$56","v":"Turbocharging and Downsizing 1 (TRBDS1_SD) - TBL"},null,null,null,null,"TRBDS1_SD_DS_O",null,null,null,null,null,null,null,"TRBDS1_MD_TB_O",{"$f":"$AB$56","v":"Turbocharging and Downsizing 1 (TRBDS1_MD) - TBL"},null,null,null,null,"TRBDS1_MD_DS_O",null,null,null,null,null,null,null,"TRBDS1_LD_TB_O",{"$f":"$AP$56","v":"Turbocharging and Downsizing 1\n(TRBDS1_LD) - TBL"},null,null,null,null,"TRBDS1_LD_DS_O"]
["Gas Engine Type","I4",null,null,null,null,null,null,null,null,null,"2017+","INC","%",{"$f":"1-((1-O58-AC41)/(1-AC50))","v":7.9577484239835905E-2},"$",{"$f":"Q54","v":420.06358424991754},10,null,null,null,null,null,null,null,"2017+","INC","%",{"$f":"1-((1-AC58)/(1-AC50))","v":7.3001158748551509E-2},"$",{"$f":"AE54","v":-29.267884297748708},10,null,null,null,null,null,null,null,"2017+","INC","%",{"$f":"1-((1-AQ58)/(1-AC50))","v":7.3001158748551509E-2},"$",{"$f":"AS54","v":523.48084050429873},10,null,null,null,null,null,null,null,"2017+","INC","%",{"$f":"1-((1-BE58-BS41)/(1-BS50))","v":7.9577484239835905E-2},"$",{"$f":"BG54","v":409.7126410454249},10,null,null,null,null,null,null,null,"2017+","INC","%",{"$f":"1-((1-BS58)/(1-BS50))","v":7.3001158748551509E-2},"$",{"$f":"BU54","v":-166.76046392665683},10,null,null,null,null,null,null,null,"2017+","INC","%",{"$f":"1-((1-CG58)/(1-BS50))","v":7.3001158748551509E-2},"$",{"$f":"CI54","v":372.41862046254636},10,null,null,null,null,null,null,null,"2017+","INC","%",{"$f":"1-((1-CU58-DI41)/(1-DI50))","v":6.9767441860465018E-2},"$",{"$f":"CW54","v":409.7126410454249},10,null,null,null,null,null,null,null,"2017+","INC","%",{"$f":"1-((1-DI58)/(1-DI50))","v":6.9767441860465018E-2},"$",{"$f":"DK54","v":-166.76046392665683},10,null,null,null,null,null,null,null,"2017+","INC","%",{"$f":"1-((1-DW58)/(1-DI50))","v":6.9767441860465018E-2},"$",{"$f":"DY54","v":372.41862046254636},10,null,null,null,null,null,null,null,"2017+","INC","%",{"$f":"1-((1-EK58-EY33)/(1-EY50))","v":0.13710728947183781},"$",{"$f":"EM54","v":0},10,null,null,null,null,null,null,null,"2017+","INC","%",{"$f":"1-((1-EY58)/(1-EY50))","v":7.3001158748551509E-2},"$",{"$f":"FA54","v":533.48625139315186},10,null,null,null,null,null,null,null,"2017+","INC","%",{"$f":"1-((1-FM58)/(1-EY50))","v":7.3001158748551509E-2},"$",{"$f":"FO54","v":1047.4612616201887},10]
["Displacement [L]","1.5 to 2.0",null,null,null,null,null,null,null,null,null,null,"ABS","%",0.2,"$",{"$f":"AE50+Q57","v":1526.8757042439704},"L",null,null,null,null,null,null,null,null,"ABS","%",{"$f":"$O58","v":0.2},"$",{"$f":"AE50+AE57","v":1077.5442356963042},"L",null,null,null,null,null,null,null,null,"ABS","%",{"$f":"$O58","v":0.2},"$",{"$f":"AE50+AS57","v":1630.2929604983515},"L",null,null,null,null,null,null,null,null,"ABS","%",{"$f":"$O58","v":0.2},"$",{"$f":"BU50+BG57","v":1593.5804689240413},"L",null,null,null,null,null,null,null,null,"ABS","%",{"$f":"$O58","v":0.2},"$",{"$f":"BU50+BU57","v":1017.1073639519594},"L",null,null,null,null,null,null,null,null,"ABS","%",{"$f":"$AQ58","v":0.2},"$",{"$f":"BU50+CI57","v":1556.2864483411627},"L",null,null,null,null,null,null,null,null,"ABS","%",{"$f":"$O58","v":0.2},"$",{"$f":"DK50+CW57","v":1738.5385535208807},"L",null,null,null,null,null,null,null,null,"ABS","%",{"$f":"$AC58","v":0.2},"$",{"$f":"DK50+DK57","v":1162.0654485487989},"L",null,null,null,null,null,null,null,null,"ABS","%",{"$f":"$AQ58","v":0.2},"$",{"$f":"DK50+DY57","v":1701.2445329380021},"L",null,null,null,null,null,null,null,null,"ABS","%",{"$f":"$O58","v":0.2},"$",{"$f":"FA50+EM57","v":982.87973565485777},"L",null,null,null,null,null,null,null,null,"ABS","%",{"$f":"$AC58","v":0.2},"$",{"$f":"FA50+FA57","v":1516.3659870480096},"L",null,null,null,null,null,null,null,null,"ABS","%",{"$f":"$AQ58","v":0.2},"$",{"$f":"FA50+FO57","v":2030.3409972750464},"L"]
["Turbocharger","FGT",null,null,null,null,null,null,null,null,null,null,null,null,null,null,null,null,null,null,null,null,null,null,null,null,null,null,null,null,null,null,null,null,null,null,null,null,null,null,null,null,null,null,null,null,null,null,null,null,null,null,null,null,null,null,{"$f":"BE57-$O$57","v":0},null,{"$f":"BG57-$Q$57","v":-10.350943204492637},null,null,null,null,null,null,null,null,null,null,null,{"$f":"BS57-$AC$57","v":0},null,{"$f":"BU57-$AE$57","v":-137.49257962890812},null,null,null,null,null,null,null,null,null,null,null,{"$f":"CG57-$AQ$57","v":0},null,{"$f":"CI57-$AS$57","v":-151.06222004175237},null,null,null,null,null,null,null,null,null,null,null,{"$f":"CU57-$O$57","v":-9.8100423793708869E-3},null,{"$f":"CW57-$Q$57","v":-10.350943204492637},null,null,null,null,null,null,null,null,null,null,null,{"$f":"DI57-$AC$57","v":-3.2337168880864908E-3},null,{"$f":"DK57-$AE$57","v":-137.49257962890812},null,null,null,null,null,null,null,null,null,null,null,{"$f":"DW57-$AQ$57","v":-3.2337168880864908E-3},null,{"$f":"DY57-$AS$57","v":-151.06222004175237},null,null,null,null,null,null,null,null,null,null,null,{"$f":"EK57-$O$57","v":5.7529805232001907E-2},null,{"$f":"EM57-$Q$57","v":-420.06358424991754},null,null,null,null,null,null,null,null,null,null,null,{"$f":"EY57-$AC$57","v":0},null,{"$f":"FA57-$AE$57","v":562.75413569090051},null,null,null,null,null,null,null,null,null,null,null,{"$f":"FM57-$AQ$57","v":0},null,{"$f":"FO57-$AS$57","v":523.98042111588995}]
["EGR system","External"]
["Valvetrain","DOHC"]
["After Treatment","3way cat",null,null,null,null,null,null,null,null,null,"2012-2016","INC","%",{"$f":"1-((1-O63)/(1-O55))","v":0},"$",0,0,null,null,null,null,null,null,null,"2012-2016","INC","%",{"$f":"1-((1-AC63)/(1-AC55))","v":0},"$",0,0,null,null,null,null,null,null,null,"2012-2016","INC","%",{"$f":"1-((1-AQ63)/(1-AQ55))","v":0},"$",0,0,null,null,null,null,null,null,null,"2012-2016","INC","%",{"$f":"1-((1-BE63)/(1-BE55))","v":0},"$",{"$f":"$Q$62","v":0},{"$f":"$R$62","v":0},null,null,null,null,null,null,null,"2012-2016","INC","%",{"$f":"1-((1-BS63)/(1-BS55))","v":0},"$",{"$f":"$AE$62","v":0},{"$f":"$AF$62","v":0},null,null,null,null,null,null,null,"2012-2016","INC","%",{"$f":"1-((1-CG63)/(1-CG55))","v":0},"$",{"$f":"$AS$62","v":0},{"$f":"$AT$62","v":0},null,null,null,null,null,null,null,"2012-2016","INC","%",{"$f":"1-((1-CU63)/(1-CU55))","v":0},"$",{"$f":"$Q$62","v":0},{"$f":"$R$62","v":0},null,null,null,null,null,null,null,"2012-2016","INC","%",{"$f":"1-((1-DI63)/(1-DI55))","v":0},"$",{"$f":"$AE$62","v":0},{"$f":"$AF$62","v":0},null,null,null,null,null,null,null,"2012-2016","INC","%",{"$f":"1-((1-DW63)/(1-DW55))","v":0},"$",{"$f":"$AS$62","v":0},{"$f":"$AT$62","v":0},null,null,null,null,null,null,null,"2012-2016","INC","%",{"$f":"$O$62","v":0},"$",{"$f":"$Q$62","v":0},{"$f":"$R$62","v":0},null,null,null,null,null,null,null,"2012-2016","INC","%",{"$f":"1-((1-EY63)/(1-EY55))","v":0},"$",{"$f":"$AE$62","v":0},{"$f":"$AF$62","v":0},null,null,null,null,null,null,null,"2012-2016","INC","%",{"$f":"1-((1-FM63)/(1-FM55))","v":0},"$",{"$f":"$AS$62","v":0},{"$f":"$AT$62","v":0}]
[null,null,null,null,null,null,null,null,null,null,null,null,"ABS","%",{"$f":"O55","v":0.19119169683993198},"$",{"$f":"Q55+Q62","v":1401.1942405853872},"L",null,null,null,null,null,null,null,null,"ABS","%",{"$f":"AC55","v":0.19067390396659722},"$",{"$f":"AE55+AE62","v":951.86277203772102},"L",null,null,null,null,null,null,null,null,"ABS","%",{"$f":"AQ55","v":0.19067390396659722},"$",{"$f":"AS55+AS62","v":1504.6114968397683},"L",null,null,null,null,null,null,null,null,"ABS","%",{"$f":"BE55","v":0.19641543415979668},"$",{"$f":"BG55+BG62","v":1467.8990052654581},"L",null,null,null,null,null,null,null,null,"ABS","%",{"$f":"BS55","v":0.19067390396659722},"$",{"$f":"BU55+BU62","v":891.42590029337623},"L",null,null,null,null,null,null,null,null,"ABS","%",{"$f":"CG55","v":0.19067390396659722},"$",{"$f":"CI55+CI62","v":1430.6049846825795},"L",null,null,null,null,null,null,null,null,"ABS","%",{"$f":"CU55","v":0.190673903966597},"$",{"$f":"CW55+CW62","v":1612.8570898622975},"L",null,null,null,null,null,null,null,null,"ABS","%",{"$f":"DI55","v":0.190673903966597},"$",{"$f":"DK55+DK62","v":1036.3839848902157},"L",null,null,null,null,null,null,null,null,"ABS","%",{"$f":"DW55","v":0.190673903966597},"$",{"$f":"DY55+DY62","v":1575.5630692794189},"L",null,null,null,null,null,null,null,null,"ABS","%",{"$f":"1-((1-EK55)*(1-EK62))","v":0.22684813136676663},"$",{"$f":"EM55+EM62","v":857.1982719962748},"L",null,null,null,null,null,null,null,null,"ABS","%",{"$f":"EY55","v":0.16940903823870213},"$",{"$f":"FA55+FA62","v":1390.6845233894267},"L",null,null,null,null,null,null,null,null,"ABS","%",{"$f":"FM55","v":0.16940903823870213},"$",{"$f":"FO55+FO62","v":1904.6595336164635},"L"]
[null,null,null,null,null,null,null,null,null,null,null,null,"TRBDS2_SD_TB","Turbocharging and Downsizing 2\n(TRBDS2_SD) - TBL",null,null,null,null,"TRBDS2_SD_DS",null,null,null,null,null,null,null,"TRBDS2_MD_TB","Turbocharging and Downsizing 2\n(TRBDS2_MD) - TBL",null,null,null,null,"TRBDS2_MD_DS",null,null,null,null,null,null,null,"TRBDS2_LD_TB","Turbocharging and Downsizing 2\n(TRBDS2_LD) - TBL",null,null,null,null,"TRBDS2_LD_DS",null,null,null,null,null,null,null,"TRBDS2_SD_TB",{"$f":"$N$64","v":"Turbocharging and Downsizing 2\n(TRBDS2_SD) - TBL"},null,null,null,null,"TRBDS2_SD_DS",null,null,null,null,null,null,null,"TRBDS2_MD_TB",{"$f":"$AB$64","v":"Turbocharging and Downsizing 2\n(TRBDS2_MD) - TBL"},null,null,null,null,"TRBDS2_MD_DS",null,null,null,null,null,null,null,"TRBDS2_LD_TB",{"$f":"$AP$64","v":"Turbocharging and Downsizing 2\n(TRBDS2_LD) - TBL"},null,null,null,null,"TRBDS2_LD_DS",null,null,null,null,null,null,null,"TRBDS2_SD_TB",{"$f":"$N$64","v":"Turbocharging and Downsizing 2\n(TRBDS2_SD) - TBL"},null,null,null,null,"TRBDS2_SD_DS",null,null,null,null,null,null,null,"TRBDS2_MD_TB",{"$f":"$AB$64","v":"Turbocharging and Downsizing 2\n(TRBDS2_MD) - TBL"},null,null,null,null,"TRBDS2_MD_DS",null,null,null,null,null,null,null,"TRBDS2_LD_TB","Cooled EGR 1\n(CEGR1_LD) - TBL",null,null,null,null,"TRBDS2_LD_DS",null,null,null,null,null,null,null,"TRBDS2_SD_TB",{"$f":"$N$64","v":"Turbocharging and Downsizing 2\n(TRBDS2_SD) - TBL"},null,null,null,null,"TRBDS2_SD_DS",null,null,null,null,null,null,null,"TRBDS2_MD_TB",{"$f":"$AB$64","v":"Turbocharging and Downsizing 2\n(TRBDS2_MD) - TBL"},null,null,null,null,"TRBDS2_MD_DS",null,null,null,null,null,null,null,"TRBDS2_LD_TB","Cooled EGR 1\n(CEGR1_LD) - TBL",null,null,null,null,"TRBDS2_LD_DS"]
[null,"INTERMEDIATE",null,null,null,null,null,null,null,null,null,"2017+","INC","%",{"$f":"1-((1-O66)/(1-O58))","v":3.3750000000000058E-2},"$",{"$f":"INDEX('[1]Large PC'!$H$379:$X$467,MATCH(M64,'[1]Large PC'!$C$379:$C$467,0),MATCH(Inputs!$C$2,'[1]Large PC'!$H$378:$X$378,0))\n+INDEX('[1]Large PC'!$H$379:$X$467,MATCH(S64,'[1]Large PC'!$C$379:$C$467,0),MATCH(Inputs!$C$2,'[1]Large PC'!$H$378:$X$378,0))","v":19.914246875441577},10,null,null,null,null,null,null,null,"2017+","INC","%",{"$f":"1-((1-AC66)/(1-AC58))","v":3.3750000000000058E-2},"$",{"$f":"INDEX('[1]Large LT'!$H$379:$X$467,MATCH(AA64,'[1]Large LT'!$C$379:$C$467,0),MATCH(Inputs!$C$2,'[1]Large LT'!$H$378:$X$378,0))\n+INDEX('[1]Large LT'!$H$379:$X$467,MATCH(AG64,'[1]Large LT'!$C$379:$C$467,0),MATCH(Inputs!$C$2,'[1]Large LT'!$H$378:$X$378,0))","v":247.5936884943545},10,null,null,null,null,null,null,null,"2017+","INC","%",{"$f":"1-((1-AQ66)/(1-AQ58))","v":3.3750000000000058E-2},"$",{"$f":"INDEX('[1]Large LT'!$H$379:$X$467,MATCH(AO64,'[1]Large LT'!$C$379:$C$467,0),MATCH(Inputs!$C$2,'[1]Large LT'!$H$378:$X$378,0))\n+INDEX('[1]Large LT'!$H$379:$X$467,MATCH(AU64,'[1]Large LT'!$C$379:$C$467,0),MATCH(Inputs!$C$2,'[1]Large LT'!$H$378:$X$378,0))","v":417.35470758578072},10,null,null,null,null,null,null,null,"2017+","INC","%",{"$f":"1-((1-BE66)/(1-BE58))","v":3.3750000000000058E-2},"$",{"$f":"$Q65","v":19.914246875441577},{"$f":"$R$65","v":10},null,null,null,null,null,null,null,"2017+","INC","%",{"$f":"1-((1-BS66)/(1-BS58))","v":3.3750000000000058E-2},"$",{"$f":"$AE$65","v":247.5936884943545},{"$f":"$AF$65","v":10},null,null,null,null,null,null,null,"2017+","INC","%",{"$f":"1-((1-CG66)/(1-CG58))","v":3.3750000000000058E-2},"$",{"$f":"$AS$65","v":417.35470758578072},{"$f":"$AT$65","v":10},null,null,null,null,null,null,null,"2017+","INC","%",{"$f":"1-((1-CU66)/(1-CU58))","v":3.3750000000000058E-2},"$",{"$f":"$Q65","v":19.914246875441577},{"$f":"$R$65","v":10},null,null,null,null,null,null,null,"2017+","INC","%",{"$f":"1-((1-DI66)/(1-DI58))","v":3.3750000000000058E-2},"$",{"$f":"$AE$65","v":247.5936884943545},{"$f":"$AF$65","v":10},null,null,null,null,null,null,null,"2017+","INC","%",{"$f":"1-((1-DW66)/(1-DW58))","v":3.3750000000000058E-2},"$",{"$f":"$AS$65","v":417.35470758578072},{"$f":"$AT$65","v":10},null,null,null,null,null,null,null,"2017+","INC","%",{"$f":"1-((1-EK66)/(1-EK58))","v":3.3750000000000058E-2},"$",{"$f":"$Q65","v":19.914246875441577},{"$f":"$R$65","v":10},null,null,null,null,null,null,null,"2017+","INC","%",{"$f":"1-((1-EY66)/(1-EY58))","v":3.3750000000000058E-2},"$",{"$f":"$AE$65","v":247.5936884943545},{"$f":"$AF$65","v":10},null,null,null,null,null,null,null,"2017+","INC","%",{"$f":"1-((1-FM66)/(1-FM58))","v":3.3750000000000058E-2},"$",{"$f":"$AS$65","v":417.35470758578072},{"$f":"$AT$65","v":10}]
["Gas Engine Type","I4",null,null,null,null,null,null,null,null,null,null,"ABS","%",0.22700000000000001,"$",{"$f":"Q58+Q65","v":1546.7899511194121},"L",null,null,null,null,null,null,null,null,"ABS","%",{"$f":"$O66","v":0.22700000000000001},"$",{"$f":"AE58+AE65","v":1325.1379241906586},"L",null,null,null,null,null,null,null,null,"ABS","%",{"$f":"$O66","v":0.22700000000000001},"$",{"$f":"AS58+AS65","v":2047.6476680841322},"L",null,null,null,null,null,null,null,null,"ABS","%",{"$f":"$O66","v":0.22700000000000001},"$",{"$f":"BG58+BG65","v":1613.4947157994829},"L",null,null,null,null,null,null,null,null,"ABS","%",{"$f":"$O66","v":0.22700000000000001},"$",{"$f":"BU58+BU65","v":1264.701052446314},"L",null,null,null,null,null,null,null,null,"ABS","%",{"$f":"$AQ66","v":0.22700000000000001},"$",{"$f":"CI58+CI65","v":1973.6411559269434},"L",null,null,null,null,null,null,null,null,"ABS","%",{"$f":"$O66","v":0.22700000000000001},"$",{"$f":"CW58+CW65","v":1758.4528003963223},"L",null,null,null,null,null,null,null,null,"ABS","%",{"$f":"$AC66","v":0.22700000000000001},"$",{"$f":"DK58+DK65","v":1409.6591370431534},"L",null,null,null,null,null,null,null,null,"ABS","%",{"$f":"$AQ66","v":0.22700000000000001},"$",{"$f":"DY58+DY65","v":2118.599240523783},"L",null,null,null,null,null,null,null,null,"ABS","%",{"$f":"$O66","v":0.22700000000000001},"$",{"$f":"EM58+EM65","v":1002.7939825302993},"L",null,null,null,null,null,null,null,null,"ABS","%",{"$f":"$AC66","v":0.22700000000000001},"$",{"$f":"FA58+FA65","v":1763.959675542364},"L",null,null,null,null,null,null,null,null,"ABS","%",{"$f":"$AQ66","v":0.22700000000000001},"$",{"$f":"FO58+FO65","v":2447.6957048608274},"L"]
["Displacement [L]",1]
["Turbocharger","FGT"]
["EGR system","External"]
["Valvetrain","DOHC",null,null,null,null,null,null,null,null,null,"2012-2016","INC","%",{"$f":"1-((1-O71)/(1-O63))","v":0},"$",0,0,null,null,null,null,null,null,null,"2012-2016","INC","%",{"$f":"1-((1-AC71)/(1-AC63))","v":0},"$",0,0,null,null,null,null,null,null,null,"2012-2016","INC","%",{"$f":"1-((1-AQ71)/(1-AQ63))","v":0},"$",0,0,null,null,null,null,null,null,null,"2012-2016","INC","%",{"$f":"1-((1-BE71)/(1-BE63))","v":0},"$",{"$f":"$Q$70","v":0},{"$f":"$R$70","v":0},null,null,null,null,null,null,null,"2012-2016","INC","%",{"$f":"1-((1-BS71)/(1-BS63))","v":0},"$",{"$f":"$AE$70","v":0},{"$f":"$AF$70","v":0},null,null,null,null,null,null,null,"2012-2016","INC","%",{"$f":"1-((1-CG71)/(1-CG63))","v":0},"$",{"$f":"$AS$70","v":0},{"$f":"$AT$70","v":0},null,null,null,null,null,null,null,"2012-2016","INC","%",{"$f":"1-((1-CU71)/(1-CU63))","v":0},"$",{"$f":"$Q$70","v":0},{"$f":"$R$70","v":0},null,null,null,null,null,null,null,"2012-2016","INC","%",{"$f":"1-((1-DI71)/(1-DI63))","v":0},"$",{"$f":"$AE$70","v":0},{"$f":"$AF$70","v":0},null,null,null,null,null,null,null,"2012-2016","INC","%",{"$f":"1-((1-DW71)/(1-DW63))","v":0},"$",{"$f":"$AS$70","v":0},{"$f":"$AT$70","v":0},null,null,null,null,null,null,null,"2012-2016","INC","%",{"$f":"1-((1-EK71)/(1-EK63))","v":0},"$",{"$f":"$Q$70","v":0},{"$f":"$R$70","v":0},null,null,null,null,null,null,null,"2012-2016","INC","%",{"$f":"1-((1-EY71)/(1-EY63))","v":0},"$",{"$f":"$AE$70","v":0},{"$f":"$AF$70","v":0},null,null,null,null,null,null,null,"2012-2016","INC","%",{"$f":"1-((1-FM71)/(1-FM63))","v":0},"$",{"$f":"$AS$70","v":0},{"$f":"$AT$70","v":0}]
["After Treatment","3way cat",null,null,null,null,null,null,null,null,null,null,"ABS","%",{"$f":"O63","v":0.19119169683993198},"$",{"$f":"Q63+Q70","v":1401.1942405853872},"L",null,null,null,null,null,null,null,null,"ABS","%",{"$f":"AC63","v":0.19067390396659722},"$",{"$f":"AE63+AE70","v":951.86277203772102},"L",null,null,null,null,null,null,null,null,"ABS","%",{"$f":"AQ63","v":0.19067390396659722},"$",{"$f":"AS63+AS70","v":1504.6114968397683},"L",null,null,null,null,null,null,null,null,"ABS","%",{"$f":"BE63","v":0.19641543415979668},"$",{"$f":"BG63+BG70","v":1467.8990052654581},"L",null,null,null,null,null,null,null,null,"ABS","%",{"$f":"BS63","v":0.19067390396659722},"$",{"$f":"BU63+BU70","v":891.42590029337623},"L",null,null,null,null,null,null,null,null,"ABS","%",{"$f":"CG63","v":0.19067390396659722},"$",{"$f":"CI63+CI70","v":1430.6049846825795},"L",null,null,null,null,null,null,null,null,"ABS","%",{"$f":"CU63","v":0.190673903966597},"$",{"$f":"CW63+CW70","v":1612.8570898622975},"L",null,null,null,null,null,null,null,null,"ABS","%",{"$f":"DI63","v":0.190673903966597},"$",{"$f":"DK63+DK70","v":1036.3839848902157},"L",null,null,null,null,null,null,null,null,"ABS","%",{"$f":"DW63","v":0.190673903966597},"$",{"$f":"DY63+DY70","v":1575.5630692794189},"L",null,null,null,null,null,null,null,null,"ABS","%",{"$f":"EK63","v":0.22684813136676663},"$",{"$f":"EM63+EM70","v":857.1982719962748},"L",null,null,null,null,null,null,null,null,"ABS","%",{"$f":"EY63","v":0.16940903823870213},"$",{"$f":"FA63+FA70","v":1390.6845233894267},"L",null,null,null,null,null,null,null,null,"ABS","%",{"$f":"FM63","v":0.16940903823870213},"$",{"$f":"FO63+FO70","v":1904.6595336164635},"L"]
[null,null,null,null,null,null,null,null,null,null,null,null,"CEGR1_SD_TB","Cooled EGR 1 \n(CEGR1_SD) - TBL",null,null,null,null,"CEGR1_SD_DS",null,null,null,null,null,null,null,"CEGR1_MD_TB","Cooled EGR 1 \n(CEGR1_MD) - TBL",null,null,null,null,"CEGR1_MD_DS",null,null,null,null,null,null,null,"CEGR1_LD_TB","Cooled EGR 1 \n(CEGR1_LD) - TBL",null,null,null,null,"CEGR1_LD_DS",null,null,null,null,null,null,null,"CEGR1_SD_TB",{"$f":"$N$72","v":"Cooled EGR 1 \n(CEGR1_SD) - TBL"},null,null,null,null,"CEGR1_SD_DS",null,null,null,null,null,null,null,"CEGR1_MD_TB",{"$f":"$AB$72","v":"Cooled EGR 1 \n(CEGR1_MD) - TBL"},null,null,null,null,"CEGR1_MD_DS",null,null,null,null,null,null,null,"CEGR1_LD_TB",{"$f":"$AP$72","v":"Cooled EGR 1 \n(CEGR1_LD) - TBL"},null,null,null,null,"CEGR1_LD_DS",null,null,null,null,null,null,null,"CEGR1_SD_TB",{"$f":"$N$72","v":"Cooled EGR 1 \n(CEGR1_SD) - TBL"},null,null,null,null,"CEGR1_SD_DS",null,null,null,null,null,null,null,"CEGR1_MD_TB",{"$f":"$AB$72","v":"Cooled EGR 1 \n(CEGR1_MD) - TBL"},null,null,null,null,"CEGR1_MD_DS",null,null,null,null,null,null,null,"CEGR1_LD_TB",{"$f":"$AP$72","v":"Cooled EGR 1 \n(CEGR1_LD) - TBL"},null,null,null,null,"CEGR1_LD_DS",null,null,null,null,null,null,null,"CEGR1_SD_TB",{"$f":"$N$72","v":"Cooled EGR 1 \n(CEGR1_SD) - TBL"},null,null,null,null,"CEGR1_SD_DS",null,null,null,null,null,null,null,"CEGR1_MD_TB",{"$f":"$AB$72","v":"Cooled EGR 1 \n(CEGR1_MD) - TBL"},null,null,null,null,"CEGR1_MD_DS",null,null,null,null,null,null,null,"CEGR1_LD_TB",{"$f":"$AP$72","v":"Cooled EGR 1 \n(CEGR1_LD) - TBL"},null,null,null,null,"CEGR1_LD_DS"]
[null,null,null,null,null,null,null,null,null,null,null,"2017+","INC","%",{"$f":"1-((1-O74)/(1-O66))","v":3.6222509702457995E-2},"$",{"$f":"INDEX('[1]Large Perf. PC'!$H$379:$X$467,MATCH(M72,'[1]Large Perf. PC'!$C$379:$C$467,0),MATCH(Inputs!$C$2,'[1]Large Perf. PC'!$H$378:$X$378,0))\n+INDEX('[1]Large Perf. PC'!$H$379:$X$467,MATCH(S72,'[1]Large Perf. PC'!$C$379:$C$467,0),MATCH(Inputs!$C$2,'[1]Large Perf. PC'!$H$378:$X$378,0))","v":285.15466932220613},10,null,null,null,null,null,null,null,"2017+","INC","%",{"$f":"1-((1-AC74)/(1-AC66))","v":3.6222509702457995E-2},"$",{"$f":"INDEX('[1]Large LT'!$H$379:$X$467,MATCH(AA72,'[1]Large LT'!$C$379:$C$467,0),MATCH(Inputs!$C$2,'[1]Large LT'!$H$378:$X$378,0))\n+INDEX('[1]Large LT'!$H$379:$X$467,MATCH(AG72,'[1]Large LT'!$C$379:$C$467,0),MATCH(Inputs!$C$2,'[1]Large LT'!$H$378:$X$378,0))","v":285.15466932220613},10,null,null,null,null,null,null,null,"2017+","INC","%",{"$f":"1-((1-AQ74)/(1-AQ66))","v":3.6222509702457995E-2},"$",{"$f":"INDEX('[1]Large LT'!$H$379:$X$467,MATCH(AO72,'[1]Large LT'!$C$379:$C$467,0),MATCH(Inputs!$C$2,'[1]Large LT'!$H$378:$X$378,0))\n+INDEX('[1]Large LT'!$H$379:$X$467,MATCH(AU72,'[1]Large LT'!$C$379:$C$467,0),MATCH(Inputs!$C$2,'[1]Large LT'!$H$378:$X$378,0))","v":285.15466932220613},10,null,null,null,null,null,null,null,"2017+","INC","%",{"$f":"$O$73","v":3.6222509702457995E-2},"$",{"$f":"$Q$73","v":285.15466932220613},{"$f":"$R$73","v":10},null,null,null,null,null,null,null,"2017+","INC","%",{"$f":"$AC$73","v":3.6222509702457995E-2},"$",{"$f":"$AE$73","v":285.15466932220613},{"$f":"$AF$73","v":10},null,null,null,null,null,null,null,"2017+","INC","%",{"$f":"$AQ$73","v":3.6222509702457995E-2},"$",{"$f":"$AS$73","v":285.15466932220613},{"$f":"$AT$73","v":10},null,null,null,null,null,null,null,"2017+","INC","%",{"$f":"$O$73","v":3.6222509702457995E-2},"$",{"$f":"$Q$73","v":285.15466932220613},{"$f":"$R$73","v":10},null,null,null,null,null,null,null,"2017+","INC","%",{"$f":"$AC$73","v":3.6222509702457995E-2},"$",{"$f":"$AE$73","v":285.15466932220613},{"$f":"$AF$73","v":10},null,null,null,null,null,null,null,"2017+","INC","%",{"$f":"$AQ$73","v":3.6222509702457995E-2},"$",{"$f":"$AS$73","v":285.15466932220613},{"$f":"$AT$73","v":10},null,null,null,null,null,null,null,"2017+","INC","%",{"$f":"$O$73","v":3.6222509702457995E-2},"$",{"$f":"$Q$73","v":285.15466932220613},{"$f":"$R$73","v":10},null,null,null,null,null,null,null,"2017+","INC","%",{"$f":"$AC$73","v":3.6222509702457995E-2},"$",{"$f":"$AE$73","v":285.15466932220613},{"$f":"$AF$73","v":10},null,null,null,null,null,null,null,"2017+","INC","%",{"$f":"$AQ$73","v":3.6222509702457995E-2},"$",{"$f":"$AS$73","v":285.15466932220613},{"$f":"$AT$73","v":10}]
[null,null,null,null,null,null,null,null,null,null,null,null,"ABS","%",0.255,"$",{"$f":"Q66+Q73","v":1831.9446204416181},"L",null,null,null,null,null,null,null,null,"ABS","%",{"$f":"O74","v":0.255},"$",{"$f":"AE66+AE73","v":1610.2925935128646},"L",null,null,null,null,null,null,null,null,"ABS","%",{"$f":"O74","v":0.255},"$",{"$f":"AS66+AS73","v":2332.8023374063382},"L",null,null,null,null,null,null,null,null,"ABS","%",{"$f":"1-((1-BE66)*(1-BE73))","v":0.255},"$",{"$f":"BG66+BG73","v":1898.6493851216892},"L",null,null,null,null,null,null,null,null,"ABS","%",{"$f":"$O74","v":0.255},"$",{"$f":"BU66+BU73","v":1549.8557217685202},"L",null,null,null,null,null,null,null,null,"ABS","%",{"$f":"$AQ74","v":0.255},"$",{"$f":"CI66+CI73","v":2258.7958252491494},"L",null,null,null,null,null,null,null,null,"ABS","%",{"$f":"$O74","v":0.255},"$",{"$f":"CW66+CW73","v":2043.6074697185286},"L",null,null,null,null,null,null,null,null,"ABS","%",{"$f":"$AC74","v":0.255},"$",{"$f":"DK66+DK73","v":1694.8138063653596},"L",null,null,null,null,null,null,null,null,"ABS","%",{"$f":"$AQ74","v":0.255},"$",{"$f":"DY66+DY73","v":2403.7539098459893},"L",null,null,null,null,null,null,null,null,"ABS","%",{"$f":"$O74","v":0.255},"$",{"$f":"EM66+EM73","v":1287.9486518525055},"L",null,null,null,null,null,null,null,null,"ABS","%",{"$f":"$AC74","v":0.255},"$",{"$f":"FA66+FA73","v":2049.1143448645703},"L",null,null,null,null,null,null,null,null,"ABS","%",{"$f":"$AQ74","v":0.255},"$",{"$f":"FO66+FO73","v":2732.8503741830336},"L"]
[]
[]
[]
[null,null,null,null,null,null,null,null,null,null,null,"2012-2016","INC","%",{"$f":"1-((1-O79)/(1-O71))","v":0},"$",0,0,null,null,null,null,null,null,null,"2012-2016","INC","%",{"$f":"1-((1-AC79)/(1-AC71))","v":0},"$",0,0,null,null,null,null,null,null,null,"2012-2016","INC","%",{"$f":"1-((1-AQ79)/(1-AQ71))","v":0},"$",0,0,null,null,null,null,null,null,null,"2012-2016","INC","%",{"$f":"1-((1-BE79)/(1-BE71))","v":0},"$",{"$f":"$Q$78","v":0},{"$f":"$R$78","v":0},null,null,null,null,null,null,null,"2012-2016","INC","%",{"$f":"1-((1-BS79)/(1-BS71))","v":0},"$",{"$f":"$AE$78","v":0},{"$f":"$AF$78","v":0},null,null,null,null,null,null,null,"2012-2016","INC","%",{"$f":"1-((1-CG79)/(1-CG71))","v":0},"$",{"$f":"$AS$78","v":0},{"$f":"$AT$78","v":0},null,null,null,null,null,null,null,"2012-2016","INC","%",{"$f":"1-((1-CU79)/(1-CU71))","v":0},"$",{"$f":"$Q$78","v":0},{"$f":"$R$78","v":0},null,null,null,null,null,null,null,"2012-2016","INC","%",{"$f":"1-((1-DI79)/(1-DI71))","v":0},"$",{"$f":"$AE$78","v":0},{"$f":"$AF$78","v":0},null,null,null,null,null,null,null,"2012-2016","INC","%",{"$f":"1-((1-DW79)/(1-DW71))","v":0},"$",{"$f":"$AS$78","v":0},{"$f":"$AT$78","v":0},null,null,null,null,null,null,null,"2012-2016","INC","%",{"$f":"1-((1-EK79)/(1-EK71))","v":0},"$",{"$f":"$Q$78","v":0},{"$f":"$R$78","v":0},null,null,null,null,null,null,null,"2012-2016","INC","%",{"$f":"1-((1-EY79)/(1-EY71))","v":0},"$",{"$f":"$AE$78","v":0},{"$f":"$AF$78","v":0},null,null,null,null,null,null,null,"2012-2016","INC","%",{"$f":"1-((1-FM79)/(1-FM71))","v":0},"$",{"$f":"$AS$78","v":0},{"$f":"$AT$78","v":0}]
[null,null,null,null,null,null,null,null,null,null,null,null,"ABS","%",{"$f":"O71","v":0.19119169683993198},"$",{"$f":"Q71+Q78","v":1401.1942405853872},"L",null,null,null,null,null,null,null,null,"ABS","%",{"$f":"AC71","v":0.19067390396659722},"$",{"$f":"AE71+AE78","v":951.86277203772102},"L",null,null,null,null,null,null,null,null,"ABS","%",{"$f":"AQ71","v":0.19067390396659722},"$",{"$f":"AS71+AS78","v":1504.6114968397683},"L",null,null,null,null,null,null,null,null,"ABS","%",{"$f":"BE71","v":0.19641543415979668},"$",{"$f":"BG71+BG78","v":1467.8990052654581},"L",null,null,null,null,null,null,null,null,"ABS","%",{"$f":"BS71","v":0.19067390396659722},"$",{"$f":"BU71+BU78","v":891.42590029337623},"L",null,null,null,null,null,null,null,null,"ABS","%",{"$f":"CG71","v":0.19067390396659722},"$",{"$f":"CI71+CI78","v":1430.6049846825795},"L",null,null,null,null,null,null,null,null,"ABS","%",{"$f":"CU71","v":0.190673903966597},"$",{"$f":"CW71+CW78","v":1612.8570898622975},"L",null,null,null,null,null,null,null,null,"ABS","%",{"$f":"DI71","v":0.190673903966597},"$",{"$f":"DK71+DK78","v":1036.3839848902157},"L",null,null,null,null,null,null,null,null,"ABS","%",{"$f":"DW71","v":0.190673903966597},"$",{"$f":"DY71+DY78","v":1575.5630692794189},"L",null,null,null,null,null,null,null,null,"ABS","%",{"$f":"EK71","v":0.22684813136676663},"$",{"$f":"EM71+EM78","v":857.1982719962748},"L",null,null,null,null,null,null,null,null,"ABS","%",{"$f":"EY71","v":0.16940903823870213},"$",{"$f":"FA71+FA78","v":1390.6845233894267},"L",null,null,null,null,null,null,null,null,"ABS","%",{"$f":"FM71","v":0.16940903823870213},"$",{"$f":"FO71+FO78","v":1904.6595336164635},"L"]
[null,null,null,null,null,null,null,null,null,null,null,null,"CEGR2_SD_TB","Cooled EGR 2\n(CEGR2_SD) - TBL",null,null,null,null,"CEGR2_SD_DS",null,null,null,null,null,null,null,"CEGR2_MD_TB","Cooled EGR 2\n(CEGR2_MD) - TBL",null,null,null,null,"CEGR2_MD_DS",null,null,null,null,null,null,null,"CEGR2_LD_TB","Cooled EGR 2\n(CEGR2_LD) - TBL",null,null,null,null,"CEGR2_LD_DS",null,null,null,null,null,null,null,"CEGR2_SD_TB",{"$f":"$N$80","v":"Cooled EGR 2\n(CEGR2_SD) - TBL"},null,null,null,null,"CEGR2_SD_DS",null,null,null,null,null,null,null,"CEGR2_MD_TB",{"$f":"$AB$80","v":"Cooled EGR 2\n(CEGR2_MD) - TBL"},null,null,null,null,"CEGR2_MD_DS",null,null,null,null,null,null,null,"CEGR2_LD_TB",{"$f":"$AP$80","v":"Cooled EGR 2\n(CEGR2_LD) - TBL"},null,null,null,null,"CEGR2_LD_DS",null,null,null,null,null,null,null,"CEGR2_SD_TB",{"$f":"$N$80","v":"Cooled EGR 2\n(CEGR2_SD) - TBL"},null,null,null,null,"CEGR2_SD_DS",null,null,null,null,null,null,null,"CEGR2_MD_TB",{"$f":"$AB$80","v":"Cooled EGR 2\n(CEGR2_MD) - TBL"},null,null,null,null,"CEGR2_MD_DS",null,null,null,null,null,null,null,"CEGR2_LD_TB",{"$f":"$AP$80","v":"Cooled EGR 2\n(CEGR2_LD) - TBL"},null,null,null,null,"CEGR2_LD_DS",null,null,null,null,null,null,null,"CEGR2_SD_TB",{"$f":"$N$80","v":"Cooled EGR 2\n(CEGR2_SD) - TBL"},null,null,null,null,"CEGR2_SD_DS",null,null,null,null,null,null,null,"CEGR2_MD_TB",{"$f":"$AB$80","v":"Cooled EGR 2\n(CEGR2_MD) - TBL"},null,null,null,null,"CEGR2_MD_DS",null,null,null,null,null,null,null,"CEGR2_LD_TB",{"$f":"$AP$80","v":"Cooled EGR 2\n(CEGR2_LD) - TBL"},null,null,null,null,"CEGR2_LD_DS"]
[null,"STOP",null,null,null,null,null,null,null,null,null,"2017+","INC","%",{"$f":"1-((1-O82)/(1-O74))","v":1.2080536912751683E-2},"$",{"$f":"INDEX('[1]Large LT'!$H$379:$X$467,MATCH(M80,'[1]Large LT'!$C$379:$C$467,0),MATCH(Inputs!$C$2,'[1]Large LT'!$H$378:$X$378,0))\n+INDEX('[1]Large LT'!$H$379:$X$467,MATCH(S80,'[1]Large LT'!$C$379:$C$467,0),MATCH(Inputs!$C$2,'[1]Large LT'!$H$378:$X$378,0))","v":495.18737698870899},10,null,null,null,null,null,null,null,"2017+","INC","%",{"$f":"1-((1-AC82)/(1-AC74))","v":1.2080536912751683E-2},"$",{"$f":"INDEX('[1]Large LT'!$H$379:$X$467,MATCH(AA80,'[1]Large LT'!$C$379:$C$467,0),MATCH(Inputs!$C$2,'[1]Large LT'!$H$378:$X$378,0))\n+INDEX('[1]Large LT'!$H$379:$X$467,MATCH(AG80,'[1]Large LT'!$C$379:$C$467,0),MATCH(Inputs!$C$2,'[1]Large LT'!$H$378:$X$378,0))","v":495.18737698870899},10,null,null,null,null,null,null,null,"2017+","INC","%",{"$f":"1-((1-AQ82)/(1-AQ74))","v":1.2080536912751683E-2},"$",{"$f":"INDEX('[1]Large LT'!$H$379:$X$467,MATCH(AO80,'[1]Large LT'!$C$379:$C$467,0),MATCH(Inputs!$C$2,'[1]Large LT'!$H$378:$X$378,0))\n+INDEX('[1]Large LT'!$H$379:$X$467,MATCH(AU80,'[1]Large LT'!$C$379:$C$467,0),MATCH(Inputs!$C$2,'[1]Large LT'!$H$378:$X$378,0))","v":-296.67298355204559},10,null,null,null,null,null,null,null,"2017+","INC","%",{"$f":"$O$81","v":1.2080536912751683E-2},"$",{"$f":"$Q$81","v":495.18737698870899},{"$f":"$R$81","v":10},null,null,null,null,null,null,null,"2017+","INC","%",{"$f":"$AC$81","v":1.2080536912751683E-2},"$",{"$f":"$AE$81","v":495.18737698870899},{"$f":"$AF$81","v":10},null,null,null,null,null,null,null,"2017+","INC","%",{"$f":"$AQ$81","v":1.2080536912751683E-2},"$",{"$f":"$AS$81","v":-296.67298355204559},{"$f":"$AT$81","v":10},null,null,null,null,null,null,null,"2017+","INC","%",{"$f":"$O$81","v":1.2080536912751683E-2},"$",{"$f":"$Q$81","v":495.18737698870899},{"$f":"$R$81","v":10},null,null,null,null,null,null,null,"2017+","INC","%",{"$f":"$AC$81","v":1.2080536912751683E-2},"$",{"$f":"$AE$81","v":495.18737698870899},{"$f":"$AF$81","v":10},null,null,null,null,null,null,null,"2017+","INC","%",{"$f":"$AQ$81","v":1.2080536912751683E-2},"$",{"$f":"$AS$81","v":-296.67298355204559},{"$f":"$AT$81","v":10},null,null,null,null,null,null,null,"2017+","INC","%",{"$f":"$O$81","v":1.2080536912751683E-2},"$",{"$f":"$Q$81","v":495.18737698870899},{"$f":"$R$81","v":10},null,null,null,null,null,null,null,"2017+","INC","%",{"$f":"$AC$81","v":1.2080536912751683E-2},"$",{"$f":"$AE$81","v":495.18737698870899},{"$f":"$AF$81","v":10},null,null,null,null,null,null,null,"2017+","INC","%",{"$f":"$AQ$81","v":1.2080536912751683E-2},"$",{"$f":"$AS$81","v":-296.67298355204559},{"$f":"$AT$81","v":10}]
["Diesel Engine Type","I4",null,null,null,null,null,null,null,null,null,null,"ABS","%",0.26400000000000001,"$",{"$f":"Q74+Q81","v":2327.1319974303269},"L",null,null,null,null,null,null,null,null,"ABS","%",{"$f":"O82","v":0.26400000000000001},"$",{"$f":"AE74+AE81","v":2105.4799705015735},"L",null,null,null,null,null,null,null,null,"ABS","%",{"$f":"O82","v":0.26400000000000001},"$",{"$f":"AS74+AS81","v":2036.1293538542927},"L",null,null,null,null,null,null,null,null,"ABS","%",{"$f":"1-((1-BE74)*(1-BE81))","v":0.26400000000000001},"$",{"$f":"BG74+BG81","v":2393.836762110398},"L",null,null,null,null,null,null,null,null,"ABS","%",{"$f":"$O82","v":0.26400000000000001},"$",{"$f":"BU74+BU81","v":2045.0430987572292},"L",null,null,null,null,null,null,null,null,"ABS","%",{"$f":"$AQ82","v":0.26400000000000001},"$",{"$f":"CI74+CI81","v":1962.1228416971039},"L",null,null,null,null,null,null,null,null,"ABS","%",{"$f":"$O82","v":0.26400000000000001},"$",{"$f":"CW74+CW81","v":2538.7948467072374},"L",null,null,null,null,null,null,null,null,"ABS","%",{"$f":"$AC82","v":0.26400000000000001},"$",{"$f":"DK74+DK81","v":2190.0011833540684},"L",null,null,null,null,null,null,null,null,"ABS","%",{"$f":"$AQ82","v":0.26400000000000001},"$",{"$f":"DY74+DY81","v":2107.0809262939438},"L",null,null,null,null,null,null,null,null,"ABS","%",{"$f":"$O82","v":0.26400000000000001},"$",{"$f":"EM74+EM81","v":1783.1360288412145},"L",null,null,null,null,null,null,null,null,"ABS","%",{"$f":"$AC82","v":0.26400000000000001},"$",{"$f":"FA74+FA81","v":2544.3017218532791},"L",null,null,null,null,null,null,null,null,"ABS","%",{"$f":"$AQ82","v":0.26400000000000001},"$",{"$f":"FO74+FO81","v":2436.1773906309882},"L"]
["Displacement [L]","1.5 to 2.0"]
["Turbocharger","VNT"]
["EGR system","cooler+vlv+bypass vlv"]
["FIE","HPCR 1800bar solenoid",null,null,"2012-2016","INC","%",{"$f":"1-((1-H87)/(1-O79))","v":0},"$",0,"L","2012-2016","INC","%",0,"$",0,0,"2012-2016","INC","%",{"$f":"1-((1-V87)/(1-AC79))","v":0},"$",0,"L","2012-2016","INC","%",0,"$",0,0,"2012-2016","INC","%",{"$f":"1-((1-AJ87)/(1-AQ79))","v":0},"$",0,"L","2012-2016","INC","%",0,"$",0,0,"2012-2016","INC","%",{"$f":"1-((1-AX87)/(1-BE79))","v":-6.5005446121315646E-3},"$",0,"L","2012-2016","INC","%",0,"$",0,0,"2012-2016","INC","%",{"$f":"1-((1-BL87)/(1-BS79))","v":0},"$",0,"L","2012-2016","INC","%",0,"$",0,0,"2012-2016","INC","%",{"$f":"1-((1-BZ87)/(1-CG79))","v":0},"$",0,"L","2012-2016","INC","%",0,"$",0,0,"2012-2016","INC","%",{"$f":"1-((1-CN87)/(1-CU79))","v":6.3978274748921482E-4},"$",0,"L","2012-2016","INC","%",0,"$",0,0,"2012-2016","INC","%",{"$f":"1-((1-DB87)/(1-DI79))","v":0},"$",0,"L","2012-2016","INC","%",0,"$",0,0,"2012-2016","INC","%",{"$f":"1-((1-DP87)/(1-DW79))","v":0},"$",0,"L","2012-2016","INC","%",0,"$",0,0,"2012-2016","INC","%",{"$f":"1-((1-ED87)/(1-EK79))","v":-4.6118280215590168E-2},"$",0,"L","2012-2016","INC","%",0,"$",0,0,"2012-2016","INC","%",{"$f":"1-((1-ER87)/(1-EY79))","v":2.5602091410677263E-2},"$",0,"L","2012-2016","INC","%",0,"$",0,0,"2012-2016","INC","%",{"$f":"1-((1-FF87)/(1-FM79))","v":2.5602091410677263E-2},"$",0,"L","2012-2016","INC","%",0,"$",0,0]
["Valvetrain","4-valve DOHC",null,null,null,"ABS","%",{"$f":"O79","v":0.19119169683993198},"$",{"$f":"J86+Q79","v":1401.1942405853872},150,null,"ABS","%",{"$f":"1-((1-O79)*(1-O86))","v":0.19119169683993198},"$",{"$f":"Q79+Q86","v":1401.1942405853872},"L",null,"ABS","%",{"$f":"AC79","v":0.19067390396659722},"$",{"$f":"X86+AE79","v":951.86277203772102},200,null,"ABS","%",{"$f":"1-((1-AC79)*(1-AC86))","v":0.19067390396659722},"$",{"$f":"AE79+AE86","v":951.86277203772102},"L",null,"ABS","%",{"$f":"AQ79","v":0.19067390396659722},"$",{"$f":"AL86+AS79","v":1504.6114968397683},500,null,"ABS","%",{"$f":"1-((1-AQ79)*(1-AQ86))","v":0.19067390396659722},"$",{"$f":"AS79+AS86","v":1504.6114968397683},"L",null,"ABS","%",{"$f":"$H$87","v":0.19119169683993198},"$",{"$f":"AZ86+BG79","v":1467.8990052654581},{"$f":"$K$87","v":150},null,"ABS","%",{"$f":"1-((1-BE79)*(1-BE86))","v":0.19641543415979668},"$",{"$f":"BG79+BG86","v":1467.8990052654581},"L",null,"ABS","%",{"$f":"$V$87","v":0.19067390396659722},"$",{"$f":"BN86+BU79","v":891.42590029337623},{"$f":"$Y$87","v":200},null,"ABS","%",{"$f":"1-((1-BS79)*(1-BS86))","v":0.19067390396659722},"$",{"$f":"BU79+BU86","v":891.42590029337623},"L",null,"ABS","%",{"$f":"$AJ$87","v":0.19067390396659722},"$",{"$f":"CB86+CI79","v":1430.6049846825795},{"$f":"$AM$87","v":500},null,"ABS","%",{"$f":"1-((1-CG79)*(1-CG86))","v":0.19067390396659722},"$",{"$f":"CI79+CI86","v":1430.6049846825795},"L",null,"ABS","%",{"$f":"$H$87","v":0.19119169683993198},"$",{"$f":"CP86+CW79","v":1612.8570898622975},{"$f":"$K$87","v":150},null,"ABS","%",{"$f":"1-((1-CU79)*(1-CU86))","v":0.190673903966597},"$",{"$f":"CW79+CW86","v":1612.8570898622975},"L",null,"ABS","%",{"$f":"$V$87","v":0.19067390396659722},"$",{"$f":"DD86+DK79","v":1036.3839848902157},{"$f":"$Y$87","v":200},null,"ABS","%",{"$f":"1-((1-DI79)*(1-DI86))","v":0.190673903966597},"$",{"$f":"DK79+DK86","v":1036.3839848902157},"L",null,"ABS","%",{"$f":"$AJ$87","v":0.19067390396659722},"$",{"$f":"DR86+DY79","v":1575.5630692794189},{"$f":"$AM$87","v":500},null,"ABS","%",{"$f":"1-((1-DW79)*(1-DW86))","v":0.190673903966597},"$",{"$f":"DY79+DY86","v":1575.5630692794189},"L",null,"ABS","%",{"$f":"$H$87","v":0.19119169683993198},"$",{"$f":"EF86+EM79","v":857.1982719962748},{"$f":"$K$87","v":150},null,"ABS","%",{"$f":"1-((1-EK79)*(1-EK86))","v":0.22684813136676663},"$",{"$f":"EM79+EM86","v":857.1982719962748},"L",null,"ABS","%",{"$f":"$V$87","v":0.19067390396659722},"$",{"$f":"ET86+FA79","v":1390.6845233894267},{"$f":"$Y$87","v":200},null,"ABS","%",{"$f":"1-((1-EY79)*(1-EY86))","v":0.16940903823870213},"$",{"$f":"FA79+FA86","v":1390.6845233894267},"L",null,"ABS","%",{"$f":"$AJ$87","v":0.19067390396659722},"$",{"$f":"FH86+FO79","v":1904.6595336164635},{"$f":"$AM$87","v":500},null,"ABS","%",{"$f":"1-((1-FM79)*(1-FM86))","v":0.16940903823870213},"$",{"$f":"FO79+FO86","v":1904.6595336164635},"L"]
["Valvetrain option","N/A",null,null,null,null,"Advanced Diesel\n(ADSL_SD) - TBL",null,null,null,null,"ADSL_SD",null,"To Strong Hybrids",null,null,null,null,null,null,"Advanced Diesel\n(ADSL_MD) - TBL",null,null,null,null,"ADSL_MD",null,"To Strong Hybrids",null,null,null,null,null,null,"Advanced Diesel\n(ADSL_LD) - TBL",null,null,null,null,"ADSL_LD",null,"To Strong Hybrids",null,null,null,null,null,null,"Advanced Diesel\n(ADSL_SD) - TBL",null,null,null,null,"ADSL_SD",null,"To Strong Hybrids",null,null,null,null,null,null,"Advanced Diesel\n(ADSL_MD) - TBL",null,null,null,null,"ADSL_SD",null,"To Strong Hybrids",null,null,null,null,null,null,"Advanced Diesel\n(ADSL_LD) - TBL",null,null,null,null,"ADSL_SD",null,"To Strong Hybrids",null,null,null,null,null,null,"Advanced Diesel\n(ADSL_SD) - TBL",null,null,null,null,"ADSL_SD",null,"To Strong Hybrids",null,null,null,null,null,null,"Advanced Diesel\n(ADSL_MD) - TBL",null,null,null,null,"ADSL_SD",null,"To Strong Hybrids",null,null,null,null,null,null,"Advanced Diesel\n(ADSL_LD) - TBL",null,null,null,null,"ADSL_SD",null,"To Strong Hybrids",null,null,null,null,null,null,"Advanced Diesel\n(ADSL_SD) - TBL",null,null,null,null,"ADSL_SD",null,"To Strong Hybrids",null,null,null,null,null,null,"Advanced Diesel\n(ADSL_MD) - TBL",null,null,null,null,"ADSL_SD",null,"To Strong Hybrids",null,null,null,null,null,null,"Advanced Diesel\n(ADSL_LD) - TBL",null,null,null,null,"ADSL_SD",null,"To Strong Hybrids"]
["After Treatment","DOC+LNT+DPF",null,null,"2017+","INC","%",{"$f":"1-((1-H90)/(1-O82))","v":3.4782608695652306E-2},"$",{"$f":"INDEX('[1]Large LT'!$H$379:$X$467,MATCH(L88,'[1]Large LT'!$C$379:$C$467,0),MATCH(Inputs!$C$2,'[1]Large LT'!$H$378:$X$378,0))","v":911.04083256975923},"L","2017+","INC","%",0,"$",{"$f":"Q86","v":0},0,"2017+","INC","%",{"$f":"1-((1-V90)/(1-AC82))","v":3.4782608695652306E-2},"$",{"$f":"INDEX('[1]Large LT'!$H$379:$X$467,MATCH(Z88,'[1]Large LT'!$C$379:$C$467,0),MATCH(Inputs!$C$2,'[1]Large LT'!$H$378:$X$378,0))","v":927.85441038425756},"L","2017+","INC","%",0,"$",{"$f":"AE86","v":0},0,"2017+","INC","%",{"$f":"1-((1-AJ90)/(1-AQ82))","v":3.4782608695652306E-2},"$",{"$f":"INDEX('[1]Large LT'!$H$379:$X$467,MATCH(AN88,'[1]Large LT'!$C$379:$C$467,0),MATCH(Inputs!$C$2,'[1]Large LT'!$H$378:$X$378,0))","v":1811.581549062259},"L","2017+","INC","%",0,"$",{"$f":"AS86","v":0},0,"2017+","INC","%",{"$f":"1-((1-AX90)/(1-BE82))","v":3.4782608695652306E-2},"$",{"$f":"$J$89","v":911.04083256975923},"L","2017+","INC","%",0,"$",{"$f":"BG86","v":0},0,"2017+","INC","%",{"$f":"1-((1-BL90)/(1-BS82))","v":3.4782608695652306E-2},"$",{"$f":"$X$89","v":927.85441038425756},"L","2017+","INC","%",0,"$",{"$f":"BU86","v":0},0,"2017+","INC","%",{"$f":"1-((1-BZ90)/(1-CG82))","v":3.4782608695652306E-2},"$",{"$f":"$AL$89","v":1811.581549062259},"L","2017+","INC","%",0,"$",{"$f":"CI86","v":0},0,"2017+","INC","%",{"$f":"1-((1-CN90)/(1-CU82))","v":3.4782608695652306E-2},"$",{"$f":"$J$89","v":911.04083256975923},"L","2017+","INC","%",0,"$",{"$f":"CW86","v":0},0,"2017+","INC","%",{"$f":"1-((1-DB90)/(1-DI82))","v":3.4782608695652306E-2},"$",{"$f":"$X$89","v":927.85441038425756},"L","2017+","INC","%",0,"$",{"$f":"DK86","v":0},0,"2017+","INC","%",{"$f":"1-((1-DP90)/(1-DW82))","v":3.4782608695652306E-2},"$",{"$f":"$AL$89","v":1811.581549062259},"L","2017+","INC","%",0,"$",{"$f":"DY86","v":0},0,"2017+","INC","%",{"$f":"1-((1-ED90)/(1-EK82))","v":3.4782608695652306E-2},"$",{"$f":"$J$89","v":911.04083256975923},"L","2017+","INC","%",0,"$",{"$f":"EM86","v":0},0,"2017+","INC","%",{"$f":"1-((1-ER90)/(1-EY82))","v":3.4782608695652306E-2},"$",{"$f":"$X$89","v":927.85441038425756},"L","2017+","INC","%",0,"$",{"$f":"FA86","v":0},0,"2017+","INC","%",{"$f":"1-((1-FF90)/(1-FM82))","v":3.4782608695652306E-2},"$",{"$f":"$AL$89","v":1811.581549062259},"L","2017+","INC","%",0,"$",{"$f":"FO86","v":0},0]
[null,null,null,null,null,"ABS","%",0.28960000000000002,"$",{"$f":"Q82+J89","v":3238.1728300000859},150,null,"ABS","%",{"$f":"1-((1-O82)*(1-O89))","v":0.26400000000000001},"$",{"$f":"Q82+Q89","v":2327.1319974303269},"L",null,"ABS","%",{"$f":"H90","v":0.28960000000000002},"$",{"$f":"AE82+X89","v":3033.3343808858308},200,null,"ABS","%",{"$f":"1-((1-AC82)*(1-AC89))","v":0.26400000000000001},"$",{"$f":"AE82+AE89","v":2105.4799705015735},"L",null,"ABS","%",{"$f":"H90","v":0.28960000000000002},"$",{"$f":"AS82+AL89","v":3847.7109029165517},500,null,"ABS","%",{"$f":"1-((1-AQ82)*(1-AQ89))","v":0.26400000000000001},"$",{"$f":"AS82+AS89","v":2036.1293538542927},"L",null,"ABS","%",{"$f":"$H$90","v":0.28960000000000002},"$",{"$f":"$J$90","v":3238.1728300000859},{"$f":"$K$90","v":150},null,"ABS","%",{"$f":"1-((1-BE82)*(1-BE89))","v":0.26400000000000001},"$",{"$f":"BG82+BG89","v":2393.836762110398},"L",null,"ABS","%",{"$f":"$V$90","v":0.28960000000000002},"$",{"$f":"$X$90","v":3033.3343808858308},{"$f":"$Y$90","v":200},null,"ABS","%",{"$f":"1-((1-BS82)*(1-BS89))","v":0.26400000000000001},"$",{"$f":"BU82+BU89","v":2045.0430987572292},"L",null,"ABS","%",{"$f":"$AJ$90","v":0.28960000000000002},"$",{"$f":"$AL$90","v":3847.7109029165517},{"$f":"$AM$90","v":500},null,"ABS","%",{"$f":"1-((1-CG82)*(1-CG89))","v":0.26400000000000001},"$",{"$f":"CI82+CI89","v":1962.1228416971039},"L",null,"ABS","%",{"$f":"$H$90","v":0.28960000000000002},"$",{"$f":"$J$90","v":3238.1728300000859},{"$f":"$K$90","v":150},null,"ABS","%",{"$f":"1-((1-CU82)*(1-CU89))","v":0.26400000000000001},"$",{"$f":"CW82+CW89","v":2538.7948467072374},"L",null,"ABS","%",{"$f":"$V$90","v":0.28960000000000002},"$",{"$f":"$X$90","v":3033.3343808858308},{"$f":"$Y$90","v":200},null,"ABS","%",{"$f":"1-((1-DI82)*(1-DI89))","v":0.26400000000000001},"$",{"$f":"DK82+DK89","v":2190.0011833540684},"L",null,"ABS","%",{"$f":"$AJ$90","v":0.28960000000000002},"$",{"$f":"$AL$90","v":3847.7109029165517},{"$f":"$AM$90","v":500},null,"ABS","%",{"$f":"1-((1-DW82)*(1-DW89))","v":0.26400000000000001},"$",{"$f":"DY82+DY89","v":2107.0809262939438},"L",null,"ABS","%",{"$f":"$H$90","v":0.28960000000000002},"$",{"$f":"$J$90","v":3238.1728300000859},{"$f":"$K$90","v":150},null,"ABS","%",{"$f":"1-((1-EK82)*(1-EK89))","v":0.26400000000000001},"$",{"$f":"EM82+EM89","v":1783.1360288412145},"L",null,"ABS","%",{"$f":"$V$90","v":0.28960000000000002},"$",{"$f":"$X$90","v":3033.3343808858308},{"$f":"$Y$90","v":200},null,"ABS","%",{"$f":"1-((1-EY82)*(1-EY89))","v":0.26400000000000001},"$",{"$f":"FA82+FA89","v":2544.3017218532791},"L",null,"ABS","%",{"$f":"$AJ$90","v":0.28960000000000002},"$",{"$f":"$AL$90","v":3847.7109029165517},{"$f":"$AM$90","v":500},null,"ABS","%",{"$f":"1-((1-FM82)*(1-FM89))","v":0.26400000000000001},"$",{"$f":"FO82+FO89","v":2436.1773906309882},"L"]
[]
[]
[]
[]
[]
[]
[]
["Expanded Trans/Hybrid Technology Decision Tree"]
[]
[]
[null,null,null,null,"Electrification",null,null,null,null,null,null,null,null,null,null,null,null,null,null,null,null,"Manual Trans",null,null,null,null,null,null,null,null,null,null,null,"Auto Trans"]
[]
[null,"START",null,null,"2012-2016","INC","%",8.0000000000000002E-3,"$",{"$f":"INDEX('[1]Large LT'!$H$379:$X$467,MATCH(L105,'[1]Large LT'!$C$379:$C$467,0),MATCH(Inputs!$C$2,'[1]Large LT'!$H$378:$X$378,0))","v":98.103282519162363},95.93,null,null,null,"START",null,null,null,"2012-2016","INC","%",2.52E-2,"$",{"$f":"INDEX('[1]Large LT'!$H$379:$X$467,MATCH(Z105,'[1]Large LT'!$C$379:$C$467,0),MATCH(Inputs!$C$2,'[1]Large LT'!$H$378:$X$378,0))","v":250.31750824336308},225.33,null,null,null,"START",null,null,null,"2012-2016","INC","%",2.9000000000000001E-2,"$",{"$f":"INDEX('[1]Large LT'!$H$379:$X$467,MATCH(AN105,'[1]Large LT'!$C$379:$C$467,0),MATCH(Inputs!$C$2,'[1]Large LT'!$H$378:$X$378,0))","v":55.807948333210945},54.17]
["Curb Weight (lbs)",5366,null,null,null,"ABS","%",{"$f":"H103","v":8.0000000000000002E-3},"$",{"$f":"J103","v":98.103282519162363},"L",null,null,null,"5-spd",null,null,null,null,"ABS","%",{"$f":"V103","v":2.52E-2},"$",{"$f":"X103","v":250.31750824336308},"L",null,null,null,"4/5-spd",null,null,null,null,"ABS","%",{"$f":"AJ103","v":2.9000000000000001E-2},"$",{"$f":"AL103","v":55.807948333210945},"L"]
["Engine Displacement [L]",5,null,null,null,null,"Electric Power\nSteering (EPS) - TBL",null,null,null,null,"EPS",null,null,"Manual",null,null,null,null,null,"6 Speed Man/Imp.\nInternals (6MAN) - TBL",null,null,null,null,"6MAN",null,null,"Auto",null,null,null,null,null,"Imp. Auto Trans Cnrt./\nExternals (IATC) - TBL",null,null,null,null,"IATC"]
["Engine Power (HP)",323,null,null,"2017+","INC","%",{"$f":"H103","v":8.0000000000000002E-3},"$",{"$f":"J103","v":98.103282519162363},{"$f":"K103","v":95.93},null,null,null,null,null,null,null,"2017+","INC","%",2.52E-2,"$",{"$f":"X103","v":250.31750824336308},225.33,null,null,null,null,null,null,null,"2017+","INC","%",{"$f":"AJ103","v":2.9000000000000001E-2},"$",{"$f":"AL103","v":55.807948333210945},54.17]
["Engine Torque (ft-lbf)",351.6,null,null,null,"ABS","%",{"$f":"H106","v":8.0000000000000002E-3},"$",{"$f":"J106","v":98.103282519162363},"L",null,null,null,null,null,null,null,null,"ABS","%",{"$f":"V106","v":2.52E-2},"$",{"$f":"X106","v":250.31750824336308},"L",null,null,null,null,null,null,null,null,"ABS","%",{"$f":"AJ106","v":2.9000000000000001E-2},"$",{"$f":"AL106","v":55.807948333210945},"L"]
["Footprint (ft2)",62.6]
[]
[]
[null,null,null,null,"2012-2016","INC","%",{"$f":"1-((1-H112)/(1-H104))","v":1.6129032258064502E-2},"$",{"$f":"INDEX('[1]Large LT'!$H$379:$X$467,MATCH(L113,'[1]Large LT'!$C$379:$C$467,0),MATCH(Inputs!$C$2,'[1]Large LT'!$H$378:$X$378,0))","v":79.784981333734891},115.2,null,null,null,null,null,null,null,"2012-2016","INC","%",0,"$",0,100.55,null,null,null,null,null,null,null,"2012-2016","INC","%",{"$f":"1-((1-AJ112)/(1-AJ104))","v":2.1313841776633868E-2},"$",{"$f":"INDEX('[1]Large LT'!$H$379:$X$467,MATCH(AN113,'[1]Large LT'!$C$379:$C$467,0),MATCH(Inputs!$C$2,'[1]Large LT'!$H$378:$X$378,0))","v":-37.91558007744085},100.55]
[null,null,null,null,null,"ABS","%",2.4E-2,"$",{"$f":"J104+J111","v":177.88826385289724},"L",null,null,null,null,null,null,null,null,"ABS","%",{"$f":"V104","v":2.52E-2},"$",{"$f":"X111+X104","v":250.31750824336308},"L",null,null,null,null,null,null,null,null,"ABS","%",{"$f":"1-((1-6.3%)/(1-1.4%))","v":4.9695740365111485E-2},"$",{"$f":"AL111+AL104","v":17.892368255770094},"L"]
[null,null,null,null,null,null,"Improved Accessories 1\n(IACC1) - TBL",null,null,null,null,"IACC1",null,null,"From Engine Path\n2012-2016 ",null,null,null,null,null,"High Eff. Gearbox \n(Manual) -  (HETRANSM) - TBL",null,null,null,null,"HETRANS",null,null,null,null,null,null,null,null,"6-spd Auto Trans w/Imp\nInternals (NAUTO) - TBL",null,null,null,null,"NAUTO"]
[null,null,null,null,"2017+","INC","%",{"$f":"1-((1-H115)/(1-H107))","v":1.6129032258064502E-2},"$",{"$f":"J111","v":79.784981333734891},{"$f":"K111","v":115.2},null,null,null,null,null,null,null,"2017+","INC","%",{"$f":"1-((1-V115)/(1-V107))","v":4.4452231929955177E-2},"$",{"$f":"INDEX('[1]Large LT'!$H$379:$X$467,MATCH(Z113,'[1]Large LT'!$C$379:$C$467,0),MATCH(Inputs!$C$2,'[1]Large LT'!$H$378:$X$378,0))","v":227.42624881754446},10,null,null,null,null,null,null,null,"2017+","INC","%",{"$f":"1-((1-AJ115)/(1-AJ107))","v":2.1313841776633868E-2},"$",{"$f":"AL111","v":-37.91558007744085},10]
[null,null,null,null,null,"ABS","%",{"$f":"H112","v":2.4E-2},"$",{"$f":"J107+J114","v":177.88826385289724},"L",null,null,null,null,null,null,null,null,"ABS","%",{"$f":"1-((1-8.12%)/(1-1.36%))","v":6.8532035685320292E-2},"$",{"$f":"X107+X114","v":477.74375706090757},"L",null,null,null,null,null,null,null,null,"ABS","%",{"$f":"AJ112","v":4.9695740365111485E-2},"$",{"$f":"AL107+AL114","v":17.892368255770094},"L"]
[]
[]
[]
[null,null,null,null,"2012-2016","INC","%",{"$f":"1-((1-H120)/(1-H112))","v":0},"$",0,0,"2012-2016","INC","%",{"$f":"1-((1-O120)/(((1-$O$87)*(1-$H$136)*(1-AJ144))))","v":1.0563228279669379E-2},"$",{"$f":"INDEX('[1]Large LT'!$H$379:$X$467,MATCH(M121,'[1]Large LT'!$C$379:$C$467,0),MATCH(Inputs!$C$2,'[1]Large LT'!$H$378:$X$378,0))\n+INDEX('[1]Large LT'!$H$379:$X$467,MATCH(S121,'[1]Large LT'!$C$379:$C$467,0),MATCH(Inputs!$C$2,'[1]Large LT'!$H$378:$X$378,0))","v":2528.9715529632467},"L",null,null,null,null,null,null,null,null,null,null,null,null,null,null,"2012-2016","INC","%",0,"$",{"$f":"INDEX('[1]Large LT'!$H$379:$X$467,MATCH(AN121,'[1]Large LT'!$C$379:$C$467,0),MATCH(Inputs!$C$2,'[1]Large LT'!$H$378:$X$378,0))","v":0},-10.47]
[null,null,null,null,null,"ABS","%",{"$f":"H112","v":2.4E-2},"$",{"$f":"J112+J119","v":177.88826385289724},"L",null,"ABS","%",0.33400000000000002,"$",{"$f":"J136+Q119+AS87+AL144","v":5598.2112668871041},33.86,null,null,null,null,null,null,null,null,null,null,null,null,null,null,null,"ABS","%",{"$f":"AJ112","v":4.9695740365111485E-2},"$",{"$f":"AL119+AL112","v":17.892368255770094},"L"]
[null,null,null,null,null,null,"Improved Accessories 2\n(IACC2) - TBL",null,null,null,null,"IACC2","SHEV1_B","Strong Hybrid (Powersplit or 2-Mode) (SHEV1) - VBL",null,null,null,null,"SHEV1_NB",null,null,"From Engine Path\n2017+ ",null,null,null,null,null,null,null,null,null,null,null,null,"6-spd Dual Clutch Trans\n(DCT) - TBL",null,null,null,null,"DCT"]
[null,null,null,null,"2017+","INC","%",{"$f":"1-((1-H123)/(1-H115))","v":2.1516393442623016E-2},"$",{"$f":"INDEX('[1]Large LT'!$H$379:$X$467,MATCH(L121,'[1]Large LT'!$C$379:$C$467,0),MATCH(Inputs!$C$2,'[1]Large LT'!$H$378:$X$378,0))","v":50.780571415814975},0,"2017+","INC","%",{"$f":"O119","v":1.0563228279669379E-2},"$",0,"L",null,null,null,null,null,null,null,null,null,null,null,null,null,null,"2017+","INC","%",{"$f":"1-((1-AJ123)/(1-AJ115))","v":0},"$",{"$f":"AL119","v":0},{"$f":"AM119","v":-10.47}]
[null,null,null,null,null,"ABS","%",4.4999999999999998E-2,"$",{"$f":"J115+J122","v":228.6688352687122},"L",null,"ABS","%",{"$f":"1-(1-O122)*(((1-$O$90)*(1-$H$128)*(1-AJ147)))","v":0.42088920015394327},"$",{"$f":"Q116+Q122","v":0},0,null,null,null,null,null,null,null,null,null,null,null,null,null,null,null,"ABS","%",{"$f":"AJ120","v":4.9695740365111485E-2},"$",{"$f":"AL115+AL122","v":17.892368255770094},"L"]
[]
[]
[]
[null,null,null,null,"2012-2016","INC","%",{"$f":"H130","v":2.0942408376963262E-2},"$",{"$f":"INDEX('[1]Large LT'!$H$379:$X$467,MATCH(L129,'[1]Large LT'!$C$379:$C$467,0),MATCH(Inputs!$C$2,'[1]Large LT'!$H$378:$X$378,0))","v":404.63989261487848},259.67,"2012-2016","INC","%","n/a","$","n/a","L","2012-2016","INC","%",{"$f":"1-((1-V128)/(((1-$O$87)*(1-$H$136)*(1-AJ144))))","v":-0.48564079837887508},"$",0,"L",null,null,null,null,null,null,null,"2012-2016","INC","%",{"$f":"1-((1-AJ128)/(1-AJ120))","v":5.3361792956243437E-2},"$",{"$f":"INDEX('[1]Large LT'!$H$379:$X$467,MATCH(AN129,'[1]Large LT'!$C$379:$C$467,0),MATCH(Inputs!$C$2,'[1]Large LT'!$H$378:$X$378,0))","v":69.69840640099504},0]
[null,null,null,null,null,"ABS","%",{"$f":"H127+H120","v":4.4942408376963262E-2},"$",{"$f":"J120+J127","v":582.52815646777572},"L",null,"ABS","%","n/a","$","n/a",0,null,"ABS","%",0,"$",0,0,null,null,null,null,null,null,null,null,"ABS","%",{"$f":"1-((1-11.3%)/(1-1.4%))","v":0.10040567951318458},"$",{"$f":"AL120+AL127","v":87.590774656765134},"M"]
[null,null,null,null,null,null,"12V Micro Hybrid - Stop-Start\n(MHEV) - TBL",null,null,null,null,"MHEV",null,"SHEV1 --> SHEV2",null,null,null,null,null,"SHEV2_B","Strong Hybrid (P2 Parallel or 2-Mode) (SHEV2) - VBL",null,null,null,null,"SHEV2_NB",null,null,null,null,null,null,null,null,"8-spd Trans (Auto or DCT)\n(8SPD) - TBL",null,null,null,null,"8SPD"]
[null,null,null,null,"2017+","INC","%",{"$f":"1-((1-H131)/(1-H123))","v":2.0942408376963262E-2},"$",{"$f":"J127","v":404.63989261487848},{"$f":"K127","v":259.67},"2017+","INC","%",{"$f":"1-((1-V131)/(1-O120))","v":0.1786786786786787},"$",{"$f":"Q131-Q120","v":1102.2397053785535},"L","2017+","INC","%",{"$f":"1-((1-V131)/(((1-$O$90)*(1-$H$139)*(1-AJ147))))","v":1.5907362233672395E-2},"$",{"$f":"INDEX('[1]Large LT'!$H$379:$X$467,MATCH(T129,'[1]Large LT'!$C$379:$C$467,0),MATCH(Inputs!$C$2,'[1]Large LT'!$H$378:$X$378,0))\n+INDEX('[1]Large LT'!$H$379:$X$467,MATCH(Z129,'[1]Large LT'!$C$379:$C$467,0),MATCH(Inputs!$C$2,'[1]Large LT'!$H$378:$X$378,0))","v":2528.9715529632467},"L",null,null,null,null,null,null,null,"2017+","INC","%",{"$f":"1-((1-AJ131)/(1-AJ123))","v":5.3361792956243437E-2},"$",{"$f":"AL127","v":69.69840640099504},10]
[null,null,null,null,null,"ABS","%",6.5000000000000002E-2,"$",{"$f":"J123+J130","v":633.30872788359068},"L",null,"ABS","%",{"$f":"V131","v":0.45300000000000001},"$",{"$f":"X130+J139+Q90+AL147","v":6700.4509722656576},0,null,"ABS","%",0.45300000000000001,"$",{"$f":"X130+J139+AS90+AL147","v":6409.4483286896229},33.86,null,null,null,null,null,null,null,null,"ABS","%",{"$f":"AJ128","v":0.10040567951318458},"$",{"$f":"AL123+AL130","v":87.590774656765134},"L"]
[]
[]
[]
[null,null,null,null,"2012-2016","INC","%",{"$f":"H138","v":2.9946524064171198E-2},"$",{"$f":"INDEX('[1]Large Perf. PC'!$H$379:$X$467,MATCH(F137,'[1]Large Perf. PC'!$C$379:$C$467,0),MATCH(Inputs!$C$2,'[1]Large Perf. PC'!$H$378:$X$378,0))\n+INDEX('[1]Large Perf. PC'!$H$379:$X$467,MATCH(L137,'[1]Large Perf. PC'!$C$379:$C$467,0),MATCH(Inputs!$C$2,'[1]Large Perf. PC'!$H$378:$X$378,0))","v":894.50928595954747},"L",null,null,null,null,null,null,null,"2012-2016","INC","%",{"$f":"1-((1-V136)/(1-V128))","v":0.35},"$",0,"L",null,null,null,null,null,null,null,"2012-2016","INC","%",{"$f":"1-((1-AJ136)/(1-AJ128))","v":0},"$",0,10]
[null,null,null,null,null,"ABS","%",{"$f":"H135+H128","v":7.4888932441134454E-2},"$",{"$f":"J128+J135","v":1477.0374424273232},33.86,null,null,null,null,null,null,null,null,"ABS","%",0.35,"$",{"$f":"X135+X128","v":0},33.86,null,null,null,null,null,null,null,null,"ABS","%",{"$f":"AJ128","v":0.10040567951318458},"$",{"$f":"AL128+AL135","v":87.590774656765134},"L"]
[null,null,null,null,null,"ISG_B","Integrated Starter Generator\n(ISG) - VBL",null,null,null,null,"ISG_NB",null,null,null,null,null,null,null,"PHEV2_B","Plug-in Hybrid - 30 Mile Range  (PHEV1) - VBL",null,null,null,null,"PHEV2_NB",null,null,null,null,null,null,null,null,"High Eff. Gearbox\n(Auto or DCT) -  (HETRANS) - TBL",null,null,null,null,"HETRANS"]
[null,null,null,null,"2017+","INC","%",{"$f":"1-((1-H139)/(1-H131))","v":2.9946524064171198E-2},"$",{"$f":"J135","v":894.50928595954747},"L",null,null,null,null,null,null,null,"2017+","INC","%",0.40649999999999997,"$",{"$f":"INDEX('[1]Large LT'!$H$379:$X$467,MATCH(T137,'[1]Large LT'!$C$379:$C$467,0),MATCH(Inputs!$C$2,'[1]Large LT'!$H$378:$X$378,0))\n+INDEX('[1]Large LT'!$H$379:$X$467,MATCH(Z138,'[1]Large LT'!$C$379:$C$467,0),MATCH(Inputs!$C$2,'[1]Large LT'!$H$378:$X$378,0))\n+INDEX('[1]Large LT'!$H$379:$X$467,MATCH(Z139,'[1]Large LT'!$C$379:$C$467,0),MATCH(Inputs!$C$2,'[1]Large LT'!$H$378:$X$378,0))\n+INDEX('[1]Large LT'!$H$379:$X$467,MATCH(Z137,'[1]Large LT'!$C$379:$C$467,0),MATCH(Inputs!$C$2,'[1]Large LT'!$H$378:$X$378,0))","v":-2653.2674155116915},"L","PHEV2_C",null,null,null,null,null,null,"2017+","INC","%",{"$f":"1-((1-AJ139)/(1-AJ131))","v":3.7204058624577319E-2},"$",{"$f":"INDEX('[1]Large LT'!$H$379:$X$467,MATCH(AN137,'[1]Large LT'!$C$379:$C$467,0),MATCH(Inputs!$C$2,'[1]Large LT'!$H$378:$X$378,0))","v":227.42624881754446},10]
[null,null,null,null,null,"ABS","%",{"$f":"8.5%+H106","v":9.2999999999999999E-2},"$",{"$f":"J131+J138","v":1527.818013843138},33.86,null,null,null,null,null,null,null,null,"ABS","%",{"$f":"1-((1-V131)*(1-V138))","v":0.6753555},"$",{"$f":"X138+X131","v":3756.1809131779314},33.86,"CHRG_L",null,null,null,null,null,null,null,"ABS","%",{"$f":"1-((1-14.6%)/(1-1.4%))","v":0.1338742393509128},"$",{"$f":"AL131+AL138","v":315.01702347430961},"L"]
[]
[]
[]
[null,null,null,null,null,null,null,null,null,null,null,null,null,null,null,null,null,null,"2012-2016","INC","%",{"$f":"1-((1-V144)/(1-V136))","v":0},"$",0,"L",null,null,null,null,null,null,null,"2012-2016","INC","%",{"$f":"1-((1-AJ144)/(1-AJ136))","v":0},"$",0,10]
[null,null,null,null,null,null,null,null,null,null,null,null,null,null,null,null,null,null,null,"ABS","%",0.35,"$",{"$f":"X143+X136","v":0},33.86,null,null,null,null,null,null,null,null,"ABS","%",{"$f":"AJ136","v":0.10040567951318458},"$",{"$f":"AL136+AL143","v":87.590774656765134},"L"]
[null,null,null,null,null,null,null,null,null,"To Strong\nHybrid",null,null,null,null,null,null,null,null,null,"PHEV2_B","Plug-in Hybrid - VBL",null,null,null,null,"PHEV2_NB",null,null,null,null,null,null,null,null,"Shift Optimizer\n (SHFTOPT) - TBL",null,null,null,null,"SHFTOPT"]
[null,null,null,null,null,null,null,null,null,null,null,null,null,null,null,null,null,null,"2017+","INC","%",0,"$",0,"L","PHEV2_C",null,null,null,null,null,null,"2017+","INC","%",{"$f":"1-((1-AJ147)/(1-AJ139))","v":3.8641686182669832E-2},"$",{"$f":"INDEX('[1]Large LT'!$H$379:$X$467,MATCH(AN145,'[1]Large LT'!$C$379:$C$467,0),MATCH(Inputs!$C$2,'[1]Large LT'!$H$378:$X$378,0))","v":1.5123845546366708},10]
[null,null,null,null,null,null,null,null,null,null,null,null,null,null,null,null,null,null,null,"ABS","%",{"$f":"1-((1-V139)*(1-V146))","v":0.6753555},"$",{"$f":"X146+X139","v":3756.1809131779314},33.86,null,null,null,null,null,null,null,null,"ABS","%",{"$f":"1-((1-17.9%)/(1-1.4%))","v":0.16734279918864103},"$",{"$f":"AL139+AL146","v":316.52940802894631},"L"]
[]
[]
[]
[null,null,null,null,null,null,null,null,null,null,null,null,null,null,null,null,null,null,"2012-2016","INC","%",{"$f":"1-((1-V152)/(1-V144))","v":0},"$",0,"L",null,null,null,null,null,null,null,null,null,null,null,"To Strong\n     Hybrid"]
[null,null,null,null,null,null,null,null,null,null,null,null,null,null,null,null,null,null,null,"ABS","%",0.35,"$",{"$f":"X151+X144","v":0},33.86]
[null,null,null,null,null,null,null,null,null,null,null,null,null,null,null,null,null,null,null,"EV1_B","Electric Vehicle - Early Adopter \n75 Mile Range - (EV1) - VBL",null,null,null,null,"EV1_NB"]
[null,null,null,null,null,null,null,null,null,null,null,null,null,null,null,null,null,null,"2017+","INC","%",0.68540000000000001,"$",{"$f":"INDEX('[1]Large LT'!$H$379:$X$467,MATCH(T153,'[1]Large LT'!$C$379:$C$467,0),MATCH(Inputs!$C$2,'[1]Large LT'!$H$378:$X$378,0))\n+INDEX('[1]Large LT'!$H$379:$X$467,MATCH(Z154,'[1]Large LT'!$C$379:$C$467,0),MATCH(Inputs!$C$2,'[1]Large LT'!$H$378:$X$378,0))\n+INDEX('[1]Large LT'!$H$379:$X$467,MATCH(Z153,'[1]Large LT'!$C$379:$C$467,0),MATCH(Inputs!$C$2,'[1]Large LT'!$H$378:$X$378,0))","v":31.417146381578902},"L","EV_C"]
[null,null,null,null,null,null,null,null,null,null,null,null,null,null,null,null,null,null,null,"ABS","%",{"$f":"1-((1-V147)*(1-V154))","v":0.89786684029999997},"$",{"$f":"X154+X147","v":3787.5980595595101},33.86]
[]
[]
[]
[null,null,null,null,null,null,null,null,null,null,null,null,null,null,null,null,null,null,"2012-2016","INC","%",{"$f":"1-((1-V160)/(1-V152))","v":0},"$",0,"L"]
[null,null,null,null,null,null,null,null,null,null,null,null,null,null,null,null,null,null,null,"ABS","%",0.35,"$",{"$f":"X159+X152","v":0},33.86]
[null,null,null,null,null,null,null,null,null,null,null,null,null,null,null,null,null,null,null,"EV2_B","Electric Vehicle - Early Adopter \n100 Mile Range - (EV2) - VBL",null,null,null,null,"EV2_NB"]
[null,null,null,null,null,null,null,null,null,null,null,null,null,null,null,null,null,null,"2017+","INC","%",0,"$",0,"L"]
[null,null,null,null,null,null,null,null,null,null,null,null,null,null,null,null,null,null,null,"ABS","%",{"$f":"1-((1-V155)*(1-V162))","v":0.89786684029999997},"$",{"$f":"X162+X155","v":3787.5980595595101},33.86]
[]
[]
[]
[null,null,null,null,null,null,null,null,null,null,null,null,null,null,null,null,null,null,"2012-2016","INC","%",{"$f":"1-((1-V168)/(1-V160))","v":0},"$",0,"L"]
[null,null,null,null,null,null,null,null,null,null,null,null,null,null,null,null,null,null,null,"ABS","%",0.35,"$",{"$f":"X167+X160","v":0},33.86]
[null,null,null,null,null,null,null,null,null,null,null,null,null,null,null,null,null,null,null,"EV3_B","Electric Vehicle - Early Adopter \n150 Mile Range - (EV3) - VBL",null,null,null,null,"EV3_NB"]
[null,null,null,null,null,null,null,null,null,null,null,null,null,null,null,null,null,null,"2017+","INC","%",0,"$",0,"L"]
[null,null,null,null,null,null,null,null,null,null,null,null,null,null,null,null,null,null,null,"ABS","%",{"$f":"1-((1-V163)*(1-V170))","v":0.89786684029999997},"$",{"$f":"X170+X163","v":3787.5980595595101},33.86]
[]
[]
[]
[null,null,null,null,null,null,null,null,null,null,null,"2012-2016","INC","%",{"$f":"1-((1-O176)/(1-V168))","v":0},"$",0,"L",null,null,null,null,null,null,null,"2012-2016","INC","%",{"$f":"1-((1-AC176)/(1-V168))","v":0},"$",0,"L"]
[null,null,null,null,null,null,null,null,null,null,null,null,"ABS","%",0.35,"$",{"$f":"Q175+X168","v":0},33.86,null,null,null,null,null,null,null,null,"ABS","%",0.35,"$",{"$f":"AE175+X168","v":0},33.86]
[null,null,null,null,null,null,null,null,null,null,null,null,"EV4_B","Electric Vehicle - Mass Market \n150 Mile Range - (EV4) - VBL",null,null,null,null,"EV4_NB",null,null,null,null,null,null,null,"FCV_B","Fuel Cell Vehicle\n(FCV) - VBL",null,null,null,null,"FCV_NB"]
[null,null,null,null,null,null,null,null,null,null,null,"2017+","INC","%",0,"$",{"$f":"INDEX('[1]Large LT'!$H$379:$X$467,MATCH(M177,'[1]Large LT'!$C$379:$C$467,0),MATCH(Inputs!$C$2,'[1]Large LT'!$H$378:$X$378,0))\n+INDEX('[1]Large LT'!$H$379:$X$467,MATCH(S177,'[1]Large LT'!$C$379:$C$467,0),MATCH(Inputs!$C$2,'[1]Large LT'!$H$378:$X$378,0))","v":0},"L",null,null,null,null,null,null,null,"2017+","INC","%",0,"$",{"$f":"INDEX('[1]Large LT'!$H$379:$X$467,MATCH(AA177,'[1]Large LT'!$C$379:$C$467,0),MATCH(Inputs!$C$2,'[1]Large LT'!$H$378:$X$378,0))\n+INDEX('[1]Large LT'!$H$379:$X$467,MATCH(AG177,'[1]Large LT'!$C$379:$C$467,0),MATCH(Inputs!$C$2,'[1]Large LT'!$H$378:$X$378,0))","v":{"$error":"#N/A"}},"L"]
[null,null,null,null,null,null,null,null,null,null,null,null,"ABS","%",{"$f":"1-((1-V171)*(1-O178))","v":0.89786684029999997},"$",{"$f":"Q178+X171","v":3787.5980595595101},33.86,null,null,null,null,null,null,null,null,"ABS","%",{"$f":"1-((1-V171)*(1-AC178))","v":0.89786684029999997},"$",{"$f":"AE178+X171","v":{"$error":"#N/A"}},33.86]
[]
[]
[]
[]
[]
["Vehicle Technology Decision Tree"]
[]
[]
[]
[null,null,"ABS - WR",{"$f":"'[1]Large LT'!$M$82","v":1.4999999999999999E-2},"2012-2016","INC","%",{"$f":"IF(D189<5%, D189*(3.5/10), D189*(5.1/10))","v":5.2499999999999995E-3},"$",{"$f":"INDEX('[1]Large LT'!$H$379:$X$467,MATCH(L191,'[1]Large LT'!$C$379:$C$467,0),MATCH(Inputs!$C$2,'[1]Large LT'!$H$378:$X$378,0))","v":6.9721687344265801E-2},1.33,null,null,null,null,null,null,null,"2012-2016","INC","%",1.9E-2,"$",{"$f":"INDEX('[1]Large LT'!$H$379:$X$467,MATCH(Z191,'[1]Large LT'!$C$379:$C$467,0),MATCH(Inputs!$C$2,'[1]Large LT'!$H$378:$X$378,0))","v":6.4396392400348512},5.15,null,null,null,null,null,null,null,"2012-2016","INC","%",8.0000000000000002E-3,"$",{"$f":"INDEX('[1]Large LT'!$H$379:$X$467,MATCH(AN191,'[1]Large LT'!$C$379:$C$467,0),MATCH(Inputs!$C$2,'[1]Large LT'!$H$378:$X$378,0))","v":70.836031640383368},5.15,null,null,null,null,null,null,null,"2012-2016","INC","%",2.3E-2,"$",{"$f":"INDEX('[1]Large LT'!$H$379:$X$467,MATCH(BB191,'[1]Large LT'!$C$379:$C$467,0),MATCH(Inputs!$C$2,'[1]Large LT'!$H$378:$X$378,0))","v":43.857938067390236},5.15]
[null,null,null,null,null,"ABS","%",{"$f":"H189","v":5.2499999999999995E-3},"$",{"$f":"J189","v":6.9721687344265801E-2},"L",null,null,null,null,null,null,null,null,"ABS","%",{"$f":"V189","v":1.9E-2},"$",{"$f":"X189","v":6.4396392400348512},"L",null,null,null,null,null,null,null,null,"ABS","%",{"$f":"AJ189","v":8.0000000000000002E-3},"$",{"$f":"AL189","v":70.836031640383368},"L",null,null,null,null,null,null,null,null,"ABS","%",{"$f":"AX189","v":2.3E-2},"$",{"$f":"AZ189","v":43.857938067390236},"L"]
[null,null,null,null,null,null,"Mass Reduction\n(MR1) - ($/pound) - TBL",null,null,null,null,"MR1",null,null,null,null,null,null,null,null,"Low Roll Resistance Tires 1\n (ROLL1) - No Learning Applied",null,null,null,null,"ROLL1",null,null,null,null,null,null,null,null,"Low Drag Brakes (LDB)\nNo Learning Applied",null,null,null,null,"LDB",null,null,null,null,null,null,null,null,"Aerodynamic Drag Reduction 1\n (AERO1) - No Learming Applied",null,null,null,null,"AERO1"]
[null,null,null,null,"2017+","INC","%",{"$f":"H189","v":5.2499999999999995E-3},"$",{"$f":"J189","v":6.9721687344265801E-2},1.33,null,null,null,null,null,null,null,"2017+","INC","%",{"$f":"V189","v":1.9E-2},"$",{"$f":"X189","v":6.4396392400348512},5.15,null,null,null,null,null,null,null,"2017+","INC","%",{"$f":"AJ189","v":8.0000000000000002E-3},"$",{"$f":"AL189","v":70.836031640383368},5.15,null,null,null,null,null,null,null,"2017+","INC","%",{"$f":"AX189","v":2.3E-2},"$",{"$f":"AZ189","v":43.857938067390236},5.15]
[null,null,null,null,null,"ABS","%",{"$f":"H192","v":5.2499999999999995E-3},"$",{"$f":"J192","v":6.9721687344265801E-2},"L",null,null,null,null,null,null,null,null,"ABS","%",{"$f":"V192","v":1.9E-2},"$",{"$f":"X192","v":6.4396392400348512},"L",null,null,null,null,null,null,null,null,"ABS","%",{"$f":"AJ192","v":8.0000000000000002E-3},"$",{"$f":"AL192","v":70.836031640383368},"L",null,null,null,null,null,null,null,null,"ABS","%",{"$f":"AX192","v":2.3E-2},"$",{"$f":"AZ192","v":43.857938067390236},"L"]
[]
[]
[]
[null,null,"INC - WR",{"$f":"'[1]Large LT'!$M$83","v":0.06},"2012-2016","INC","%",{"$f":"1-((1-H198)/(1-H190))","v":3.3174164362905323E-2},"$",{"$f":"INDEX('[1]Large LT'!$H$379:$X$467,MATCH(L199,'[1]Large LT'!$C$379:$C$467,0),MATCH(Inputs!$C$2,'[1]Large LT'!$H$378:$X$378,0))","v":0.41833012406559472},1.33,null,null,null,null,null,null,null,"2012-2016","INC","%",{"$f":"1-((1-V198)/(1-V190))","v":2.0387359836901098E-2},"$",{"$f":"0","v":0},5.15,null,null,null,null,null,null,null,"2012-2016","INC","%",1.6E-2,"$",{"$f":"INDEX('[1]Large LT'!$H$379:$X$467,MATCH(AN199,'[1]Large LT'!$C$379:$C$467,0),MATCH(Inputs!$C$2,'[1]Large LT'!$H$378:$X$378,0))","v":87.568251496242709},5.15,null,null,null,null,null,null,null,"2012-2016","INC","%",{"$f":"1-((1-AX198)/(1-AX190))","v":2.4564994882292801E-2},"$",{"$f":"INDEX('[1]Large LT'!$H$379:$X$467,MATCH(BB199,'[1]Large LT'!$C$379:$C$467,0),MATCH(Inputs!$C$2,'[1]Large LT'!$H$378:$X$378,0))","v":154.95277498661324},5.15]
[null,null,"ABS - WR",{"$f":"D197+D189","v":7.4999999999999997E-2},null,"ABS","%",{"$f":"IF(D198<5%,D198 D198*(3.5/10), D198*(5.1/10))","v":3.8249999999999999E-2},"$",{"$f":"J197","v":0.41833012406559472},"L",null,null,null,null,null,null,null,null,"ABS","%",3.9E-2,"$",{"$f":"X190+X197","v":6.4396392400348512},"L",null,null,null,null,null,null,null,null,"ABS","%",{"$f":"1-(1-AJ190)*(1-AJ197)","v":2.3872000000000004E-2},"$",{"$f":"AL190+AL197","v":158.40428313662608},"L",null,null,null,null,null,null,null,null,"ABS","%",4.7E-2,"$",{"$f":"AZ190+AZ197","v":198.81071305400349},"L"]
[null,null,null,null,null,null,"Mass Reduction\n(MR2) - ($/pound) - TBL",null,null,null,null,"MR2",null,null,null,null,null,null,null,null,"Low Roll Resistance Tires 2\n (ROLL2) - No Learning Applied",null,null,null,null,"ROLL2",null,null,null,null,null,null,null,null,"Secondary Axle Discon. (SAXU/SAXL)\nTBL",null,null,null,null,"SAX",null,null,null,null,null,null,null,null,"Aerodynamic Drag Reduction 2\n (AERO2) - No Learming Applied",null,null,null,null,"AERO2"]
[null,null,null,null,"2017+","INC","%",{"$f":"1-((1-H201)/(1-H193))","v":3.3174164362905323E-2},"$",{"$f":"J197","v":0.41833012406559472},1.33,null,null,null,null,null,null,null,"2017+","INC","%",{"$f":"1-((1-V201)/(1-V193))","v":2.0387359836901098E-2},"$",{"$f":"INDEX('[1]Large LT'!$H$379:$X$467,MATCH(Z199,'[1]Large LT'!$C$379:$C$467,0),MATCH(Inputs!$C$2,'[1]Large LT'!$H$378:$X$378,0))","v":50.173232527734726},5.15,null,null,null,null,null,null,null,"2017+","INC","%",{"$f":"AJ197","v":1.6E-2},"$",{"$f":"AL197","v":87.568251496242709},5.15,null,null,null,null,null,null,null,"2017+","INC","%",{"$f":"1-((1-AX201)/(1-AX193))","v":2.4564994882292801E-2},"$",{"$f":"AZ197","v":154.95277498661324},5.15]
[null,null,null,null,null,"ABS","%",{"$f":"IF(D198<5%, D198*(3.5/10), D198*(5.1/10))","v":3.8249999999999999E-2},"$",{"$f":"J200","v":0.41833012406559472},"L",null,null,null,null,null,null,null,null,"ABS","%",{"$f":"V198","v":3.9E-2},"$",{"$f":"X193+X200","v":56.612871767769576},"L",null,null,null,null,null,null,null,null,"ABS","%",{"$f":"1-(1-AJ193)*(1-AJ200)","v":2.3872000000000004E-2},"$",{"$f":"AL193+AL200","v":158.40428313662608},"L",null,null,null,null,null,null,null,null,"ABS","%",{"$f":"AX198","v":4.7E-2},"$",{"$f":"AZ193+AZ200","v":198.81071305400349},"L"]
[]
[]
[]
[null,null,"INC - WR",{"$f":"'[1]Large LT'!$M$84","v":2.5000000000000008E-2},"2012-2016","INC","%",{"$f":"1-((1-H206)/(1-H198))","v":1.3257083441642892E-2},"$",{"$f":"INDEX('[1]Large LT'!$H$379:$X$467,MATCH(L207,'[1]Large LT'!$C$379:$C$467,0),MATCH(Inputs!$C$2,'[1]Large LT'!$H$378:$X$378,0))","v":0.81341968568310108},1.33,null,null,null,null,null,null,null,"2012-2016","INC","%",0,"$",0,0]
[null,null,"ABS - WR",{"$f":"D205+D198","v":0.1},null,"ABS","%",{"$f":"IF(D206<5%, D206*(3.5/10), D206*(5.1/10))","v":5.1000000000000004E-2},"$",{"$f":"J205","v":0.81341968568310108},"L",null,null,null,null,null,null,null,null,"ABS","%",{"$f":"1-((1-V198)*(1-V205))","v":3.9000000000000035E-2},"$",{"$f":"X198+X205","v":6.4396392400348512},"L"]
[null,null,null,null,null,null,"Mass Reduction\n(MR3) - ($/pound) - TBL",null,null,null,null,"MR3",null,null,null,null,null,null,null,null,"Low Roll Resistance Tires 3\n (ROLL3) - No Learning Applied"]
[null,null,null,null,"2017+","INC","%",{"$f":"1-((1-H209)/(1-H201))","v":1.3257083441642892E-2},"$",{"$f":"J205","v":0.81341968568310108},1.33,null,null,null,null,null,null,null,"2017+","INC","%",0,"$",{"$f":"X205","v":0},0]
[null,null,null,null,null,"ABS","%",{"$f":"IF(D206<5%, D206*(3.5/10), D206*(5.1/10))","v":5.1000000000000004E-2},"$",{"$f":"J208","v":0.81341968568310108},"L",null,null,null,null,null,null,null,null,"ABS","%",{"$f":"1-((1-V201)*(1-V208))","v":3.9000000000000035E-2},"$",{"$f":"X201+X208","v":56.612871767769576},"L"]
[]
[]
[]
[null,null,"INC - WR",{"$f":"'[1]Large LT'!$M$85","v":4.9999999999999989E-2},"2012-2016","INC","%",{"$f":"1-((1-H214)/(1-H206))","v":2.6870389884088519E-2},"$",{"$f":"INDEX('[1]Large LT'!$H$379:$X$467,MATCH(L215,'[1]Large LT'!$C$379:$C$467,0),MATCH(Inputs!$C$2,'[1]Large LT'!$H$378:$X$378,0))","v":1.3672281720989994},1.33]
[null,null,"ABS - WR",{"$f":"D213+D206","v":0.15},null,"ABS","%",{"$f":"IF(D214<5%, D214*(3.5/10), D214*(5.1/10))","v":7.6499999999999999E-2},"$",{"$f":"J213","v":1.3672281720989994},"L"]
[null,null,null,null,null,null,"Mass Reduction\n(MR4) - ($/pound) - TBL",null,null,null,null,"MR4"]
[null,null,null,null,"2017+","INC","%",{"$f":"1-((1-H217)/(1-H209))","v":2.6870389884088519E-2},"$",{"$f":"J213","v":1.3672281720989994},1.33]
[null,null,null,null,null,"ABS","%",{"$f":"IF(D214<5%, D214*(3.5/10), D214*(5.1/10))","v":7.6499999999999999E-2},"$",{"$f":"J216","v":1.3672281720989994},"L"]
[]
[]
[]
[null,null,"INC - WR",{"$f":"'[1]Large LT'!$M$86","v":5.0000000000000017E-2},"2012-2016","INC","%",{"$f":"1-((1-H222)/(1-H214))","v":2.761234434217652E-2},"$",{"$f":"INDEX('[1]Large LT'!$H$379:$X$467,MATCH(L223,'[1]Large LT'!$C$379:$C$467,0),MATCH(Inputs!$C$2,'[1]Large LT'!$H$378:$X$378,0))","v":1.9141194409385998},1.33]
[null,null,"ABS - WR",{"$f":"D221+D214","v":0.2},null,"ABS","%",{"$f":"IF(D222<5%, D222*(3.5/10), D222*(5.1/10))","v":0.10200000000000001},"$",{"$f":"J221","v":1.9141194409385998},"L"]
[null,null,null,null,null,null,"Mass Reduction\n(MR5) - ($/pound) - TBL",null,null,null,null,"MR5"]
[null,null,null,null,"2017+","INC","%",{"$f":"1-((1-H225)/(1-H217))","v":2.761234434217652E-2},"$",{"$f":"J221","v":1.9141194409385998},1.33]
[null,null,null,null,null,"ABS","%",{"$f":"IF(D222<5%, D222*(3.5/10), D222*(5.1/10))","v":0.10200000000000001},"$",{"$f":"J224","v":1.9141194409385998},"L"]

{"sheet":"Map","index":14,"n_rows":52,"n_cols":12,"rows_kept":52,"cut":false,"hidden":false,"merged":[[1,8,1,9],[21,8,21,9]]}
[]
[null,"Index","Technology","Abbr.","FC","Cost","aux",null,"Synergies - %"]
[null,1,"Low Friction Lubricants","LUB","X5","Z5",null,null,"Technology A","Technology B"]
[null,2,"Engine Friction Reduction","EFR","BB5","BD5",null,null,"DEACD","CVVL","-0.25 FIXED","for classes with DEACD"]
[null,3,"VVT - Coupled Cam Phasing (CCP) on SOHC","CCPS","R17","T17",null,null,"TRBDS","DVVLD","AJ56"]
[null,4,"Discrete Variable Valve Lift (DVVL) on SOHC","DVVLS","R23","T23",null,null,"TRBDS","CVVL","BH56"]
[null,5,"Cylinder Deactivation on SOHC","DEACS","R29","T29",null,null,"TRBDS","CDOHC","CF56"]
[null,6,"VVT - Intake Cam Phasing (ICP)","ICP","BB14","BD14",null,null,"LBDI","DVVLD","AV68"]
[null,7,"VVT - Dual Cam Phasing (DCP)","DCP","BB20","BD20",null,null,"LBDI","CVVL","BT68"]
[null,8,"Discrete Variable Valve Lift (DVVL) on DOHC","DVVLD","AP26","AR26",null,null,"LBDI","CDOHC","CR68"]
[null,9,"Continuously Variable Valve Lift (CVVL)","CVVL","BN26","BP26",null,null,"ADSL","LBDI","R74"]
[null,10,"Cylinder Deactivation on DOHC","DEACD","AP32","AR32",null,null,"EIMP","LBDI"]
[null,11,"Stoichiometric Gasoline Direct Injection (GDI)","SGDI","R35","T35",null,null,"SHEV1","LBDI","AP123"]
[null,12,"Cylinder Deactivation on OHV","DEACO","CL17","CN17",null,null,"SHEV1","EIMP","L74"]
[null,13,"Variable Valve Actuation - CCP and DVVL on OHV","VVA","CL23","CN23",null,null,"SHEV1","P2HEV","F117"]
[null,14,"Stoichiometric Gasoline Direct Injection (GDI) on OHV","SGDIO","CL29","CN29",null,null,"SHEV1","NTRANS","AD105"]
[null,15,"Conversion to DOHC with DCP","CDOHC","CL35","CN35"]
[null,16,"Engine Efficiency Improvement","EIMP","R41","T41"]
[null,17,"Turbocharging and Downsizing","TRBDS","L55","N55"]
[null,18,"Exhaust Gas Recirculation (EGR) Boost, Level 1","EGRB1","L61","N61"]
[null,19,"Exhaust Gas Recirculation (EGR) Boost, Level 2","EGRB2","L67","N67"]
[null,20,"Lean Burn Direct Injection with Turbo","LBDI","X67","Z67",null,null,"Synergies - $"]
[null,21,"Advanced Diesel","ADSL","F73","H73",null,null,"Technology A","Technology B"]
[null,22,"6-Speed Manual/Improved Internals","6MAN","R86","T86",null,null,"DEACD","CVVL","-27.75 FIXED","for classes with DEACD"]
[null,23,"Improved Auto. Trans. Controls/Externals","IATC","AD86","AF86",null,null,"TRBDS","DVVLD","AL56"]
[null,24,"6-Speed Auto Trans with Improved Internals","NAUTO","AD92","AF92",null,null,"TRBDS","CVVL","BJ56"]
[null,25,"Dual Clutch Transmission (Dry/Wet)","DCT","AD98","AF98",null,null,"TRBDS","CDOHC","CH56"]
[null,26,"New Transmission (8+ Speed Auto or 8-Speed DCT)","NTRANS","AD104","AF104",null,null,"LBDI","DVVLD","AX68"]
[null,27,"Electric Power Steering","EPS","F86","H86",null,null,"LBDI","CVVL","BV68"]
[null,28,"Improved Accessories","IACC","F92","H92",null,null,"LBDI","CDOHC","CT68"]
[null,29,"12V Micro-Hybrid","MHEV","F98","H98",null,null,"ADSL","LBDI","T74"]
[null,30,"Belt mounted Integrated Starter Generator","BISG","F104","H104",null,null,"EIMP","LBDI"]
[null,31,"Crank mounted Integrated Starter Generator","CISG","F110","H110",null,null,"SHEV1","LBDI","AR123"]
[null,32,"Strong Hybrid (P2 Parallel or 2-Mode), Level 1","SHEV1","R122","T122",null,null,"SHEV1","EIMP","N74"]
[null,33,"Strong Hybrid (P2 Parallel or 2-Mode), Level 2","SHEV2","R128","T128",null,null,"SHEV1","P2HEV","H117"]
[null,34,"Plug-in Hybrid - 10 mi range","PHEV20","R134","T134",null,null,"SHEV1","NTRANS","AF105"]
[null,35,"Plug-in Hybrid - 40 mi range","PHEV40","R140","T140"]
[null,36,"Electric Vehicle, Early Adopter","EV1","L148","N148"]
[null,37,"Electric Vehicle","EV2","R148","T148"]
[null,38,"Fuel Cell Vehicle","FCV","X148","Z148"]
[null,39,"Mass Reduction, Level 1","MR1","F161","H161","C159"]
[null,40,"Mass Reduction, Level 2","MR2","F167","H167","C167"]
[null,41,"Mass Reduction, Level 3","MR3","F173","H173","C173"]
[null,42,"Mass Reduction, Level 4","MR4","F179","H179","C179"]
[null,43,"Mass Reduction, Level 5","MR5","F185","H185","C185"]
[null,44,"Low Rolling Resistance Tires, Level 1","ROLL1","R161","T161"]
[null,45,"Low Rolling Resistance Tires, Level 2","ROLL2","R167","T167"]
[null,46,"Low Drag Brakes","LDB","AD161","AF161"]
[null,47,"Secondary Axle Disconnect","SAX","AD167","AF167"]
[null,48,"Aero Drag Reduction, Level 1","AERO1","AP161","AR161"]
[null,49,"Aero Drag Reduction, Level 2","AERO2","AP167","AR167"]
[null,50,"Aero Drag Reduction, Level 3","AERO3","AP173","AR173"]